{"text_format":"1","workbook":"xlsx","n_sheets":14,"sheets":["Оглавление","ПВХ IPS","ПВХ PIMTAS","ПВХ FIP","ХПВХ IPS","ХПВХ FIP","ПП (PP-H) IPS","ПП (PP-H) FIP","ПВДФ IPS","ПВДФ FIP","Ротаметры","Муфты STRAUB","Аксессуары, клей","О нас"],"not_rendered":{"charts":0,"images":232,"macros":1,"external_links":0,"defined_names":9,"comments":0,"pivot_tables":0},"unopened":[],"bounds":{"document_bytes":16777216,"sheet_cells":100000,"rows_first":2000,"rows_last":500,"rows_between":2000,"halvings":0,"cell_chars":16384,"cell_head_chars":4096},"cells_cut":0,"cells_raw":0,"read":"whole","date_system":"1900"}

{"sheet":"Оглавление","index":0,"n_rows":46,"n_cols":19,"rows_kept":46,"cut":false,"hidden":false,"merged":[[20,4,21,4],[44,3,45,3],[20,1,20,2],[21,1,21,2],[22,1,22,2]]}
[null,null,null,null,null,null,null,null,null,null,null,null,null,null,null,null,null,"RUR",1]
[null,null,null,null,null,null,null,null,null,null,null,null,null,null,null,null,null,"USD",{"$f":"I21","v":0}]
[null,null,null,null,null,null,null,null,null,null,null,null,null,null,null,null,null,"EUR",{"$f":"E23","v":100.24}]
[]
[]
[]
[]
[]
[]
[]
[]
[]
[]
[]
[]
[]
[]
[]
[]
[]
[null,"Ваш персональный менеджер ",null,"Иванов Василий","EUR ЦБ"]
[null,"Адрес электронной почты ",null,"@afinara.ru"]
[null,"Контактный телефон ",null,null,100.24]
[]
[null,"№","Группы товаров: ","Персональная\nСкидка, %","Сумма со скидкой с НДС"]
[null,1,"ПВХ трубы IPS",0,{"$f":"'ПВХ IPS'!J2","v":0}]
[null,2,"ПВХ трубы прозрачные IPS",0,{"$f":"'ПВХ IPS'!J3","v":0}]
[null,3,"ПВХ запорная арматура IPS",0,{"$f":"'ПВХ IPS'!J4","v":0}]
[null,4,"ПВХ фитинги PIMTAS",0,{"$f":"'ПВХ PIMTAS'!J2","v":0}]
[null,5,"ПВХ запорная арматура FIP",0,{"$f":"'ПВХ FIP'!J2","v":0}]
[null,6,"ХПВХ трубы IPS",0,{"$f":"'ХПВХ IPS'!J2","v":0}]
[null,7,"ХПВХ фитинги IPS",0,{"$f":"'ХПВХ IPS'!J3","v":0}]
[null,8,"ХПВХ запорная арматура IPS",0,{"$f":"'ХПВХ IPS'!J4","v":0}]
[null,9,"ХПВХ запорная арматура FIP",0,{"$f":"'ХПВХ FIP'!J2","v":0}]
[null,10,"ПП (PP-H) трубы IPS",0,{"$f":"'ПП (PP-H) IPS'!J2","v":0}]
[null,11,"ПП (PP-H) фитинги IPS",0,{"$f":"'ПП (PP-H) IPS'!J3","v":0}]
[null,12,"ПП (PP-H) запорная арматура IPS",0,{"$f":"'ПП (PP-H) IPS'!J4","v":0}]
[null,13,"ПП (PP-H) запорная арматура FIP",0,{"$f":"'ПП (PP-H) FIP'!J2","v":0}]
[null,14,"ПВДФ трубы, фитинги и запорная арматура IPS",0,{"$f":"'ПВДФ IPS'!J2","v":0}]
[null,15,"ПВДФ запорная арматура FIP",0,{"$f":"'ПВДФ FIP'!J2","v":0}]
[null,16,"Ротаметры",0,{"$f":"Ротаметры!K2","v":0}]
[null,17,"Муфты Straub",0,{"$f":"'Муфты STRAUB'!I2","v":0}]
[null,18,"Аксессуары, клей",0,{"$f":"'Аксессуары, клей'!$I$2","v":0}]
[]
[null,null,null,"ИТОГО","Сумма со скидкой с НДС"]
[null,null,null,null,{"$f":"SUM(E26:E43)","v":0}]

{"sheet":"ПВХ IPS","index":1,"n_rows":305,"n_cols":13,"rows_kept":305,"cut":false,"hidden":false,"merged":[[99,0,116,0],[117,0,123,0],[45,0,59,0],[24,0,26,0],[9,0,23,0],[64,0,71,0],[27,0,44,0],[72,0,80,0],[81,0,98,0],[299,0,304,0],[272,0,298,0],[218,0,244,0],[245,0,271,0],[124,0,137,0],[138,0,143,0],[144,0,159,0],[160,0,171,0],[172,0,187,0],[188,0,199,0],[200,0,217,0]]}
[null,null,null,null,null,null,null,null,null,{"$f":"COUNT(K10:K425)","v":0},"Товаров в заказе"]
[null,null,null,null,null,null,null,null,null,{"$f":"SUM(M10:M60)","v":0},"Сумма заказа со скидкой с НДС (Трубы)"]
[null,null,null,null,null,null,null,null,null,{"$f":"SUM(M61:M72)","v":0},"Сумма заказа со скидкой с НДС (Трубы прозрачные)"]
[null,null,null,null,null,null,null,null,null,{"$f":"SUM(M73:M424)","v":0},"Сумма заказа со скидкой с НДС (Арматура)"]
[null,null,null,null,null,null,null,null,null,{"$f":"SUM(M10:M425)","v":0},"Сумма заказа со скидкой с НДС"]
[]
[]
[]
["Фото","Артикул","Наименование","PN","Категория","Валюта\nпродажи","Цена\nПРОДАЖИ с НДС ","Цена с НДС\nсо скидкой","Цена\nEUR","Ед. измерения","Заказ (метры/штуки)","Сумма рубли","Сумма со скидкой"]
[null,"IPIPEV16016","Труба ПВХ напорная клеевая с раструбом PN16 16x1.5x3 м IPS",16,"Трубы","RUB",{"$f":"IFERROR(I10*Оглавление!$E$23,\"по запросу\")","v":"по запросу"},{"$f":"IFERROR(G10*(1-Оглавление!$D$26),\"по запросу\")","v":"по запросу"},"-","м",null,{"$f":"IFERROR(K10*G10,\"0 ₽\")","v":"0 ₽"},{"$f":"IFERROR(K10*H10,\"0 ₽\")","v":"0 ₽"}]
[null,"IPIPEV16020","Труба ПВХ напорная клеевая с раструбом PN16 20x1.5x3 м IPS",16,"Трубы","RUB",153,{"$f":"IFERROR(G11*(1-Оглавление!$D$26),\"\")","v":153},"-","м",null,0,0]
[null,"IPIPEV16025","Труба ПВХ напорная клеевая с раструбом PN16 25x1.9x3 м IPS",16,"Трубы","RUB",207,{"$f":"IFERROR(G12*(1-Оглавление!$D$26),\"\")","v":207},"-","м",null,0,0]
[null,"IPIPEV16032","Труба ПВХ напорная клеевая с раструбом PN16 32x2.4x3 м IPS",16,"Трубы","RUB",319,{"$f":"IFERROR(G13*(1-Оглавление!$D$26),\"\")","v":319},"-","м",null,0,0]
[null,"IPIPEV16040","Труба ПВХ напорная клеевая с раструбом PN16 40x3.0x3 м IPS",16,"Трубы","RUB",450,{"$f":"IFERROR(G14*(1-Оглавление!$D$26),\"\")","v":450},"-","м",null,0,0]
[null,"IPIPEV16050","Труба ПВХ напорная клеевая с раструбом PN16 50x3.7x3 м IPS",16,"Трубы","RUB",677,{"$f":"IFERROR(G15*(1-Оглавление!$D$26),\"\")","v":677},"-","м",null,0,0]
[null,"IPIPEV16063","Труба ПВХ напорная клеевая с раструбом PN16 63x4.7x3 м IPS",16,"Трубы","RUB",1105,{"$f":"IFERROR(G16*(1-Оглавление!$D$26),\"\")","v":1105},"-","м",null,0,0]
[null,"IPIPEV16075","Труба ПВХ напорная клеевая с раструбом PN16 75x5.6x3 м IPS",16,"Трубы","RUB",1509,{"$f":"IFERROR(G17*(1-Оглавление!$D$26),\"\")","v":1509},"-","м",null,0,0]
[null,"IPIPEV16090","Труба ПВХ напорная клеевая с раструбом PN16 90x6.7x3 м IPS",16,"Трубы","RUB",2647,{"$f":"IFERROR(G18*(1-Оглавление!$D$26),\"\")","v":2647},"-","м",null,0,0]
[null,"IPIPEV16110","Труба ПВХ напорная клеевая с раструбом PN16 110x6.6x3 м IPS",16,"Трубы","RUB",3245,{"$f":"IFERROR(G19*(1-Оглавление!$D$26),\"\")","v":3245},"-","м",null,0,0]
[null,"IPIPEV16125","Труба ПВХ напорная клеевая с раструбом PN16 125x7.4x3 м IPS",16,"Трубы","RUB",6544,{"$f":"IFERROR(G20*(1-Оглавление!$D$26),\"\")","v":6544},"-","м",null,0,0]
[null,"IPIPEV16140","Труба ПВХ напорная клеевая с раструбом PN16 140x8.3x3 м IPS",16,"Трубы","RUB",8304,{"$f":"IFERROR(G21*(1-Оглавление!$D$26),\"\")","v":8304},"-","м",null,0,0]
[null,"IPIPEV16160","Труба ПВХ напорная клеевая с раструбом PN16 160x9.5x3 м IPS",16,"Трубы","RUB",6648,{"$f":"IFERROR(G22*(1-Оглавление!$D$26),\"\")","v":6648},"-","м",null,0,0]
[null,"IPIPEV16225","Труба ПВХ напорная клеевая с раструбом PN16 225x13.4x3 м IPS",16,"Трубы","RUB",14088,{"$f":"IFERROR(G23*(1-Оглавление!$D$26),\"\")","v":14088},"-","м",null,0,0]
[null,"IPIPEV16280","Труба ПВХ напорная клеевая с раструбом PN16 280x16.6x3 м IPS",16,"Трубы","RUB",35611,{"$f":"IFERROR(G24*(1-Оглавление!$D$26),\"\")","v":35611},"-","м",null,0,0]
[null,"AQV311053R","Труба ПВХ напорная клеевая с раструбом PN12,5 110x5.3x3 м IPS",12.5,"Трубы","RUB",2581,{"$f":"IFERROR(G25*(1-Оглавление!$D$26),\"\")","v":2581},"-","м",null,{"$f":"IFERROR(K25*G25,\"0 ₽\")","v":0},{"$f":"IFERROR(K25*H25,\"0 ₽\")","v":0}]
[null,"AQV316077R","Труба ПВХ напорная клеевая с раструбом PN12,5 160x7.7x3 м IPS",12.5,"Трубы","RUB",4605,{"$f":"IFERROR(G26*(1-Оглавление!$D$26),\"\")","v":4605},"-","м",null,{"$f":"IFERROR(K26*G26,\"0 ₽\")","v":0},{"$f":"IFERROR(K26*H26,\"0 ₽\")","v":0}]
[null,"AQV322510R","Труба ПВХ напорная клеевая с раструбом PN12,5 225x10.8x3 м IPS",12.5,"Трубы","RUB","по запросу","по запросу","-","м",null,{"$f":"IFERROR(K27*G27,\"0 ₽\")","v":"0 ₽"},{"$f":"IFERROR(K27*H27,\"0 ₽\")","v":"0 ₽"}]
[null,"AQV302515R","Труба ПВХ напорная клеевая с раструбом PN10 25x1.5x3 м IPS",10,"Трубы","RUB",{"$f":"IFERROR(I28*Оглавление!$E$23,\"по запросу\")","v":"по запросу"},{"$f":"IFERROR(G28*(1-Оглавление!$D$26),\"по запросу\")","v":"по запросу"},"-","м",null,{"$f":"IFERROR(K28*G28,\"0 ₽\")","v":"0 ₽"},{"$f":"IFERROR(K28*H28,\"0 ₽\")","v":"0 ₽"}]
[null,"IPIPEV10032","Труба ПВХ напорная клеевая с раструбом PN10 32x1.6x3 м IPS",10,"Трубы","RUB",234,{"$f":"IFERROR(G29*(1-Оглавление!$D$26),\"\")","v":234},"-","м",null,0,0]
[null,"IPIPEV10040","Труба ПВХ напорная клеевая с раструбом PN10 40x1.9x3 м IPS",10,"Трубы","RUB",304,{"$f":"IFERROR(G30*(1-Оглавление!$D$26),\"\")","v":304},"-","м",null,0,0]
[null,"IPIPEV10050","Труба ПВХ напорная клеевая с раструбом PN10 50x2.4x3 м IPS",10,"Трубы","RUB",437,{"$f":"IFERROR(G31*(1-Оглавление!$D$26),\"\")","v":437},"-","м",null,0,0]
[null,"IPIPEV10063","Труба ПВХ напорная клеевая с раструбом PN10 63x3.0x3 м IPS",10,"Трубы","RUB",709,{"$f":"IFERROR(G32*(1-Оглавление!$D$26),\"\")","v":709},"-","м",null,0,0]
[null,"IPIPEV10075","Труба ПВХ напорная клеевая с раструбом PN10 75x3.6x3 м IPS",10,"Трубы","RUB",1054,{"$f":"IFERROR(G33*(1-Оглавление!$D$26),\"\")","v":1054},"-","м",null,0,0]
[null,"IPIPEV10090","Труба ПВХ напорная клеевая с раструбом PN10 90x4.3x3 м IPS",10,"Трубы","RUB",1429,{"$f":"IFERROR(G34*(1-Оглавление!$D$26),\"\")","v":1429},"-","м",null,0,0]
[null,"IPIPEV10110","Труба ПВХ напорная клеевая с раструбом PN10 110x4.2x3 м IPS",10,"Трубы","RUB",1674,{"$f":"IFERROR(G35*(1-Оглавление!$D$26),\"\")","v":1674},"-","м",null,0,0]
[null,"IPIPEV10125","Труба ПВХ напорная клеевая с раструбом PN10 125x4.8x3 м IPS",10,"Трубы","RUB",2303,{"$f":"IFERROR(G36*(1-Оглавление!$D$26),\"\")","v":2303},"-","м",null,0,0]
[null,"IPIPEV10140","Труба ПВХ напорная клеевая с раструбом PN10 140x5.4x3 м IPS",10,"Трубы","RUB",3395,{"$f":"IFERROR(G37*(1-Оглавление!$D$26),\"\")","v":3395},"-","м",null,0,0]
[null,"IPIPEV10160","Труба ПВХ напорная клеевая с раструбом PN10 160x6.2x3 м IPS",10,"Трубы","RUB",3664,{"$f":"IFERROR(G38*(1-Оглавление!$D$26),\"\")","v":3664},"-","м",null,0,0]
[null,"IPIPEV10200","Труба ПВХ напорная клеевая с раструбом PN10 200x7.7x3 м IPS",10,"Трубы","RUB",5822,{"$f":"IFERROR(G39*(1-Оглавление!$D$26),\"\")","v":5822},"-","м",null,0,0]
[null,"IPIPEV10225","Труба ПВХ напорная клеевая с раструбом PN10 225x8.6x3 м IPS",10,"Трубы","RUB",8823,{"$f":"IFERROR(G40*(1-Оглавление!$D$26),\"\")","v":8823},"-","м",null,0,0]
[null,"IPIPEV10250","Труба ПВХ напорная клеевая с раструбом PN10 250x9.6x3 м IPS",10,"Трубы","RUB",9955,{"$f":"IFERROR(G41*(1-Оглавление!$D$26),\"\")","v":9955},"-","м",null,0,0]
[null,"IPIPEV10280","Труба ПВХ напорная клеевая с раструбом PN10 280x10.7x3 м IPS",10,"Трубы","RUB",18230,{"$f":"IFERROR(G42*(1-Оглавление!$D$26),\"\")","v":18230},"-","м",null,0,0]
[null,"IPIPEV10315","Труба ПВХ напорная клеевая с раструбом PN10 315x12.1x3 м IPS",10,"Трубы","RUB",16938,{"$f":"IFERROR(G43*(1-Оглавление!$D$26),\"\")","v":16938},"-","м",null,0,0]
[null,"AQV335513R","Труба ПВХ напорная клеевая с раструбом PN10 355x13.6x3 м IPS",10,"Трубы","RUB","по запросу","по запросу","-","м",null,"0 ₽","0 ₽"]
[null,"AQV340015R","Труба ПВХ напорная клеевая с раструбом PN10 400x15.3x3 м IPS",10,"Трубы","RUB","по запросу","по запросу","-","м",null,"0 ₽","0 ₽"]
[null,"AQV305016R","Труба ПВХ напорная клеевая с раструбом PN6 50x1.6x3 м IPS",6,"Трубы","RUB",350,{"$f":"IFERROR(G46*(1-Оглавление!$D$26),\"\")","v":350},"-","м",null,{"$f":"IFERROR(K46*G46,\"0 ₽\")","v":0},{"$f":"IFERROR(K46*H46,\"0 ₽\")","v":0}]
[null,"AQV306320R","Труба ПВХ напорная клеевая с раструбом PN6 63x2.0x3 м IPS",6,"Трубы","RUB",515,{"$f":"IFERROR(G47*(1-Оглавление!$D$26),\"\")","v":515},"-","м",null,0,0]
[null,"AQV307523R","Труба ПВХ напорная клеевая с раструбом PN6 75x2.3x3 м IPS",6,"Трубы","RUB",860,{"$f":"IFERROR(G48*(1-Оглавление!$D$26),\"\")","v":860},"-","м",null,0,0]
[null,"AQV309028R","Труба ПВХ напорная клеевая с раструбом PN6 90x2.8x3 м IPS",6,"Трубы","RUB",1108,{"$f":"IFERROR(G49*(1-Оглавление!$D$26),\"\")","v":1108},"-","м",null,0,0]
[null,"AQV311027R","Труба ПВХ напорная клеевая с раструбом PN6 110x2.7x3 м IPS",6,"Трубы","RUB",1269,{"$f":"IFERROR(G50*(1-Оглавление!$D$26),\"\")","v":1269},"-","м",null,0,0]
[null,"AQV312539R","Труба ПВХ напорная клеевая с раструбом PN6 125x3.9x3 м IPS",6,"Трубы","RUB",1811,{"$f":"IFERROR(G51*(1-Оглавление!$D$26),\"\")","v":1811},"-","м",null,0,0]
[null,"AQV314035R","Труба ПВХ напорная клеевая с раструбом PN6 140x3.5x3 м IPS",6,"Трубы","RUB",{"$f":"IFERROR(I52*Оглавление!$E$23,\"по запросу\")","v":"по запросу"},{"$f":"IFERROR(G52*(1-Оглавление!$D$26),\"по запросу\")","v":"по запросу"},"-","м",null,"0 ₽","0 ₽"]
[null,"AQV316040R","Труба ПВХ напорная клеевая с раструбом PN6 160x4.0x3 м IPS",6,"Трубы","RUB",2690,{"$f":"IFERROR(G53*(1-Оглавление!$D$26),\"\")","v":2690},"-","м",null,0,0]
[null,"AQV320049R","Труба ПВХ напорная клеевая с раструбом PN6 200x4.9x3 м IPS",6,"Трубы","RUB",4279,{"$f":"IFERROR(G54*(1-Оглавление!$D$26),\"\")","v":4279},"-","м",null,0,0]
[null,"AQV322555R","Труба ПВХ напорная клеевая с раструбом PN6 225x5.5x3 м IPS",6,"Трубы","RUB",5780,{"$f":"IFERROR(G55*(1-Оглавление!$D$26),\"\")","v":5780},"-","м",null,0,0]
[null,"AQV325062R","Труба ПВХ напорная клеевая с раструбом PN6 250x6.2x3 м IPS",6,"Трубы","RUB",8436,{"$f":"IFERROR(G56*(1-Оглавление!$D$26),\"\")","v":8436},"-","м",null,0,0]
[null,"AQV328069R","Труба ПВХ напорная клеевая с раструбом PN6 280x6.9x3 м IPS",6,"Трубы","RUB",10319,{"$f":"IFERROR(G57*(1-Оглавление!$D$26),\"\")","v":10319},"-","м",null,0,0]
[null,"AQV331577R","Труба ПВХ напорная клеевая с раструбом PN6 315x7.7x3 м IPS",6,"Трубы","RUB",11256,{"$f":"IFERROR(G58*(1-Оглавление!$D$26),\"\")","v":11256},"-","м",null,0,0]
[null,"AQV335587R","Труба ПВХ напорная клеевая с раструбом PN6 355x8.7x3 м IPS",6,"Трубы","RUB",19335.969803006155,{"$f":"IFERROR(G59*(1-Оглавление!$D$26),\"\")","v":19335.969803006155},"-","м",null,0,0]
[null,"AQV340098R","Труба ПВХ напорная клеевая с раструбом PN6 400x9.8x3 м IPS",6,"Трубы","RUB",21852,{"$f":"IFERROR(G60*(1-Оглавление!$D$26),\"\")","v":21852},"-","м",null,0,0]
[null,"IPIPET00110","Труба ПВХ напорная клеевая прозрачная PN6 110x5.0x3 м IPS",6,"Трубы","RUB",{"$f":"I61*Оглавление!$E$23","v":6595.7919999999995},{"$f":"IFERROR(G61*(1-Оглавление!$D$27),\"\")","v":6595.7919999999995},65.8,"м",null,0,0]
[null,"IPIPET00140","Труба ПВХ напорная клеевая прозрачная PN6 140x5.0x3 м IPS",6,"Трубы","RUB",{"$f":"IFERROR(I62*Оглавление!$E$23,\"по запросу\")","v":"по запросу"},{"$f":"IFERROR(G62*(1-Оглавление!$D$27),\"по запросу\")","v":"по запросу"},"по запросу","м",null,"0 ₽","0 ₽"]
[null,"IPIPET00160","Труба ПВХ напорная клеевая прозрачная PN6 160x5.5x3 м IPS",6,"Трубы","RUB",{"$f":"I63*Оглавление!$E$23","v":12772.914933333332},{"$f":"IFERROR(G63*(1-Оглавление!$D$27),\"\")","v":12772.914933333332},127.42333333333333,"м",null,0,0]
[null,"IPIPET00225","Труба ПВХ напорная клеевая прозрачная PN6 225x7.5x3 м IPS",6,"Трубы","RUB",{"$f":"IFERROR(I64*Оглавление!$E$23,\"по запросу\")","v":"по запросу"},{"$f":"IFERROR(G64*(1-Оглавление!$D$27),\"по запросу\")","v":"по запросу"},"по запросу","м",null,"0 ₽","0 ₽"]
[null,"IPIPET10020","Труба ПВХ напорная клеевая прозрачная PN10 20x2.5x3 м IPS",10,"Трубы","RUB",{"$f":"I65*Оглавление!$E$23","v":488.83706666666666},{"$f":"IFERROR(G65*(1-Оглавление!$D$27),\"\")","v":488.83706666666666},4.8766666666666669,"м",null,0,0]
[null,"IPIPET10025","Труба ПВХ напорная клеевая прозрачная PN10 25x2.5x3 м IPS",10,"Трубы","RUB",{"$f":"I66*Оглавление!$E$23","v":701.68},{"$f":"IFERROR(G66*(1-Оглавление!$D$27),\"\")","v":701.68},7,"м",null,0,0]
[null,"IPIPET10032","Труба ПВХ напорная клеевая прозрачная PN10 32x3.0x3 м IPS",10,"Трубы","RUB",{"$f":"I67*Оглавление!$E$23","v":982.35199999999986},{"$f":"IFERROR(G67*(1-Оглавление!$D$27),\"\")","v":982.35199999999986},9.7999999999999989,"м",null,0,0]
[null,"IPIPET10040","Труба ПВХ напорная клеевая прозрачная PN10 40x3.2x3 м IPS",10,"Трубы","RUB",{"$f":"I68*Оглавление!$E$23","v":1244.3125333333332},{"$f":"IFERROR(G68*(1-Оглавление!$D$27),\"\")","v":1244.3125333333332},12.413333333333334,"м",null,0,0]
[null,"IPIPET10050","Труба ПВХ напорная клеевая прозрачная PN10 50x3.5x3 м IPS",10,"Трубы","RUB",{"$f":"I69*Оглавление!$E$23","v":1590.8087999999998},{"$f":"IFERROR(G69*(1-Оглавление!$D$27),\"\")","v":1590.8087999999998},15.87,"м",null,0,0]
[null,"IPIPET10063","Труба ПВХ напорная клеевая прозрачная PN10 63x4.0x3 м IPS",10,"Трубы","RUB",{"$f":"I70*Оглавление!$E$23","v":2270.1018666666664},{"$f":"IFERROR(G70*(1-Оглавление!$D$27),\"\")","v":2270.1018666666664},22.646666666666665,"м",null,0,0]
[null,"IPIPET10075","Труба ПВХ напорная клеевая прозрачная PN10 75x4.0x3 м IPS",10,"Трубы","RUB",{"$f":"I71*Оглавление!$E$23","v":3543.4839999999999},{"$f":"IFERROR(G71*(1-Оглавление!$D$27),\"\")","v":3543.4839999999999},35.35,"м",null,0,0]
[null,"IPIPET10090","Труба ПВХ напорная клеевая прозрачная PN10 90x4.3x3 м IPS",10,"Трубы","RUB",{"$f":"I72*Оглавление!$E$23","v":4631.0879999999997},{"$f":"IFERROR(G72*(1-Оглавление!$D$27),\"\")","v":4631.0879999999997},46.199999999999996,"м",null,0,0]
[null,"IVEEIV020E","Кран шаровой ПВХ муфтовый общего применения EPDM 20 IPS",16,"Арматура","RUB",{"$f":"IFERROR(I73*Оглавление!$E$23,\"по запросу\")","v":447.58118443756786},{"$f":"IFERROR(G73*(1-Оглавление!$D$28),\"по запросу\")","v":447.58118443756786},4.4650956148999192,"шт",null,0,0]
[null,"IVEEIV025E","Кран шаровой ПВХ муфтовый общего применения EPDM 25 IPS",16,"Арматура","RUB",{"$f":"IFERROR(I74*Оглавление!$E$23,\"по запросу\")","v":593.04506937977737},{"$f":"IFERROR(G74*(1-Оглавление!$D$28),\"по запросу\")","v":593.04506937977737},5.916251689742392,"шт",null,0,0]
[null,"IVEEIV032E","Кран шаровой ПВХ муфтовый общего применения EPDM 32 IPS",16,"Арматура","RUB",{"$f":"IFERROR(I75*Оглавление!$E$23,\"по запросу\")","v":883.97283926419641},{"$f":"IFERROR(G75*(1-Оглавление!$D$28),\"по запросу\")","v":883.97283926419641},8.8185638394273393,"шт",null,{"$f":"IFERROR(K75*G75,\"0 ₽\")","v":0},{"$f":"IFERROR(K75*H75,\"0 ₽\")","v":0}]
[null,"IVEEIV040E","Кран шаровой ПВХ муфтовый общего применения EPDM 40 IPS",16,"Арматура","RUB",{"$f":"IFERROR(I76*Оглавление!$E$23,\"по запросу\")","v":1331.5540237017644},{"$f":"IFERROR(G76*(1-Оглавление!$D$28),\"по запросу\")","v":1331.5540237017644},13.28365945432726,"шт",null,0,0]
[null,"IVEEIV050E","Кран шаровой ПВХ муфтовый общего применения EPDM 50 IPS",16,"Арматура","RUB",{"$f":"IFERROR(I77*Оглавление!$E$23,\"по запросу\")","v":2014.1153299690552},{"$f":"IFERROR(G77*(1-Оглавление!$D$28),\"по запросу\")","v":2014.1153299690552},20.092930267049635,"шт",null,0,0]
[null,"IVEEIV063E","Кран шаровой ПВХ муфтовый общего применения EPDM 63 IPS",16,"Арматура","RUB",{"$f":"IFERROR(I78*Оглавление!$E$23,\"по запросу\")","v":2573.5918105160154},{"$f":"IFERROR(G78*(1-Оглавление!$D$28),\"по запросу\")","v":2573.5918105160154},25.674299785674535,"шт",null,0,0]
[null,"IVEEIV075E","Кран шаровой ПВХ муфтовый общего применения EPDM 75 IPS",10,"Арматура","RUB",{"$f":"IFERROR(I79*Оглавление!$E$23,\"по запросу\")","v":5538.8171574149019},{"$f":"IFERROR(G79*(1-Оглавление!$D$28),\"по запросу\")","v":5538.8171574149019},55.255558234386498,"шт",null,0,0]
[null,"IVEEIV090E","Кран шаровой ПВХ муфтовый общего применения EPDM 90 IPS",10,"Арматура","RUB",{"$f":"IFERROR(I80*Оглавление!$E$23,\"по запросу\")","v":9175.4142809701407},{"$f":"IFERROR(G80*(1-Оглавление!$D$28),\"по запросу\")","v":9175.4142809701407},91.534460105448332,"шт",null,0,0]
[null,"IVEEIV110E","Кран шаровой ПВХ муфтовый общего применения EPDM 110 IPS",10,"Арматура","RUB",{"$f":"IFERROR(I81*Оглавление!$E$23,\"по запросу\")","v":17735.404433338626},{"$f":"IFERROR(G81*(1-Оглавление!$D$28),\"по запросу\")","v":17735.404433338626},176.9294137404093,"шт",null,0,0]
[null,"IVKDIV020E","Кран шаровой ПВХ муфтовый промышленный EPDM 20 IPS",16,"Арматура","RUB",{"$f":"IFERROR(I82*Оглавление!$E$23,\"по запросу\")","v":3165.5791999999997},{"$f":"IFERROR(G82*(1-Оглавление!$D$28),\"по запросу\")","v":3165.5791999999997},31.58,"шт",null,0,0]
[null,"IVKDIV025E","Кран шаровой ПВХ муфтовый промышленный EPDM 25 IPS",16,"Арматура","RUB",{"$f":"IFERROR(I83*Оглавление!$E$23,\"по запросу\")","v":4078.7655999999997},{"$f":"IFERROR(G83*(1-Оглавление!$D$28),\"по запросу\")","v":4078.7655999999997},40.69,"шт",null,0,0]
[null,"IVKDIV032E","Кран шаровой ПВХ муфтовый промышленный EPDM 32 IPS",16,"Арматура","RUB",{"$f":"IFERROR(I84*Оглавление!$E$23,\"по запросу\")","v":4310.32},{"$f":"IFERROR(G84*(1-Оглавление!$D$28),\"по запросу\")","v":4310.32},43,"шт",null,0,0]
[null,"IVKDIV040E","Кран шаровой ПВХ муфтовый промышленный EPDM 40 IPS",16,"Арматура","RUB",{"$f":"IFERROR(I85*Оглавление!$E$23,\"по запросу\")","v":6030.4383999999991},{"$f":"IFERROR(G85*(1-Оглавление!$D$28),\"по запросу\")","v":6030.4383999999991},60.16,"шт",null,0,0]
[null,"IVKDIV050E","Кран шаровой ПВХ муфтовый промышленный EPDM 50 IPS",16,"Арматура","RUB",{"$f":"IFERROR(I86*Оглавление!$E$23,\"по запросу\")","v":7089.9751999999999},{"$f":"IFERROR(G86*(1-Оглавление!$D$28),\"по запросу\")","v":7089.9751999999999},70.73,"шт",null,0,0]
[null,"IVKDIV063E","Кран шаровой ПВХ муфтовый промышленный EPDM 63 IPS",16,"Арматура","RUB",{"$f":"IFERROR(I87*Оглавление!$E$23,\"по запросу\")","v":8769.9975999999988},{"$f":"IFERROR(G87*(1-Оглавление!$D$28),\"по запросу\")","v":8769.9975999999988},87.49,"шт",null,0,0]
[null,"IVKDIV075E","Кран шаровой ПВХ муфтовый промышленный EPDM 75 IPS",10,"Арматура","RUB",{"$f":"IFERROR(I88*Оглавление!$E$23,\"по запросу\")","v":22533.952000000001},{"$f":"IFERROR(G88*(1-Оглавление!$D$28),\"по запросу\")","v":22533.952000000001},224.8,"шт",null,0,0]
[null,"IVKDIV090E","Кран шаровой ПВХ муфтовый промышленный EPDM 90 IPS",10,"Арматура","RUB",{"$f":"IFERROR(I89*Оглавление!$E$23,\"по запросу\")","v":23884.184799999999},{"$f":"IFERROR(G89*(1-Оглавление!$D$28),\"по запросу\")","v":23884.184799999999},238.27,"шт",null,0,0]
[null,"IVKDIV110E","Кран шаровой ПВХ муфтовый промышленный EPDM 110 IPS",10,"Арматура","RUB",{"$f":"IFERROR(I90*Оглавление!$E$23,\"по запросу\")","v":39810.315999999999},{"$f":"IFERROR(G90*(1-Оглавление!$D$28),\"по запросу\")","v":39810.315999999999},397.15,"шт",null,0,0]
[null,"IVKDIV020F","Кран шаровой ПВХ муфтовый промышленный FKM 20 IPS",16,"Арматура","RUB",{"$f":"IFERROR(I91*Оглавление!$E$23,\"по запросу\")","v":4290.2719999999999},{"$f":"IFERROR(G91*(1-Оглавление!$D$28),\"по запросу\")","v":4290.2719999999999},42.8,"шт",null,0,0]
[null,"IVKDIV025F","Кран шаровой ПВХ муфтовый промышленный FKM 25 IPS",16,"Арматура","RUB",{"$f":"IFERROR(I92*Оглавление!$E$23,\"по запросу\")","v":4880.6855999999998},{"$f":"IFERROR(G92*(1-Оглавление!$D$28),\"по запросу\")","v":4880.6855999999998},48.69,"шт",null,0,0]
[null,"IVKDIV032F","Кран шаровой ПВХ муфтовый промышленный FKM 32 IPS",16,"Арматура","RUB",{"$f":"IFERROR(I93*Оглавление!$E$23,\"по запросу\")","v":6360.2280000000001},{"$f":"IFERROR(G93*(1-Оглавление!$D$28),\"по запросу\")","v":6360.2280000000001},63.45,"шт",null,0,0]
[null,"IVKDIV040F","Кран шаровой ПВХ муфтовый промышленный FKM 40 IPS",16,"Арматура","RUB",{"$f":"IFERROR(I94*Оглавление!$E$23,\"по запросу\")","v":7122.0519999999997},{"$f":"IFERROR(G94*(1-Оглавление!$D$28),\"по запросу\")","v":7122.0519999999997},71.05,"шт",null,0,0]
[null,"IVKDIV050F","Кран шаровой ПВХ муфтовый промышленный FKM 50 IPS",16,"Арматура","RUB",{"$f":"IFERROR(I95*Оглавление!$E$23,\"по запросу\")","v":8988.5208000000002},{"$f":"IFERROR(G95*(1-Оглавление!$D$28),\"по запросу\")","v":8988.5208000000002},89.67,"шт",null,0,0]
[null,"IVKDIV063F","Кран шаровой ПВХ муфтовый промышленный FKM 63 IPS",16,"Арматура","RUB",{"$f":"IFERROR(I96*Оглавление!$E$23,\"по запросу\")","v":12767.568799999999},{"$f":"IFERROR(G96*(1-Оглавление!$D$28),\"по запросу\")","v":12767.568799999999},127.37,"шт",null,0,0]
[null,"IVKDIV075F","Кран шаровой ПВХ муфтовый промышленный FKM 75 IPS",10,"Арматура","RUB",{"$f":"IFERROR(I97*Оглавление!$E$23,\"по запросу\")","v":27134.417027251737},{"$f":"IFERROR(G97*(1-Оглавление!$D$28),\"по запросу\")","v":27134.417027251737},270.69450346420331,"шт",null,0,0]
[null,"IVKDIV090F","Кран шаровой ПВХ муфтовый промышленный FKM 90 IPS",10,"Арматура","RUB",{"$f":"IFERROR(I98*Оглавление!$E$23,\"по запросу\")","v":26109.53364045174},{"$f":"IFERROR(G98*(1-Оглавление!$D$28),\"по запросу\")","v":26109.53364045174},260.4702079055441,"шт",null,0,0]
[null,"IVKDIV110F","Кран шаровой ПВХ муфтовый промышленный FKM 110 IPS",10,"Арматура","RUB",{"$f":"IFERROR(I99*Оглавление!$E$23,\"по запросу\")","v":40944.425710502008},{"$f":"IFERROR(G99*(1-Оглавление!$D$28),\"по запросу\")","v":40944.425710502008},408.46394364028345,"шт",null,0,0]
[null,"IVKDOV020E","Кран шаровой ПВХ фланцевый промышленный EPDM 20 IPS",16,"Арматура","RUB",{"$f":"IFERROR(I100*Оглавление!$E$23,\"по запросу\")","v":5365.5222587711633},{"$f":"IFERROR(G100*(1-Оглавление!$D$28),\"по запросу\")","v":5365.5222587711633},53.526758367629327,"шт",null,0,0]
[null,"IVKDOV025E","Кран шаровой ПВХ фланцевый промышленный EPDM 25 IPS",16,"Арматура","RUB",{"$f":"IFERROR(I101*Оглавление!$E$23,\"по запросу\")","v":7013.0805719446116},{"$f":"IFERROR(G101*(1-Оглавление!$D$28),\"по запросу\")","v":7013.0805719446116},69.962894771993334,"шт",null,0,0]
[null,"IVKDOV032E","Кран шаровой ПВХ фланцевый промышленный EPDM 32 IPS",16,"Арматура","RUB",{"$f":"IFERROR(I102*Оглавление!$E$23,\"по запросу\")","v":7356.2756307068084},{"$f":"IFERROR(G102*(1-Оглавление!$D$28),\"по запросу\")","v":7356.2756307068084},73.386628398910702,"шт",null,0,0]
[null,"IVKDOV040E","Кран шаровой ПВХ фланцевый промышленный EPDM 40 IPS",16,"Арматура","RUB",{"$f":"IFERROR(I103*Оглавление!$E$23,\"по запросу\")","v":10157.444995933132},{"$f":"IFERROR(G103*(1-Оглавление!$D$28),\"по запросу\")","v":10157.444995933132},101.33125494745742,"шт",null,0,0]
[null,"IVKDOV050E","Кран шаровой ПВХ фланцевый промышленный EPDM 50 IPS",16,"Арматура","RUB",{"$f":"IFERROR(I104*Оглавление!$E$23,\"по запросу\")","v":11160.306676227659},{"$f":"IFERROR(G104*(1-Оглавление!$D$28),\"по запросу\")","v":11160.306676227659},111.33586069660474,"шт",null,0,0]
[null,"IVKDOV063E","Кран шаровой ПВХ фланцевый промышленный EPDM 63 IPS",16,"Арматура","RUB",{"$f":"IFERROR(I105*Оглавление!$E$23,\"по запросу\")","v":13127.248496027962},{"$f":"IFERROR(G105*(1-Оглавление!$D$28),\"по запросу\")","v":13127.248496027962},130.95818531552237,"шт",null,0,0]
[null,"IVKDOV075E","Кран шаровой ПВХ фланцевый промышленный EPDM 75 IPS",10,"Арматура","RUB",{"$f":"IFERROR(I106*Оглавление!$E$23,\"по запросу\")","v":31132.219125006894},{"$f":"IFERROR(G106*(1-Оглавление!$D$28),\"по запросу\")","v":31132.219125006894},310.57680691347662,"шт",null,0,0]
[null,"IVKDOV090E","Кран шаровой ПВХ фланцевый промышленный EPDM 90 IPS",10,"Арматура","RUB",{"$f":"IFERROR(I107*Оглавление!$E$23,\"по запросу\")","v":29753.95286130422},{"$f":"IFERROR(G107*(1-Оглавление!$D$28),\"по запросу\")","v":29753.95286130422},296.82714346871728,"шт",null,0,0]
[null,"IVKDOV110E","Кран шаровой ПВХ фланцевый промышленный EPDM 110 IPS",10,"Арматура","RUB",{"$f":"IFERROR(I108*Оглавление!$E$23,\"по запросу\")","v":46723.80667793021},{"$f":"IFERROR(G108*(1-Оглавление!$D$28),\"по запросу\")","v":46723.80667793021},466.11938026666212,"шт",null,0,0]
[null,"IVKDOV020F","Кран шаровой ПВХ фланцевый промышленный EPDM 20 IPS",16,"Арматура","RUB",{"$f":"IFERROR(I109*Оглавление!$E$23,\"по запросу\")","v":7492.9151573885829},{"$f":"IFERROR(G109*(1-Оглавление!$D$28),\"по запросу\")","v":7492.9151573885829},74.749752168680999,"шт",null,0,0]
[null,"IVKDOV025F","Кран шаровой ПВХ фланцевый промышленный EPDM 25 IPS",16,"Арматура","RUB",{"$f":"IFERROR(I110*Оглавление!$E$23,\"по запросу\")","v":8612.9756852533665},{"$f":"IFERROR(G110*(1-Оглавление!$D$28),\"по запросу\")","v":8612.9756852533665},85.923540355680032,"шт",null,0,0]
[null,"IVKDOV032F","Кран шаровой ПВХ фланцевый промышленный EPDM 32 IPS",16,"Арматура","RUB",{"$f":"IFERROR(I111*Оглавление!$E$23,\"по запросу\")","v":11060.951494568149},{"$f":"IFERROR(G111*(1-Оглавление!$D$28),\"по запросу\")","v":11060.951494568149},110.34468769521298,"шт",null,0,0]
[null,"IVKDOV040F","Кран шаровой ПВХ фланцевый промышленный EPDM 40 IPS",16,"Арматура","RUB",{"$f":"IFERROR(I112*Оглавление!$E$23,\"по запросу\")","v":12579.939653108209},{"$f":"IFERROR(G112*(1-Оглавление!$D$28),\"по запросу\")","v":12579.939653108209},125.49820084904439,"шт",null,0,0]
[null,"IVKDOV050F","Кран шаровой ПВХ фланцевый промышленный EPDM 50 IPS",16,"Арматура","RUB",{"$f":"IFERROR(I113*Оглавление!$E$23,\"по запросу\")","v":14841.129531264462},{"$f":"IFERROR(G113*(1-Оглавление!$D$28),\"по запросу\")","v":14841.129531264462},148.05596100622967,"шт",null,0,0]
[null,"IVKDOV063F","Кран шаровой ПВХ фланцевый промышленный EPDM 63 IPS",16,"Арматура","RUB",{"$f":"IFERROR(I114*Оглавление!$E$23,\"по запросу\")","v":20180.206653641788},{"$f":"IFERROR(G114*(1-Оглавление!$D$28),\"по запросу\")","v":20180.206653641788},201.31890117360123,"шт",null,0,0]
[null,"IVKDOV075F","Кран шаровой ПВХ фланцевый промышленный EPDM 75 IPS",10,"Арматура","RUB",{"$f":"IFERROR(I115*Оглавление!$E$23,\"по запросу\")","v":40619.789959163099},{"$f":"IFERROR(G115*(1-Оглавление!$D$28),\"по запросу\")","v":40619.789959163099},405.22535873067739,"шт",null,0,0]
[null,"IVKDOV090F","Кран шаровой ПВХ фланцевый промышленный EPDM 90 IPS",10,"Арматура","RUB",{"$f":"IFERROR(I116*Оглавление!$E$23,\"по запросу\")","v":36506.894278424363},{"$f":"IFERROR(G116*(1-Оглавление!$D$28),\"по запросу\")","v":36506.894278424363},364.19487508404194,"шт",null,0,0]
[null,"IVKDOV110F","Кран шаровой ПВХ фланцевый промышленный EPDM 110 IPS",10,"Арматура","RUB",{"$f":"IFERROR(I117*Оглавление!$E$23,\"по запросу\")","v":54766.01126433882},{"$f":"IFERROR(G117*(1-Оглавление!$D$28),\"по запросу\")","v":54766.01126433882},546.34887534256609,"шт",null,0,0]
[null,"IFEOVLM063E","Затвор дисковый ПВХ с рукояткой общего применения 63 (DN50) EPDM IPS",10,"Арматура","RUB",{"$f":"IFERROR(I118*Оглавление!$E$23,\"по запросу\")","v":4469.5981896581015},{"$f":"IFERROR(G118*(1-Оглавление!$D$28),\"по запросу\")","v":4469.5981896581015},44.588968372487045,"шт",null,0,0]
[null,"IFEOVLM075E","Затвор дисковый ПВХ с рукояткой общего применения 75 (DN65) EPDM IPS",10,"Арматура","RUB",{"$f":"IFERROR(I119*Оглавление!$E$23,\"по запросу\")","v":4870.6388527050367},{"$f":"IFERROR(G119*(1-Оглавление!$D$28),\"по запросу\")","v":4870.6388527050367},48.589773071678337,"шт",null,0,0]
[null,"IFEOVLM090E","Затвор дисковый ПВХ с рукояткой общего применения 90 (DN80) EPDM IPS",10,"Арматура","RUB",{"$f":"IFERROR(I120*Оглавление!$E$23,\"по запросу\")","v":6143.9429578790578},{"$f":"IFERROR(G120*(1-Оглавление!$D$28),\"по запросу\")","v":6143.9429578790578},61.292327991610719,"шт",null,0,0]
[null,"IFEOVLM110E","Затвор дисковый ПВХ с рукояткой общего применения 110 (DN100) EPDM IPS",10,"Арматура","RUB",{"$f":"IFERROR(I121*Оглавление!$E$23,\"по запросу\")","v":7649.850647620302},{"$f":"IFERROR(G121*(1-Оглавление!$D$28),\"по запросу\")","v":7649.850647620302},76.31534963707405,"шт",null,0,0]
[null,"IFEOVLM140E","Затвор дисковый ПВХ с рукояткой общего применения 140 (DN125) EPDM IPS",10,"Арматура","RUB",{"$f":"IFERROR(I122*Оглавление!$E$23,\"по запросу\")","v":12532.520720216748},{"$f":"IFERROR(G122*(1-Оглавление!$D$28),\"по запросу\")","v":12532.520720216748},125.02514684972813,"шт",null,0,0]
[null,"IFEOVLM160E","Затвор дисковый ПВХ с рукояткой общего применения 160 (DN150) EPDM IPS",10,"Арматура","RUB",{"$f":"IFERROR(I123*Оглавление!$E$23,\"по запросу\")","v":14938.764698498358},{"$f":"IFERROR(G123*(1-Оглавление!$D$28),\"по запросу\")","v":14938.764698498358},149.0299750448759,"шт",null,0,0]
[null,"IFEOVLM225E","Затвор дисковый ПВХ с рукояткой общего применения 225 (DN200) EPDM IPS",10,"Арматура","RUB",{"$f":"IFERROR(I124*Оглавление!$E$23,\"по запросу\")","v":21555.935638772804},{"$f":"IFERROR(G124*(1-Оглавление!$D$28),\"по запросу\")","v":21555.935638772804},215.04325258153239,"шт",null,0,0]
[null,"IFKOVLM063E","Затвор дисковый ПВХ с рукояткой промышленный 63 (DN50) EPDM IPS",10,"Арматура","RUB",{"$f":"IFERROR(I125*Оглавление!$E$23,\"по запросу\")","v":13805.565502613221},{"$f":"IFERROR(G125*(1-Оглавление!$D$28),\"по запросу\")","v":13805.565502613221},137.72511475073046,"шт",null,{"$f":"IFERROR(K125*G125,\"0 ₽\")","v":0},{"$f":"IFERROR(K125*H125,\"0 ₽\")","v":0}]
[null,"IFKOVLM075E","Затвор дисковый ПВХ с рукояткой промышленный 75 (DN65) EPDM IPS",10,"Арматура","RUB",{"$f":"IFERROR(I126*Оглавление!$E$23,\"по запросу\")","v":14657.685220580908},{"$f":"IFERROR(G126*(1-Оглавление!$D$28),\"по запросу\")","v":14657.685220580908},146.22591002175687,"шт",null,0,0]
[null,"IFKOVLM090E","Затвор дисковый ПВХ с рукояткой промышленный 90 (DN80) EPDM IPS",10,"Арматура","RUB",{"$f":"IFERROR(I127*Оглавление!$E$23,\"по запросу\")","v":15975.712122473378},{"$f":"IFERROR(G127*(1-Оглавление!$D$28),\"по запросу\")","v":15975.712122473378},159.37462213161791,"шт",null,0,0]
[null,"IFKOVLM110E","Затвор дисковый ПВХ с рукояткой промышленный 110 (DN100) EPDM IPS",10,"Арматура","RUB",{"$f":"IFERROR(I128*Оглавление!$E$23,\"по запросу\")","v":19230.932052263626},{"$f":"IFERROR(G128*(1-Оглавление!$D$28),\"по запросу\")","v":19230.932052263626},191.8488832029492,"шт",null,0,0]
[null,"IFKOVLM140E","Затвор дисковый ПВХ с рукояткой промышленный 140 (DN125) EPDM IPS",10,"Арматура","RUB",{"$f":"IFERROR(I129*Оглавление!$E$23,\"по запросу\")","v":28745.247176622292},{"$f":"IFERROR(G129*(1-Оглавление!$D$28),\"по запросу\")","v":28745.247176622292},286.76423759599254,"шт",null,0,0]
[null,"IFKOVLM160E","Затвор дисковый ПВХ с рукояткой промышленный 160 (DN150) EPDM IPS",10,"Арматура","RUB",{"$f":"IFERROR(I130*Оглавление!$E$23,\"по запросу\")","v":33931.529776627081},{"$f":"IFERROR(G130*(1-Оглавление!$D$28),\"по запросу\")","v":33931.529776627081},338.50289082828294,"шт",null,0,0]
[null,"IFKOVLM225E","Затвор дисковый ПВХ с рукояткой промышленный 225 (DN200) EPDM IPS",10,"Арматура","RUB",{"$f":"IFERROR(I131*Оглавление!$E$23,\"по запросу\")","v":48858.950735269711},{"$f":"IFERROR(G131*(1-Оглавление!$D$28),\"по запросу\")","v":48858.950735269711},487.41970007252309,"шт",null,0,0]
[null,"IFKOVLM063F","Затвор дисковый ПВХ с рукояткой промышленный 63 (DN50) FKM IPS",10,"Арматура","RUB",{"$f":"IFERROR(I132*Оглавление!$E$23,\"по запросу\")","v":23863.842681728565},{"$f":"IFERROR(G132*(1-Оглавление!$D$28),\"по запросу\")","v":23863.842681728565},238.06706585922353,"шт",null,0,0]
[null,"IFKOVLM075F","Затвор дисковый ПВХ с рукояткой промышленный 75 (DN65) FKM IPS",10,"Арматура","RUB",{"$f":"IFERROR(I133*Оглавление!$E$23,\"по запросу\")","v":24705.873280439097},{"$f":"IFERROR(G133*(1-Оглавление!$D$28),\"по запросу\")","v":24705.873280439097},246.46721149679865,"шт",null,0,0]
[null,"IFKOVLM090F","Затвор дисковый ПВХ с рукояткой промышленный 90 (DN80) FKM IPS",10,"Арматура","RUB",{"$f":"IFERROR(I134*Оглавление!$E$23,\"по запросу\")","v":29369.446247120948},{"$f":"IFERROR(G134*(1-Оглавление!$D$28),\"по запросу\")","v":29369.446247120948},292.99128339107091,"шт",null,0,0]
[null,"IFKOVLM110F","Затвор дисковый ПВХ с рукояткой промышленный 110 (DN100) FKM IPS",10,"Арматура","RUB",{"$f":"IFERROR(I135*Оглавление!$E$23,\"по запросу\")","v":37743.639016178},{"$f":"IFERROR(G135*(1-Оглавление!$D$28),\"по запросу\")","v":37743.639016178},376.53271165381085,"шт",null,0,0]
[null,"IFKOVLM140F","Затвор дисковый ПВХ с рукояткой промышленный 140 (DN125) FKM IPS",10,"Арматура","RUB",{"$f":"IFERROR(I136*Оглавление!$E$23,\"по запросу\")","v":57312.429194088028},{"$f":"IFERROR(G136*(1-Оглавление!$D$28),\"по запросу\")","v":57312.429194088028},571.75208693224295,"шт",null,0,0]
[null,"IFKOVLM160F","Затвор дисковый ПВХ с рукояткой промышленный 160 (DN150) FKM IPS",10,"Арматура","RUB",{"$f":"IFERROR(I137*Оглавление!$E$23,\"по запросу\")","v":81870.841407841188},{"$f":"IFERROR(G137*(1-Оглавление!$D$28),\"по запросу\")","v":81870.841407841188},816.74821835436148,"шт",null,0,0]
[null,"IFKOVLM225F","Затвор дисковый ПВХ с рукояткой промышленный 225 (DN200) FKM IPS",10,"Арматура","RUB",{"$f":"IFERROR(I138*Оглавление!$E$23,\"по запросу\")","v":111218.80628324281},{"$f":"IFERROR(G138*(1-Оглавление!$D$28),\"по запросу\")","v":111218.80628324281},1109.5252023467958,"шт",null,0,0]
[null,"IFKOVRM225E","Затвор дисковый ПВХ с редуктором промышленный 225 (DN200) EPDM IPS",10,"Арматура","RUB",{"$f":"IFERROR(I139*Оглавление!$E$23,\"по запросу\")","v":77518.372904326898},{"$f":"IFERROR(G139*(1-Оглавление!$D$28),\"по запросу\")","v":77518.372904326898},773.32774246136171,"шт",null,0,0]
[null,"IFKOVRM280E","Затвор дисковый ПВХ с редуктором промышленный 280 (DN250) EPDM IPS",10,"Арматура","RUB",{"$f":"IFERROR(I140*Оглавление!$E$23,\"по запросу\")","v":118267.97283009072},{"$f":"IFERROR(G140*(1-Оглавление!$D$28),\"по запросу\")","v":118267.97283009072},1179.848092878,"шт",null,0,0]
[null,"IFKOVRM315E","Затвор дисковый ПВХ с редуктором промышленный 315 (DN300) EPDM IPS",10,"Арматура","RUB",{"$f":"IFERROR(I141*Оглавление!$E$23,\"по запросу\")","v":173792.162934936},{"$f":"IFERROR(G141*(1-Оглавление!$D$28),\"по запросу\")","v":173792.162934936},1733.7606039000002,"шт",null,0,0]
[null,"IFKOVRM225F","Затвор дисковый ПВХ с редуктором промышленный 225 (DN200) FKM IPS",10,"Арматура","RUB",{"$f":"IFERROR(I142*Оглавление!$E$23,\"по запросу\")","v":139105.69218144144},{"$f":"IFERROR(G142*(1-Оглавление!$D$28),\"по запросу\")","v":139105.69218144144},1387.7263785060002,"шт",null,0,0]
[null,"IFKOVRM280F","Затвор дисковый ПВХ с редуктором промышленный 280 (DN250) FKM IPS",10,"Арматура","RUB",{"$f":"IFERROR(I143*Оглавление!$E$23,\"по запросу\")","v":211233.12459211878},{"$f":"IFERROR(G143*(1-Оглавление!$D$28),\"по запросу\")","v":211233.12459211878},2107.2737888280008,"шт",null,0,0]
[null,"IFKOVRM315F","Затвор дисковый ПВХ с редуктором промышленный 315 (DN300) FKM IPS",10,"Арматура","RUB",{"$f":"IFERROR(I144*Оглавление!$E$23,\"по запросу\")","v":312331.69755889924},{"$f":"IFERROR(G144*(1-Оглавление!$D$28),\"по запросу\")","v":312331.69755889924},3115.8389620800008,"шт",null,0,0]
[null,"IFKOVRM814E","Затвор дисковый ПВХ с редуктором промышленный 14\" (DN350) EPDM IPS",null,"Арматура","RUB",{"$f":"IFERROR(I145*Оглавление!$E$23,\"по запросу\")","v":148006.023984},{"$f":"IFERROR(G145*(1-Оглавление!$D$28),\"по запросу\")","v":148006.023984},1476.5165999999999,"шт",null,0,0]
[null,"IFKOVRM816E","Затвор дисковый ПВХ с редуктором промышленный 16\" (DN400) EPDM IPS",null,"Арматура","RUB",{"$f":"IFERROR(I146*Оглавление!$E$23,\"по запросу\")","v":240098.66112960002},{"$f":"IFERROR(G146*(1-Оглавление!$D$28),\"по запросу\")","v":240098.66112960002},2395.2380400000002,"шт",null,0,0]
[null,"IFKOVRM818E","Затвор дисковый ПВХ с редуктором промышленный 18\" (DN450) EPDM IPS",null,"Арматура","RUB",{"$f":"IFERROR(I147*Оглавление!$E$23,\"по запросу\")","v":363523.56767999998},{"$f":"IFERROR(G147*(1-Оглавление!$D$28),\"по запросу\")","v":363523.56767999998},3626.5319999999997,"шт",null,0,0]
[null,"IFKOVRM820E","Затвор дисковый ПВХ с редуктором промышленный 20\" (DN500) EPDM IPS",null,"Арматура","RUB",{"$f":"IFERROR(I148*Оглавление!$E$23,\"по запросу\")","v":377025.87162239995},{"$f":"IFERROR(G148*(1-Оглавление!$D$28),\"по запросу\")","v":377025.87162239995},3761.2317599999997,"шт",null,0,0]
[null,"IFKOVRM824E","Затвор дисковый ПВХ с редуктором промышленный 24\" (DN600) EPDM IPS",null,"Арматура","RUB",{"$f":"IFERROR(I149*Оглавление!$E$23,\"по запросу\")","v":614008.61645760003},{"$f":"IFERROR(G149*(1-Оглавление!$D$28),\"по запросу\")","v":614008.61645760003},6125.3852400000005,"шт",null,0,0]
[null,"IFKOVRM828E","Затвор дисковый ПВХ с редуктором промышленный 28\" (DN700) EPDM IPS",null,"Арматура","RUB",{"$f":"IFERROR(I150*Оглавление!$E$23,\"по запросу\")","v":"по запросу"},{"$f":"IFERROR(G150*(1-Оглавление!$D$28),\"по запросу\")","v":"по запросу"},"по запросу","шт",null,"0 ₽","0 ₽"]
[null,"IFKOVRM832E","Затвор дисковый ПВХ с редуктором промышленный 32\" (DN800) EPDM IPS",null,"Арматура","RUB",{"$f":"IFERROR(I151*Оглавление!$E$23,\"по запросу\")","v":"по запросу"},{"$f":"IFERROR(G151*(1-Оглавление!$D$28),\"по запросу\")","v":"по запросу"},"по запросу","шт",null,"0 ₽","0 ₽"]
[null,"IFKOVRM840E","Затвор дисковый ПВХ с редуктором промышленный 40\" (DN1000) EPDM IPS",null,"Арматура","RUB",{"$f":"IFERROR(I152*Оглавление!$E$23,\"по запросу\")","v":"по запросу"},{"$f":"IFERROR(G152*(1-Оглавление!$D$28),\"по запросу\")","v":"по запросу"},"по запросу","шт",null,"0 ₽","0 ₽"]
[null,"IFKOVRM814F","Затвор дисковый ПВХ с редуктором промышленный 14\" (DN350) FKM IPS",null,"Арматура","RUB",{"$f":"IFERROR(I153*Оглавление!$E$23,\"по запросу\")","v":278528.29542720004},{"$f":"IFERROR(G153*(1-Оглавление!$D$28),\"по запросу\")","v":278528.29542720004},2778.6142800000007,"шт",null,0,0]
[null,"IFKOVRM816F","Затвор дисковый ПВХ с редуктором промышленный 16\" (DN400) FKM IPS",null,"Арматура","RUB",{"$f":"IFERROR(I154*Оглавление!$E$23,\"по запросу\")","v":409829.54594400001},{"$f":"IFERROR(G154*(1-Оглавление!$D$28),\"по запросу\")","v":409829.54594400001},4088.4831000000004,"шт",null,0,0]
[null,"IFKOVRM818F","Затвор дисковый ПВХ с редуктором промышленный 18\" (DN450) FKM IPS",null,"Арматура","RUB",{"$f":"IFERROR(I155*Оглавление!$E$23,\"по запросу\")","v":546497.09674559999},{"$f":"IFERROR(G155*(1-Оглавление!$D$28),\"по запросу\")","v":546497.09674559999},5451.8864400000002,"шт",null,0,0]
[null,"IFKOVRM820F","Затвор дисковый ПВХ с редуктором промышленный 20\" (DN500) FKM IPS",null,"Арматура","RUB",{"$f":"IFERROR(I156*Оглавление!$E$23,\"по запросу\")","v":582676.34705279989},{"$f":"IFERROR(G156*(1-Оглавление!$D$28),\"по запросу\")","v":582676.34705279989},5812.812719999999,"шт",null,0,0]
[null,"IFKOVRM824F","Затвор дисковый ПВХ с редуктором промышленный 24\" (DN600) FKM IPS",null,"Арматура","RUB",{"$f":"IFERROR(I157*Оглавление!$E$23,\"по запросу\")","v":910366.87734719994},{"$f":"IFERROR(G157*(1-Оглавление!$D$28),\"по запросу\")","v":910366.87734719994},9081.8722799999996,"шт",null,0,0]
[null,"IFKOVRM828F","Затвор дисковый ПВХ с редуктором промышленный 28\" (DN700) FKM IPS",null,"Арматура","RUB",{"$f":"IFERROR(I158*Оглавление!$E$23,\"по запросу\")","v":"по запросу"},{"$f":"IFERROR(G158*(1-Оглавление!$D$28),\"по запросу\")","v":"по запросу"},"по запросу","шт",null,"0 ₽","0 ₽"]
[null,"IFKOVRM832F","Затвор дисковый ПВХ с редуктором промышленный 32\" (DN800) FKM IPS",null,"Арматура","RUB",{"$f":"IFERROR(I159*Оглавление!$E$23,\"по запросу\")","v":"по запросу"},{"$f":"IFERROR(G159*(1-Оглавление!$D$28),\"по запросу\")","v":"по запросу"},"по запросу","шт",null,"0 ₽","0 ₽"]
[null,"IFKOVRM840F","Затвор дисковый ПВХ с редуктором промышленный 40\" (DN1000) FKM IPS",null,"Арматура","RUB",{"$f":"IFERROR(I160*Оглавление!$E$23,\"по запросу\")","v":"по запросу"},{"$f":"IFERROR(G160*(1-Оглавление!$D$28),\"по запросу\")","v":"по запросу"},"по запросу","шт",null,"0 ₽","0 ₽"]
[null,"ISXEIV020E","Обратный клапан ПВХ шаровой с муфтовыми окончаниям EPDM 20 IPS",16,"Арматура","RUB",{"$f":"IFERROR(I161*Оглавление!$E$23,\"по запросу\")","v":1701.0727999999997},{"$f":"IFERROR(G161*(1-Оглавление!$D$28),\"по запросу\")","v":1701.0727999999997},16.97,"шт",null,0,0]
[null,"ISXEIV025E","Обратный клапан ПВХ шаровой с муфтовыми окончаниям EPDM 25 IPS",16,"Арматура","RUB",{"$f":"IFERROR(I162*Оглавление!$E$23,\"по запросу\")","v":1772.2431999999999},{"$f":"IFERROR(G162*(1-Оглавление!$D$28),\"по запросу\")","v":1772.2431999999999},17.68,"шт",null,0,0]
[null,"ISXEIV032E","Обратный клапан ПВХ шаровой с муфтовыми окончаниям EPDM 32 IPS",16,"Арматура","RUB",{"$f":"IFERROR(I163*Оглавление!$E$23,\"по запросу\")","v":1912.5791999999997},{"$f":"IFERROR(G163*(1-Оглавление!$D$28),\"по запросу\")","v":1912.5791999999997},19.079999999999998,"шт",null,0,0]
[null,"ISXEIV040E","Обратный клапан ПВХ шаровой с муфтовыми окончаниям EPDM 40 IPS",16,"Арматура","RUB",{"$f":"IFERROR(I164*Оглавление!$E$23,\"по запросу\")","v":2347.6208000000001},{"$f":"IFERROR(G164*(1-Оглавление!$D$28),\"по запросу\")","v":2347.6208000000001},23.42,"шт",null,0,0]
[null,"ISXEIV050E","Обратный клапан ПВХ шаровой с муфтовыми окончаниям EPDM 50 IPS",16,"Арматура","RUB",{"$f":"IFERROR(I165*Оглавление!$E$23,\"по запросу\")","v":3267.8240000000001},{"$f":"IFERROR(G165*(1-Оглавление!$D$28),\"по запросу\")","v":3267.8240000000001},32.6,"шт",null,0,0]
[null,"ISXEIV063E","Обратный клапан ПВХ шаровой с муфтовыми окончаниям EPDM 63 IPS",16,"Арматура","RUB",{"$f":"IFERROR(I166*Оглавление!$E$23,\"по запросу\")","v":4818.5367999999999},{"$f":"IFERROR(G166*(1-Оглавление!$D$28),\"по запросу\")","v":4818.5367999999999},48.07,"шт",null,0,0]
[null,"ISXEIV020F","Обратный клапан ПВХ шаровой с муфтовыми окончаниям FKM 20 IPS",16,"Арматура","RUB",{"$f":"IFERROR(I167*Оглавление!$E$23,\"по запросу\")","v":2473.7007889425631},{"$f":"IFERROR(G167*(1-Оглавление!$D$28),\"по запросу\")","v":2473.7007889425631},24.677781214510805,"шт",null,0,0]
[null,"ISXEIV025F","Обратный клапан ПВХ шаровой с муфтовыми окончаниям FKM 25 IPS",16,"Арматура","RUB",{"$f":"IFERROR(I168*Оглавление!$E$23,\"по запросу\")","v":2644.1533987954522},{"$f":"IFERROR(G168*(1-Оглавление!$D$28),\"по запросу\")","v":2644.1533987954522},26.378226244966601,"шт",null,0,0]
[null,"ISXEIV032F","Обратный клапан ПВХ шаровой с муфтовыми окончаниям FKM 32 IPS",16,"Арматура","RUB",{"$f":"IFERROR(I169*Оглавление!$E$23,\"по запросу\")","v":2898.8640926748626},{"$f":"IFERROR(G169*(1-Оглавление!$D$28),\"по запросу\")","v":2898.8640926748626},28.91923476331667,"шт",null,0,0]
[null,"ISXEIV040F","Обратный клапан ПВХ шаровой с муфтовыми окончаниям FKM 40 IPS",16,"Арматура","RUB",{"$f":"IFERROR(I170*Оглавление!$E$23,\"по запросу\")","v":4974.1854935445399},{"$f":"IFERROR(G170*(1-Оглавление!$D$28),\"по запросу\")","v":4974.1854935445399},49.622760310699718,"шт",null,0,0]
[null,"ISXEIV050F","Обратный клапан ПВХ шаровой с муфтовыми окончаниям FKM 50 IPS",16,"Арматура","RUB",{"$f":"IFERROR(I171*Оглавление!$E$23,\"по запросу\")","v":6759.0881452708481},{"$f":"IFERROR(G171*(1-Оглавление!$D$28),\"по запросу\")","v":6759.0881452708481},67.429051728559941,"шт",null,0,0]
[null,"ISXEIV063F","Обратный клапан ПВХ шаровой с муфтовыми окончаниям FKM 63 IPS",16,"Арматура","RUB",{"$f":"IFERROR(I172*Оглавление!$E$23,\"по запросу\")","v":9574.0220206009762},{"$f":"IFERROR(G172*(1-Оглавление!$D$28),\"по запросу\")","v":9574.0220206009762},95.510993820839744,"шт",null,0,0]
[null,"ISRIV020E","Обратный клапан ПВХ с гайкой с одной стороны и муфтовым окончанием EPDM 20 IPS",16,"Арматура","RUB",{"$f":"IFERROR(I173*Оглавление!$E$23,\"по запросу\")","v":637.17026091263995},{"$f":"IFERROR(G173*(1-Оглавление!$D$28),\"по запросу\")","v":637.17026091263995},6.3564471359999999,"шт",null,0,0]
[null,"ISRIV025E","Обратный клапан ПВХ с гайкой с одной стороны и муфтовым окончанием EPDM 25 IPS",16,"Арматура","RUB",{"$f":"IFERROR(I174*Оглавление!$E$23,\"по запросу\")","v":815.81612845823997},{"$f":"IFERROR(G174*(1-Оглавление!$D$28),\"по запросу\")","v":815.81612845823997},8.1386285760000003,"шт",null,0,0]
[null,"ISRIV032E","Обратный клапан ПВХ с гайкой с одной стороны и муфтовым окончанием EPDM 32 IPS",16,"Арматура","RUB",{"$f":"IFERROR(I175*Оглавление!$E$23,\"по запросу\")","v":994.46199600383989},{"$f":"IFERROR(G175*(1-Оглавление!$D$28),\"по запросу\")","v":994.46199600383989},9.920810015999999,"шт",null,0,0]
[null,"ISRIV040E","Обратный клапан ПВХ с гайкой с одной стороны и муфтовым окончанием EPDM 40 IPS",16,"Арматура","RUB",{"$f":"IFERROR(I176*Оглавление!$E$23,\"по запросу\")","v":1494.67042513152},{"$f":"IFERROR(G176*(1-Оглавление!$D$28),\"по запросу\")","v":1494.67042513152},14.910918048000001,"шт",null,0,0]
[null,"ISRIV050E","Обратный клапан ПВХ с гайкой с одной стороны и муфтовым окончанием EPDM 50 IPS",16,"Арматура","RUB",{"$f":"IFERROR(I177*Оглавление!$E$23,\"по запросу\")","v":1744.7746396953603},{"$f":"IFERROR(G177*(1-Оглавление!$D$28),\"по запросу\")","v":1744.7746396953603},17.405972064000004,"шт",null,0,0]
[null,"ISRIV063E","Обратный клапан ПВХ с гайкой с одной стороны и муфтовым окончанием EPDM 63 IPS",16,"Арматура","RUB",{"$f":"IFERROR(I178*Оглавление!$E$23,\"по запросу\")","v":2447.4483853747201},{"$f":"IFERROR(G178*(1-Оглавление!$D$28),\"по запросу\")","v":2447.4483853747201},24.415885728000003,"шт",null,0,0]
[null,"ISRIV075E","Обратный клапан ПВХ с гайкой с одной стороны и муфтовым окончанием EPDM 75 IPS",10,"Арматура","RUB",{"$f":"IFERROR(I179*Оглавление!$E$23,\"по запросу\")","v":6056.0949097958401},{"$f":"IFERROR(G179*(1-Оглавление!$D$28),\"по запросу\")","v":6056.0949097958401},60.415950816000006,"шт",null,0,0]
[null,"ISRIV090E","Обратный клапан ПВХ с гайкой с одной стороны и муфтовым окончанием EPDM 90 IPS",10,"Арматура","RUB",{"$f":"IFERROR(I180*Оглавление!$E$23,\"по запросу\")","v":7020.7825945420791},{"$f":"IFERROR(G180*(1-Оглавление!$D$28),\"по запросу\")","v":7020.7825945420791},70.039730591999998,"шт",null,0,0]
[null,"ISRIV020F","Обратный клапан ПВХ с гайкой с одной стороны и муфтовым окончанием FKM 20 IPS",16,"Арматура","RUB",{"$f":"IFERROR(I181*Оглавление!$E$23,\"по запросу\")","v":1532.8252854342479},{"$f":"IFERROR(G181*(1-Оглавление!$D$28),\"по запросу\")","v":1532.8252854342479},15.291553126838068,"шт",null,0,0]
[null,"ISRIV025F","Обратный клапан ПВХ с гайкой с одной стороны и муфтовым окончанием FKM 25 IPS",16,"Арматура","RUB",{"$f":"IFERROR(I182*Оглавление!$E$23,\"по запросу\")","v":2058.6610116563402},{"$f":"IFERROR(G182*(1-Оглавление!$D$28),\"по запросу\")","v":2058.6610116563402},20.537320547250005,"шт",null,0,0]
[null,"ISRIV032F","Обратный клапан ПВХ с гайкой с одной стороны и муфтовым окончанием FKM 32 IPS",16,"Арматура","RUB",{"$f":"IFERROR(I183*Оглавление!$E$23,\"по запросу\")","v":2664.6481687795199},{"$f":"IFERROR(G183*(1-Оглавление!$D$28),\"по запросу\")","v":2664.6481687795199},26.582683247999999,"шт",null,{"$f":"IFERROR(K183*G183,\"0 ₽\")","v":0},{"$f":"IFERROR(K183*H183,\"0 ₽\")","v":0}]
[null,"ISRIV040F","Обратный клапан ПВХ с гайкой с одной стороны и муфтовым окончанием FKM 40 IPS",16,"Арматура","RUB",{"$f":"IFERROR(I184*Оглавление!$E$23,\"по запросу\")","v":4493.5924960684797},{"$f":"IFERROR(G184*(1-Оглавление!$D$28),\"по запросу\")","v":4493.5924960684797},44.828336952000001,"шт",null,0,0]
[null,"ISRIV050F","Обратный клапан ПВХ с гайкой с одной стороны и муфтовым окончанием FKM 50 IPS",16,"Арматура","RUB",{"$f":"IFERROR(I185*Оглавление!$E$23,\"по запросу\")","v":5732.8309589990404},{"$f":"IFERROR(G185*(1-Оглавление!$D$28),\"по запросу\")","v":5732.8309589990404},57.191051067428582,"шт",null,0,0]
[null,"ISRIV063F","Обратный клапан ПВХ с гайкой с одной стороны и муфтовым окончанием FKM 63 IPS",16,"Арматура","RUB",{"$f":"IFERROR(I186*Оглавление!$E$23,\"по запросу\")","v":7856.8174378249014},{"$f":"IFERROR(G186*(1-Оглавление!$D$28),\"по запросу\")","v":7856.8174378249014},78.380062228899661,"шт",null,0,0]
[null,"ISRIV075F","Обратный клапан ПВХ с гайкой с одной стороны и муфтовым окончанием FKM 75 IPS",10,"Арматура","RUB",{"$f":"IFERROR(I187*Оглавление!$E$23,\"по запросу\")","v":14205.838042347719},{"$f":"IFERROR(G187*(1-Оглавление!$D$28),\"по запросу\")","v":14205.838042347719},141.71825660761891,"шт",null,0,0]
[null,"ISRIV090F","Обратный клапан ПВХ с гайкой с одной стороны и муфтовым окончанием FKM 90 IPS",10,"Арматура","RUB",{"$f":"IFERROR(I188*Оглавление!$E$23,\"по запросу\")","v":17958.24441830131},{"$f":"IFERROR(G188*(1-Оглавление!$D$28),\"по запросу\")","v":17958.24441830131},179.15247823524851,"шт",null,0,0]
[null,"IVZIV032E","Донный клапан ПВХ EPDM 20 IPS",10,"Арматура","RUB",{"$f":"IFERROR(I189*Оглавление!$E$23,\"по запросу\")","v":1369.6183178495999},{"$f":"IFERROR(G189*(1-Оглавление!$D$28),\"по запросу\")","v":1369.6183178495999},13.663391039999999,"шт",null,0,0]
[null,"IVZIV040E","Донный клапан ПВХ EPDM 25 IPS",10,"Арматура","RUB",{"$f":"IFERROR(I190*Оглавление!$E$23,\"по запросу\")","v":1536.35446089216},{"$f":"IFERROR(G190*(1-Оглавление!$D$28),\"по запросу\")","v":1536.35446089216},15.326760384,"шт",null,0,0]
[null,"IVZIV050E","Донный клапан ПВХ EPDM 32 IPS",10,"Арматура","RUB",{"$f":"IFERROR(I191*Оглавление!$E$23,\"по запросу\")","v":1798.3683999590398},{"$f":"IFERROR(G191*(1-Оглавление!$D$28),\"по запросу\")","v":1798.3683999590398},17.940626496,"шт",null,0,0]
[null,"IVZIV063E","Донный клапан ПВХ EPDM 40 IPS",10,"Арматура","RUB",{"$f":"IFERROR(I192*Оглавление!$E$23,\"по запросу\")","v":2518.9067323929598},{"$f":"IFERROR(G192*(1-Оглавление!$D$28),\"по запросу\")","v":2518.9067323929598},25.128758304000002,"шт",null,0,0]
[null,"IVZIV075E","Донный клапан ПВХ EPDM 50 IPS",10,"Арматура","RUB",{"$f":"IFERROR(I193*Оглавление!$E$23,\"по запросу\")","v":6234.7407773414407},{"$f":"IFERROR(G193*(1-Оглавление!$D$28),\"по запросу\")","v":6234.7407773414407},62.198132256000008,"шт",null,0,0]
[null,"IVZIV090E","Донный клапан ПВХ EPDM 63 IPS",10,"Арматура","RUB",{"$f":"IFERROR(I194*Оглавление!$E$23,\"по запросу\")","v":7235.1576355967991},{"$f":"IFERROR(G194*(1-Оглавление!$D$28),\"по запросу\")","v":7235.1576355967991},72.178348319999998,"шт",null,0,0]
[null,"IVZIV032F","Донный клапан ПВХ FKM 20 IPS",10,"Арматура","RUB",{"$f":"IFERROR(I195*Оглавление!$E$23,\"по запросу\")","v":3604.4830626394555},{"$f":"IFERROR(G195*(1-Оглавление!$D$28),\"по запросу\")","v":3604.4830626394555},35.958530154024899,"шт",null,0,0]
[null,"IVZIV040F","Донный клапан ПВХ FKM 25 IPS",10,"Арматура","RUB",{"$f":"IFERROR(I196*Оглавление!$E$23,\"по запросу\")","v":4519.0632936510947},{"$f":"IFERROR(G196*(1-Оглавление!$D$28),\"по запросу\")","v":4519.0632936510947},45.082435092289458,"шт",null,0,0]
[null,"IVZIV050F","Донный клапан ПВХ FKM 32 IPS",10,"Арматура","RUB",{"$f":"IFERROR(I197*Оглавление!$E$23,\"по запросу\")","v":5773.0385826312031},{"$f":"IFERROR(G197*(1-Оглавление!$D$28),\"по запросу\")","v":5773.0385826312031},57.592164631197157,"шт",null,0,0]
[null,"IVZIV063F","Донный клапан ПВХ FKM 40 IPS",10,"Арматура","RUB",{"$f":"IFERROR(I198*Оглавление!$E$23,\"по запросу\")","v":7935.0330720060938},{"$f":"IFERROR(G198*(1-Оглавление!$D$28),\"по запросу\")","v":7935.0330720060938},79.160345889925125,"шт",null,0,0]
[null,"IVZIV075F","Донный клапан ПВХ FKM 50 IPS",10,"Арматура","RUB",{"$f":"IFERROR(I199*Оглавление!$E$23,\"по запросу\")","v":14373.688097516228},{"$f":"IFERROR(G199*(1-Оглавление!$D$28),\"по запросу\")","v":14373.688097516228},143.39273840299509,"шт",null,0,0]
[null,"IVZIV090F","Донный клапан ПВХ FKM 63 IPS",10,"Арматура","RUB",{"$f":"IFERROR(I200*Оглавление!$E$23,\"по запросу\")","v":18183.86093143982},{"$f":"IFERROR(G200*(1-Оглавление!$D$28),\"по запросу\")","v":18183.86093143982},181.40324153471488,"шт",null,0,0]
[null,"IRVUIT020E","Фильтр сетчатый ПВХ муфтовый прозрачный 20 (DN15) EPDM IPS",10,"Арматура","RUB",{"$f":"IFERROR(I201*Оглавление!$E$23,\"по запросу\")","v":1851.7117073838629},{"$f":"IFERROR(G201*(1-Оглавление!$D$28),\"по запросу\")","v":1851.7117073838629},18.472782396088018,"шт",null,0,0]
[null,"IRVUIT040E","Фильтр сетчатый ПВХ муфтовый прозрачный 25 (DN20) EPDM IPS",10,"Арматура","RUB",{"$f":"IFERROR(I202*Оглавление!$E$23,\"по запросу\")","v":2296.12251715599},{"$f":"IFERROR(G202*(1-Оглавление!$D$28),\"по запросу\")","v":2296.12251715599},22.906250171149143,"шт",null,0,0]
[null,"IRVUIT025E","Фильтр сетчатый ПВХ муфтовый прозрачный 32 (DN25) EPDM IPS",10,"Арматура","RUB",{"$f":"IFERROR(I203*Оглавление!$E$23,\"по запросу\")","v":2962.7387318141805},{"$f":"IFERROR(G203*(1-Оглавление!$D$28),\"по запросу\")","v":2962.7387318141805},29.55645183374083,"шт",null,0,0]
[null,"IRVUIT032E","Фильтр сетчатый ПВХ муфтовый прозрачный 40 (DN32) EPDM IPS",10,"Арматура","RUB",{"$f":"IFERROR(I204*Оглавление!$E$23,\"по запросу\")","v":4221.9026928352077},{"$f":"IFERROR(G204*(1-Оглавление!$D$28),\"по запросу\")","v":4221.9026928352077},42.117943863080683,"шт",null,0,0]
[null,"IRVUIT050E","Фильтр сетчатый ПВХ муфтовый прозрачный 50 (DN40) EPDM IPS",10,"Арматура","RUB",{"$f":"IFERROR(I205*Оглавление!$E$23,\"по запросу\")","v":5851.4089953330058},{"$f":"IFERROR(G205*(1-Оглавление!$D$28),\"по запросу\")","v":5851.4089953330058},58.373992371638131,"шт",null,0,0]
[null,"IRVUIT063E","Фильтр сетчатый ПВХ муфтовый прозрачный 63 (DN50) EPDM IPS",10,"Арматура","RUB",{"$f":"IFERROR(I206*Оглавление!$E$23,\"по запросу\")","v":7777.1891710122245},{"$f":"IFERROR(G206*(1-Оглавление!$D$28),\"по запросу\")","v":7777.1891710122245},77.585686063569682,"шт",null,0,0]
[null,"IRVUIT075E","Фильтр сетчатый ПВХ муфтовый прозрачный 75 (DN65) EPDM IPS",10,"Арматура","RUB",{"$f":"IFERROR(I207*Оглавление!$E$23,\"по запросу\")","v":16295.063024977993},{"$f":"IFERROR(G207*(1-Оглавление!$D$28),\"по запросу\")","v":16295.063024977993},162.56048508557456,"шт",null,0,0]
[null,"IRVUIT090E","Фильтр сетчатый ПВХ муфтовый прозрачный 90 (DN80) EPDM IPS",10,"Арматура","RUB",{"$f":"IFERROR(I208*Оглавление!$E$23,\"по запросу\")","v":20294.760312927137},{"$f":"IFERROR(G208*(1-Оглавление!$D$28),\"по запросу\")","v":20294.760312927137},202.46169506112469,"шт",null,0,0]
[null,"IRVUIT0110E","Фильтр сетчатый ПВХ муфтовый прозрачный 110 (DN100) EPDM IPS",10,"Арматура","RUB",{"$f":"IFERROR(I209*Оглавление!$E$23,\"по запросу\")","v":43478.190889373102},{"$f":"IFERROR(G209*(1-Оглавление!$D$28),\"по запросу\")","v":43478.190889373102},433.74093066014666,"шт",null,0,0]
[null,"IRVUIT020F","Фильтр сетчатый ПВХ муфтовый прозрачный 20 (DN15) FKM IPS",10,"Арматура","RUB",{"$f":"IFERROR(I210*Оглавление!$E$23,\"по запросу\")","v":"по запросу"},{"$f":"IFERROR(G210*(1-Оглавление!$D$28),\"по запросу\")","v":"по запросу"},{"$error":"#N/A"},"шт",null,"0 ₽","0 ₽"]
[null,"IRVUIT040F","Фильтр сетчатый ПВХ муфтовый прозрачный 25 (DN20) FKM IPS",10,"Арматура","RUB",{"$f":"IFERROR(I211*Оглавление!$E$23,\"по запросу\")","v":"по запросу"},{"$f":"IFERROR(G211*(1-Оглавление!$D$28),\"по запросу\")","v":"по запросу"},{"$error":"#N/A"},"шт",null,"0 ₽","0 ₽"]
[null,"IRVUIT025F","Фильтр сетчатый ПВХ муфтовый прозрачный 32 (DN25) FKM IPS",10,"Арматура","RUB",{"$f":"IFERROR(I212*Оглавление!$E$23,\"по запросу\")","v":"по запросу"},{"$f":"IFERROR(G212*(1-Оглавление!$D$28),\"по запросу\")","v":"по запросу"},{"$error":"#N/A"},"шт",null,"0 ₽","0 ₽"]
[null,"IRVUIT032F","Фильтр сетчатый ПВХ муфтовый прозрачный 40 (DN32) FKM IPS",10,"Арматура","RUB",{"$f":"IFERROR(I213*Оглавление!$E$23,\"по запросу\")","v":"по запросу"},{"$f":"IFERROR(G213*(1-Оглавление!$D$28),\"по запросу\")","v":"по запросу"},{"$error":"#N/A"},"шт",null,"0 ₽","0 ₽"]
[null,"IRVUIT050F","Фильтр сетчатый ПВХ муфтовый прозрачный 50 (DN40) FKM IPS",10,"Арматура","RUB",{"$f":"IFERROR(I214*Оглавление!$E$23,\"по запросу\")","v":"по запросу"},{"$f":"IFERROR(G214*(1-Оглавление!$D$28),\"по запросу\")","v":"по запросу"},{"$error":"#N/A"},"шт",null,"0 ₽","0 ₽"]
[null,"IRVUIT063F","Фильтр сетчатый ПВХ муфтовый прозрачный 63 (DN50) FKM IPS",10,"Арматура","RUB",{"$f":"IFERROR(I215*Оглавление!$E$23,\"по запросу\")","v":"по запросу"},{"$f":"IFERROR(G215*(1-Оглавление!$D$28),\"по запросу\")","v":"по запросу"},{"$error":"#N/A"},"шт",null,"0 ₽","0 ₽"]
[null,"IRVUIT075F","Фильтр сетчатый ПВХ муфтовый прозрачный 75 (DN65) FKM IPS",10,"Арматура","RUB",{"$f":"IFERROR(I216*Оглавление!$E$23,\"по запросу\")","v":"по запросу"},{"$f":"IFERROR(G216*(1-Оглавление!$D$28),\"по запросу\")","v":"по запросу"},{"$error":"#N/A"},"шт",null,"0 ₽","0 ₽"]
[null,"IRVUIT090F","Фильтр сетчатый ПВХ муфтовый прозрачный 90 (DN80) FKM IPS",10,"Арматура","RUB",{"$f":"IFERROR(I217*Оглавление!$E$23,\"по запросу\")","v":"по запросу"},{"$f":"IFERROR(G217*(1-Оглавление!$D$28),\"по запросу\")","v":"по запросу"},{"$error":"#N/A"},"шт",null,"0 ₽","0 ₽"]
[null,"IRVUIT0110F","Фильтр сетчатый ПВХ муфтовый прозрачный 110 (DN100) FKM IPS",10,"Арматура","RUB",{"$f":"IFERROR(I218*Оглавление!$E$23,\"по запросу\")","v":"по запросу"},{"$f":"IFERROR(G218*(1-Оглавление!$D$28),\"по запросу\")","v":"по запросу"},{"$error":"#N/A"},"шт",null,"0 ₽","0 ₽"]
[null,"IDKUIV020E","Мембранный клапан ПВХ с разборными муфтовыми окончаниями EPDM 20 IPS",10,"Арматура","RUB",{"$f":"IFERROR(I219*Оглавление!$E$23,\"по запросу\")","v":2962.7387318141805},{"$f":"IFERROR(G219*(1-Оглавление!$D$28),\"по запросу\")","v":2962.7387318141805},29.55645183374083,"шт",null,0,0]
[null,"IDKUIV025E","Мембранный клапан ПВХ с разборными муфтовыми окончаниями EPDM 25 IPS",10,"Арматура","RUB",{"$f":"IFERROR(I220*Оглавление!$E$23,\"по запросу\")","v":3259.0126049955993},{"$f":"IFERROR(G220*(1-Оглавление!$D$28),\"по запросу\")","v":3259.0126049955993},32.512097017114918,"шт",null,0,0]
[null,"IDKUIV032E","Мембранный клапан ПВХ с разборными муфтовыми окончаниями EPDM 32 IPS",10,"Арматура","RUB",{"$f":"IFERROR(I221*Оглавление!$E$23,\"по запросу\")","v":4962.5873757887521},{"$f":"IFERROR(G221*(1-Оглавление!$D$28),\"по запросу\")","v":4962.5873757887521},49.507056821515889,"шт",null,0,0]
[null,"IDKUIV040E","Мембранный клапан ПВХ с разборными муфтовыми окончаниями EPDM 40 IPS",10,"Арматура","RUB",{"$f":"IFERROR(I222*Оглавление!$E$23,\"по запросу\")","v":6073.6144002190704},{"$f":"IFERROR(G222*(1-Оглавление!$D$28),\"по запросу\")","v":6073.6144002190704},60.590726259168704,"шт",null,0,0]
[null,"IDKUIV050E","Мембранный клапан ПВХ с разборными муфтовыми окончаниями EPDM 50 IPS",10,"Арматура","RUB",{"$f":"IFERROR(I223*Оглавление!$E$23,\"по запросу\")","v":9406.6954735100244},{"$f":"IFERROR(G223*(1-Оглавление!$D$28),\"по запросу\")","v":9406.6954735100244},93.841734572127137,"шт",null,0,0]
[null,"IDKUIV063E","Мембранный клапан ПВХ с разборными муфтовыми окончаниями EPDM 63 IPS",10,"Арматура","RUB",{"$f":"IFERROR(I224*Оглавление!$E$23,\"по запросу\")","v":9999.2432198728602},{"$f":"IFERROR(G224*(1-Оглавление!$D$28),\"по запросу\")","v":9999.2432198728602},99.753024938875299,"шт",null,0,0]
[null,"IDKUIV075E","Мембранный клапан ПВХ с разборными муфтовыми окончаниями EPDM 75 IPS",10,"Арматура","RUB",{"$f":"IFERROR(I225*Оглавление!$E$23,\"по запросу\")","v":22739.019766673839},{"$f":"IFERROR(G225*(1-Оглавление!$D$28),\"по запросу\")","v":22739.019766673839},226.8457678239609,"шт",null,0,0]
[null,"IDKUIV090E","Мембранный клапан ПВХ с разборными муфтовыми окончаниями EPDM 90 IPS",10,"Арматура","RUB",{"$f":"IFERROR(I226*Оглавление!$E$23,\"по запросу\")","v":29257.044976665031},{"$f":"IFERROR(G226*(1-Оглавление!$D$28),\"по запросу\")","v":29257.044976665031},291.86996185819066,"шт",null,0,0]
[null,"IDKUIV110E","Мембранный клапан ПВХ с разборными муфтовыми окончаниями EPDM 110 IPS",10,"Арматура","RUB",{"$f":"IFERROR(I227*Оглавление!$E$23,\"по запросу\")","v":44737.35485039412},{"$f":"IFERROR(G227*(1-Оглавление!$D$28),\"по запросу\")","v":44737.35485039412},446.30242268948649,"шт",null,0,0]
[null,"IDKUIV020F","Мембранный клапан ПВХ с разборными муфтовыми окончаниями FKM 20 IPS",10,"Арматура","RUB",{"$f":"IFERROR(I228*Оглавление!$E$23,\"по запросу\")","v":4444.1080977212696},{"$f":"IFERROR(G228*(1-Оглавление!$D$28),\"по запросу\")","v":4444.1080977212696},44.334677750611235,"шт",null,0,0]
[null,"IDKUIV025F","Мембранный клапан ПВХ с разборными муфтовыми окончаниями FKM 25 IPS",10,"Арматура","RUB",{"$f":"IFERROR(I229*Оглавление!$E$23,\"по запросу\")","v":4707.4626516603103},{"$f":"IFERROR(G229*(1-Оглавление!$D$28),\"по запросу\")","v":4707.4626516603103},46.961917913610442,"шт",null,0,0]
[null,"IDKUIV032F","Мембранный клапан ПВХ с разборными муфтовыми окончаниями FKM 32 IPS",10,"Арматура","RUB",{"$f":"IFERROR(I230*Оглавление!$E$23,\"по запросу\")","v":7071.6870104989721},{"$f":"IFERROR(G230*(1-Оглавление!$D$28),\"по запросу\")","v":7071.6870104989721},70.547555970660142,"шт",null,0,0]
[null,"IDKUIV040F","Мембранный клапан ПВХ с разборными муфтовыми окончаниями FKM 40 IPS",10,"Арматура","RUB",{"$f":"IFERROR(I231*Оглавление!$E$23,\"по запросу\")","v":8552.6406860227726},{"$f":"IFERROR(G231*(1-Оглавление!$D$28),\"по запросу\")","v":8552.6406860227726},85.32163493638042,"шт",null,0,0]
[null,"IDKUIV050F","Мембранный клапан ПВХ с разборными муфтовыми окончаниями FKM 50 IPS",10,"Арматура","RUB",{"$f":"IFERROR(I232*Оглавление!$E$23,\"по запросу\")","v":12094.322751655745},{"$f":"IFERROR(G232*(1-Оглавление!$D$28),\"по запросу\")","v":12094.322751655745},120.65365873559205,"шт",null,0,0]
[null,"IDKUIV063F","Мембранный клапан ПВХ с разборными муфтовыми окончаниями FKM 63 IPS",10,"Арматура","RUB",{"$f":"IFERROR(I233*Оглавление!$E$23,\"по запросу\")","v":13373.987806579951},{"$f":"IFERROR(G233*(1-Оглавление!$D$28),\"по запросу\")","v":13373.987806579951},133.41967085574572,"шт",null,0,0]
[null,"IDKUIV075F","Мембранный клапан ПВХ с разборными муфтовыми окончаниями FKM 75 IPS",10,"Арматура","RUB",{"$f":"IFERROR(I234*Оглавление!$E$23,\"по запросу\")","v":27655.564581089806},{"$f":"IFERROR(G234*(1-Оглавление!$D$28),\"по запросу\")","v":27655.564581089806},275.89350140752003,"шт",null,0,0]
[null,"IDKUIV090F","Мембранный клапан ПВХ с разборными муфтовыми окончаниями FKM 90 IPS",10,"Арматура","RUB",{"$f":"IFERROR(I235*Оглавление!$E$23,\"по запросу\")","v":34420.052913723564},{"$f":"IFERROR(G235*(1-Оглавление!$D$28),\"по запросу\")","v":34420.052913723564},343.37642571551845,"шт",null,0,0]
[null,"IDKUIV110F","Мембранный клапан ПВХ с разборными муфтовыми окончаниями FKM 110 IPS",10,"Арматура","RUB",{"$f":"IFERROR(I236*Оглавление!$E$23,\"по запросу\")","v":58587.549639694211},{"$f":"IFERROR(G236*(1-Оглавление!$D$28),\"по запросу\")","v":58587.549639694211},584.4727617686973,"шт",null,0,0]
[null,"IDKUIV020P","Мембранный клапан ПВХ с разборными муфтовыми окончаниями PTFE 20 IPS",10,"Арматура","RUB",{"$f":"IFERROR(I237*Оглавление!$E$23,\"по запросу\")","v":4444.1080977212696},{"$f":"IFERROR(G237*(1-Оглавление!$D$28),\"по запросу\")","v":4444.1080977212696},44.334677750611235,"шт",null,{"$f":"IFERROR(K237*G237,\"0 ₽\")","v":0},{"$f":"IFERROR(K237*H237,\"0 ₽\")","v":0}]
[null,"IDKUIV025P","Мембранный клапан ПВХ с разборными муфтовыми окончаниями PTFE 25 IPS",10,"Арматура","RUB",{"$f":"IFERROR(I238*Оглавление!$E$23,\"по запросу\")","v":4707.4626516603103},{"$f":"IFERROR(G238*(1-Оглавление!$D$28),\"по запросу\")","v":4707.4626516603103},46.961917913610442,"шт",null,0,0]
[null,"IDKUIV032P","Мембранный клапан ПВХ с разборными муфтовыми окончаниями PTFE 32 IPS",10,"Арматура","RUB",{"$f":"IFERROR(I239*Оглавление!$E$23,\"по запросу\")","v":7071.6870104989721},{"$f":"IFERROR(G239*(1-Оглавление!$D$28),\"по запросу\")","v":7071.6870104989721},70.547555970660142,"шт",null,0,0]
[null,"IDKUIV040P","Мембранный клапан ПВХ с разборными муфтовыми окончаниями PTFE 40 IPS",10,"Арматура","RUB",{"$f":"IFERROR(I240*Оглавление!$E$23,\"по запросу\")","v":8552.6406860227726},{"$f":"IFERROR(G240*(1-Оглавление!$D$28),\"по запросу\")","v":8552.6406860227726},85.32163493638042,"шт",null,0,0]
[null,"IDKUIV050P","Мембранный клапан ПВХ с разборными муфтовыми окончаниями PTFE 50 IPS",10,"Арматура","RUB",{"$f":"IFERROR(I241*Оглавление!$E$23,\"по запросу\")","v":12094.322751655745},{"$f":"IFERROR(G241*(1-Оглавление!$D$28),\"по запросу\")","v":12094.322751655745},120.65365873559205,"шт",null,0,0]
[null,"IDKUIV063P","Мембранный клапан ПВХ с разборными муфтовыми окончаниями PTFE 63 IPS",10,"Арматура","RUB",{"$f":"IFERROR(I242*Оглавление!$E$23,\"по запросу\")","v":13373.987806579951},{"$f":"IFERROR(G242*(1-Оглавление!$D$28),\"по запросу\")","v":13373.987806579951},133.41967085574572,"шт",null,0,0]
[null,"IDKUIV075P","Мембранный клапан ПВХ с разборными муфтовыми окончаниями PTFE 75 IPS",10,"Арматура","RUB",{"$f":"IFERROR(I243*Оглавление!$E$23,\"по запросу\")","v":27655.564581089806},{"$f":"IFERROR(G243*(1-Оглавление!$D$28),\"по запросу\")","v":27655.564581089806},275.89350140752003,"шт",null,0,0]
[null,"IDKUIV090P","Мембранный клапан ПВХ с разборными муфтовыми окончаниями PTFE 90 IPS",10,"Арматура","RUB",{"$f":"IFERROR(I244*Оглавление!$E$23,\"по запросу\")","v":34420.052913723564},{"$f":"IFERROR(G244*(1-Оглавление!$D$28),\"по запросу\")","v":34420.052913723564},343.37642571551845,"шт",null,0,0]
[null,"IDKUIV110P","Мембранный клапан ПВХ с разборными муфтовыми окончаниями PTFE 110 IPS",10,"Арматура","RUB",{"$f":"IFERROR(I245*Оглавление!$E$23,\"по запросу\")","v":58587.549639694211},{"$f":"IFERROR(G245*(1-Оглавление!$D$28),\"по запросу\")","v":58587.549639694211},584.4727617686973,"шт",null,0,0]
[null,"IDKDV020E","Мембранный клапан ПВХ с втулочными окончаниями EPDM 20 IPS",10,"Арматура","RUB",{"$f":"IFERROR(I246*Оглавление!$E$23,\"по запросу\")","v":2704.0996479287815},{"$f":"IFERROR(G246*(1-Оглавление!$D$28),\"по запросу\")","v":2704.0996479287815},26.97625347095752,"шт",null,0,0]
[null,"IDKDV025E","Мембранный клапан ПВХ с втулочными окончаниями EPDM 25 IPS",10,"Арматура","RUB",{"$f":"IFERROR(I247*Оглавление!$E$23,\"по запросу\")","v":2949.9268886495797},{"$f":"IFERROR(G247*(1-Оглавление!$D$28),\"по запросу\")","v":2949.9268886495797},29.428640150135472,"шт",null,0,0]
[null,"IDKDV032E","Мембранный клапан ПВХ с втулочными окончаниями EPDM 32 IPS",10,"Арматура","RUB",{"$f":"IFERROR(I248*Оглавление!$E$23,\"по запросу\")","v":4793.631194055567},{"$f":"IFERROR(G248*(1-Оглавление!$D$28),\"по запросу\")","v":4793.631194055567},47.821540243970148,"шт",null,0,0]
[null,"IDKDV040E","Мембранный клапан ПВХ с втулочными окончаниями EPDM 40 IPS",10,"Арматура","RUB",{"$f":"IFERROR(I249*Оглавление!$E$23,\"по запросу\")","v":5776.9401569387601},{"$f":"IFERROR(G249*(1-Оглавление!$D$28),\"по запросу\")","v":5776.9401569387601},57.631086960681969,"шт",null,0,0]
[null,"IDKDV050E","Мембранный клапан ПВХ с втулочными окончаниями EPDM 50 IPS",10,"Арматура","RUB",{"$f":"IFERROR(I250*Оглавление!$E$23,\"по запросу\")","v":8235.2125641467446},{"$f":"IFERROR(G250*(1-Оглавление!$D$28),\"по запросу\")","v":8235.2125641467446},82.154953752461537,"шт",null,0,0]
[null,"IDKDV063E","Мембранный клапан ПВХ с втулочными окончаниями EPDM 63 IPS",10,"Арматура","RUB",{"$f":"IFERROR(I251*Оглавление!$E$23,\"по запросу\")","v":9710.1760084715334},{"$f":"IFERROR(G251*(1-Оглавление!$D$28),\"по запросу\")","v":9710.1760084715334},96.86927382752927,"шт",null,0,0]
[null,"IDKDV075E","Мембранный клапан ПВХ с втулочными окончаниями EPDM 75 IPS",10,"Арматура","RUB",{"$f":"IFERROR(I252*Оглавление!$E$23,\"по запросу\")","v":21141.142701988654},{"$f":"IFERROR(G252*(1-Оглавление!$D$28),\"по запросу\")","v":21141.142701988654},210.90525440930423,"шт",null,0,0]
[null,"IDKDV090E","Мембранный клапан ПВХ с втулочными окончаниями EPDM 90 IPS",10,"Арматура","RUB",{"$f":"IFERROR(I253*Оглавление!$E$23,\"по запросу\")","v":28273.614893415794},{"$f":"IFERROR(G253*(1-Оглавление!$D$28),\"по запросу\")","v":28273.614893415794},282.05920683774735,"шт",null,0,0]
[null,"IDKDV110E","Мембранный клапан ПВХ с втулочными окончаниями EPDM 110 IPS",10,"Арматура","RUB",{"$f":"IFERROR(I254*Оглавление!$E$23,\"по запросу\")","v":42653.697227225086},{"$f":"IFERROR(G254*(1-Оглавление!$D$28),\"по запросу\")","v":42653.697227225086},425.51573450942828,"шт",null,0,0]
[null,"IDKDV020F","Мембранный клапан ПВХ с втулочными окончаниями FKM 20 IPS",10,"Арматура","RUB",{"$f":"IFERROR(I255*Оглавление!$E$23,\"по запросу\")","v":4179.0630922535711},{"$f":"IFERROR(G255*(1-Оглавление!$D$28),\"по запросу\")","v":4179.0630922535711},41.690573546025256,"шт",null,0,0]
[null,"IDKDV025F","Мембранный клапан ПВХ с втулочными окончаниями FKM 25 IPS",10,"Арматура","RUB",{"$f":"IFERROR(I256*Оглавление!$E$23,\"по запросу\")","v":4670.7175736951676},{"$f":"IFERROR(G256*(1-Оглавление!$D$28),\"по запросу\")","v":4670.7175736951676},46.595346904381159,"шт",null,{"$f":"IFERROR(K256*G256,\"0 ₽\")","v":0},{"$f":"IFERROR(K256*H256,\"0 ₽\")","v":0}]
[null,"IDKDV032F","Мембранный клапан ПВХ с втулочными окончаниями FKM 32 IPS",10,"Арматура","RUB",{"$f":"IFERROR(I257*Оглавление!$E$23,\"по запросу\")","v":6760.2491198219532},{"$f":"IFERROR(G257*(1-Оглавление!$D$28),\"по запросу\")","v":6760.2491198219532},67.440633677393791,"шт",null,0,0]
[null,"IDKDV040F","Мембранный клапан ПВХ с втулочными окончаниями FKM 40 IPS",10,"Арматура","RUB",{"$f":"IFERROR(I258*Оглавление!$E$23,\"по запросу\")","v":8235.2125641467446},{"$f":"IFERROR(G258*(1-Оглавление!$D$28),\"по запросу\")","v":8235.2125641467446},82.154953752461537,"шт",null,0,0]
[null,"IDKDV050F","Мембранный клапан ПВХ с втулочными окончаниями FKM 50 IPS",10,"Арматура","RUB",{"$f":"IFERROR(I259*Оглавление!$E$23,\"по запросу\")","v":10693.484971354725},{"$f":"IFERROR(G259*(1-Оглавление!$D$28),\"по запросу\")","v":10693.484971354725},106.67882054424108,"шт",null,0,0]
[null,"IDKDV063F","Мембранный клапан ПВХ с втулочными окончаниями FKM 63 IPS",10,"Арматура","RUB",{"$f":"IFERROR(I260*Оглавление!$E$23,\"по запросу\")","v":13028.843758202311},{"$f":"IFERROR(G260*(1-Оглавление!$D$28),\"по запросу\")","v":13028.843758202311},129.97649399643169,"шт",null,0,0]
[null,"IDKDV075F","Мембранный клапан ПВХ с втулочными окончаниями FKM 75 IPS",10,"Арматура","RUB",{"$f":"IFERROR(I261*Оглавление!$E$23,\"по запросу\")","v":26180.601136765021},{"$f":"IFERROR(G261*(1-Оглавление!$D$28),\"по запросу\")","v":26180.601136765021},261.17918133245234,"шт",null,0,0]
[null,"IDKDV090F","Мембранный клапан ПВХ с втулочными окончаниями FKM 90 IPS",10,"Арматура","RUB",{"$f":"IFERROR(I262*Оглавление!$E$23,\"по запросу\")","v":33555.418358388975},{"$f":"IFERROR(G262*(1-Оглавление!$D$28),\"по запросу\")","v":33555.418358388975},334.75078170779108,"шт",null,0,0]
[null,"IDKDV110F","Мембранный клапан ПВХ с втулочными окончаниями FKM 110 IPS",10,"Арматура","RUB",{"$f":"IFERROR(I263*Оглавление!$E$23,\"по запросу\")","v":56663.178986144019},{"$f":"IFERROR(G263*(1-Оглавление!$D$28),\"по запросу\")","v":56663.178986144019},565.27512955051895,"шт",null,0,0]
[null,"IDKDV020P","Мембранный клапан ПВХ с втулочными окончаниями PTFE 20 IPS",10,"Арматура","RUB",{"$f":"IFERROR(I264*Оглавление!$E$23,\"по запросу\")","v":4179.0630922535711},{"$f":"IFERROR(G264*(1-Оглавление!$D$28),\"по запросу\")","v":4179.0630922535711},41.690573546025256,"шт",null,0,0]
[null,"IDKDV025P","Мембранный клапан ПВХ с втулочными окончаниями PTFE 25 IPS",10,"Арматура","RUB",{"$f":"IFERROR(I265*Оглавление!$E$23,\"по запросу\")","v":4670.7175736951676},{"$f":"IFERROR(G265*(1-Оглавление!$D$28),\"по запросу\")","v":4670.7175736951676},46.595346904381159,"шт",null,{"$f":"IFERROR(K265*G265,\"0 ₽\")","v":0},{"$f":"IFERROR(K265*H265,\"0 ₽\")","v":0}]
[null,"IDKDV032P","Мембранный клапан ПВХ с втулочными окончаниями PTFE 32 IPS",10,"Арматура","RUB",{"$f":"IFERROR(I266*Оглавление!$E$23,\"по запросу\")","v":6760.2491198219532},{"$f":"IFERROR(G266*(1-Оглавление!$D$28),\"по запросу\")","v":6760.2491198219532},67.440633677393791,"шт",null,0,0]
[null,"IDKDV040P","Мембранный клапан ПВХ с втулочными окончаниями PTFE 40 IPS",10,"Арматура","RUB",{"$f":"IFERROR(I267*Оглавление!$E$23,\"по запросу\")","v":8235.2125641467446},{"$f":"IFERROR(G267*(1-Оглавление!$D$28),\"по запросу\")","v":8235.2125641467446},82.154953752461537,"шт",null,0,0]
[null,"IDKDV050P","Мембранный клапан ПВХ с втулочными окончаниями PTFE 50 IPS",10,"Арматура","RUB",{"$f":"IFERROR(I268*Оглавление!$E$23,\"по запросу\")","v":10693.484971354725},{"$f":"IFERROR(G268*(1-Оглавление!$D$28),\"по запросу\")","v":10693.484971354725},106.67882054424108,"шт",null,0,0]
[null,"IDKDV063P","Мембранный клапан ПВХ с втулочными окончаниями PTFE 63 IPS",10,"Арматура","RUB",{"$f":"IFERROR(I269*Оглавление!$E$23,\"по запросу\")","v":13028.843758202311},{"$f":"IFERROR(G269*(1-Оглавление!$D$28),\"по запросу\")","v":13028.843758202311},129.97649399643169,"шт",null,0,0]
[null,"IDKDV075P","Мембранный клапан ПВХ с втулочными окончаниями PTFE 75 IPS",10,"Арматура","RUB",{"$f":"IFERROR(I270*Оглавление!$E$23,\"по запросу\")","v":26180.601136765021},{"$f":"IFERROR(G270*(1-Оглавление!$D$28),\"по запросу\")","v":26180.601136765021},261.17918133245234,"шт",null,0,0]
[null,"IDKDV090P","Мембранный клапан ПВХ с втулочными окончаниями PTFE 90 IPS",10,"Арматура","RUB",{"$f":"IFERROR(I271*Оглавление!$E$23,\"по запросу\")","v":33555.418358388975},{"$f":"IFERROR(G271*(1-Оглавление!$D$28),\"по запросу\")","v":33555.418358388975},334.75078170779108,"шт",null,0,0]
[null,"IDKDV110P","Мембранный клапан ПВХ с втулочными окончаниями PTFE 110 IPS",10,"Арматура","RUB",{"$f":"IFERROR(I272*Оглавление!$E$23,\"по запросу\")","v":56663.178986144019},{"$f":"IFERROR(G272*(1-Оглавление!$D$28),\"по запросу\")","v":56663.178986144019},565.27512955051895,"шт",null,0,0]
[null,"IDKOV020E","Мембранный клапан ПВХ с фланцевыми окончаниями EPDM 20 IPS",10,"Арматура","RUB",{"$f":"IFERROR(I273*Оглавление!$E$23,\"по запросу\")","v":3441.5813700911767},{"$f":"IFERROR(G273*(1-Оглавление!$D$28),\"по запросу\")","v":3441.5813700911767},34.33341350849139,"шт",null,0,0]
[null,"IDKOV025E","Мембранный клапан ПВХ с фланцевыми окончаниями EPDM 25 IPS",10,"Арматура","RUB",{"$f":"IFERROR(I274*Оглавление!$E$23,\"по запросу\")","v":4179.0630922535711},{"$f":"IFERROR(G274*(1-Оглавление!$D$28),\"по запросу\")","v":4179.0630922535711},41.690573546025256,"шт",null,0,0]
[null,"IDKOV032E","Мембранный клапан ПВХ с фланцевыми окончаниями EPDM 32 IPS",10,"Арматура","RUB",{"$f":"IFERROR(I275*Оглавление!$E$23,\"по запросу\")","v":6145.6810180199582},{"$f":"IFERROR(G275*(1-Оглавление!$D$28),\"по запросу\")","v":6145.6810180199582},61.309666979448906,"шт",null,0,0]
[null,"IDKOV040E","Мембранный клапан ПВХ с фланцевыми окончаниями EPDM 40 IPS",10,"Арматура","RUB",{"$f":"IFERROR(I276*Оглавление!$E$23,\"по запросу\")","v":8235.2125641467446},{"$f":"IFERROR(G276*(1-Оглавление!$D$28),\"по запросу\")","v":8235.2125641467446},82.154953752461537,"шт",null,0,0]
[null,"IDKOV050E","Мембранный клапан ПВХ с фланцевыми окончаниями EPDM 50 IPS",10,"Арматура","RUB",{"$f":"IFERROR(I277*Оглавление!$E$23,\"по запросу\")","v":11308.053073156723},{"$f":"IFERROR(G277*(1-Оглавление!$D$28),\"по запросу\")","v":11308.053073156723},112.80978724218599,"шт",null,0,0]
[null,"IDKOV063E","Мембранный клапан ПВХ с фланцевыми окончаниями EPDM 63 IPS",10,"Арматура","RUB",{"$f":"IFERROR(I278*Оглавление!$E$23,\"по запросу\")","v":13520.498239643906},{"$f":"IFERROR(G278*(1-Оглавление!$D$28),\"по запросу\")","v":13520.498239643906},134.88126735478758,"шт",null,0,0]
[null,"IDKOV075E","Мембранный клапан ПВХ с фланцевыми окончаниями EPDM 75 IPS",10,"Арматура","RUB",{"$f":"IFERROR(I279*Оглавление!$E$23,\"по запросу\")","v":23476.501488836242},{"$f":"IFERROR(G279*(1-Оглавление!$D$28),\"по запросу\")","v":23476.501488836242},234.20292786149486,"шт",null,0,0]
[null,"IDKOV090E","Мембранный клапан ПВХ с фланцевыми окончаниями EPDM 90 IPS",10,"Арматура","RUB",{"$f":"IFERROR(I280*Оглавление!$E$23,\"по запросу\")","v":33313.694070068173},{"$f":"IFERROR(G280*(1-Оглавление!$D$28),\"по запросу\")","v":33313.694070068173},332.33932631751969,"шт",null,0,0]
[null,"IDKOV110E","Мембранный клапан ПВХ с фланцевыми окончаниями EPDM 110 IPS",10,"Арматура","RUB",{"$f":"IFERROR(I281*Оглавление!$E$23,\"по запросу\")","v":48169.261523849025},{"$f":"IFERROR(G281*(1-Оглавление!$D$28),\"по запросу\")","v":48169.261523849025},480.53932086840609,"шт",null,0,0]
[null,"IDKOV020F","Мембранный клапан ПВХ с фланцевыми окончаниями FKM 20 IPS",10,"Арматура","RUB",{"$f":"IFERROR(I282*Оглавление!$E$23,\"по запросу\")","v":4916.5448144159664},{"$f":"IFERROR(G282*(1-Оглавление!$D$28),\"по запросу\")","v":4916.5448144159664},49.047733583559122,"шт",null,0,0]
[null,"IDKOV025F","Мембранный клапан ПВХ с фланцевыми окончаниями FKM 25 IPS",10,"Арматура","RUB",{"$f":"IFERROR(I283*Оглавление!$E$23,\"по запросу\")","v":5531.1129162179623},{"$f":"IFERROR(G283*(1-Оглавление!$D$28),\"по запросу\")","v":5531.1129162179623},55.178700281504014,"шт",null,0,0]
[null,"IDKOV032F","Мембранный клапан ПВХ с фланцевыми окончаниями FKM 32 IPS",10,"Арматура","RUB",{"$f":"IFERROR(I284*Оглавление!$E$23,\"по запросу\")","v":8112.2989437863453},{"$f":"IFERROR(G284*(1-Оглавление!$D$28),\"по запросу\")","v":8112.2989437863453},80.928760412872563,"шт",null,0,0]
[null,"IDKOV040F","Мембранный клапан ПВХ с фланцевыми окончаниями FKM 40 IPS",10,"Арматура","RUB",{"$f":"IFERROR(I285*Оглавление!$E$23,\"по запросу\")","v":10693.484971354725},{"$f":"IFERROR(G285*(1-Оглавление!$D$28),\"по запросу\")","v":10693.484971354725},106.67882054424108,"шт",null,0,0]
[null,"IDKOV050F","Мембранный клапан ПВХ с фланцевыми окончаниями FKM 50 IPS",10,"Арматура","RUB",{"$f":"IFERROR(I286*Оглавление!$E$23,\"по запросу\")","v":13889.239100725106},{"$f":"IFERROR(G286*(1-Оглавление!$D$28),\"по запросу\")","v":13889.239100725106},138.55984737355453,"шт",null,0,0]
[null,"IDKOV063F","Мембранный клапан ПВХ с фланцевыми окончаниями FKM 63 IPS",10,"Арматура","RUB",{"$f":"IFERROR(I287*Оглавление!$E$23,\"по запросу\")","v":16839.165989374687},{"$f":"IFERROR(G287*(1-Оглавление!$D$28),\"по запросу\")","v":16839.165989374687},167.98848752369003,"шт",null,0,0]
[null,"IDKOV075F","Мембранный клапан ПВХ с фланцевыми окончаниями FKM 75 IPS",10,"Арматура","RUB",{"$f":"IFERROR(I288*Оглавление!$E$23,\"по запросу\")","v":28393.046303252206},{"$f":"IFERROR(G288*(1-Оглавление!$D$28),\"по запросу\")","v":28393.046303252206},283.25066144505394,"шт",null,0,0]
[null,"IDKOV090F","Мембранный клапан ПВХ с фланцевыми окончаниями FKM 90 IPS",10,"Арматура","RUB",{"$f":"IFERROR(I289*Оглавление!$E$23,\"по запросу\")","v":39086.531274606932},{"$f":"IFERROR(G289*(1-Оглавление!$D$28),\"по запросу\")","v":39086.531274606932},389.92948198929503,"шт",null,0,0]
[null,"IDKOV110F","Мембранный клапан ПВХ с фланцевыми окончаниями FKM 110 IPS",10,"Арматура","RUB",{"$f":"IFERROR(I290*Оглавление!$E$23,\"по запросу\")","v":62317.205522722368},{"$f":"IFERROR(G290*(1-Оглавление!$D$28),\"по запросу\")","v":62317.205522722368},621.68002317161188,"шт",null,0,0]
[null,"IDKOV020P","Мембранный клапан ПВХ с фланцевыми окончаниями PTFE 20 IPS",10,"Арматура","RUB",{"$f":"IFERROR(I291*Оглавление!$E$23,\"по запросу\")","v":4916.5448144159664},{"$f":"IFERROR(G291*(1-Оглавление!$D$28),\"по запросу\")","v":4916.5448144159664},49.047733583559122,"шт",null,{"$f":"IFERROR(K291*G291,\"0 ₽\")","v":0},{"$f":"IFERROR(K291*H291,\"0 ₽\")","v":0}]
[null,"IDKOV025P","Мембранный клапан ПВХ с фланцевыми окончаниями PTFE 25 IPS",10,"Арматура","RUB",{"$f":"IFERROR(I292*Оглавление!$E$23,\"по запросу\")","v":5531.1129162179623},{"$f":"IFERROR(G292*(1-Оглавление!$D$28),\"по запросу\")","v":5531.1129162179623},55.178700281504014,"шт",null,0,0]
[null,"IDKOV032P","Мембранный клапан ПВХ с фланцевыми окончаниями PTFE 32 IPS",10,"Арматура","RUB",{"$f":"IFERROR(I293*Оглавление!$E$23,\"по запросу\")","v":8112.2989437863453},{"$f":"IFERROR(G293*(1-Оглавление!$D$28),\"по запросу\")","v":8112.2989437863453},80.928760412872563,"шт",null,0,0]
[null,"IDKOV040P","Мембранный клапан ПВХ с фланцевыми окончаниями PTFE 40 IPS",10,"Арматура","RUB",{"$f":"IFERROR(I294*Оглавление!$E$23,\"по запросу\")","v":10693.484971354725},{"$f":"IFERROR(G294*(1-Оглавление!$D$28),\"по запросу\")","v":10693.484971354725},106.67882054424108,"шт",null,0,0]
[null,"IDKOV050P","Мембранный клапан ПВХ с фланцевыми окончаниями PTFE 50 IPS",10,"Арматура","RUB",{"$f":"IFERROR(I295*Оглавление!$E$23,\"по запросу\")","v":13889.239100725106},{"$f":"IFERROR(G295*(1-Оглавление!$D$28),\"по запросу\")","v":13889.239100725106},138.55984737355453,"шт",null,0,0]
[null,"IDKOV063P","Мембранный клапан ПВХ с фланцевыми окончаниями PTFE 63 IPS",10,"Арматура","RUB",{"$f":"IFERROR(I296*Оглавление!$E$23,\"по запросу\")","v":16839.165989374687},{"$f":"IFERROR(G296*(1-Оглавление!$D$28),\"по запросу\")","v":16839.165989374687},167.98848752369003,"шт",null,0,0]
[null,"IDKOV075P","Мембранный клапан ПВХ с фланцевыми окончаниями PTFE 75 IPS",10,"Арматура","RUB",{"$f":"IFERROR(I297*Оглавление!$E$23,\"по запросу\")","v":28393.046303252206},{"$f":"IFERROR(G297*(1-Оглавление!$D$28),\"по запросу\")","v":28393.046303252206},283.25066144505394,"шт",null,0,0]
[null,"IDKOV090P","Мембранный клапан ПВХ с фланцевыми окончаниями PTFE 90 IPS",10,"Арматура","RUB",{"$f":"IFERROR(I298*Оглавление!$E$23,\"по запросу\")","v":39086.531274606932},{"$f":"IFERROR(G298*(1-Оглавление!$D$28),\"по запросу\")","v":39086.531274606932},389.92948198929503,"шт",null,0,0]
[null,"IDKOV110P","Мембранный клапан ПВХ с фланцевыми окончаниями PTFE 110 IPS",10,"Арматура","RUB",{"$f":"IFERROR(I299*Оглавление!$E$23,\"по запросу\")","v":62317.205522722368},{"$f":"IFERROR(G299*(1-Оглавление!$D$28),\"по запросу\")","v":62317.205522722368},621.68002317161188,"шт",null,0,0]
[null,"IRRV020E","Клапан поддержания давления ПВХ 20 IPS",10,"Арматура","RUB",{"$f":"IFERROR(I300*Оглавление!$E$23,\"по запросу\")","v":8764.7687482836154},{"$f":"IFERROR(G300*(1-Оглавление!$D$28),\"по запросу\")","v":8764.7687482836154},87.437836674816594,"шт",null,0,0]
[null,"IRRV025E","Клапан поддержания давления ПВХ 25 IPS",10,"Арматура","RUB",{"$f":"IFERROR(I301*Оглавление!$E$23,\"по запросу\")","v":9173.5169622098347},{"$f":"IFERROR(G301*(1-Оглавление!$D$28),\"по запросу\")","v":9173.5169622098347},91.515532344471623,"шт",null,0,0]
[null,"IRRV032E","Клапан поддержания давления ПВХ 32 IPS",10,"Арматура","RUB",{"$f":"IFERROR(I302*Оглавление!$E$23,\"по запросу\")","v":14019.309336603228},{"$f":"IFERROR(G302*(1-Оглавление!$D$28),\"по запросу\")","v":14019.309336603228},139.85743552078242,"шт",null,0,0]
[null,"IRRV040E","Клапан поддержания давления ПВХ 40 IPS",10,"Арматура","RUB",{"$f":"IFERROR(I303*Оглавление!$E$23,\"по запросу\")","v":16361.573486304433},{"$f":"IFERROR(G303*(1-Оглавление!$D$28),\"по запросу\")","v":16361.573486304433},163.22399726959731,"шт",null,0,0]
[null,"IRRV050E","Клапан поддержания давления ПВХ 50 IPS",10,"Арматура","RUB",{"$f":"IFERROR(I304*Оглавление!$E$23,\"по запросу\")","v":45689.663728477259},{"$f":"IFERROR(G304*(1-Оглавление!$D$28),\"по запросу\")","v":45689.663728477259},455.80271077890325,"шт",null,0,0]
[null,"IRRV063E","Клапан поддержания давления ПВХ 63 IPS",10,"Арматура","RUB",{"$f":"IFERROR(I305*Оглавление!$E$23,\"по запросу\")","v":47246.424213899263},{"$f":"IFERROR(G305*(1-Оглавление!$D$28),\"по запросу\")","v":47246.424213899263},471.33304283618583,"шт",null,0,0]

{"sheet":"ПВХ PIMTAS","index":2,"n_rows":790,"n_cols":13,"rows_kept":790,"cut":false,"hidden":false,"merged":[[208,0,213,0],[80,0,88,0],[89,0,161,0],[162,0,170,0],[171,0,187,0],[188,0,207,0],[9,0,27,0],[28,0,36,0],[37,0,41,0],[42,0,60,0],[61,0,79,0],[214,0,222,0],[223,0,243,0],[244,0,252,0],[253,0,255,0],[256,0,305,0],[306,0,327,0],[328,0,340,0],[341,0,361,0],[362,0,382,0],[383,0,391,0],[484,0,489,0],[490,0,492,0],[392,0,400,0],[401,0,413,0],[414,0,425,0],[426,0,431,0],[452,0,471,0],[622,0,635,0],[576,0,585,0],[432,0,451,0],[636,0,649,0],[550,0,556,0],[557,0,565,0],[566,0,575,0],[586,0,603,0],[604,0,621,0],[493,0,502,0],[503,0,506,0],[507,0,515,0],[516,0,539,0],[540,0,549,0],[472,0,477,0],[478,0,483,0]]}
[null,null,null,null,null,null,null,null,null,{"$f":"COUNT(K10:K790)","v":0},"Товаров в заказе"]
[null,null,null,null,null,null,null,null,null,{"$f":"SUM(M10:M790)","v":0},"Сумма заказа со скидкой с НДС"]
[]
[]
[]
[]
[]
[]
["Фото","Код","Наименование","PN","Категория","Валюта\nпродажи","Цена\nПРОДАЖИ с НДС ","Цена с НДС\nсо скидкой","Цена\nEUR","Ед. измерения","Заказ (метры/штуки)","Сумма рубли","Сумма со скидкой"]
[null,500000202,"Отвод ПВХ 90° клеевой 20 PIMTAS",16,"Фитинги","RUB",{"$f":"IFERROR(I10*Оглавление!$E$23,\"по запросу\")","v":59.141599999999997},{"$f":"IFERROR(G10*(1-Оглавление!$D$29),\"по запросу\")","v":59.141599999999997},0.59,"шт",null,{"$f":"IFERROR(K10*G10,\"0 ₽\")","v":0},{"$f":"IFERROR(K10*H10,\"0 ₽\")","v":0}]
[null,500000252,"Отвод ПВХ 90° клеевой 25 PIMTAS",16,"Фитинги","RUB",{"$f":"IFERROR(I11*Оглавление!$E$23,\"по запросу\")","v":72.172799999999995},{"$f":"IFERROR(G11*(1-Оглавление!$D$29),\"по запросу\")","v":72.172799999999995},0.72,"шт",null,{"$f":"IFERROR(K11*G11,\"0 ₽\")","v":0},0]
[null,500000322,"Отвод ПВХ 90° клеевой 32 PIMTAS",16,"Фитинги","RUB",{"$f":"IFERROR(I12*Оглавление!$E$23,\"по запросу\")","v":108.25920000000001},{"$f":"IFERROR(G12*(1-Оглавление!$D$29),\"по запросу\")","v":108.25920000000001},1.08,"шт",null,0,0]
[null,500000402,"Отвод ПВХ 90° клеевой 40 PIMTAS",16,"Фитинги","RUB",{"$f":"IFERROR(I13*Оглавление!$E$23,\"по запросу\")","v":209.50159999999997},{"$f":"IFERROR(G13*(1-Оглавление!$D$29),\"по запросу\")","v":209.50159999999997},2.09,"шт",null,0,0]
[null,500000502,"Отвод ПВХ 90° клеевой 50 PIMTAS",16,"Фитинги","RUB",{"$f":"IFERROR(I14*Оглавление!$E$23,\"по запросу\")","v":212.50880000000001},{"$f":"IFERROR(G14*(1-Оглавление!$D$29),\"по запросу\")","v":212.50880000000001},2.12,"шт",null,0,0]
[null,500000632,"Отвод ПВХ 90° клеевой 63 PIMTAS",16,"Фитинги","RUB",{"$f":"IFERROR(I15*Оглавление!$E$23,\"по запросу\")","v":266.63839999999999},{"$f":"IFERROR(G15*(1-Оглавление!$D$29),\"по запросу\")","v":266.63839999999999},2.66,"шт",null,0,0]
[null,500000752,"Отвод ПВХ 90° клеевой 75 PIMTAS",16,"Фитинги","RUB",{"$f":"IFERROR(I16*Оглавление!$E$23,\"по запросу\")","v":509.2192},{"$f":"IFERROR(G16*(1-Оглавление!$D$29),\"по запросу\")","v":509.2192},5.08,"шт",null,0,0]
[null,500000902,"Отвод ПВХ 90° клеевой 90 PIMTAS",16,"Фитинги","RUB",{"$f":"IFERROR(I17*Оглавление!$E$23,\"по запросу\")","v":706.69199999999989},{"$f":"IFERROR(G17*(1-Оглавление!$D$29),\"по запросу\")","v":706.69199999999989},7.05,"шт",null,0,0]
[null,500001102,"Отвод ПВХ 90° клеевой 110 PIMTAS",16,"Фитинги","RUB",{"$f":"IFERROR(I18*Оглавление!$E$23,\"по запросу\")","v":1194.8607999999999},{"$f":"IFERROR(G18*(1-Оглавление!$D$29),\"по запросу\")","v":1194.8607999999999},11.92,"шт",null,0,0]
[null,500001252,"Отвод ПВХ 90° клеевой 125 PIMTAS",16,"Фитинги","RUB",{"$f":"IFERROR(I19*Оглавление!$E$23,\"по запросу\")","v":1865.4663999999998},{"$f":"IFERROR(G19*(1-Оглавление!$D$29),\"по запросу\")","v":1865.4663999999998},18.61,"шт",null,0,0]
[null,500001402,"Отвод ПВХ 90° клеевой 140 PIMTAS",16,"Фитинги","RUB",{"$f":"IFERROR(I20*Оглавление!$E$23,\"по запросу\")","v":2760.6095999999998},{"$f":"IFERROR(G20*(1-Оглавление!$D$29),\"по запросу\")","v":2760.6095999999998},27.54,"шт",null,0,0]
[null,500001602,"Отвод ПВХ 90° клеевой 160 PIMTAS",16,"Фитинги","RUB",{"$f":"IFERROR(I21*Оглавление!$E$23,\"по запросу\")","v":3572.5535999999997},{"$f":"IFERROR(G21*(1-Оглавление!$D$29),\"по запросу\")","v":3572.5535999999997},35.64,"шт",null,0,0]
[null,500002002,"Отвод ПВХ 90° клеевой 200 PIMTAS",16,"Фитинги","RUB",{"$f":"IFERROR(I22*Оглавление!$E$23,\"по запросу\")","v":8694.8175999999985},{"$f":"IFERROR(G22*(1-Оглавление!$D$29),\"по запросу\")","v":8694.8175999999985},86.74,"шт",null,0,0]
[null,500002252,"Отвод ПВХ 90° клеевой 225 PIMTAS",10,"Фитинги","RUB",{"$f":"IFERROR(I23*Оглавление!$E$23,\"по запросу\")","v":12663.3192},{"$f":"IFERROR(G23*(1-Оглавление!$D$29),\"по запросу\")","v":12663.3192},126.33,"шт",null,0,0]
[null,500002504,"Отвод ПВХ 90° клеевой 250 PIMTAS",10,"Фитинги","RUB",{"$f":"IFERROR(I24*Оглавление!$E$23,\"по запросу\")","v":31871.307999999997},{"$f":"IFERROR(G24*(1-Оглавление!$D$29),\"по запросу\")","v":31871.307999999997},317.95,"шт",null,0,0]
[null,500002804,"Отвод ПВХ 90° клеевой 280 PIMTAS",10,"Фитинги","RUB",{"$f":"IFERROR(I25*Оглавление!$E$23,\"по запросу\")","v":49798.229599999999},{"$f":"IFERROR(G25*(1-Оглавление!$D$29),\"по запросу\")","v":49798.229599999999},496.79,"шт",null,0,0]
[null,500003154,"Отвод ПВХ 90° клеевой 315 PIMTAS",10,"Фитинги","RUB",{"$f":"IFERROR(I26*Оглавление!$E$23,\"по запросу\")","v":56343.901599999997},{"$f":"IFERROR(G26*(1-Оглавление!$D$29),\"по запросу\")","v":56343.901599999997},562.09,"шт",null,0,0]
[null,500003554,"Отвод ПВХ 90° клеевой 355 PIMTAS",10,"Фитинги","RUB",{"$f":"IFERROR(I27*Оглавление!$E$23,\"по запросу\")","v":"по запросу"},{"$f":"IFERROR(G27*(1-Оглавление!$D$29),\"по запросу\")","v":"по запросу"},"по запросу","шт",null,"0 ₽","0 ₽"]
[null,500004004,"Отвод ПВХ 90° клеевой 400 PIMTAS",10,"Фитинги","RUB",{"$f":"IFERROR(I28*Оглавление!$E$23,\"по запросу\")","v":"по запросу"},{"$f":"IFERROR(G28*(1-Оглавление!$D$29),\"по запросу\")","v":"по запросу"},"по запросу","шт",null,"0 ₽","0 ₽"]
[null,500100202,"Отвод ПВХ 90° клеевой переход на ВР 20x1/2\" PIMTAS",16,"Фитинги","RUB",{"$f":"IFERROR(I29*Оглавление!$E$23,\"по запросу\")","v":77.184799999999996},{"$f":"IFERROR(G29*(1-Оглавление!$D$29),\"по запросу\")","v":77.184799999999996},0.77,"шт",null,0,0]
[null,500100252,"Отвод ПВХ 90° клеевой переход на ВР 25x3/4\" PIMTAS",16,"Фитинги","RUB",{"$f":"IFERROR(I30*Оглавление!$E$23,\"по запросу\")","v":93.223200000000006},{"$f":"IFERROR(G30*(1-Оглавление!$D$29),\"по запросу\")","v":93.223200000000006},0.93,"шт",null,0,0]
[null,500100322,"Отвод ПВХ 90° клеевой переход на ВР 32x1\" PIMTAS",16,"Фитинги","RUB",{"$f":"IFERROR(I31*Оглавление!$E$23,\"по запросу\")","v":142.34079999999997},{"$f":"IFERROR(G31*(1-Оглавление!$D$29),\"по запросу\")","v":142.34079999999997},1.42,"шт",null,0,0]
[null,500100402,"Отвод ПВХ 90° клеевой переход на ВР 40x1 1/4\" PIMTAS",16,"Фитинги","RUB",{"$f":"IFERROR(I32*Оглавление!$E$23,\"по запросу\")","v":271.65039999999999},{"$f":"IFERROR(G32*(1-Оглавление!$D$29),\"по запросу\")","v":271.65039999999999},2.71,"шт",null,0,0]
[null,500100502,"Отвод ПВХ 90° клеевой переход на ВР 50x1 1/2\" PIMTAS",16,"Фитинги","RUB",{"$f":"IFERROR(I33*Оглавление!$E$23,\"по запросу\")","v":276.66239999999999},{"$f":"IFERROR(G33*(1-Оглавление!$D$29),\"по запросу\")","v":276.66239999999999},2.76,"шт",null,0,0]
[null,500100632,"Отвод ПВХ 90° клеевой переход на ВР 63x2\" PIMTAS",16,"Фитинги","RUB",{"$f":"IFERROR(I34*Оглавление!$E$23,\"по запросу\")","v":346.8304},{"$f":"IFERROR(G34*(1-Оглавление!$D$29),\"по запросу\")","v":346.8304},3.46,"шт",null,0,0]
[null,500100752,"Отвод ПВХ 90° клеевой переход на ВР 75x2 1/2\" PIMTAS",16,"Фитинги","RUB",{"$f":"IFERROR(I35*Оглавление!$E$23,\"по запросу\")","v":662.58640000000003},{"$f":"IFERROR(G35*(1-Оглавление!$D$29),\"по запросу\")","v":662.58640000000003},6.61,"шт",null,0,0]
[null,500100902,"Отвод ПВХ 90° клеевой переход на ВР 90x3\" PIMTAS",16,"Фитинги","RUB",{"$f":"IFERROR(I36*Оглавление!$E$23,\"по запросу\")","v":918.19839999999999},{"$f":"IFERROR(G36*(1-Оглавление!$D$29),\"по запросу\")","v":918.19839999999999},9.16,"шт",null,0,0]
[null,500101102,"Отвод ПВХ 90° клеевой переход на ВР 110x4\" PIMTAS",16,"Фитинги","RUB",{"$f":"IFERROR(I37*Оглавление!$E$23,\"по запросу\")","v":1554.7223999999999},{"$f":"IFERROR(G37*(1-Оглавление!$D$29),\"по запросу\")","v":1554.7223999999999},15.51,"шт",null,0,0]
[null,501000500502,"Изгиб ПВХ 90° клеевой с раструбами большого радиуса 50 PIMTAS",16,"Фитинги","RUB",{"$f":"IFERROR(I38*Оглавление!$E$23,\"по запросу\")","v":1800.3104000000001},{"$f":"IFERROR(G38*(1-Оглавление!$D$29),\"по запросу\")","v":1800.3104000000001},17.96,"шт",null,0,0]
[null,501000630632,"Изгиб ПВХ 90° клеевой с раструбами большого радиуса 63 PIMTAS",16,"Фитинги","RUB",{"$f":"IFERROR(I39*Оглавление!$E$23,\"по запросу\")","v":2255.4},{"$f":"IFERROR(G39*(1-Оглавление!$D$29),\"по запросу\")","v":2255.4},22.5,"шт",null,0,0]
[null,501000750752,"Изгиб ПВХ 90° клеевой с раструбами большого радиуса 75 PIMTAS",16,"Фитинги","RUB",{"$f":"IFERROR(I40*Оглавление!$E$23,\"по запросу\")","v":4359.4376000000002},{"$f":"IFERROR(G40*(1-Оглавление!$D$29),\"по запросу\")","v":4359.4376000000002},43.49,"шт",null,0,0]
[null,501000900902,"Изгиб ПВХ 90° клеевой с раструбами большого радиуса 90 PIMTAS",16,"Фитинги","RUB",{"$f":"IFERROR(I41*Оглавление!$E$23,\"по запросу\")","v":6384.2855999999992},{"$f":"IFERROR(G41*(1-Оглавление!$D$29),\"по запросу\")","v":6384.2855999999992},63.69,"шт",null,0,0]
[null,501001101102,"Изгиб ПВХ 90° клеевой с раструбами большого радиуса 110 PIMTAS",16,"Фитинги","RUB",{"$f":"IFERROR(I42*Оглавление!$E$23,\"по запросу\")","v":10159.323999999999},{"$f":"IFERROR(G42*(1-Оглавление!$D$29),\"по запросу\")","v":10159.323999999999},101.35,"шт",null,0,0]
[null,502000202,"Отвод ПВХ 45° клеевой 20 PIMTAS",16,"Фитинги","RUB",{"$f":"IFERROR(I43*Оглавление!$E$23,\"по запросу\")","v":59.141599999999997},{"$f":"IFERROR(G43*(1-Оглавление!$D$29),\"по запросу\")","v":59.141599999999997},0.59,"шт",null,0,0]
[null,502000252,"Отвод ПВХ 45° клеевой 25 PIMTAS",16,"Фитинги","RUB",{"$f":"IFERROR(I44*Оглавление!$E$23,\"по запросу\")","v":70.167999999999992},{"$f":"IFERROR(G44*(1-Оглавление!$D$29),\"по запросу\")","v":70.167999999999992},0.7,"шт",null,0,0]
[null,502000322,"Отвод ПВХ 45° клеевой 32 PIMTAS",16,"Фитинги","RUB",{"$f":"IFERROR(I45*Оглавление!$E$23,\"по запросу\")","v":106.2544},{"$f":"IFERROR(G45*(1-Оглавление!$D$29),\"по запросу\")","v":106.2544},1.06,"шт",null,0,0]
[null,502000402,"Отвод ПВХ 45° клеевой 40 PIMTAS",16,"Фитинги","RUB",{"$f":"IFERROR(I46*Оглавление!$E$23,\"по запросу\")","v":196.47039999999998},{"$f":"IFERROR(G46*(1-Оглавление!$D$29),\"по запросу\")","v":196.47039999999998},1.96,"шт",null,0,0]
[null,502000502,"Отвод ПВХ 45° клеевой 50 PIMTAS",16,"Фитинги","RUB",{"$f":"IFERROR(I47*Оглавление!$E$23,\"по запросу\")","v":204.4896},{"$f":"IFERROR(G47*(1-Оглавление!$D$29),\"по запросу\")","v":204.4896},2.04,"шт",null,0,0]
[null,502000632,"Отвод ПВХ 45° клеевой 63 PIMTAS",16,"Фитинги","RUB",{"$f":"IFERROR(I48*Оглавление!$E$23,\"по запросу\")","v":240.57599999999996},{"$f":"IFERROR(G48*(1-Оглавление!$D$29),\"по запросу\")","v":240.57599999999996},2.4,"шт",null,0,0]
[null,502000752,"Отвод ПВХ 45° клеевой 75 PIMTAS",16,"Фитинги","RUB",{"$f":"IFERROR(I49*Оглавление!$E$23,\"по запросу\")","v":486.16399999999993},{"$f":"IFERROR(G49*(1-Оглавление!$D$29),\"по запросу\")","v":486.16399999999993},4.8499999999999996,"шт",null,0,0]
[null,502000902,"Отвод ПВХ 45° клеевой 90 PIMTAS",16,"Фитинги","RUB",{"$f":"IFERROR(I50*Оглавление!$E$23,\"по запросу\")","v":657.57439999999997},{"$f":"IFERROR(G50*(1-Оглавление!$D$29),\"по запросу\")","v":657.57439999999997},6.56,"шт",null,0,0]
[null,502001102,"Отвод ПВХ 45° клеевой 110 PIMTAS",16,"Фитинги","RUB",{"$f":"IFERROR(I51*Оглавление!$E$23,\"по запросу\")","v":1153.7623999999998},{"$f":"IFERROR(G51*(1-Оглавление!$D$29),\"по запросу\")","v":1153.7623999999998},11.51,"шт",null,0,0]
[null,502001252,"Отвод ПВХ 45° клеевой 125 PIMTAS",16,"Фитинги","RUB",{"$f":"IFERROR(I52*Оглавление!$E$23,\"по запросу\")","v":1780.2624000000001},{"$f":"IFERROR(G52*(1-Оглавление!$D$29),\"по запросу\")","v":1780.2624000000001},17.760000000000002,"шт",null,0,0]
[null,502001402,"Отвод ПВХ 45° клеевой 140 PIMTAS",16,"Фитинги","RUB",{"$f":"IFERROR(I53*Оглавление!$E$23,\"по запросу\")","v":2548.1008000000002},{"$f":"IFERROR(G53*(1-Оглавление!$D$29),\"по запросу\")","v":2548.1008000000002},25.42,"шт",null,0,0]
[null,502001602,"Отвод ПВХ 45° клеевой 160 PIMTAS",16,"Фитинги","RUB",{"$f":"IFERROR(I54*Оглавление!$E$23,\"по запросу\")","v":3557.5176000000001},{"$f":"IFERROR(G54*(1-Оглавление!$D$29),\"по запросу\")","v":3557.5176000000001},35.49,"шт",null,0,0]
[null,502002002,"Отвод ПВХ 45° клеевой 200 PIMTAS",10,"Фитинги","RUB",{"$f":"IFERROR(I55*Оглавление!$E$23,\"по запросу\")","v":7626.2591999999995},{"$f":"IFERROR(G55*(1-Оглавление!$D$29),\"по запросу\")","v":7626.2591999999995},76.08,"шт",null,0,0]
[null,502002252,"Отвод ПВХ 45° клеевой 225 PIMTAS",10,"Фитинги","RUB",{"$f":"IFERROR(I56*Оглавление!$E$23,\"по запросу\")","v":12520.978399999998},{"$f":"IFERROR(G56*(1-Оглавление!$D$29),\"по запросу\")","v":12520.978399999998},124.91,"шт",null,0,0]
[null,502002504,"Отвод ПВХ 45° клеевой 250 PIMTAS",10,"Фитинги","RUB",{"$f":"IFERROR(I57*Оглавление!$E$23,\"по запросу\")","v":27318.407199999994},{"$f":"IFERROR(G57*(1-Оглавление!$D$29),\"по запросу\")","v":27318.407199999994},272.52999999999997,"шт",null,0,0]
[null,502002805,"Отвод ПВХ 45° клеевой 280 PIMTAS",10,"Фитинги","RUB",{"$f":"IFERROR(I58*Оглавление!$E$23,\"по запросу\")","v":45530.010399999999},{"$f":"IFERROR(G58*(1-Оглавление!$D$29),\"по запросу\")","v":45530.010399999999},454.21,"шт",null,0,0]
[null,502003154,"Отвод ПВХ 45° клеевой 315 PIMTAS",10,"Фитинги","RUB",{"$f":"IFERROR(I59*Оглавление!$E$23,\"по запросу\")","v":48660.505599999997},{"$f":"IFERROR(G59*(1-Оглавление!$D$29),\"по запросу\")","v":48660.505599999997},485.44,"шт",null,0,0]
[null,502003555,"Отвод ПВХ 45° клеевой 355 PIMTAS",10,"Фитинги","RUB",{"$f":"IFERROR(I60*Оглавление!$E$23,\"по запросу\")","v":"по запросу"},{"$f":"IFERROR(G60*(1-Оглавление!$D$29),\"по запросу\")","v":"по запросу"},"по запросу","шт",null,"0 ₽","0 ₽"]
[null,502004004,"Отвод ПВХ 45° клеевой 400 PIMTAS",10,"Фитинги","RUB",{"$f":"IFERROR(I61*Оглавление!$E$23,\"по запросу\")","v":"по запросу"},{"$f":"IFERROR(G61*(1-Оглавление!$D$29),\"по запросу\")","v":"по запросу"},"по запросу","шт",null,"0 ₽","0 ₽"]
[null,504000202,"Тройник ПВХ 90° клеевой 20 PIMTAS",16,"Фитинги","RUB",{"$f":"IFERROR(I62*Оглавление!$E$23,\"по запросу\")","v":72.172799999999995},{"$f":"IFERROR(G62*(1-Оглавление!$D$29),\"по запросу\")","v":72.172799999999995},0.72,"шт",null,0,0]
[null,504000252,"Тройник ПВХ 90° клеевой 25 PIMTAS",16,"Фитинги","RUB",{"$f":"IFERROR(I63*Оглавление!$E$23,\"по запросу\")","v":83.19919999999999},{"$f":"IFERROR(G63*(1-Оглавление!$D$29),\"по запросу\")","v":83.19919999999999},0.83,"шт",null,0,0]
[null,504000322,"Тройник ПВХ 90° клеевой 32 PIMTAS",16,"Фитинги","RUB",{"$f":"IFERROR(I64*Оглавление!$E$23,\"по запросу\")","v":168.4032},{"$f":"IFERROR(G64*(1-Оглавление!$D$29),\"по запросу\")","v":168.4032},1.68,"шт",null,0,0]
[null,504000402,"Тройник ПВХ 90° клеевой 40 PIMTAS",16,"Фитинги","RUB",{"$f":"IFERROR(I65*Оглавление!$E$23,\"по запросу\")","v":235.56399999999999},{"$f":"IFERROR(G65*(1-Оглавление!$D$29),\"по запросу\")","v":235.56399999999999},2.35,"шт",null,0,0]
[null,504000502,"Тройник ПВХ 90° клеевой 50 PIMTAS",16,"Фитинги","RUB",{"$f":"IFERROR(I66*Оглавление!$E$23,\"по запросу\")","v":240.57599999999996},{"$f":"IFERROR(G66*(1-Оглавление!$D$29),\"по запросу\")","v":240.57599999999996},2.4,"шт",null,0,0]
[null,504000632,"Тройник ПВХ 90° клеевой 63 PIMTAS",16,"Фитинги","RUB",{"$f":"IFERROR(I67*Оглавление!$E$23,\"по запросу\")","v":338.81119999999999},{"$f":"IFERROR(G67*(1-Оглавление!$D$29),\"по запросу\")","v":338.81119999999999},3.38,"шт",null,0,0]
[null,504000752,"Тройник ПВХ 90° клеевой 75 PIMTAS",16,"Фитинги","RUB",{"$f":"IFERROR(I68*Оглавление!$E$23,\"по запросу\")","v":597.43039999999996},{"$f":"IFERROR(G68*(1-Оглавление!$D$29),\"по запросу\")","v":597.43039999999996},5.96,"шт",null,0,0]
[null,504000902,"Тройник ПВХ 90° клеевой 90 PIMTAS",16,"Фитинги","RUB",{"$f":"IFERROR(I69*Оглавление!$E$23,\"по запросу\")","v":923.21040000000005},{"$f":"IFERROR(G69*(1-Оглавление!$D$29),\"по запросу\")","v":923.21040000000005},9.2100000000000009,"шт",null,0,0]
[null,504001102,"Тройник ПВХ 90° клеевой 110 PIMTAS",16,"Фитинги","RUB",{"$f":"IFERROR(I70*Оглавление!$E$23,\"по запросу\")","v":1453.48},{"$f":"IFERROR(G70*(1-Оглавление!$D$29),\"по запросу\")","v":1453.48},14.5,"шт",null,0,0]
[null,504001252,"Тройник ПВХ 90° клеевой 125 PIMTAS",16,"Фитинги","RUB",{"$f":"IFERROR(I71*Оглавление!$E$23,\"по запросу\")","v":2292.4888000000001},{"$f":"IFERROR(G71*(1-Оглавление!$D$29),\"по запросу\")","v":2292.4888000000001},22.87,"шт",null,0,0]
[null,504001402,"Тройник ПВХ 90° клеевой 140 PIMTAS",16,"Фитинги","RUB",{"$f":"IFERROR(I72*Оглавление!$E$23,\"по запросу\")","v":3698.8559999999998},{"$f":"IFERROR(G72*(1-Оглавление!$D$29),\"по запросу\")","v":3698.8559999999998},36.9,"шт",null,0,0]
[null,504001602,"Тройник ПВХ 90° клеевой 160 PIMTAS",16,"Фитинги","RUB",{"$f":"IFERROR(I73*Оглавление!$E$23,\"по запросу\")","v":5093.1944000000003},{"$f":"IFERROR(G73*(1-Оглавление!$D$29),\"по запросу\")","v":5093.1944000000003},50.81,"шт",null,0,0]
[null,504002002,"Тройник ПВХ 90° клеевой 200 PIMTAS",16,"Фитинги","RUB",{"$f":"IFERROR(I74*Оглавление!$E$23,\"по запросу\")","v":9105.8016000000007},{"$f":"IFERROR(G74*(1-Оглавление!$D$29),\"по запросу\")","v":9105.8016000000007},90.84,"шт",null,{"$f":"IFERROR(K74*G74,\"0 ₽\")","v":0},{"$f":"IFERROR(K74*H74,\"0 ₽\")","v":0}]
[null,504002252,"Тройник ПВХ 90° клеевой 225 PIMTAS",10,"Фитинги","RUB",{"$f":"IFERROR(I75*Оглавление!$E$23,\"по запросу\")","v":17073.879199999999},{"$f":"IFERROR(G75*(1-Оглавление!$D$29),\"по запросу\")","v":17073.879199999999},170.33,"шт",null,0,0]
[null,504002504,"Тройник ПВХ 90° клеевой 250 PIMTAS",10,"Фитинги","RUB",{"$f":"IFERROR(I76*Оглавление!$E$23,\"по запросу\")","v":35285.482400000001},{"$f":"IFERROR(G76*(1-Оглавление!$D$29),\"по запросу\")","v":35285.482400000001},352.01,"шт",null,0,0]
[null,504002804,"Тройник ПВХ 90° клеевой 280 PIMTAS",10,"Фитинги","RUB",{"$f":"IFERROR(I77*Оглавление!$E$23,\"по запросу\")","v":54067.451199999996},{"$f":"IFERROR(G77*(1-Оглавление!$D$29),\"по запросу\")","v":54067.451199999996},539.38,"шт",null,0,0]
[null,504003154,"Тройник ПВХ 90° клеевой 315 PIMTAS",10,"Фитинги","RUB",{"$f":"IFERROR(I78*Оглавление!$E$23,\"по запросу\")","v":62746.2304},{"$f":"IFERROR(G78*(1-Оглавление!$D$29),\"по запросу\")","v":62746.2304},625.96,"шт",null,0,0]
[null,504003554,"Тройник ПВХ 90° клеевой 355 PIMTAS",10,"Фитинги","RUB",{"$f":"IFERROR(I79*Оглавление!$E$23,\"по запросу\")","v":"по запросу"},{"$f":"IFERROR(G79*(1-Оглавление!$D$29),\"по запросу\")","v":"по запросу"},"по запросу","шт",null,"0 ₽","0 ₽"]
[null,504004004,"Тройник ПВХ 90° клеевой 400 PIMTAS",10,"Фитинги","RUB",{"$f":"IFERROR(I80*Оглавление!$E$23,\"по запросу\")","v":"по запросу"},{"$f":"IFERROR(G80*(1-Оглавление!$D$29),\"по запросу\")","v":"по запросу"},"по запросу","шт",null,"0 ₽","0 ₽"]
[null,504100202,"Тройник ПВХ 90° клеевой переход на ВР 20x1/2\" PIMTAS",16,"Фитинги","RUB",{"$f":"IFERROR(I81*Оглавление!$E$23,\"по запросу\")","v":93.223200000000006},{"$f":"IFERROR(G81*(1-Оглавление!$D$29),\"по запросу\")","v":93.223200000000006},0.93,"шт",null,0,0]
[null,504100252,"Тройник ПВХ 90° клеевой переход на ВР 25x3/4\" PIMTAS",16,"Фитинги","RUB",{"$f":"IFERROR(I82*Оглавление!$E$23,\"по запросу\")","v":108.25920000000001},{"$f":"IFERROR(G82*(1-Оглавление!$D$29),\"по запросу\")","v":108.25920000000001},1.08,"шт",null,0,0]
[null,504100322,"Тройник ПВХ 90° клеевой переход на ВР 32x1\" PIMTAS",16,"Фитинги","RUB",{"$f":"IFERROR(I83*Оглавление!$E$23,\"по запросу\")","v":219.5256},{"$f":"IFERROR(G83*(1-Оглавление!$D$29),\"по запросу\")","v":219.5256},2.19,"шт",null,0,0]
[null,504100402,"Тройник ПВХ 90° клеевой переход на ВР 40x1 1/4\" PIMTAS",16,"Фитинги","RUB",{"$f":"IFERROR(I84*Оглавление!$E$23,\"по запросу\")","v":305.73199999999997},{"$f":"IFERROR(G84*(1-Оглавление!$D$29),\"по запросу\")","v":305.73199999999997},3.05,"шт",null,0,0]
[null,504100502,"Тройник ПВХ 90° клеевой переход на ВР 50x1 1/2\" PIMTAS",16,"Фитинги","RUB",{"$f":"IFERROR(I85*Оглавление!$E$23,\"по запросу\")","v":312.74880000000002},{"$f":"IFERROR(G85*(1-Оглавление!$D$29),\"по запросу\")","v":312.74880000000002},3.12,"шт",null,0,0]
[null,504100632,"Тройник ПВХ 90° клеевой переход на ВР 63x2\" PIMTAS",16,"Фитинги","RUB",{"$f":"IFERROR(I86*Оглавление!$E$23,\"по запросу\")","v":440.05359999999996},{"$f":"IFERROR(G86*(1-Оглавление!$D$29),\"по запросу\")","v":440.05359999999996},4.3899999999999997,"шт",null,0,0]
[null,504100752,"Тройник ПВХ 90° клеевой переход на ВР 75x2 1/2\" PIMTAS",16,"Фитинги","RUB",{"$f":"IFERROR(I87*Оглавление!$E$23,\"по запросу\")","v":775.85759999999993},{"$f":"IFERROR(G87*(1-Оглавление!$D$29),\"по запросу\")","v":775.85759999999993},7.74,"шт",null,0,0]
[null,504100902,"Тройник ПВХ 90° клеевой переход на ВР 90x3\" PIMTAS",16,"Фитинги","RUB",{"$f":"IFERROR(I88*Оглавление!$E$23,\"по запросу\")","v":1199.8728000000001},{"$f":"IFERROR(G88*(1-Оглавление!$D$29),\"по запросу\")","v":1199.8728000000001},11.97,"шт",null,0,0]
[null,504101102,"Тройник ПВХ 90° клеевой переход на ВР 110x4\" PIMTAS",16,"Фитинги","RUB",{"$f":"IFERROR(I89*Оглавление!$E$23,\"по запросу\")","v":1891.5288},{"$f":"IFERROR(G89*(1-Оглавление!$D$29),\"по запросу\")","v":1891.5288},18.87,"шт",null,0,0]
[null,508000320202,"Тройник переходной ПВХ 90° клеевой 32x20 PIMTAS",16,"Фитинги","RUB",{"$f":"IFERROR(I90*Оглавление!$E$23,\"по запросу\")","v":214.5136},{"$f":"IFERROR(G90*(1-Оглавление!$D$29),\"по запросу\")","v":214.5136},2.14,"шт",null,0,0]
[null,508000320252,"Тройник переходной ПВХ 90° клеевой 32x25 PIMTAS",16,"Фитинги","RUB",{"$f":"IFERROR(I91*Оглавление!$E$23,\"по запросу\")","v":196.47039999999998},{"$f":"IFERROR(G91*(1-Оглавление!$D$29),\"по запросу\")","v":196.47039999999998},1.96,"шт",null,0,0]
[null,508000320502,"Тройник переходной ПВХ 90° клеевой 32x50 PIMTAS",16,"Фитинги","RUB",{"$f":"IFERROR(I92*Оглавление!$E$23,\"по запросу\")","v":489.17119999999994},{"$f":"IFERROR(G92*(1-Оглавление!$D$29),\"по запросу\")","v":489.17119999999994},4.88,"шт",null,0,0]
[null,508000400202,"Тройник переходной ПВХ 90° клеевой 40x20 PIMTAS",16,"Фитинги","RUB",{"$f":"IFERROR(I93*Оглавление!$E$23,\"по запросу\")","v":323.77519999999998},{"$f":"IFERROR(G93*(1-Оглавление!$D$29),\"по запросу\")","v":323.77519999999998},3.23,"шт",null,0,0]
[null,508000400252,"Тройник переходной ПВХ 90° клеевой 40x25 PIMTAS",16,"Фитинги","RUB",{"$f":"IFERROR(I94*Оглавление!$E$23,\"по запросу\")","v":305.73199999999997},{"$f":"IFERROR(G94*(1-Оглавление!$D$29),\"по запросу\")","v":305.73199999999997},3.05,"шт",null,0,0]
[null,508000400322,"Тройник переходной ПВХ 90° клеевой 40x32 PIMTAS",16,"Фитинги","RUB",{"$f":"IFERROR(I95*Оглавление!$E$23,\"по запросу\")","v":274.6576},{"$f":"IFERROR(G95*(1-Оглавление!$D$29),\"по запросу\")","v":274.6576},2.74,"шт",null,0,0]
[null,508000500202,"Тройник переходной ПВХ 90° клеевой 50x20 PIMTAS",16,"Фитинги","RUB",{"$f":"IFERROR(I96*Оглавление!$E$23,\"по запросу\")","v":374.89760000000001},{"$f":"IFERROR(G96*(1-Оглавление!$D$29),\"по запросу\")","v":374.89760000000001},3.74,"шт",null,0,0]
[null,508000500322,"Тройник переходной ПВХ 90° клеевой 50x32 PIMTAS",16,"Фитинги","RUB",{"$f":"IFERROR(I97*Оглавление!$E$23,\"по запросу\")","v":325.77999999999997},{"$f":"IFERROR(G97*(1-Оглавление!$D$29),\"по запросу\")","v":325.77999999999997},3.25,"шт",null,0,0]
[null,508000500402,"Тройник переходной ПВХ 90° клеевой 50x40 PIMTAS",16,"Фитинги","RUB",{"$f":"IFERROR(I98*Оглавление!$E$23,\"по запросу\")","v":320.76800000000003},{"$f":"IFERROR(G98*(1-Оглавление!$D$29),\"по запросу\")","v":320.76800000000003},3.2,"шт",null,0,0]
[null,508000630252,"Тройник переходной ПВХ 90° клеевой 63x25 PIMTAS",16,"Фитинги","RUB",{"$f":"IFERROR(I99*Оглавление!$E$23,\"по запросу\")","v":641.53600000000006},{"$f":"IFERROR(G99*(1-Оглавление!$D$29),\"по запросу\")","v":641.53600000000006},6.4,"шт",null,0,0]
[null,508000630322,"Тройник переходной ПВХ 90° клеевой 63x32 PIMTAS",16,"Фитинги","RUB",{"$f":"IFERROR(I100*Оглавление!$E$23,\"по запросу\")","v":649.55520000000001},{"$f":"IFERROR(G100*(1-Оглавление!$D$29),\"по запросу\")","v":649.55520000000001},6.48,"шт",null,0,0]
[null,508000630402,"Тройник переходной ПВХ 90° клеевой 63x40 PIMTAS",16,"Фитинги","RUB",{"$f":"IFERROR(I101*Оглавление!$E$23,\"по запросу\")","v":610.46159999999998},{"$f":"IFERROR(G101*(1-Оглавление!$D$29),\"по запросу\")","v":610.46159999999998},6.09,"шт",null,0,0]
[null,508000630502,"Тройник переходной ПВХ 90° клеевой 63x50 PIMTAS",16,"Фитинги","RUB",{"$f":"IFERROR(I102*Оглавление!$E$23,\"по запросу\")","v":597.43039999999996},{"$f":"IFERROR(G102*(1-Оглавление!$D$29),\"по запросу\")","v":597.43039999999996},5.96,"шт",null,0,0]
[null,508000750322,"Тройник переходной ПВХ 90° клеевой 75x32 PIMTAS",16,"Фитинги","RUB",{"$f":"IFERROR(I103*Оглавление!$E$23,\"по запросу\")","v":814.95120000000009},{"$f":"IFERROR(G103*(1-Оглавление!$D$29),\"по запросу\")","v":814.95120000000009},8.1300000000000008,"шт",null,0,0]
[null,508000750402,"Тройник переходной ПВХ 90° клеевой 75x40 PIMTAS",16,"Фитинги","RUB",{"$f":"IFERROR(I104*Оглавление!$E$23,\"по запросу\")","v":814.95120000000009},{"$f":"IFERROR(G104*(1-Оглавление!$D$29),\"по запросу\")","v":814.95120000000009},8.1300000000000008,"шт",null,0,0]
[null,508000750502,"Тройник переходной ПВХ 90° клеевой 75x50 PIMTAS",16,"Фитинги","RUB",{"$f":"IFERROR(I105*Оглавление!$E$23,\"по запросу\")","v":827.98239999999998},{"$f":"IFERROR(G105*(1-Оглавление!$D$29),\"по запросу\")","v":827.98239999999998},8.26,"шт",null,0,0]
[null,508000750632,"Тройник переходной ПВХ 90° клеевой 75x63 PIMTAS",16,"Фитинги","RUB",{"$f":"IFERROR(I106*Оглавление!$E$23,\"по запросу\")","v":843.01839999999993},{"$f":"IFERROR(G106*(1-Оглавление!$D$29),\"по запросу\")","v":843.01839999999993},8.41,"шт",null,0,0]
[null,508000900322,"Тройник переходной ПВХ 90° клеевой 90x32 PIMTAS",16,"Фитинги","RUB",{"$f":"IFERROR(I107*Оглавление!$E$23,\"по запросу\")","v":1153.7623999999998},{"$f":"IFERROR(G107*(1-Оглавление!$D$29),\"по запросу\")","v":1153.7623999999998},11.51,"шт",null,0,0]
[null,508000900402,"Тройник переходной ПВХ 90° клеевой 90x63 PIMTAS",16,"Фитинги","RUB",{"$f":"IFERROR(I108*Оглавление!$E$23,\"по запросу\")","v":1153.7623999999998},{"$f":"IFERROR(G108*(1-Оглавление!$D$29),\"по запросу\")","v":1153.7623999999998},11.51,"шт",null,0,0]
[null,508000900502,"Тройник переходной ПВХ 90° клеевой 90x50 PIMTAS",16,"Фитинги","RUB",{"$f":"IFERROR(I109*Оглавление!$E$23,\"по запросу\")","v":1168.7983999999999},{"$f":"IFERROR(G109*(1-Оглавление!$D$29),\"по запросу\")","v":1168.7983999999999},11.66,"шт",null,0,0]
[null,508000900632,"Тройник переходной ПВХ 90° клеевой 90x63 PIMTAS",16,"Фитинги","RUB",{"$f":"IFERROR(I110*Оглавление!$E$23,\"по запросу\")","v":1181.8295999999998},{"$f":"IFERROR(G110*(1-Оглавление!$D$29),\"по запросу\")","v":1181.8295999999998},11.79,"шт",null,0,0]
[null,508000900752,"Тройник переходной ПВХ 90° клеевой 90x75 PIMTAS",16,"Фитинги","RUB",{"$f":"IFERROR(I111*Оглавление!$E$23,\"по запросу\")","v":1223.9304},{"$f":"IFERROR(G111*(1-Оглавление!$D$29),\"по запросу\")","v":1223.9304},12.21,"шт",null,0,0]
[null,508001100322,"Тройник переходной ПВХ 90° клеевой 110x32 PIMTAS",16,"Фитинги","RUB",{"$f":"IFERROR(I112*Оглавление!$E$23,\"по запросу\")","v":1679.02},{"$f":"IFERROR(G112*(1-Оглавление!$D$29),\"по запросу\")","v":1679.02},16.75,"шт",null,0,0]
[null,508001100402,"Тройник переходной ПВХ 90° клеевой 110x40 PIMTAS",16,"Фитинги","RUB",{"$f":"IFERROR(I113*Оглавление!$E$23,\"по запросу\")","v":1679.02},{"$f":"IFERROR(G113*(1-Оглавление!$D$29),\"по запросу\")","v":1679.02},16.75,"шт",null,0,0]
[null,508001100502,"Тройник переходной ПВХ 90° клеевой 110x50 PIMTAS",16,"Фитинги","RUB",{"$f":"IFERROR(I114*Оглавление!$E$23,\"по запросу\")","v":1694.0559999999998},{"$f":"IFERROR(G114*(1-Оглавление!$D$29),\"по запросу\")","v":1694.0559999999998},16.899999999999999,"шт",null,0,0]
[null,508001100632,"Тройник переходной ПВХ 90° клеевой 110x63 PIMTAS",16,"Фитинги","RUB",{"$f":"IFERROR(I115*Оглавление!$E$23,\"по запросу\")","v":1707.0871999999999},{"$f":"IFERROR(G115*(1-Оглавление!$D$29),\"по запросу\")","v":1707.0871999999999},17.03,"шт",null,0,0]
[null,508001100752,"Тройник переходной ПВХ 90° клеевой 110x75 PIMTAS",16,"Фитинги","RUB",{"$f":"IFERROR(I116*Оглавление!$E$23,\"по запросу\")","v":1764.2240000000002},{"$f":"IFERROR(G116*(1-Оглавление!$D$29),\"по запросу\")","v":1764.2240000000002},17.600000000000001,"шт",null,0,0]
[null,508001100902,"Тройник переходной ПВХ 90° клеевой 110x90 PIMTAS",16,"Фитинги","RUB",{"$f":"IFERROR(I117*Оглавление!$E$23,\"по запросу\")","v":1849.4279999999999},{"$f":"IFERROR(G117*(1-Оглавление!$D$29),\"по запросу\")","v":1849.4279999999999},18.45,"шт",null,0,0]
[null,508001250632,"Тройник переходной ПВХ 90° клеевой 125x63 PIMTAS",16,"Фитинги","RUB",{"$f":"IFERROR(I118*Оглавление!$E$23,\"по запросу\")","v":3675.8008},{"$f":"IFERROR(G118*(1-Оглавление!$D$29),\"по запросу\")","v":3675.8008},36.67,"шт",null,0,0]
[null,508001250752,"Тройник переходной ПВХ 90° клеевой 125x75 PIMTAS",16,"Фитинги","RUB",{"$f":"IFERROR(I119*Оглавление!$E$23,\"по запросу\")","v":3631.6951999999997},{"$f":"IFERROR(G119*(1-Оглавление!$D$29),\"по запросу\")","v":3631.6951999999997},36.229999999999997,"шт",null,0,0]
[null,508001250902,"Тройник переходной ПВХ 90° клеевой 125x90 PIMTAS",16,"Фитинги","RUB",{"$f":"IFERROR(I120*Оглавление!$E$23,\"по запросу\")","v":3448.2559999999999},{"$f":"IFERROR(G120*(1-Оглавление!$D$29),\"по запросу\")","v":3448.2559999999999},34.4,"шт",null,0,0]
[null,508001251102,"Тройник переходной ПВХ 90° клеевой 125x110 PIMTAS",16,"Фитинги","RUB",{"$f":"IFERROR(I121*Оглавление!$E$23,\"по запросу\")","v":3060.3272000000002},{"$f":"IFERROR(G121*(1-Оглавление!$D$29),\"по запросу\")","v":3060.3272000000002},30.53,"шт",null,0,0]
[null,508001400632,"Тройник переходной ПВХ 90° клеевой 140x63 PIMTAS",16,"Фитинги","RUB",{"$f":"IFERROR(I122*Оглавление!$E$23,\"по запросу\")","v":5148.3263999999999},{"$f":"IFERROR(G122*(1-Оглавление!$D$29),\"по запросу\")","v":5148.3263999999999},51.36,"шт",null,0,0]
[null,508001400752,"Тройник переходной ПВХ 90° клеевой 140x75 PIMTAS",16,"Фитинги","RUB",{"$f":"IFERROR(I123*Оглавление!$E$23,\"по запросу\")","v":5114.2448000000004},{"$f":"IFERROR(G123*(1-Оглавление!$D$29),\"по запросу\")","v":5114.2448000000004},51.02,"шт",null,0,0]
[null,508001400902,"Тройник переходной ПВХ 90° клеевой 140x90 PIMTAS",16,"Фитинги","RUB",{"$f":"IFERROR(I124*Оглавление!$E$23,\"по запросу\")","v":5039.0648000000001},{"$f":"IFERROR(G124*(1-Оглавление!$D$29),\"по запросу\")","v":5039.0648000000001},50.27,"шт",null,0,0]
[null,508001401102,"Тройник переходной ПВХ 90° клеевой 140x110 PIMTAS",16,"Фитинги","RUB",{"$f":"IFERROR(I125*Оглавление!$E$23,\"по запросу\")","v":4610.0375999999997},{"$f":"IFERROR(G125*(1-Оглавление!$D$29),\"по запросу\")","v":4610.0375999999997},45.99,"шт",null,0,0]
[null,508001600632,"Тройник переходной ПВХ 90° клеевой 160x63 PIMTAS",16,"Фитинги","RUB",{"$f":"IFERROR(I126*Оглавление!$E$23,\"по запросу\")","v":6228.9135999999999},{"$f":"IFERROR(G126*(1-Оглавление!$D$29),\"по запросу\")","v":6228.9135999999999},62.14,"шт",null,0,0]
[null,508001600752,"Тройник переходной ПВХ 90° клеевой 160x75 PIMTAS",16,"Фитинги","RUB",{"$f":"IFERROR(I127*Оглавление!$E$23,\"по запросу\")","v":5872.0591999999997},{"$f":"IFERROR(G127*(1-Оглавление!$D$29),\"по запросу\")","v":5872.0591999999997},58.58,"шт",null,0,0]
[null,508001600902,"Тройник переходной ПВХ 90° клеевой 160x90 PIMTAS",16,"Фитинги","RUB",{"$f":"IFERROR(I128*Оглавление!$E$23,\"по запросу\")","v":5691.6271999999999},{"$f":"IFERROR(G128*(1-Оглавление!$D$29),\"по запросу\")","v":5691.6271999999999},56.78,"шт",null,0,0]
[null,508001601102,"Тройник переходной ПВХ 90° клеевой 160x110 PIMTAS",16,"Фитинги","RUB",{"$f":"IFERROR(I129*Оглавление!$E$23,\"по запросу\")","v":5406.9455999999991},{"$f":"IFERROR(G129*(1-Оглавление!$D$29),\"по запросу\")","v":5406.9455999999991},53.94,"шт",null,0,0]
[null,508001601252,"Тройник переходной ПВХ 90° клеевой 160x125 PIMTAS",16,"Фитинги","RUB",{"$f":"IFERROR(I130*Оглавление!$E$23,\"по запросу\")","v":6195.8343999999997},{"$f":"IFERROR(G130*(1-Оглавление!$D$29),\"по запросу\")","v":6195.8343999999997},61.81,"шт",null,0,0]
[null,508002000752,"Тройник переходной ПВХ 90° клеевой 200x75 PIMTAS",16,"Фитинги","RUB",{"$f":"IFERROR(I131*Оглавление!$E$23,\"по запросу\")","v":9894.6903999999995},{"$f":"IFERROR(G131*(1-Оглавление!$D$29),\"по запросу\")","v":9894.6903999999995},98.71,"шт",null,0,0]
[null,508002000902,"Тройник переходной ПВХ 90° клеевой 200x90 PIMTAS",16,"Фитинги","RUB",{"$f":"IFERROR(I132*Оглавление!$E$23,\"по запросу\")","v":9820.5127999999986},{"$f":"IFERROR(G132*(1-Оглавление!$D$29),\"по запросу\")","v":9820.5127999999986},97.97,"шт",null,0,0]
[null,508002001102,"Тройник переходной ПВХ 90° клеевой 200x110 PIMTAS",16,"Фитинги","RUB",{"$f":"IFERROR(I133*Оглавление!$E$23,\"по запросу\")","v":9390.4832000000006},{"$f":"IFERROR(G133*(1-Оглавление!$D$29),\"по запросу\")","v":9390.4832000000006},93.68,"шт",null,0,0]
[null,508002001252,"Тройник переходной ПВХ 90° клеевой 200x125 PIMTAS",16,"Фитинги","RUB",{"$f":"IFERROR(I134*Оглавление!$E$23,\"по запросу\")","v":10350.7824},{"$f":"IFERROR(G134*(1-Оглавление!$D$29),\"по запросу\")","v":10350.7824},103.26,"шт",null,0,0]
[null,508002001402,"Тройник переходной ПВХ 90° клеевой 200x140 PIMTAS",16,"Фитинги","RUB",{"$f":"IFERROR(I135*Оглавление!$E$23,\"по запросу\")","v":9874.6424000000006},{"$f":"IFERROR(G135*(1-Оглавление!$D$29),\"по запросу\")","v":9874.6424000000006},98.51,"шт",null,0,0]
[null,508002001602,"Тройник переходной ПВХ 90° клеевой 200x160 PIMTAS",16,"Фитинги","RUB",{"$f":"IFERROR(I136*Оглавление!$E$23,\"по запросу\")","v":9248.1424000000006},{"$f":"IFERROR(G136*(1-Оглавление!$D$29),\"по запросу\")","v":9248.1424000000006},92.26,"шт",null,0,0]
[null,508002251102,"Тройник переходной ПВХ 90° клеевой 225x110 PIMTAS",16,"Фитинги","RUB",{"$f":"IFERROR(I137*Оглавление!$E$23,\"по запросу\")","v":15537.199999999999},{"$f":"IFERROR(G137*(1-Оглавление!$D$29),\"по запросу\")","v":15537.199999999999},155,"шт",null,0,0]
[null,508002251252,"Тройник переходной ПВХ 90° клеевой 225x125 PIMTAS",16,"Фитинги","RUB",{"$f":"IFERROR(I138*Оглавление!$E$23,\"по запросу\")","v":16856.358399999997},{"$f":"IFERROR(G138*(1-Оглавление!$D$29),\"по запросу\")","v":16856.358399999997},168.16,"шт",null,{"$f":"IFERROR(K138*G138,\"0 ₽\")","v":0},{"$f":"IFERROR(K138*H138,\"0 ₽\")","v":0}]
[null,508002251402,"Тройник переходной ПВХ 90° клеевой 225x140 PIMTAS",16,"Фитинги","RUB",{"$f":"IFERROR(I139*Оглавление!$E$23,\"по запросу\")","v":16383.2256},{"$f":"IFERROR(G139*(1-Оглавление!$D$29),\"по запросу\")","v":16383.2256},163.44,"шт",null,0,0]
[null,508002251602,"Тройник переходной ПВХ 90° клеевой 225x160 PIMTAS",16,"Фитинги","RUB",{"$f":"IFERROR(I140*Оглавление!$E$23,\"по запросу\")","v":15756.7256},{"$f":"IFERROR(G140*(1-Оглавление!$D$29),\"по запросу\")","v":15756.7256},157.19,"шт",null,0,0]
[null,508002252002,"Тройник переходной ПВХ 90° клеевой 225x200 PIMTAS",10,"Фитинги","RUB",{"$f":"IFERROR(I141*Оглавление!$E$23,\"по запросу\")","v":19207.988799999999},{"$f":"IFERROR(G141*(1-Оглавление!$D$29),\"по запросу\")","v":19207.988799999999},191.62,"шт",null,0,0]
[null,508002501102,"Тройник переходной ПВХ 90° клеевой 250x110 PIMTAS",10,"Фитинги","RUB",{"$f":"IFERROR(I142*Оглавление!$E$23,\"по запросу\")","v":28647.589599999999},{"$f":"IFERROR(G142*(1-Оглавление!$D$29),\"по запросу\")","v":28647.589599999999},285.79000000000002,"шт",null,0,0]
[null,508002501402,"Тройник переходной ПВХ 90° клеевой 250x140 PIMTAS",10,"Фитинги","RUB",{"$f":"IFERROR(I143*Оглавление!$E$23,\"по запросу\")","v":29964.743200000001},{"$f":"IFERROR(G143*(1-Оглавление!$D$29),\"по запросу\")","v":29964.743200000001},298.93,"шт",null,0,0]
[null,508002501602,"Тройник переходной ПВХ 90° клеевой 250x160 PIMTAS",10,"Фитинги","RUB",{"$f":"IFERROR(I144*Оглавление!$E$23,\"по запросу\")","v":28940.290399999998},{"$f":"IFERROR(G144*(1-Оглавление!$D$29),\"по запросу\")","v":28940.290399999998},288.70999999999998,"шт",null,0,0]
[null,508002502002,"Тройник переходной ПВХ 90° клеевой 250x200 PIMTAS",10,"Фитинги","RUB",{"$f":"IFERROR(I145*Оглавление!$E$23,\"по запросу\")","v":34728.147999999994},{"$f":"IFERROR(G145*(1-Оглавление!$D$29),\"по запросу\")","v":34728.147999999994},346.45,"шт",null,0,0]
[null,508002502252,"Тройник переходной ПВХ 90° клеевой 250x225 PIMTAS",10,"Фитинги","RUB",{"$f":"IFERROR(I146*Оглавление!$E$23,\"по запросу\")","v":40394.715199999999},{"$f":"IFERROR(G146*(1-Оглавление!$D$29),\"по запросу\")","v":40394.715199999999},402.98,"шт",null,0,0]
[null,508002801102,"Тройник переходной ПВХ 90° клеевой 280x110 PIMTAS",10,"Фитинги","RUB",{"$f":"IFERROR(I147*Оглавление!$E$23,\"по запросу\")","v":"по запросу"},{"$f":"IFERROR(G147*(1-Оглавление!$D$29),\"по запросу\")","v":"по запросу"},"по запросу","шт",null,"0 ₽","0 ₽"]
[null,508002801405,"Тройник переходной ПВХ 90° клеевой 280x140 PIMTAS",10,"Фитинги","RUB",{"$f":"IFERROR(I148*Оглавление!$E$23,\"по запросу\")","v":68067.971999999994},{"$f":"IFERROR(G148*(1-Оглавление!$D$29),\"по запросу\")","v":68067.971999999994},679.05,"шт",null,0,0]
[null,508002801605,"Тройник переходной ПВХ 90° клеевой 280x160 PIMTAS",10,"Фитинги","RUB",{"$f":"IFERROR(I149*Оглавление!$E$23,\"по запросу\")","v":67441.471999999994},{"$f":"IFERROR(G149*(1-Оглавление!$D$29),\"по запросу\")","v":67441.471999999994},672.8,"шт",null,0,0]
[null,508002802002,"Тройник переходной ПВХ 90° клеевой 280x200 PIMTAS",10,"Фитинги","RUB",{"$f":"IFERROR(I150*Оглавление!$E$23,\"по запросу\")","v":"по запросу"},{"$f":"IFERROR(G150*(1-Оглавление!$D$29),\"по запросу\")","v":"по запросу"},"по запросу","шт",null,"0 ₽","0 ₽"]
[null,508002802252,"Тройник переходной ПВХ 90° клеевой 280x225 PIMTAS",10,"Фитинги","RUB",{"$f":"IFERROR(I151*Оглавление!$E$23,\"по запросу\")","v":"по запросу"},{"$f":"IFERROR(G151*(1-Оглавление!$D$29),\"по запросу\")","v":"по запросу"},"по запросу","шт",null,"0 ₽","0 ₽"]
[null,508002802502,"Тройник переходной ПВХ 90° клеевой 280x250 PIMTAS",10,"Фитинги","RUB",{"$f":"IFERROR(I152*Оглавление!$E$23,\"по запросу\")","v":"по запросу"},{"$f":"IFERROR(G152*(1-Оглавление!$D$29),\"по запросу\")","v":"по запросу"},"по запросу","шт",null,"0 ₽","0 ₽"]
[null,508003151102,"Тройник переходной ПВХ 90° клеевой 315x110 PIMTAS",10,"Фитинги","RUB",{"$f":"IFERROR(I153*Оглавление!$E$23,\"по запросу\")","v":"по запросу"},{"$f":"IFERROR(G153*(1-Оглавление!$D$29),\"по запросу\")","v":"по запросу"},"по запросу","шт",null,"0 ₽","0 ₽"]
[null,508003151602,"Тройник переходной ПВХ 90° клеевой 315x160 PIMTAS",10,"Фитинги","RUB",{"$f":"IFERROR(I154*Оглавление!$E$23,\"по запросу\")","v":57758.288},{"$f":"IFERROR(G154*(1-Оглавление!$D$29),\"по запросу\")","v":57758.288},576.20000000000005,"шт",null,0,0]
[null,508003152252,"Тройник переходной ПВХ 90° клеевой 315x225 PIMTAS",10,"Фитинги","RUB",{"$f":"IFERROR(I155*Оглавление!$E$23,\"по запросу\")","v":66383.94},{"$f":"IFERROR(G155*(1-Оглавление!$D$29),\"по запросу\")","v":66383.94},662.25,"шт",null,0,0]
[null,508003152502,"Тройник переходной ПВХ 90° клеевой 315x250 PIMTAS",10,"Фитинги","RUB",{"$f":"IFERROR(I156*Оглавление!$E$23,\"по запросу\")","v":92559.611199999999},{"$f":"IFERROR(G156*(1-Оглавление!$D$29),\"по запросу\")","v":92559.611199999999},923.38,"шт",null,0,0]
[null,508003152802,"Тройник переходной ПВХ 90° клеевой 315x280 PIMTAS",10,"Фитинги","RUB",{"$f":"IFERROR(I157*Оглавление!$E$23,\"по запросу\")","v":85828.49519999999},{"$f":"IFERROR(G157*(1-Оглавление!$D$29),\"по запросу\")","v":85828.49519999999},856.23,"шт",null,0,0]
[null,508003552805,"Тройник переходной ПВХ 90° клеевой 355x280 PIMTAS",10,"Фитинги","RUB",{"$f":"IFERROR(I158*Оглавление!$E$23,\"по запросу\")","v":"по запросу"},{"$f":"IFERROR(G158*(1-Оглавление!$D$29),\"по запросу\")","v":"по запросу"},"по запросу","шт",null,"0 ₽","0 ₽"]
[null,508003553155,"Тройник переходной ПВХ 90° клеевой 355x315 PIMTAS",10,"Фитинги","RUB",{"$f":"IFERROR(I159*Оглавление!$E$23,\"по запросу\")","v":"по запросу"},{"$f":"IFERROR(G159*(1-Оглавление!$D$29),\"по запросу\")","v":"по запросу"},"по запросу","шт",null,"0 ₽","0 ₽"]
[null,508004002805,"Тройник переходной ПВХ 90° клеевой 400x280 PIMTAS",10,"Фитинги","RUB",{"$f":"IFERROR(I160*Оглавление!$E$23,\"по запросу\")","v":"по запросу"},{"$f":"IFERROR(G160*(1-Оглавление!$D$29),\"по запросу\")","v":"по запросу"},"по запросу","шт",null,"0 ₽","0 ₽"]
[null,508004003155,"Тройник переходной ПВХ 90° клеевой 400x315 PIMTAS",10,"Фитинги","RUB",{"$f":"IFERROR(I161*Оглавление!$E$23,\"по запросу\")","v":"по запросу"},{"$f":"IFERROR(G161*(1-Оглавление!$D$29),\"по запросу\")","v":"по запросу"},"по запросу","шт",null,"0 ₽","0 ₽"]
[null,508004003555,"Тройник переходной ПВХ 90° клеевой 400x355 PIMTAS",10,"Фитинги","RUB",{"$f":"IFERROR(I162*Оглавление!$E$23,\"по запросу\")","v":"по запросу"},{"$f":"IFERROR(G162*(1-Оглавление!$D$29),\"по запросу\")","v":"по запросу"},"по запросу","шт",null,"0 ₽","0 ₽"]
[null,507000204,"Тройник ПВХ 45° клеевой 20 PIMTAS",16,"Фитинги","RUB",{"$f":"IFERROR(I163*Оглавление!$E$23,\"по запросу\")","v":214.5136},{"$f":"IFERROR(G163*(1-Оглавление!$D$29),\"по запросу\")","v":214.5136},2.14,"шт",null,0,0]
[null,507000254,"Тройник ПВХ 45° клеевой 25 PIMTAS",16,"Фитинги","RUB",{"$f":"IFERROR(I164*Оглавление!$E$23,\"по запросу\")","v":229.5496},{"$f":"IFERROR(G164*(1-Оглавление!$D$29),\"по запросу\")","v":229.5496},2.29,"шт",null,0,0]
[null,507000324,"Тройник ПВХ 45° клеевой 32 PIMTAS",16,"Фитинги","RUB",{"$f":"IFERROR(I165*Оглавление!$E$23,\"по запросу\")","v":284.68159999999995},{"$f":"IFERROR(G165*(1-Оглавление!$D$29),\"по запросу\")","v":284.68159999999995},2.84,"шт",null,0,0]
[null,507000404,"Тройник ПВХ 45° клеевой 40 PIMTAS",16,"Фитинги","RUB",{"$f":"IFERROR(I166*Оглавление!$E$23,\"по запросу\")","v":323.77519999999998},{"$f":"IFERROR(G166*(1-Оглавление!$D$29),\"по запросу\")","v":323.77519999999998},3.23,"шт",null,0,0]
[null,507000504,"Тройник ПВХ 45° клеевой 50 PIMTAS",16,"Фитинги","RUB",{"$f":"IFERROR(I167*Оглавление!$E$23,\"по запросу\")","v":382.91679999999997},{"$f":"IFERROR(G167*(1-Оглавление!$D$29),\"по запросу\")","v":382.91679999999997},3.82,"шт",null,0,0]
[null,507000634,"Тройник ПВХ 45° клеевой 63 PIMTAS",16,"Фитинги","RUB",{"$f":"IFERROR(I168*Оглавление!$E$23,\"по запросу\")","v":512.22640000000001},{"$f":"IFERROR(G168*(1-Оглавление!$D$29),\"по запросу\")","v":512.22640000000001},5.1100000000000003,"шт",null,0,0]
[null,507000754,"Тройник ПВХ 45° клеевой 75 PIMTAS",16,"Фитинги","RUB",{"$f":"IFERROR(I169*Оглавление!$E$23,\"по запросу\")","v":931.22959999999989},{"$f":"IFERROR(G169*(1-Оглавление!$D$29),\"по запросу\")","v":931.22959999999989},9.2899999999999991,"шт",null,0,0]
[null,507000904,"Тройник ПВХ 45° клеевой 90 PIMTAS",16,"Фитинги","RUB",{"$f":"IFERROR(I170*Оглавление!$E$23,\"по запросу\")","v":1397.3455999999999},{"$f":"IFERROR(G170*(1-Оглавление!$D$29),\"по запросу\")","v":1397.3455999999999},13.94,"шт",null,0,0]
[null,507001104,"Тройник ПВХ 45° клеевой 110 PIMTAS",16,"Фитинги","RUB",{"$f":"IFERROR(I171*Оглавление!$E$23,\"по запросу\")","v":2224.3256000000001},{"$f":"IFERROR(G171*(1-Оглавление!$D$29),\"по запросу\")","v":2224.3256000000001},22.19,"шт",null,0,0]
[null,506000322,"Крестовина ПВХ 90° клеевая 32 PIMTAS",16,"Фитинги","RUB",{"$f":"IFERROR(I172*Оглавление!$E$23,\"по запросу\")","v":646.548},{"$f":"IFERROR(G172*(1-Оглавление!$D$29),\"по запросу\")","v":646.548},6.45,"шт",null,0,0]
[null,506000402,"Крестовина ПВХ 90° клеевая 40 PIMTAS",16,"Фитинги","RUB",{"$f":"IFERROR(I173*Оглавление!$E$23,\"по запросу\")","v":773.85279999999989},{"$f":"IFERROR(G173*(1-Оглавление!$D$29),\"по запросу\")","v":773.85279999999989},7.72,"шт",null,0,0]
[null,506000502,"Крестовина ПВХ 90° клеевая 50 PIMTAS",16,"Фитинги","RUB",{"$f":"IFERROR(I174*Оглавление!$E$23,\"по запросу\")","v":898.15039999999999},{"$f":"IFERROR(G174*(1-Оглавление!$D$29),\"по запросу\")","v":898.15039999999999},8.9600000000000009,"шт",null,0,0]
[null,506000632,"Крестовина ПВХ 90° клеевая 63 PIMTAS",16,"Фитинги","RUB",{"$f":"IFERROR(I175*Оглавление!$E$23,\"по запросу\")","v":1495.5808},{"$f":"IFERROR(G175*(1-Оглавление!$D$29),\"по запросу\")","v":1495.5808},14.92,"шт",null,0,0]
[null,506000752,"Крестовина ПВХ 90° клеевая 75 PIMTAS",16,"Фитинги","RUB",{"$f":"IFERROR(I176*Оглавление!$E$23,\"по запросу\")","v":1767.2311999999997},{"$f":"IFERROR(G176*(1-Оглавление!$D$29),\"по запросу\")","v":1767.2311999999997},17.63,"шт",null,0,0]
[null,506000902,"Крестовина ПВХ 90° клеевая 90 PIMTAS",16,"Фитинги","RUB",{"$f":"IFERROR(I177*Оглавление!$E$23,\"по запросу\")","v":2227.3327999999997},{"$f":"IFERROR(G177*(1-Оглавление!$D$29),\"по запросу\")","v":2227.3327999999997},22.22,"шт",null,0,0]
[null,506001102,"Крестовина ПВХ 90° клеевая 110 PIMTAS",16,"Фитинги","RUB",{"$f":"IFERROR(I178*Оглавление!$E$23,\"по запросу\")","v":4346.4063999999998},{"$f":"IFERROR(G178*(1-Оглавление!$D$29),\"по запросу\")","v":4346.4063999999998},43.36,"шт",null,0,0]
[null,506001252,"Крестовина ПВХ 90° клеевая 125 PIMTAS",16,"Фитинги","RUB",{"$f":"IFERROR(I179*Оглавление!$E$23,\"по запросу\")","v":8717.8727999999992},{"$f":"IFERROR(G179*(1-Оглавление!$D$29),\"по запросу\")","v":8717.8727999999992},86.97,"шт",null,0,0]
[null,506001405,"Крестовина ПВХ 90° клеевая 140 PIMTAS",16,"Фитинги","RUB",{"$f":"IFERROR(I180*Оглавление!$E$23,\"по запросу\")","v":11524.592799999999},{"$f":"IFERROR(G180*(1-Оглавление!$D$29),\"по запросу\")","v":11524.592799999999},114.97,"шт",null,0,0]
[null,506001605,"Крестовина ПВХ 90° клеевая 160 PIMTAS",16,"Фитинги","RUB",{"$f":"IFERROR(I181*Оглавление!$E$23,\"по запросу\")","v":14825.495999999999},{"$f":"IFERROR(G181*(1-Оглавление!$D$29),\"по запросу\")","v":14825.495999999999},147.9,"шт",null,0,0]
[null,506002005,"Крестовина ПВХ 90° клеевая 200 PIMTAS",16,"Фитинги","RUB",{"$f":"IFERROR(I182*Оглавление!$E$23,\"по запросу\")","v":32724.350399999996},{"$f":"IFERROR(G182*(1-Оглавление!$D$29),\"по запросу\")","v":32724.350399999996},326.45999999999998,"шт",null,0,0]
[null,506002255,"Крестовина ПВХ 90° клеевая 225 PIMTAS",16,"Фитинги","RUB",{"$f":"IFERROR(I183*Оглавление!$E$23,\"по запросу\")","v":37221.116799999996},{"$f":"IFERROR(G183*(1-Оглавление!$D$29),\"по запросу\")","v":37221.116799999996},371.32,"шт",null,0,0]
[null,506002505,"Крестовина ПВХ 90° клеевая 250 PIMTAS",16,"Фитинги","RUB",{"$f":"IFERROR(I184*Оглавление!$E$23,\"по запросу\")","v":59815.212800000001},{"$f":"IFERROR(G184*(1-Оглавление!$D$29),\"по запросу\")","v":59815.212800000001},596.72,"шт",null,0,0]
[null,506002805,"Крестовина ПВХ 90° клеевая 280 PIMTAS",16,"Фитинги","RUB",{"$f":"IFERROR(I185*Оглавление!$E$23,\"по запросу\")","v":82556.661599999992},{"$f":"IFERROR(G185*(1-Оглавление!$D$29),\"по запросу\")","v":82556.661599999992},823.59,"шт",null,0,0]
[null,506003155,"Крестовина ПВХ 90° клеевая 315 PIMTAS",16,"Фитинги","RUB",{"$f":"IFERROR(I186*Оглавление!$E$23,\"по запросу\")","v":99669.634399999995},{"$f":"IFERROR(G186*(1-Оглавление!$D$29),\"по запросу\")","v":99669.634399999995},994.31,"шт",null,0,0]
[null,506003555,"Крестовина ПВХ 90° клеевая 355 PIMTAS",16,"Фитинги","RUB",{"$f":"IFERROR(I187*Оглавление!$E$23,\"по запросу\")","v":"по запросу"},{"$f":"IFERROR(G187*(1-Оглавление!$D$29),\"по запросу\")","v":"по запросу"},"по запросу","шт",null,"0 ₽","0 ₽"]
[null,506004005,"Крестовина ПВХ 90° клеевая 400 PIMTAS",16,"Фитинги","RUB",{"$f":"IFERROR(I188*Оглавление!$E$23,\"по запросу\")","v":"по запросу"},{"$f":"IFERROR(G188*(1-Оглавление!$D$29),\"по запросу\")","v":"по запросу"},"по запросу","шт",null,"0 ₽","0 ₽"]
[null,511000162,"Муфта ПВХ клеевая 16 PIMTAS",16,"Фитинги","RUB",{"$f":"IFERROR(I189*Оглавление!$E$23,\"по запросу\")","v":70.167999999999992},{"$f":"IFERROR(G189*(1-Оглавление!$D$29),\"по запросу\")","v":70.167999999999992},0.7,"шт",null,0,0]
[null,511000202,"Муфта ПВХ клеевая 20 PIMTAS",16,"Фитинги","RUB",{"$f":"IFERROR(I190*Оглавление!$E$23,\"по запросу\")","v":44.105599999999995},{"$f":"IFERROR(G190*(1-Оглавление!$D$29),\"по запросу\")","v":44.105599999999995},0.44,"шт",null,0,0]
[null,511000252,"Муфта ПВХ клеевая 25 PIMTAS",16,"Фитинги","RUB",{"$f":"IFERROR(I191*Оглавление!$E$23,\"по запросу\")","v":54.129600000000003},{"$f":"IFERROR(G191*(1-Оглавление!$D$29),\"по запросу\")","v":54.129600000000003},0.54,"шт",null,0,0]
[null,511000322,"Муфта ПВХ клеевая 32 PIMTAS",16,"Фитинги","RUB",{"$f":"IFERROR(I192*Оглавление!$E$23,\"по запросу\")","v":62.148799999999994},{"$f":"IFERROR(G192*(1-Оглавление!$D$29),\"по запросу\")","v":62.148799999999994},0.62,"шт",null,0,0]
[null,511000402,"Муфта ПВХ клеевая 40 PIMTAS",16,"Фитинги","RUB",{"$f":"IFERROR(I193*Оглавление!$E$23,\"по запросу\")","v":103.24719999999999},{"$f":"IFERROR(G193*(1-Оглавление!$D$29),\"по запросу\")","v":103.24719999999999},1.03,"шт",null,0,0]
[null,511000502,"Муфта ПВХ клеевая 50 PIMTAS",16,"Фитинги","RUB",{"$f":"IFERROR(I194*Оглавление!$E$23,\"по запросу\")","v":106.2544},{"$f":"IFERROR(G194*(1-Оглавление!$D$29),\"по запросу\")","v":106.2544},1.06,"шт",null,0,0]
[null,511000632,"Муфта ПВХ клеевая 63 PIMTAS",16,"Фитинги","RUB",{"$f":"IFERROR(I195*Оглавление!$E$23,\"по запросу\")","v":165.39599999999999},{"$f":"IFERROR(G195*(1-Оглавление!$D$29),\"по запросу\")","v":165.39599999999999},1.65,"шт",null,0,0]
[null,511000752,"Муфта ПВХ клеевая 75 PIMTAS",16,"Фитинги","RUB",{"$f":"IFERROR(I196*Оглавление!$E$23,\"по запросу\")","v":335.80399999999997},{"$f":"IFERROR(G196*(1-Оглавление!$D$29),\"по запросу\")","v":335.80399999999997},3.35,"шт",null,0,0]
[null,511000902,"Муфта ПВХ клеевая 90 PIMTAS",16,"Фитинги","RUB",{"$f":"IFERROR(I197*Оглавление!$E$23,\"по запросу\")","v":424.01519999999999},{"$f":"IFERROR(G197*(1-Оглавление!$D$29),\"по запросу\")","v":424.01519999999999},4.2300000000000004,"шт",null,0,0]
[null,511001102,"Муфта ПВХ клеевая 110 PIMTAS",16,"Фитинги","RUB",{"$f":"IFERROR(I198*Оглавление!$E$23,\"по запросу\")","v":716.71600000000001},{"$f":"IFERROR(G198*(1-Оглавление!$D$29),\"по запросу\")","v":716.71600000000001},7.15,"шт",null,0,0]
[null,511001252,"Муфта ПВХ клеевая 125 PIMTAS",16,"Фитинги","RUB",{"$f":"IFERROR(I199*Оглавление!$E$23,\"по запросу\")","v":931.22959999999989},{"$f":"IFERROR(G199*(1-Оглавление!$D$29),\"по запросу\")","v":931.22959999999989},9.2899999999999991,"шт",null,0,0]
[null,511001402,"Муфта ПВХ клеевая 140 PIMTAS",16,"Фитинги","RUB",{"$f":"IFERROR(I200*Оглавление!$E$23,\"по запросу\")","v":1099.6328000000001},{"$f":"IFERROR(G200*(1-Оглавление!$D$29),\"по запросу\")","v":1099.6328000000001},10.97,"шт",null,0,0]
[null,511001602,"Муфта ПВХ клеевая 160 PIMTAS",16,"Фитинги","RUB",{"$f":"IFERROR(I201*Оглавление!$E$23,\"по запросу\")","v":1644.9384},{"$f":"IFERROR(G201*(1-Оглавление!$D$29),\"по запросу\")","v":1644.9384},16.41,"шт",null,0,0]
[null,511002002,"Муфта ПВХ клеевая 200 PIMTAS",16,"Фитинги","RUB",{"$f":"IFERROR(I202*Оглавление!$E$23,\"по запросу\")","v":3698.8559999999998},{"$f":"IFERROR(G202*(1-Оглавление!$D$29),\"по запросу\")","v":3698.8559999999998},36.9,"шт",null,{"$f":"IFERROR(K202*G202,\"0 ₽\")","v":0},{"$f":"IFERROR(K202*H202,\"0 ₽\")","v":0}]
[null,511002252,"Муфта ПВХ клеевая 225 PIMTAS",16,"Фитинги","RUB",{"$f":"IFERROR(I203*Оглавление!$E$23,\"по запросу\")","v":5934.2079999999996},{"$f":"IFERROR(G203*(1-Оглавление!$D$29),\"по запросу\")","v":5934.2079999999996},59.2,"шт",null,0,0]
[null,511002504,"Муфта ПВХ клеевая 250 PIMTAS",10,"Фитинги","RUB",{"$f":"IFERROR(I204*Оглавление!$E$23,\"по запросу\")","v":10130.2544},{"$f":"IFERROR(G204*(1-Оглавление!$D$29),\"по запросу\")","v":10130.2544},101.06,"шт",null,0,0]
[null,511002805,"Муфта ПВХ клеевая 280 PIMTAS",10,"Фитинги","RUB",{"$f":"IFERROR(I205*Оглавление!$E$23,\"по запросу\")","v":"по запросу"},{"$f":"IFERROR(G205*(1-Оглавление!$D$29),\"по запросу\")","v":"по запросу"},"по запросу","шт",null,"0 ₽","0 ₽"]
[null,511003155,"Муфта ПВХ клеевая 315 PIMTAS",10,"Фитинги","RUB",{"$f":"IFERROR(I206*Оглавление!$E$23,\"по запросу\")","v":"по запросу"},{"$f":"IFERROR(G206*(1-Оглавление!$D$29),\"по запросу\")","v":"по запросу"},"по запросу","шт",null,"0 ₽","0 ₽"]
[null,511003555,"Муфта ПВХ клеевая 355 PIMTAS",10,"Фитинги","RUB",{"$f":"IFERROR(I207*Оглавление!$E$23,\"по запросу\")","v":"по запросу"},{"$f":"IFERROR(G207*(1-Оглавление!$D$29),\"по запросу\")","v":"по запросу"},"по запросу","шт",null,"0 ₽","0 ₽"]
[null,511004005,"Муфта ПВХ клеевая 400 PIMTAS",10,"Фитинги","RUB",{"$f":"IFERROR(I208*Оглавление!$E$23,\"по запросу\")","v":"по запросу"},{"$f":"IFERROR(G208*(1-Оглавление!$D$29),\"по запросу\")","v":"по запросу"},"по запросу","шт",null,"0 ₽","0 ₽"]
[null,518000202,"Муфта ПВХ клеевая переход на ВР 20x1/2\" PIMTAS",16,"Фитинги","RUB",{"$f":"IFERROR(I209*Оглавление!$E$23,\"по запросу\")","v":65.156000000000006},{"$f":"IFERROR(G209*(1-Оглавление!$D$29),\"по запросу\")","v":65.156000000000006},0.65,"шт",null,0,0]
[null,518000252,"Муфта ПВХ клеевая переход на ВР 25x3/4\" PIMTAS",16,"Фитинги","RUB",{"$f":"IFERROR(I210*Оглавление!$E$23,\"по запросу\")","v":72.172799999999995},{"$f":"IFERROR(G210*(1-Оглавление!$D$29),\"по запросу\")","v":72.172799999999995},0.72,"шт",null,0,0]
[null,518000322,"Муфта ПВХ клеевая переход на ВР 32x1\" PIMTAS",16,"Фитинги","RUB",{"$f":"IFERROR(I211*Оглавление!$E$23,\"по запросу\")","v":83.19919999999999},{"$f":"IFERROR(G211*(1-Оглавление!$D$29),\"по запросу\")","v":83.19919999999999},0.83,"шт",null,0,0]
[null,518000402,"Муфта ПВХ клеевая переход на ВР 40x1 1/4\" PIMTAS",16,"Фитинги","RUB",{"$f":"IFERROR(I212*Оглавление!$E$23,\"по запросу\")","v":163.39119999999997},{"$f":"IFERROR(G212*(1-Оглавление!$D$29),\"по запросу\")","v":163.39119999999997},1.63,"шт",null,0,0]
[null,518000502,"Муфта ПВХ клеевая переход на ВР 50x1 1/2\" PIMTAS",16,"Фитинги","RUB",{"$f":"IFERROR(I213*Оглавление!$E$23,\"по запросу\")","v":230.55199999999996},{"$f":"IFERROR(G213*(1-Оглавление!$D$29),\"по запросу\")","v":230.55199999999996},2.2999999999999998,"шт",null,0,0]
[null,518000632,"Муфта ПВХ клеевая переход на ВР 63x2\" PIMTAS",16,"Фитинги","RUB",{"$f":"IFERROR(I214*Оглавление!$E$23,\"по запросу\")","v":325.77999999999997},{"$f":"IFERROR(G214*(1-Оглавление!$D$29),\"по запросу\")","v":325.77999999999997},3.25,"шт",null,0,0]
[null,519000752,"Муфта ПВХ клеевая переход на ВР 75x2 1/2\" PIMTAS",16,"Фитинги","RUB",{"$f":"IFERROR(I215*Оглавление!$E$23,\"по запросу\")","v":502.20239999999995},{"$f":"IFERROR(G215*(1-Оглавление!$D$29),\"по запросу\")","v":502.20239999999995},5.01,"шт",null,0,0]
[null,519000902,"Муфта ПВХ клеевая переход на ВР 90x3\" PIMTAS",16,"Фитинги","RUB",{"$f":"IFERROR(I216*Оглавление!$E$23,\"по запросу\")","v":626.5},{"$f":"IFERROR(G216*(1-Оглавление!$D$29),\"по запросу\")","v":626.5},6.25,"шт",null,0,0]
[null,519001102,"Муфта ПВХ клеевая переход на ВР 110x4\" PIMTAS",16,"Фитинги","RUB",{"$f":"IFERROR(I217*Оглавление!$E$23,\"по запросу\")","v":1006.4095999999998},{"$f":"IFERROR(G217*(1-Оглавление!$D$29),\"по запросу\")","v":1006.4095999999998},10.039999999999999,"шт",null,0,0]
[null,519001255,"Муфта ПВХ клеевая переход на ВР 125x4 1/2\" PIMTAS",16,"Фитинги","RUB",{"$f":"IFERROR(I218*Оглавление!$E$23,\"по запросу\")","v":2503.9951999999998},{"$f":"IFERROR(G218*(1-Оглавление!$D$29),\"по запросу\")","v":2503.9951999999998},24.98,"шт",null,0,0]
[null,519001405,"Муфта ПВХ клеевая переход на ВР 140x5\" PIMTAS",16,"Фитинги","RUB",{"$f":"IFERROR(I219*Оглавление!$E$23,\"по запросу\")","v":2682.4223999999999},{"$f":"IFERROR(G219*(1-Оглавление!$D$29),\"по запросу\")","v":2682.4223999999999},26.76,"шт",null,0,0]
[null,519001605,"Муфта ПВХ клеевая переход на ВР 160x6\" PIMTAS",10,"Фитинги","RUB",{"$f":"IFERROR(I220*Оглавление!$E$23,\"по запросу\")","v":4027.6432},{"$f":"IFERROR(G220*(1-Оглавление!$D$29),\"по запросу\")","v":4027.6432},40.18,"шт",null,0,0]
[null,519002005,"Муфта ПВХ клеевая переход на ВР 200x7\" PIMTAS",10,"Фитинги","RUB",{"$f":"IFERROR(I221*Оглавление!$E$23,\"по запросу\")","v":10303.669599999999},{"$f":"IFERROR(G221*(1-Оглавление!$D$29),\"по запросу\")","v":10303.669599999999},102.79,"шт",null,0,0]
[null,519002255,"Муфта ПВХ клеевая переход на ВР 225x8\" PIMTAS",10,"Фитинги","RUB",{"$f":"IFERROR(I222*Оглавление!$E$23,\"по запросу\")","v":16067.469599999999},{"$f":"IFERROR(G222*(1-Оглавление!$D$29),\"по запросу\")","v":16067.469599999999},160.29,"шт",null,0,0]
[null,519002505,"Муфта ПВХ клеевая переход на ВР 250x9\" PIMTAS",10,"Фитинги","RUB",{"$f":"IFERROR(I223*Оглавление!$E$23,\"по запросу\")","v":19068.655199999997},{"$f":"IFERROR(G223*(1-Оглавление!$D$29),\"по запросу\")","v":19068.655199999997},190.23,"шт",null,0,0]
[null,516000202,"Заглушка ПВХ клеевая 20 PIMTAS",16,"Фитинги","RUB",{"$f":"IFERROR(I224*Оглавление!$E$23,\"по запросу\")","v":46.110399999999998},{"$f":"IFERROR(G224*(1-Оглавление!$D$29),\"по запросу\")","v":46.110399999999998},0.46,"шт",null,0,0]
[null,516000252,"Заглушка ПВХ клеевая 25 PIMTAS",16,"Фитинги","RUB",{"$f":"IFERROR(I225*Оглавление!$E$23,\"по запросу\")","v":57.136799999999994},{"$f":"IFERROR(G225*(1-Оглавление!$D$29),\"по запросу\")","v":57.136799999999994},0.56999999999999995,"шт",null,0,0]
[null,516000322,"Заглушка ПВХ клеевая 32 PIMTAS",16,"Фитинги","RUB",{"$f":"IFERROR(I226*Оглавление!$E$23,\"по запросу\")","v":72.172799999999995},{"$f":"IFERROR(G226*(1-Оглавление!$D$29),\"по запросу\")","v":72.172799999999995},0.72,"шт",null,0,0]
[null,516000402,"Заглушка ПВХ клеевая 40 PIMTAS",16,"Фитинги","RUB",{"$f":"IFERROR(I227*Оглавление!$E$23,\"по запросу\")","v":90.215999999999994},{"$f":"IFERROR(G227*(1-Оглавление!$D$29),\"по запросу\")","v":90.215999999999994},0.9,"шт",null,0,0]
[null,516000502,"Заглушка ПВХ клеевая 50 PIMTAS",16,"Фитинги","RUB",{"$f":"IFERROR(I228*Оглавление!$E$23,\"по запросу\")","v":137.3288},{"$f":"IFERROR(G228*(1-Оглавление!$D$29),\"по запросу\")","v":137.3288},1.37,"шт",null,0,0]
[null,516000632,"Заглушка ПВХ клеевая 63 PIMTAS",16,"Фитинги","RUB",{"$f":"IFERROR(I229*Оглавление!$E$23,\"по запросу\")","v":163.39119999999997},{"$f":"IFERROR(G229*(1-Оглавление!$D$29),\"по запросу\")","v":163.39119999999997},1.63,"шт",null,0,0]
[null,516000752,"Заглушка ПВХ клеевая 75 PIMTAS",16,"Фитинги","RUB",{"$f":"IFERROR(I230*Оглавление!$E$23,\"по запросу\")","v":276.66239999999999},{"$f":"IFERROR(G230*(1-Оглавление!$D$29),\"по запросу\")","v":276.66239999999999},2.76,"шт",null,0,0]
[null,516000902,"Заглушка ПВХ клеевая 90 PIMTAS",16,"Фитинги","RUB",{"$f":"IFERROR(I231*Оглавление!$E$23,\"по запросу\")","v":354.84960000000001},{"$f":"IFERROR(G231*(1-Оглавление!$D$29),\"по запросу\")","v":354.84960000000001},3.54,"шт",null,0,0]
[null,516001102,"Заглушка ПВХ клеевая 110 PIMTAS",16,"Фитинги","RUB",{"$f":"IFERROR(I232*Оглавление!$E$23,\"по запросу\")","v":517.23839999999996},{"$f":"IFERROR(G232*(1-Оглавление!$D$29),\"по запросу\")","v":517.23839999999996},5.16,"шт",null,0,0]
[null,516001252,"Заглушка ПВХ клеевая 125 PIMTAS",16,"Фитинги","RUB",{"$f":"IFERROR(I233*Оглавление!$E$23,\"по запросу\")","v":882.11200000000008},{"$f":"IFERROR(G233*(1-Оглавление!$D$29),\"по запросу\")","v":882.11200000000008},8.8000000000000007,"шт",null,0,0]
[null,516001402,"Заглушка ПВХ клеевая 140 PIMTAS",16,"Фитинги","RUB",{"$f":"IFERROR(I234*Оглавление!$E$23,\"по запросу\")","v":1109.6568},{"$f":"IFERROR(G234*(1-Оглавление!$D$29),\"по запросу\")","v":1109.6568},11.07,"шт",null,0,0]
[null,516001602,"Заглушка ПВХ клеевая 160 PIMTAS",16,"Фитинги","RUB",{"$f":"IFERROR(I235*Оглавление!$E$23,\"по запросу\")","v":2020.8383999999999},{"$f":"IFERROR(G235*(1-Оглавление!$D$29),\"по запросу\")","v":2020.8383999999999},20.16,"шт",null,0,0]
[null,516002002,"Заглушка ПВХ клеевая 200 PIMTAS",16,"Фитинги","RUB",{"$f":"IFERROR(I236*Оглавление!$E$23,\"по запросу\")","v":3215.6991999999996},{"$f":"IFERROR(G236*(1-Оглавление!$D$29),\"по запросу\")","v":3215.6991999999996},32.08,"шт",null,0,0]
[null,516002252,"Заглушка ПВХ клеевая 225 PIMTAS",16,"Фитинги","RUB",{"$f":"IFERROR(I237*Оглавление!$E$23,\"по запросу\")","v":5406.9455999999991},{"$f":"IFERROR(G237*(1-Оглавление!$D$29),\"по запросу\")","v":5406.9455999999991},53.94,"шт",null,0,0]
[null,516002502,"Заглушка ПВХ клеевая 250 PIMTAS",10,"Фитинги","RUB",{"$f":"IFERROR(I238*Оглавление!$E$23,\"по запросу\")","v":8252.7591999999986},{"$f":"IFERROR(G238*(1-Оглавление!$D$29),\"по запросу\")","v":8252.7591999999986},82.33,"шт",null,0,0]
[null,516002802,"Заглушка ПВХ клеевая 280 PIMTAS",10,"Фитинги","RUB",{"$f":"IFERROR(I239*Оглавление!$E$23,\"по запросу\")","v":11666.9336},{"$f":"IFERROR(G239*(1-Оглавление!$D$29),\"по запросу\")","v":11666.9336},116.39,"шт",null,0,0]
[null,516003152,"Заглушка ПВХ клеевая 315 PIMTAS",10,"Фитинги","RUB",{"$f":"IFERROR(I240*Оглавление!$E$23,\"по запросу\")","v":15366.791999999999},{"$f":"IFERROR(G240*(1-Оглавление!$D$29),\"по запросу\")","v":15366.791999999999},153.30000000000001,"шт",null,0,0]
[null,516003554,"Заглушка ПВХ клеевая 355 PIMTAS",10,"Фитинги","RUB",{"$f":"IFERROR(I241*Оглавление!$E$23,\"по запросу\")","v":"по запросу"},{"$f":"IFERROR(G241*(1-Оглавление!$D$29),\"по запросу\")","v":"по запросу"},"по запросу","шт",null,"0 ₽","0 ₽"]
[null,516004004,"Заглушка ПВХ клеевая 400 PIMTAS",10,"Фитинги","RUB",{"$f":"IFERROR(I242*Оглавление!$E$23,\"по запросу\")","v":"по запросу"},{"$f":"IFERROR(G242*(1-Оглавление!$D$29),\"по запросу\")","v":"по запросу"},"по запросу","шт",null,"0 ₽","0 ₽"]
[null,516004505,"Заглушка ПВХ клеевая 450 PIMTAS",10,"Фитинги","RUB",{"$f":"IFERROR(I243*Оглавление!$E$23,\"по запросу\")","v":"по запросу"},{"$f":"IFERROR(G243*(1-Оглавление!$D$29),\"по запросу\")","v":"по запросу"},"по запросу","шт",null,"0 ₽","0 ₽"]
[null,516005005,"Заглушка ПВХ клеевая 500 PIMTAS",10,"Фитинги","RUB",{"$f":"IFERROR(I244*Оглавление!$E$23,\"по запросу\")","v":"по запросу"},{"$f":"IFERROR(G244*(1-Оглавление!$D$29),\"по запросу\")","v":"по запросу"},"по запросу","шт",null,"0 ₽","0 ₽"]
[null,517000202,"Заглушка ПВХ ВР 20x1/2\" PIMTAS",16,"Фитинги","RUB",{"$f":"IFERROR(I245*Оглавление!$E$23,\"по запросу\")","v":101.24239999999999},{"$f":"IFERROR(G245*(1-Оглавление!$D$29),\"по запросу\")","v":101.24239999999999},1.01,"шт",null,0,0]
[null,517000252,"Заглушка ПВХ ВР 25x3/4\" PIMTAS",16,"Фитинги","RUB",{"$f":"IFERROR(I246*Оглавление!$E$23,\"по запросу\")","v":134.32159999999999},{"$f":"IFERROR(G246*(1-Оглавление!$D$29),\"по запросу\")","v":134.32159999999999},1.34,"шт",null,0,0]
[null,517000322,"Заглушка ПВХ ВР 32x1\" PIMTAS",16,"Фитинги","RUB",{"$f":"IFERROR(I247*Оглавление!$E$23,\"по запросу\")","v":168.4032},{"$f":"IFERROR(G247*(1-Оглавление!$D$29),\"по запросу\")","v":168.4032},1.68,"шт",null,0,0]
[null,517000402,"Заглушка ПВХ ВР 40x1 1/4\" PIMTAS",16,"Фитинги","RUB",{"$f":"IFERROR(I248*Оглавление!$E$23,\"по запросу\")","v":204.4896},{"$f":"IFERROR(G248*(1-Оглавление!$D$29),\"по запросу\")","v":204.4896},2.04,"шт",null,0,0]
[null,517000502,"Заглушка ПВХ ВР 50x1 1/2\" PIMTAS",16,"Фитинги","RUB",{"$f":"IFERROR(I249*Оглавление!$E$23,\"по запросу\")","v":299.7176},{"$f":"IFERROR(G249*(1-Оглавление!$D$29),\"по запросу\")","v":299.7176},2.99,"шт",null,0,0]
[null,517000632,"Заглушка ПВХ ВР 63x2\" PIMTAS",16,"Фитинги","RUB",{"$f":"IFERROR(I250*Оглавление!$E$23,\"по запросу\")","v":435.04159999999996},{"$f":"IFERROR(G250*(1-Оглавление!$D$29),\"по запросу\")","v":435.04159999999996},4.34,"шт",null,0,0]
[null,517000752,"Заглушка ПВХ ВР 75x2 1/2\" PIMTAS",16,"Фитинги","RUB",{"$f":"IFERROR(I251*Оглавление!$E$23,\"по запросу\")","v":747.79039999999998},{"$f":"IFERROR(G251*(1-Оглавление!$D$29),\"по запросу\")","v":747.79039999999998},7.46,"шт",null,0,0]
[null,517000902,"Заглушка ПВХ ВР 90x3\" PIMTAS",16,"Фитинги","RUB",{"$f":"IFERROR(I252*Оглавление!$E$23,\"по запросу\")","v":1045.5031999999999},{"$f":"IFERROR(G252*(1-Оглавление!$D$29),\"по запросу\")","v":1045.5031999999999},10.43,"шт",null,0,0]
[null,517001102,"Заглушка ПВХ ВР 110x4\" PIMTAS",16,"Фитинги","RUB",{"$f":"IFERROR(I253*Оглавление!$E$23,\"по запросу\")","v":1345.2207999999998},{"$f":"IFERROR(G253*(1-Оглавление!$D$29),\"по запросу\")","v":1345.2207999999998},13.42,"шт",null,0,0]
[null,523000632,"Заглушка ПВХ НР 63x2\" PIMTAS",16,"Фитинги","RUB",{"$f":"IFERROR(I254*Оглавление!$E$23,\"по запросу\")","v":338.81119999999999},{"$f":"IFERROR(G254*(1-Оглавление!$D$29),\"по запросу\")","v":338.81119999999999},3.38,"шт",null,0,0]
[null,523000752,"Заглушка ПВХ НР 75x2 1/2\" PIMTAS",16,"Фитинги","RUB",{"$f":"IFERROR(I255*Оглавление!$E$23,\"по запросу\")","v":664.59119999999996},{"$f":"IFERROR(G255*(1-Оглавление!$D$29),\"по запросу\")","v":664.59119999999996},6.63,"шт",null,0,0]
[null,523001102,"Заглушка ПВХ НР 110x4\" PIMTAS",16,"Фитинги","RUB",{"$f":"IFERROR(I256*Оглавление!$E$23,\"по запросу\")","v":1575.7728},{"$f":"IFERROR(G256*(1-Оглавление!$D$29),\"по запросу\")","v":1575.7728},15.72,"шт",null,0,0]
[null,509000200162,"Переходное кольцо ПВХ клеевое 20x16 PIMTAS",16,"Фитинги","RUB",{"$f":"IFERROR(I257*Оглавление!$E$23,\"по запросу\")","v":46.110399999999998},{"$f":"IFERROR(G257*(1-Оглавление!$D$29),\"по запросу\")","v":46.110399999999998},0.46,"шт",null,0,0]
[null,509000250202,"Переходное кольцо ПВХ клеевое 25x20 PIMTAS",16,"Фитинги","RUB",{"$f":"IFERROR(I258*Оглавление!$E$23,\"по запросу\")","v":28.0672},{"$f":"IFERROR(G258*(1-Оглавление!$D$29),\"по запросу\")","v":28.0672},0.28000000000000003,"шт",null,0,0]
[null,509000320202,"Переходное кольцо ПВХ клеевое 32x20 PIMTAS",16,"Фитинги","RUB",{"$f":"IFERROR(I259*Оглавление!$E$23,\"по запросу\")","v":46.110399999999998},{"$f":"IFERROR(G259*(1-Оглавление!$D$29),\"по запросу\")","v":46.110399999999998},0.46,"шт",null,0,0]
[null,509000320252,"Переходное кольцо ПВХ клеевое 32x25 PIMTAS",16,"Фитинги","RUB",{"$f":"IFERROR(I260*Оглавление!$E$23,\"по запросу\")","v":28.0672},{"$f":"IFERROR(G260*(1-Оглавление!$D$29),\"по запросу\")","v":28.0672},0.28000000000000003,"шт",null,0,0]
[null,509000400202,"Переходное кольцо ПВХ клеевое 40x20 PIMTAS",16,"Фитинги","RUB",{"$f":"IFERROR(I261*Оглавление!$E$23,\"по запросу\")","v":98.235199999999992},{"$f":"IFERROR(G261*(1-Оглавление!$D$29),\"по запросу\")","v":98.235199999999992},0.98,"шт",null,0,0]
[null,509000400252,"Переходное кольцо ПВХ клеевое 40x25 PIMTAS",16,"Фитинги","RUB",{"$f":"IFERROR(I262*Оглавление!$E$23,\"по запросу\")","v":67.160799999999995},{"$f":"IFERROR(G262*(1-Оглавление!$D$29),\"по запросу\")","v":67.160799999999995},0.67,"шт",null,0,0]
[null,509000400322,"Переходное кольцо ПВХ клеевое 40x32 PIMTAS",16,"Фитинги","RUB",{"$f":"IFERROR(I263*Оглавление!$E$23,\"по запросу\")","v":39.093600000000002},{"$f":"IFERROR(G263*(1-Оглавление!$D$29),\"по запросу\")","v":39.093600000000002},0.39,"шт",null,0,0]
[null,509000500202,"Переходное кольцо ПВХ клеевое 50x20 PIMTAS",16,"Фитинги","RUB",{"$f":"IFERROR(I264*Оглавление!$E$23,\"по запросу\")","v":"по запросу"},{"$f":"IFERROR(G264*(1-Оглавление!$D$29),\"по запросу\")","v":"по запросу"},"по запросу","шт",null,"0 ₽","0 ₽"]
[null,509000500252,"Переходное кольцо ПВХ клеевое 50x25 PIMTAS",16,"Фитинги","RUB",{"$f":"IFERROR(I265*Оглавление!$E$23,\"по запросу\")","v":"по запросу"},{"$f":"IFERROR(G265*(1-Оглавление!$D$29),\"по запросу\")","v":"по запросу"},"по запросу","шт",null,"0 ₽","0 ₽"]
[null,509000500322,"Переходное кольцо ПВХ клеевое 50x32 PIMTAS",16,"Фитинги","RUB",{"$f":"IFERROR(I266*Оглавление!$E$23,\"по запросу\")","v":95.227999999999994},{"$f":"IFERROR(G266*(1-Оглавление!$D$29),\"по запросу\")","v":95.227999999999994},0.95,"шт",null,{"$f":"IFERROR(K266*G266,\"0 ₽\")","v":0},{"$f":"IFERROR(K266*H266,\"0 ₽\")","v":0}]
[null,509000500402,"Переходное кольцо ПВХ клеевое 50x40 PIMTAS",16,"Фитинги","RUB",{"$f":"IFERROR(I267*Оглавление!$E$23,\"по запросу\")","v":77.184799999999996},{"$f":"IFERROR(G267*(1-Оглавление!$D$29),\"по запросу\")","v":77.184799999999996},0.77,"шт",null,0,0]
[null,509000630252,"Переходное кольцо ПВХ клеевое 63x25 PIMTAS",16,"Фитинги","RUB",{"$f":"IFERROR(I268*Оглавление!$E$23,\"по запросу\")","v":"по запросу"},{"$f":"IFERROR(G268*(1-Оглавление!$D$29),\"по запросу\")","v":"по запросу"},"по запросу","шт",null,"0 ₽","0 ₽"]
[null,509000630322,"Переходное кольцо ПВХ клеевое 63x32 PIMTAS",16,"Фитинги","RUB",{"$f":"IFERROR(I269*Оглавление!$E$23,\"по запросу\")","v":168.4032},{"$f":"IFERROR(G269*(1-Оглавление!$D$29),\"по запросу\")","v":168.4032},1.68,"шт",null,0,0]
[null,509000630402,"Переходное кольцо ПВХ клеевое 63x40 PIMTAS",16,"Фитинги","RUB",{"$f":"IFERROR(I270*Оглавление!$E$23,\"по запросу\")","v":201.48239999999996},{"$f":"IFERROR(G270*(1-Оглавление!$D$29),\"по запросу\")","v":201.48239999999996},2.0099999999999998,"шт",null,0,0]
[null,509000630502,"Переходное кольцо ПВХ клеевое 63x50 PIMTAS",16,"Фитинги","RUB",{"$f":"IFERROR(I271*Оглавление!$E$23,\"по запросу\")","v":121.29039999999999},{"$f":"IFERROR(G271*(1-Оглавление!$D$29),\"по запросу\")","v":121.29039999999999},1.21,"шт",null,0,0]
[null,509000750322,"Переходное кольцо ПВХ клеевое 75x32 PIMTAS",16,"Фитинги","RUB",{"$f":"IFERROR(I272*Оглавление!$E$23,\"по запросу\")","v":"по запросу"},{"$f":"IFERROR(G272*(1-Оглавление!$D$29),\"по запросу\")","v":"по запросу"},"по запросу","шт",null,"0 ₽","0 ₽"]
[null,509000750402,"Переходное кольцо ПВХ клеевое 75x40 PIMTAS",16,"Фитинги","RUB",{"$f":"IFERROR(I273*Оглавление!$E$23,\"по запросу\")","v":258.61919999999998},{"$f":"IFERROR(G273*(1-Оглавление!$D$29),\"по запросу\")","v":258.61919999999998},2.58,"шт",null,0,0]
[null,509000750502,"Переходное кольцо ПВХ клеевое 75x50 PIMTAS",16,"Фитинги","RUB",{"$f":"IFERROR(I274*Оглавление!$E$23,\"по запросу\")","v":175.42},{"$f":"IFERROR(G274*(1-Оглавление!$D$29),\"по запросу\")","v":175.42},1.75,"шт",null,0,0]
[null,509000750632,"Переходное кольцо ПВХ клеевое 75x63 PIMTAS",16,"Фитинги","RUB",{"$f":"IFERROR(I275*Оглавление!$E$23,\"по запросу\")","v":119.28559999999999},{"$f":"IFERROR(G275*(1-Оглавление!$D$29),\"по запросу\")","v":119.28559999999999},1.19,"шт",null,0,0]
[null,509000900322,"Переходное кольцо ПВХ клеевое 90x32 PIMTAS",16,"Фитинги","RUB",{"$f":"IFERROR(I276*Оглавление!$E$23,\"по запросу\")","v":390.93599999999998},{"$f":"IFERROR(G276*(1-Оглавление!$D$29),\"по запросу\")","v":390.93599999999998},3.9,"шт",null,0,0]
[null,509000900502,"Переходное кольцо ПВХ клеевое 90x50 PIMTAS",16,"Фитинги","RUB",{"$f":"IFERROR(I277*Оглавление!$E$23,\"по запросу\")","v":323.77519999999998},{"$f":"IFERROR(G277*(1-Оглавление!$D$29),\"по запросу\")","v":323.77519999999998},3.23,"шт",null,0,0]
[null,509000900632,"Переходное кольцо ПВХ клеевое 90x63 PIMTAS",16,"Фитинги","RUB",{"$f":"IFERROR(I278*Оглавление!$E$23,\"по запросу\")","v":209.50159999999997},{"$f":"IFERROR(G278*(1-Оглавление!$D$29),\"по запросу\")","v":209.50159999999997},2.09,"шт",null,0,0]
[null,509000900752,"Переходное кольцо ПВХ клеевое 90x75 PIMTAS",16,"Фитинги","RUB",{"$f":"IFERROR(I279*Оглавление!$E$23,\"по запросу\")","v":173.4152},{"$f":"IFERROR(G279*(1-Оглавление!$D$29),\"по запросу\")","v":173.4152},1.73,"шт",null,0,0]
[null,509001100502,"Переходное кольцо ПВХ клеевое 110x50 PIMTAS",16,"Фитинги","RUB",{"$f":"IFERROR(I280*Оглавление!$E$23,\"по запросу\")","v":512.22640000000001},{"$f":"IFERROR(G280*(1-Оглавление!$D$29),\"по запросу\")","v":512.22640000000001},5.1100000000000003,"шт",null,0,0]
[null,509001100632,"Переходное кольцо ПВХ клеевое 110x63 PIMTAS",16,"Фитинги","RUB",{"$f":"IFERROR(I281*Оглавление!$E$23,\"по запросу\")","v":512.22640000000001},{"$f":"IFERROR(G281*(1-Оглавление!$D$29),\"по запросу\")","v":512.22640000000001},5.1100000000000003,"шт",null,0,0]
[null,509001100752,"Переходное кольцо ПВХ клеевое 110x75 PIMTAS",16,"Фитинги","RUB",{"$f":"IFERROR(I282*Оглавление!$E$23,\"по запросу\")","v":481.15199999999993},{"$f":"IFERROR(G282*(1-Оглавление!$D$29),\"по запросу\")","v":481.15199999999993},4.8,"шт",null,0,0]
[null,509001100902,"Переходное кольцо ПВХ клеевое 110x90 PIMTAS",16,"Фитинги","RUB",{"$f":"IFERROR(I283*Оглавление!$E$23,\"по запросу\")","v":410.98399999999992},{"$f":"IFERROR(G283*(1-Оглавление!$D$29),\"по запросу\")","v":410.98399999999992},4.0999999999999996,"шт",null,0,0]
[null,509001250632,"Переходное кольцо ПВХ клеевое 125x63 PIMTAS",16,"Фитинги","RUB",{"$f":"IFERROR(I284*Оглавление!$E$23,\"по запросу\")","v":898.15039999999999},{"$f":"IFERROR(G284*(1-Оглавление!$D$29),\"по запросу\")","v":898.15039999999999},8.9600000000000009,"шт",null,0,0]
[null,509001250752,"Переходное кольцо ПВХ клеевое 125x75 PIMTAS",16,"Фитинги","RUB",{"$f":"IFERROR(I285*Оглавление!$E$23,\"по запросу\")","v":869.08079999999995},{"$f":"IFERROR(G285*(1-Оглавление!$D$29),\"по запросу\")","v":869.08079999999995},8.67,"шт",null,0,0]
[null,509001250902,"Переходное кольцо ПВХ клеевое 125x90 PIMTAS",16,"Фитинги","RUB",{"$f":"IFERROR(I286*Оглавление!$E$23,\"по запросу\")","v":682.63439999999991},{"$f":"IFERROR(G286*(1-Оглавление!$D$29),\"по запросу\")","v":682.63439999999991},6.81,"шт",null,0,0]
[null,509001251102,"Переходное кольцо ПВХ клеевое 125x110 PIMTAS",16,"Фитинги","RUB",{"$f":"IFERROR(I287*Оглавление!$E$23,\"по запросу\")","v":390.93599999999998},{"$f":"IFERROR(G287*(1-Оглавление!$D$29),\"по запросу\")","v":390.93599999999998},3.9,"шт",null,0,0]
[null,509001400632,"Переходное кольцо ПВХ клеевое 140x63 PIMTAS",16,"Фитинги","RUB",{"$f":"IFERROR(I288*Оглавление!$E$23,\"по запросу\")","v":1451.4751999999999},{"$f":"IFERROR(G288*(1-Оглавление!$D$29),\"по запросу\")","v":1451.4751999999999},14.48,"шт",null,0,0]
[null,509001400752,"Переходное кольцо ПВХ клеевое 140x75 PIMTAS",16,"Фитинги","RUB",{"$f":"IFERROR(I289*Оглавление!$E$23,\"по запросу\")","v":1366.2711999999999},{"$f":"IFERROR(G289*(1-Оглавление!$D$29),\"по запросу\")","v":1366.2711999999999},13.63,"шт",null,0,0]
[null,509001400902,"Переходное кольцо ПВХ клеевое 140x90 PIMTAS",16,"Фитинги","RUB",{"$f":"IFERROR(I290*Оглавление!$E$23,\"по запросу\")","v":1068.5583999999999},{"$f":"IFERROR(G290*(1-Оглавление!$D$29),\"по запросу\")","v":1068.5583999999999},10.66,"шт",null,0,0]
[null,509001401102,"Переходное кольцо ПВХ клеевое 140x110 PIMTAS",16,"Фитинги","RUB",{"$f":"IFERROR(I291*Оглавление!$E$23,\"по запросу\")","v":708.69679999999994},{"$f":"IFERROR(G291*(1-Оглавление!$D$29),\"по запросу\")","v":708.69679999999994},7.07,"шт",null,0,0]
[null,509001401252,"Переходное кольцо ПВХ клеевое 140x125 PIMTAS",16,"Фитинги","RUB",{"$f":"IFERROR(I292*Оглавление!$E$23,\"по запросу\")","v":476.14},{"$f":"IFERROR(G292*(1-Оглавление!$D$29),\"по запросу\")","v":476.14},4.75,"шт",null,0,0]
[null,509001600902,"Переходное кольцо ПВХ клеевое 160x90 PIMTAS",16,"Фитинги","RUB",{"$f":"IFERROR(I293*Оглавление!$E$23,\"по запросу\")","v":1621.8832},{"$f":"IFERROR(G293*(1-Оглавление!$D$29),\"по запросу\")","v":1621.8832},16.18,"шт",null,0,0]
[null,509001601102,"Переходное кольцо ПВХ клеевое 160x110 PIMTAS",16,"Фитинги","RUB",{"$f":"IFERROR(I294*Оглавление!$E$23,\"по запросу\")","v":1166.7936},{"$f":"IFERROR(G294*(1-Оглавление!$D$29),\"по запросу\")","v":1166.7936},11.64,"шт",null,0,0]
[null,509001601402,"Переходное кольцо ПВХ клеевое 160x140 PIMTAS",16,"Фитинги","RUB",{"$f":"IFERROR(I295*Оглавление!$E$23,\"по запросу\")","v":626.5},{"$f":"IFERROR(G295*(1-Оглавление!$D$29),\"по запросу\")","v":626.5},6.25,"шт",null,0,0]
[null,509002001602,"Переходное кольцо ПВХ клеевое 200x160 PIMTAS",16,"Фитинги","RUB",{"$f":"IFERROR(I296*Оглавление!$E$23,\"по запросу\")","v":1780.2624000000001},{"$f":"IFERROR(G296*(1-Оглавление!$D$29),\"по запросу\")","v":1780.2624000000001},17.760000000000002,"шт",null,0,0]
[null,509002252002,"Переходное кольцо ПВХ клеевое 225x200 PIMTAS",16,"Фитинги","RUB",{"$f":"IFERROR(I297*Оглавление!$E$23,\"по запросу\")","v":2134.1095999999998},{"$f":"IFERROR(G297*(1-Оглавление!$D$29),\"по запросу\")","v":2134.1095999999998},21.29,"шт",null,0,0]
[null,509002502002,"Переходное кольцо ПВХ клеевое 250x200 PIMTAS",16,"Фитинги","RUB",{"$f":"IFERROR(I298*Оглавление!$E$23,\"по запросу\")","v":7243.3424000000005},{"$f":"IFERROR(G298*(1-Оглавление!$D$29),\"по запросу\")","v":7243.3424000000005},72.260000000000005,"шт",null,0,0]
[null,509002502252,"Переходное кольцо ПВХ клеевое 250x225 PIMTAS",16,"Фитинги","RUB",{"$f":"IFERROR(I299*Оглавление!$E$23,\"по запросу\")","v":5109.2327999999998},{"$f":"IFERROR(G299*(1-Оглавление!$D$29),\"по запросу\")","v":5109.2327999999998},50.97,"шт",null,0,0]
[null,509002802502,"Переходное кольцо ПВХ клеевое 280x250 PIMTAS",16,"Фитинги","RUB",{"$f":"IFERROR(I300*Оглавление!$E$23,\"по запросу\")","v":6531.6383999999989},{"$f":"IFERROR(G300*(1-Оглавление!$D$29),\"по запросу\")","v":6531.6383999999989},65.16,"шт",null,0,0]
[null,509003152802,"Переходное кольцо ПВХ клеевое 315x280 PIMTAS",16,"Фитинги","RUB",{"$f":"IFERROR(I301*Оглавление!$E$23,\"по запросу\")","v":9817.5055999999986},{"$f":"IFERROR(G301*(1-Оглавление!$D$29),\"по запросу\")","v":9817.5055999999986},97.94,"шт",null,0,0]
[null,509003552805,"Переходное кольцо ПВХ клеевое 355x280 PIMTAS",16,"Фитинги","RUB",{"$f":"IFERROR(I302*Оглавление!$E$23,\"по запросу\")","v":"по запросу"},{"$f":"IFERROR(G302*(1-Оглавление!$D$29),\"по запросу\")","v":"по запросу"},"по запросу","шт",null,"0 ₽","0 ₽"]
[null,509003553155,"Переходное кольцо ПВХ клеевое 355x315 PIMTAS",16,"Фитинги","RUB",{"$f":"IFERROR(I303*Оглавление!$E$23,\"по запросу\")","v":"по запросу"},{"$f":"IFERROR(G303*(1-Оглавление!$D$29),\"по запросу\")","v":"по запросу"},"по запросу","шт",null,"0 ₽","0 ₽"]
[null,509004002805,"Переходное кольцо ПВХ клеевое 400x280 PIMTAS",16,"Фитинги","RUB",{"$f":"IFERROR(I304*Оглавление!$E$23,\"по запросу\")","v":"по запросу"},{"$f":"IFERROR(G304*(1-Оглавление!$D$29),\"по запросу\")","v":"по запросу"},"по запросу","шт",null,"0 ₽","0 ₽"]
[null,509004003155,"Переходное кольцо ПВХ клеевое 400x315 PIMTAS",16,"Фитинги","RUB",{"$f":"IFERROR(I305*Оглавление!$E$23,\"по запросу\")","v":"по запросу"},{"$f":"IFERROR(G305*(1-Оглавление!$D$29),\"по запросу\")","v":"по запросу"},"по запросу","шт",null,"0 ₽","0 ₽"]
[null,509004003555,"Переходное кольцо ПВХ клеевое 400x355 PIMTAS",16,"Фитинги","RUB",{"$f":"IFERROR(I306*Оглавление!$E$23,\"по запросу\")","v":"по запросу"},{"$f":"IFERROR(G306*(1-Оглавление!$D$29),\"по запросу\")","v":"по запросу"},"по запросу","шт",null,"0 ₽","0 ₽"]
[null,512000162,"Бурт под фланец ПВХ клеевой 16 PIMTAS",16,"Фитинги","RUB",{"$f":"IFERROR(I307*Оглавление!$E$23,\"по запросу\")","v":194.46559999999999},{"$f":"IFERROR(G307*(1-Оглавление!$D$29),\"по запросу\")","v":194.46559999999999},1.94,"шт",null,0,0]
[null,512000202,"Бурт под фланец ПВХ клеевой 20 PIMTAS",16,"Фитинги","RUB",{"$f":"IFERROR(I308*Оглавление!$E$23,\"по запросу\")","v":142.34079999999997},{"$f":"IFERROR(G308*(1-Оглавление!$D$29),\"по запросу\")","v":142.34079999999997},1.42,"шт",null,0,0]
[null,512000252,"Бурт под фланец ПВХ клеевой 25 PIMTAS",16,"Фитинги","RUB",{"$f":"IFERROR(I309*Оглавление!$E$23,\"по запросу\")","v":142.34079999999997},{"$f":"IFERROR(G309*(1-Оглавление!$D$29),\"по запросу\")","v":142.34079999999997},1.42,"шт",null,0,0]
[null,512000322,"Бурт под фланец ПВХ клеевой 32 PIMTAS",16,"Фитинги","RUB",{"$f":"IFERROR(I310*Оглавление!$E$23,\"по запросу\")","v":181.43439999999998},{"$f":"IFERROR(G310*(1-Оглавление!$D$29),\"по запросу\")","v":181.43439999999998},1.81,"шт",null,0,0]
[null,512000402,"Бурт под фланец ПВХ клеевой 40 PIMTAS",16,"Фитинги","RUB",{"$f":"IFERROR(I311*Оглавление!$E$23,\"по запросу\")","v":214.5136},{"$f":"IFERROR(G311*(1-Оглавление!$D$29),\"по запросу\")","v":214.5136},2.14,"шт",null,0,0]
[null,512000502,"Бурт под фланец ПВХ клеевой 50 PIMTAS",16,"Фитинги","RUB",{"$f":"IFERROR(I312*Оглавление!$E$23,\"по запросу\")","v":214.5136},{"$f":"IFERROR(G312*(1-Оглавление!$D$29),\"по запросу\")","v":214.5136},2.14,"шт",null,0,0]
[null,512000632,"Бурт под фланец ПВХ клеевой 63 PIMTAS",16,"Фитинги","RUB",{"$f":"IFERROR(I313*Оглавление!$E$23,\"по запросу\")","v":219.5256},{"$f":"IFERROR(G313*(1-Оглавление!$D$29),\"по запросу\")","v":219.5256},2.19,"шт",null,0,0]
[null,512000752,"Бурт под фланец ПВХ клеевой 75 PIMTAS",16,"Фитинги","RUB",{"$f":"IFERROR(I314*Оглавление!$E$23,\"по запросу\")","v":271.65039999999999},{"$f":"IFERROR(G314*(1-Оглавление!$D$29),\"по запросу\")","v":271.65039999999999},2.71,"шт",null,0,0]
[null,512000902,"Бурт под фланец ПВХ клеевой 90 PIMTAS",16,"Фитинги","RUB",{"$f":"IFERROR(I315*Оглавление!$E$23,\"по запросу\")","v":354.84960000000001},{"$f":"IFERROR(G315*(1-Оглавление!$D$29),\"по запросу\")","v":354.84960000000001},3.54,"шт",null,0,0]
[null,512001102,"Бурт под фланец ПВХ клеевой 110 PIMTAS",16,"Фитинги","RUB",{"$f":"IFERROR(I316*Оглавление!$E$23,\"по запросу\")","v":561.34399999999994},{"$f":"IFERROR(G316*(1-Оглавление!$D$29),\"по запросу\")","v":561.34399999999994},5.6,"шт",null,0,0]
[null,512001252,"Бурт под фланец ПВХ клеевой 125 PIMTAS",16,"Фитинги","RUB",{"$f":"IFERROR(I317*Оглавление!$E$23,\"по запросу\")","v":783.8768},{"$f":"IFERROR(G317*(1-Оглавление!$D$29),\"по запросу\")","v":783.8768},7.82,"шт",null,0,0]
[null,512001402,"Бурт под фланец ПВХ клеевой 140 PIMTAS",16,"Фитинги","RUB",{"$f":"IFERROR(I318*Оглавление!$E$23,\"по запросу\")","v":1024.4528},{"$f":"IFERROR(G318*(1-Оглавление!$D$29),\"по запросу\")","v":1024.4528},10.220000000000001,"шт",null,0,0]
[null,512001602,"Бурт под фланец ПВХ клеевой 160 PIMTAS",16,"Фитинги","RUB",{"$f":"IFERROR(I319*Оглавление!$E$23,\"по запросу\")","v":1502.5976000000001},{"$f":"IFERROR(G319*(1-Оглавление!$D$29),\"по запросу\")","v":1502.5976000000001},14.99,"шт",null,0,0]
[null,512002002,"Бурт под фланец ПВХ клеевой 200 PIMTAS",16,"Фитинги","RUB",{"$f":"IFERROR(I320*Оглавление!$E$23,\"по запросу\")","v":2111.0544},{"$f":"IFERROR(G320*(1-Оглавление!$D$29),\"по запросу\")","v":2111.0544},21.06,"шт",null,0,0]
[null,512002252,"Бурт под фланец ПВХ клеевой 225 PIMTAS",16,"Фитинги","RUB",{"$f":"IFERROR(I321*Оглавление!$E$23,\"по запросу\")","v":2292.4888000000001},{"$f":"IFERROR(G321*(1-Оглавление!$D$29),\"по запросу\")","v":2292.4888000000001},22.87,"шт",null,0,0]
[null,512002502,"Бурт под фланец ПВХ клеевой 250 PIMTAS",10,"Фитинги","RUB",{"$f":"IFERROR(I322*Оглавление!$E$23,\"по запросу\")","v":9390.4832000000006},{"$f":"IFERROR(G322*(1-Оглавление!$D$29),\"по запросу\")","v":9390.4832000000006},93.68,"шт",null,0,0]
[null,512002802,"Бурт под фланец ПВХ клеевой 280 PIMTAS",10,"Фитинги","RUB",{"$f":"IFERROR(I323*Оглавление!$E$23,\"по запросу\")","v":9675.1647999999986},{"$f":"IFERROR(G323*(1-Оглавление!$D$29),\"по запросу\")","v":9675.1647999999986},96.52,"шт",null,0,0]
[null,512003152,"Бурт под фланец ПВХ клеевой 315 PIMTAS",10,"Фитинги","RUB",{"$f":"IFERROR(I324*Оглавление!$E$23,\"по запросу\")","v":14085.7248},{"$f":"IFERROR(G324*(1-Оглавление!$D$29),\"по запросу\")","v":14085.7248},140.52000000000001,"шт",null,0,0]
[null,512003555,"Бурт под фланец ПВХ клеевой 355 PIMTAS",10,"Фитинги","RUB",{"$f":"IFERROR(I325*Оглавление!$E$23,\"по запросу\")","v":"по запросу"},{"$f":"IFERROR(G325*(1-Оглавление!$D$29),\"по запросу\")","v":"по запросу"},"по запросу","шт",null,"0 ₽","0 ₽"]
[null,512004004,"Бурт под фланец ПВХ клеевой 400 PIMTAS",4,"Фитинги","RUB",{"$f":"IFERROR(I326*Оглавление!$E$23,\"по запросу\")","v":"по запросу"},{"$f":"IFERROR(G326*(1-Оглавление!$D$29),\"по запросу\")","v":"по запросу"},"по запросу","шт",null,"0 ₽","0 ₽"]
[null,512004505,"Бурт под фланец ПВХ клеевой 450 PIMTAS",4,"Фитинги","RUB",{"$f":"IFERROR(I327*Оглавление!$E$23,\"по запросу\")","v":"по запросу"},{"$f":"IFERROR(G327*(1-Оглавление!$D$29),\"по запросу\")","v":"по запросу"},"по запросу","шт",null,"0 ₽","0 ₽"]
[null,512005005,"Бурт под фланец ПВХ клеевой 500 PIMTAS",4,"Фитинги","RUB",{"$f":"IFERROR(I328*Оглавление!$E$23,\"по запросу\")","v":"по запросу"},{"$f":"IFERROR(G328*(1-Оглавление!$D$29),\"по запросу\")","v":"по запросу"},"по запросу","шт",null,"0 ₽","0 ₽"]
[null,512500202,"Жесткий фланец ПВХ клеевой 20 PIMTAS",16,"Фитинги","RUB",{"$f":"IFERROR(I329*Оглавление!$E$23,\"по запросу\")","v":419.00319999999994},{"$f":"IFERROR(G329*(1-Оглавление!$D$29),\"по запросу\")","v":419.00319999999994},4.18,"шт",null,0,0]
[null,512500252,"Жесткий фланец ПВХ клеевой 25 PIMTAS",16,"Фитинги","RUB",{"$f":"IFERROR(I330*Оглавление!$E$23,\"по запросу\")","v":419.00319999999994},{"$f":"IFERROR(G330*(1-Оглавление!$D$29),\"по запросу\")","v":419.00319999999994},4.18,"шт",null,{"$f":"IFERROR(K330*G330,\"0 ₽\")","v":0},{"$f":"IFERROR(K330*H330,\"0 ₽\")","v":0}]
[null,512500322,"Жесткий фланец ПВХ клеевой 32 PIMTAS",16,"Фитинги","RUB",{"$f":"IFERROR(I331*Оглавление!$E$23,\"по запросу\")","v":491.17599999999999},{"$f":"IFERROR(G331*(1-Оглавление!$D$29),\"по запросу\")","v":491.17599999999999},4.9000000000000004,"шт",null,0,0]
[null,512500402,"Жесткий фланец ПВХ клеевой 40 PIMTAS",16,"Фитинги","RUB",{"$f":"IFERROR(I332*Оглавление!$E$23,\"по запросу\")","v":592.41840000000002},{"$f":"IFERROR(G332*(1-Оглавление!$D$29),\"по запросу\")","v":592.41840000000002},5.91,"шт",null,0,0]
[null,512500502,"Жесткий фланец ПВХ клеевой 50 PIMTAS",16,"Фитинги","RUB",{"$f":"IFERROR(I333*Оглавление!$E$23,\"по запросу\")","v":592.41840000000002},{"$f":"IFERROR(G333*(1-Оглавление!$D$29),\"по запросу\")","v":592.41840000000002},5.91,"шт",null,0,0]
[null,512500632,"Жесткий фланец ПВХ клеевой 63 PIMTAS",16,"Фитинги","RUB",{"$f":"IFERROR(I334*Оглавление!$E$23,\"по запросу\")","v":636.52399999999989},{"$f":"IFERROR(G334*(1-Оглавление!$D$29),\"по запросу\")","v":636.52399999999989},6.35,"шт",null,0,0]
[null,512500752,"Жесткий фланец ПВХ клеевой 75 PIMTAS",16,"Фитинги","RUB",{"$f":"IFERROR(I335*Оглавление!$E$23,\"по запросу\")","v":814.95120000000009},{"$f":"IFERROR(G335*(1-Оглавление!$D$29),\"по запросу\")","v":814.95120000000009},8.1300000000000008,"шт",null,0,0]
[null,512500902,"Жесткий фланец ПВХ клеевой 90 PIMTAS",16,"Фитинги","RUB",{"$f":"IFERROR(I336*Оглавление!$E$23,\"по запросу\")","v":957.29200000000003},{"$f":"IFERROR(G336*(1-Оглавление!$D$29),\"по запросу\")","v":957.29200000000003},9.5500000000000007,"шт",null,0,0]
[null,512501102,"Жесткий фланец ПВХ клеевой 110 PIMTAS",16,"Фитинги","RUB",{"$f":"IFERROR(I337*Оглавление!$E$23,\"по запросу\")","v":1192.856},{"$f":"IFERROR(G337*(1-Оглавление!$D$29),\"по запросу\")","v":1192.856},11.9,"шт",null,0,0]
[null,512501252,"Жесткий фланец ПВХ клеевой 125 PIMTAS",16,"Фитинги","RUB",{"$f":"IFERROR(I338*Оглавление!$E$23,\"по запросу\")","v":1660.9767999999999},{"$f":"IFERROR(G338*(1-Оглавление!$D$29),\"по запросу\")","v":1660.9767999999999},16.57,"шт",null,0,0]
[null,512501402,"Жесткий фланец ПВХ клеевой 140 PIMTAS",16,"Фитинги","RUB",{"$f":"IFERROR(I339*Оглавление!$E$23,\"по запросу\")","v":1880.5024000000001},{"$f":"IFERROR(G339*(1-Оглавление!$D$29),\"по запросу\")","v":1880.5024000000001},18.760000000000002,"шт",null,0,0]
[null,512501602,"Жесткий фланец ПВХ клеевой 160 PIMTAS",16,"Фитинги","RUB",{"$f":"IFERROR(I340*Оглавление!$E$23,\"по запросу\")","v":2646.3359999999998},{"$f":"IFERROR(G340*(1-Оглавление!$D$29),\"по запросу\")","v":2646.3359999999998},26.4,"шт",null,0,0]
[null,512502002,"Жесткий фланец ПВХ клеевой 200 PIMTAS",16,"Фитинги","RUB",{"$f":"IFERROR(I341*Оглавление!$E$23,\"по запросу\")","v":4581.9704000000002},{"$f":"IFERROR(G341*(1-Оглавление!$D$29),\"по запросу\")","v":4581.9704000000002},45.71,"шт",null,0,0]
[null,513000202,"Свободный фланец ПВХ 20 PIMTAS",16,"Фитинги","RUB",{"$f":"IFERROR(I342*Оглавление!$E$23,\"по запросу\")","v":297.71280000000002},{"$f":"IFERROR(G342*(1-Оглавление!$D$29),\"по запросу\")","v":297.71280000000002},2.97,"шт",null,0,0]
[null,513000252,"Свободный фланец ПВХ 25 PIMTAS",16,"Фитинги","RUB",{"$f":"IFERROR(I343*Оглавление!$E$23,\"по запросу\")","v":297.71280000000002},{"$f":"IFERROR(G343*(1-Оглавление!$D$29),\"по запросу\")","v":297.71280000000002},2.97,"шт",null,0,0]
[null,513000322,"Свободный фланец ПВХ 32 PIMTAS",16,"Фитинги","RUB",{"$f":"IFERROR(I344*Оглавление!$E$23,\"по запросу\")","v":335.80399999999997},{"$f":"IFERROR(G344*(1-Оглавление!$D$29),\"по запросу\")","v":335.80399999999997},3.35,"шт",null,0,0]
[null,513000402,"Свободный фланец ПВХ 40 PIMTAS",16,"Фитинги","RUB",{"$f":"IFERROR(I345*Оглавление!$E$23,\"по запросу\")","v":408.97919999999999},{"$f":"IFERROR(G345*(1-Оглавление!$D$29),\"по запросу\")","v":408.97919999999999},4.08,"шт",null,0,0]
[null,513000502,"Свободный фланец ПВХ 50 PIMTAS",16,"Фитинги","RUB",{"$f":"IFERROR(I346*Оглавление!$E$23,\"по запросу\")","v":408.97919999999999},{"$f":"IFERROR(G346*(1-Оглавление!$D$29),\"по запросу\")","v":408.97919999999999},4.08,"шт",null,0,0]
[null,513000632,"Свободный фланец ПВХ 63 PIMTAS",16,"Фитинги","RUB",{"$f":"IFERROR(I347*Оглавление!$E$23,\"по запросу\")","v":447.07039999999995},{"$f":"IFERROR(G347*(1-Оглавление!$D$29),\"по запросу\")","v":447.07039999999995},4.46,"шт",null,0,0]
[null,513000752,"Свободный фланец ПВХ 75 PIMTAS",16,"Фитинги","RUB",{"$f":"IFERROR(I348*Оглавление!$E$23,\"по запросу\")","v":584.39919999999995},{"$f":"IFERROR(G348*(1-Оглавление!$D$29),\"по запросу\")","v":584.39919999999995},5.83,"шт",null,0,0]
[null,513000902,"Свободный фланец ПВХ 90 PIMTAS",16,"Фитинги","RUB",{"$f":"IFERROR(I349*Оглавление!$E$23,\"по запросу\")","v":651.55999999999995},{"$f":"IFERROR(G349*(1-Оглавление!$D$29),\"по запросу\")","v":651.55999999999995},6.5,"шт",null,0,0]
[null,513001102,"Свободный фланец ПВХ 110 PIMTAS",16,"Фитинги","RUB",{"$f":"IFERROR(I350*Оглавление!$E$23,\"по запросу\")","v":693.66079999999999},{"$f":"IFERROR(G350*(1-Оглавление!$D$29),\"по запросу\")","v":693.66079999999999},6.92,"шт",null,0,0]
[null,513001252,"Свободный фланец ПВХ 125 PIMTAS",16,"Фитинги","RUB",{"$f":"IFERROR(I351*Оглавление!$E$23,\"по запросу\")","v":965.31119999999999},{"$f":"IFERROR(G351*(1-Оглавление!$D$29),\"по запросу\")","v":965.31119999999999},9.6300000000000008,"шт",null,0,0]
[null,513001402,"Свободный фланец ПВХ 140 PIMTAS",16,"Фитинги","RUB",{"$f":"IFERROR(I352*Оглавление!$E$23,\"по запросу\")","v":954.2847999999999},{"$f":"IFERROR(G352*(1-Оглавление!$D$29),\"по запросу\")","v":954.2847999999999},9.52,"шт",null,0,0]
[null,513001602,"Свободный фланец ПВХ 160 PIMTAS",16,"Фитинги","RUB",{"$f":"IFERROR(I353*Оглавление!$E$23,\"по запросу\")","v":1280.0647999999999},{"$f":"IFERROR(G353*(1-Оглавление!$D$29),\"по запросу\")","v":1280.0647999999999},12.77,"шт",null,0,0]
[null,513002002,"Свободный фланец ПВХ 200 PIMTAS",16,"Фитинги","RUB",{"$f":"IFERROR(I354*Оглавление!$E$23,\"по запросу\")","v":2470.9159999999997},{"$f":"IFERROR(G354*(1-Оглавление!$D$29),\"по запросу\")","v":2470.9159999999997},24.65,"шт",null,0,0]
[null,513002252,"Свободный фланец ПВХ 225 PIMTAS",16,"Фитинги","RUB",{"$f":"IFERROR(I355*Оглавление!$E$23,\"по запросу\")","v":2470.9159999999997},{"$f":"IFERROR(G355*(1-Оглавление!$D$29),\"по запросу\")","v":2470.9159999999997},24.65,"шт",null,0,0]
[null,513002502,"Свободный фланец ПВХ 250 PIMTAS",16,"Фитинги","RUB",{"$f":"IFERROR(I356*Оглавление!$E$23,\"по запросу\")","v":11951.6152},{"$f":"IFERROR(G356*(1-Оглавление!$D$29),\"по запросу\")","v":11951.6152},119.23,"шт",null,0,0]
[null,513002802,"Свободный фланец ПВХ 280 PIMTAS",10,"Фитинги","RUB",{"$f":"IFERROR(I357*Оглавление!$E$23,\"по запросу\")","v":9560.8911999999982},{"$f":"IFERROR(G357*(1-Оглавление!$D$29),\"по запросу\")","v":9560.8911999999982},95.38,"шт",null,0,0]
[null,513003152,"Свободный фланец ПВХ 315 PIMTAS",10,"Фитинги","RUB",{"$f":"IFERROR(I358*Оглавление!$E$23,\"по запросу\")","v":12130.0424},{"$f":"IFERROR(G358*(1-Оглавление!$D$29),\"по запросу\")","v":12130.0424},121.01,"шт",null,0,0]
[null,513003554,"Свободный фланец ПВХ 355 PIMTAS",10,"Фитинги","RUB",{"$f":"IFERROR(I359*Оглавление!$E$23,\"по запросу\")","v":"по запросу"},{"$f":"IFERROR(G359*(1-Оглавление!$D$29),\"по запросу\")","v":"по запросу"},"по запросу","шт",null,"0 ₽","0 ₽"]
[null,513004004,"Свободный фланец ПВХ 400 PIMTAS",10,"Фитинги","RUB",{"$f":"IFERROR(I360*Оглавление!$E$23,\"по запросу\")","v":"по запросу"},{"$f":"IFERROR(G360*(1-Оглавление!$D$29),\"по запросу\")","v":"по запросу"},"по запросу","шт",null,"0 ₽","0 ₽"]
[null,513004505,"Свободный фланец ПВХ 450 PIMTAS",10,"Фитинги","RUB",{"$f":"IFERROR(I361*Оглавление!$E$23,\"по запросу\")","v":"по запросу"},{"$f":"IFERROR(G361*(1-Оглавление!$D$29),\"по запросу\")","v":"по запросу"},"по запросу","шт",null,"0 ₽","0 ₽"]
[null,513005005,"Свободный фланец ПВХ 500 PIMTAS",10,"Фитинги","RUB",{"$f":"IFERROR(I362*Оглавление!$E$23,\"по запросу\")","v":"по запросу"},{"$f":"IFERROR(G362*(1-Оглавление!$D$29),\"по запросу\")","v":"по запросу"},"по запросу","шт",null,"0 ₽","0 ₽"]
[null,514000202,"Глухой фланец ПВХ 20 PIMTAS",16,"Фитинги","RUB",{"$f":"IFERROR(I363*Оглавление!$E$23,\"по запросу\")","v":915.19119999999998},{"$f":"IFERROR(G363*(1-Оглавление!$D$29),\"по запросу\")","v":915.19119999999998},9.1300000000000008,"шт",null,0,0]
[null,514000252,"Глухой фланец ПВХ 25 PIMTAS",16,"Фитинги","RUB",{"$f":"IFERROR(I364*Оглавление!$E$23,\"по запросу\")","v":1098.6304},{"$f":"IFERROR(G364*(1-Оглавление!$D$29),\"по запросу\")","v":1098.6304},10.96,"шт",null,0,0]
[null,514000322,"Глухой фланец ПВХ 32 PIMTAS",16,"Фитинги","RUB",{"$f":"IFERROR(I365*Оглавление!$E$23,\"по запросу\")","v":1282.0695999999998},{"$f":"IFERROR(G365*(1-Оглавление!$D$29),\"по запросу\")","v":1282.0695999999998},12.79,"шт",null,0,0]
[null,514000402,"Глухой фланец ПВХ 40 PIMTAS",16,"Фитинги","RUB",{"$f":"IFERROR(I366*Оглавление!$E$23,\"по запросу\")","v":1611.8591999999996},{"$f":"IFERROR(G366*(1-Оглавление!$D$29),\"по запросу\")","v":1611.8591999999996},16.079999999999998,"шт",null,0,0]
[null,514000502,"Глухой фланец ПВХ 50 PIMTAS",16,"Фитинги","RUB",{"$f":"IFERROR(I367*Оглавление!$E$23,\"по запросу\")","v":1572.7655999999999},{"$f":"IFERROR(G367*(1-Оглавление!$D$29),\"по запросу\")","v":1572.7655999999999},15.69,"шт",null,0,0]
[null,514000632,"Глухой фланец ПВХ 63 PIMTAS",16,"Фитинги","RUB",{"$f":"IFERROR(I368*Оглавление!$E$23,\"по запросу\")","v":1736.1568},{"$f":"IFERROR(G368*(1-Оглавление!$D$29),\"по запросу\")","v":1736.1568},17.32,"шт",null,0,0]
[null,514000752,"Глухой фланец ПВХ 75 PIMTAS",16,"Фитинги","RUB",{"$f":"IFERROR(I369*Оглавление!$E$23,\"по запросу\")","v":1952.6751999999999},{"$f":"IFERROR(G369*(1-Оглавление!$D$29),\"по запросу\")","v":1952.6751999999999},19.48,"шт",null,0,0]
[null,514000902,"Глухой фланец ПВХ 90 PIMTAS",16,"Фитинги","RUB",{"$f":"IFERROR(I370*Оглавление!$E$23,\"по запросу\")","v":2116.0663999999997},{"$f":"IFERROR(G370*(1-Оглавление!$D$29),\"по запросу\")","v":2116.0663999999997},21.11,"шт",null,0,0]
[null,514001102,"Глухой фланец ПВХ 110 PIMTAS",16,"Фитинги","RUB",{"$f":"IFERROR(I371*Оглавление!$E$23,\"по запросу\")","v":2038.8815999999999},{"$f":"IFERROR(G371*(1-Оглавление!$D$29),\"по запросу\")","v":2038.8815999999999},20.34,"шт",null,0,0]
[null,514001252,"Глухой фланец ПВХ 125 PIMTAS",16,"Фитинги","RUB",{"$f":"IFERROR(I372*Оглавление!$E$23,\"по запросу\")","v":2747.5783999999999},{"$f":"IFERROR(G372*(1-Оглавление!$D$29),\"по запросу\")","v":2747.5783999999999},27.41,"шт",null,0,0]
[null,514001402,"Глухой фланец ПВХ 140 PIMTAS",16,"Фитинги","RUB",{"$f":"IFERROR(I373*Оглавление!$E$23,\"по запросу\")","v":2747.5783999999999},{"$f":"IFERROR(G373*(1-Оглавление!$D$29),\"по запросу\")","v":2747.5783999999999},27.41,"шт",null,0,0]
[null,514001602,"Глухой фланец ПВХ 160 PIMTAS",16,"Фитинги","RUB",{"$f":"IFERROR(I374*Оглавление!$E$23,\"по запросу\")","v":3841.1967999999997},{"$f":"IFERROR(G374*(1-Оглавление!$D$29),\"по запросу\")","v":3841.1967999999997},38.32,"шт",null,0,0]
[null,514002002,"Глухой фланец ПВХ 200 PIMTAS",16,"Фитинги","RUB",{"$f":"IFERROR(I375*Оглавление!$E$23,\"по запросу\")","v":10244.528},{"$f":"IFERROR(G375*(1-Оглавление!$D$29),\"по запросу\")","v":10244.528},102.2,"шт",null,0,0]
[null,514002252,"Глухой фланец ПВХ 225 PIMTAS",16,"Фитинги","RUB",{"$f":"IFERROR(I376*Оглавление!$E$23,\"по запросу\")","v":10244.528},{"$f":"IFERROR(G376*(1-Оглавление!$D$29),\"по запросу\")","v":10244.528},102.2,"шт",null,0,0]
[null,514002504,"Глухой фланец ПВХ 250 PIMTAS",16,"Фитинги","RUB",{"$f":"IFERROR(I377*Оглавление!$E$23,\"по запросу\")","v":33293.713599999995},{"$f":"IFERROR(G377*(1-Оглавление!$D$29),\"по запросу\")","v":33293.713599999995},332.14,"шт",null,0,0]
[null,514002804,"Глухой фланец ПВХ 280 PIMTAS",10,"Фитинги","RUB",{"$f":"IFERROR(I378*Оглавление!$E$23,\"по запросу\")","v":33293.713599999995},{"$f":"IFERROR(G378*(1-Оглавление!$D$29),\"по запросу\")","v":33293.713599999995},332.14,"шт",null,0,0]
[null,514003154,"Глухой фланец ПВХ 315 PIMTAS",10,"Фитинги","RUB",{"$f":"IFERROR(I379*Оглавление!$E$23,\"по запросу\")","v":43253.56},{"$f":"IFERROR(G379*(1-Оглавление!$D$29),\"по запросу\")","v":43253.56},431.5,"шт",null,0,0]
[null,514003554,"Глухой фланец ПВХ 355 PIMTAS",10,"Фитинги","RUB",{"$f":"IFERROR(I380*Оглавление!$E$23,\"по запросу\")","v":"по запросу"},{"$f":"IFERROR(G380*(1-Оглавление!$D$29),\"по запросу\")","v":"по запросу"},"по запросу","шт",null,"0 ₽","0 ₽"]
[null,514004004,"Глухой фланец ПВХ 400 PIMTAS",10,"Фитинги","RUB",{"$f":"IFERROR(I381*Оглавление!$E$23,\"по запросу\")","v":"по запросу"},{"$f":"IFERROR(G381*(1-Оглавление!$D$29),\"по запросу\")","v":"по запросу"},"по запросу","шт",null,"0 ₽","0 ₽"]
[null,514004505,"Глухой фланец ПВХ 450 PIMTAS",10,"Фитинги","RUB",{"$f":"IFERROR(I382*Оглавление!$E$23,\"по запросу\")","v":"по запросу"},{"$f":"IFERROR(G382*(1-Оглавление!$D$29),\"по запросу\")","v":"по запросу"},"по запросу","шт",null,"0 ₽","0 ₽"]
[null,514005005,"Глухой фланец ПВХ 500 PIMTAS",10,"Фитинги","RUB",{"$f":"IFERROR(I383*Оглавление!$E$23,\"по запросу\")","v":"по запросу"},{"$f":"IFERROR(G383*(1-Оглавление!$D$29),\"по запросу\")","v":"по запросу"},"по запросу","шт",null,"0 ₽","0 ₽"]
[null,528000205,"Соединитель с цистерной ПВХ клеевой 20 PIMTAS",10,"Фитинги","RUB",{"$f":"IFERROR(I384*Оглавление!$E$23,\"по запросу\")","v":1168.7983999999999},{"$f":"IFERROR(G384*(1-Оглавление!$D$29),\"по запросу\")","v":1168.7983999999999},11.66,"шт",null,0,0]
[null,528000255,"Соединитель с цистерной ПВХ клеевой 25 PIMTAS",10,"Фитинги","RUB",{"$f":"IFERROR(I385*Оглавление!$E$23,\"по запросу\")","v":1168.7983999999999},{"$f":"IFERROR(G385*(1-Оглавление!$D$29),\"по запросу\")","v":1168.7983999999999},11.66,"шт",null,0,0]
[null,528000325,"Соединитель с цистерной ПВХ клеевой 32 PIMTAS",10,"Фитинги","RUB",{"$f":"IFERROR(I386*Оглавление!$E$23,\"по запросу\")","v":1168.7983999999999},{"$f":"IFERROR(G386*(1-Оглавление!$D$29),\"по запросу\")","v":1168.7983999999999},11.66,"шт",null,0,0]
[null,528000405,"Соединитель с цистерной ПВХ клеевой 40 PIMTAS",10,"Фитинги","RUB",{"$f":"IFERROR(I387*Оглавление!$E$23,\"по запросу\")","v":1228.9423999999999},{"$f":"IFERROR(G387*(1-Оглавление!$D$29),\"по запросу\")","v":1228.9423999999999},12.26,"шт",null,0,0]
[null,528000505,"Соединитель с цистерной ПВХ клеевой 50 PIMTAS",10,"Фитинги","RUB",{"$f":"IFERROR(I388*Оглавление!$E$23,\"по запросу\")","v":3575.5608000000002},{"$f":"IFERROR(G388*(1-Оглавление!$D$29),\"по запросу\")","v":3575.5608000000002},35.67,"шт",null,0,0]
[null,528010505,"Соединитель с цистерной ПВХ клеевой 50 PIMTAS",10,"Фитинги","RUB",{"$f":"IFERROR(I389*Оглавление!$E$23,\"по запросу\")","v":"по запросу"},{"$f":"IFERROR(G389*(1-Оглавление!$D$29),\"по запросу\")","v":"по запросу"},"по запросу","шт",null,"0 ₽","0 ₽"]
[null,528000635,"Соединитель с цистерной ПВХ клеевой 63 PIMTAS",10,"Фитинги","RUB",{"$f":"IFERROR(I390*Оглавление!$E$23,\"по запросу\")","v":4904.7431999999999},{"$f":"IFERROR(G390*(1-Оглавление!$D$29),\"по запросу\")","v":4904.7431999999999},48.93,"шт",null,0,0]
[null,528000755,"Соединитель с цистерной ПВХ клеевой 75 PIMTAS",10,"Фитинги","RUB",{"$f":"IFERROR(I391*Оглавление!$E$23,\"по запросу\")","v":8148.5096000000003},{"$f":"IFERROR(G391*(1-Оглавление!$D$29),\"по запросу\")","v":8148.5096000000003},81.290000000000006,"шт",null,0,0]
[null,528000905,"Соединитель с цистерной ПВХ клеевой 90 PIMTAS",10,"Фитинги","RUB",{"$f":"IFERROR(I392*Оглавление!$E$23,\"по запросу\")","v":10865.0136},{"$f":"IFERROR(G392*(1-Оглавление!$D$29),\"по запросу\")","v":10865.0136},108.39,"шт",null,0,0]
[null,522000202,"Адаптер муфтовый двойной ПВХ клеевой НР 25x20x1/2\" PIMTAS",16,"Фитинги","RUB",{"$f":"IFERROR(I393*Оглавление!$E$23,\"по запросу\")","v":62.148799999999994},{"$f":"IFERROR(G393*(1-Оглавление!$D$29),\"по запросу\")","v":62.148799999999994},0.62,"шт",null,0,0]
[null,522000250,"Адаптер муфтовый двойной ПВХ клеевой НР 32x25x3/4\" PIMTAS",16,"Фитинги","RUB",{"$f":"IFERROR(I394*Оглавление!$E$23,\"по запросу\")","v":"по запросу"},{"$f":"IFERROR(G394*(1-Оглавление!$D$29),\"по запросу\")","v":"по запросу"},"по запросу","шт",null,{"$f":"IFERROR(K394*G394,\"0 ₽\")","v":"0 ₽"},{"$f":"IFERROR(K394*H394,\"0 ₽\")","v":"0 ₽"}]
[null,522000322,"Адаптер муфтовый двойной ПВХ клеевой НР 40x32x1\" PIMTAS",16,"Фитинги","RUB",{"$f":"IFERROR(I395*Оглавление!$E$23,\"по запросу\")","v":90.215999999999994},{"$f":"IFERROR(G395*(1-Оглавление!$D$29),\"по запросу\")","v":90.215999999999994},0.9,"шт",null,0,0]
[null,522000402,"Адаптер муфтовый двойной ПВХ клеевой НР 50x40x1 1/4\" PIMTAS",16,"Фитинги","RUB",{"$f":"IFERROR(I396*Оглавление!$E$23,\"по запросу\")","v":191.45839999999998},{"$f":"IFERROR(G396*(1-Оглавление!$D$29),\"по запросу\")","v":191.45839999999998},1.91,"шт",null,0,0]
[null,522000502,"Адаптер муфтовый двойной ПВХ клеевой НР 63x50x1 1/2\" PIMTAS",16,"Фитинги","RUB",{"$f":"IFERROR(I397*Оглавление!$E$23,\"по запросу\")","v":245.58799999999999},{"$f":"IFERROR(G397*(1-Оглавление!$D$29),\"по запросу\")","v":245.58799999999999},2.4500000000000002,"шт",null,0,0]
[null,522000632,"Адаптер муфтовый двойной ПВХ клеевой НР 75x63x2\" PIMTAS",16,"Фитинги","RUB",{"$f":"IFERROR(I398*Оглавление!$E$23,\"по запросу\")","v":366.8784},{"$f":"IFERROR(G398*(1-Оглавление!$D$29),\"по запросу\")","v":366.8784},3.66,"шт",null,0,0]
[null,522000752,"Адаптер муфтовый двойной ПВХ клеевой НР 90x75x2 1/2\" PIMTAS",16,"Фитинги","RUB",{"$f":"IFERROR(I399*Оглавление!$E$23,\"по запросу\")","v":502.20239999999995},{"$f":"IFERROR(G399*(1-Оглавление!$D$29),\"по запросу\")","v":502.20239999999995},5.01,"шт",null,0,0]
[null,522000902,"Адаптер муфтовый двойной ПВХ клеевой НР 110x90x3\" PIMTAS",16,"Фитинги","RUB",{"$f":"IFERROR(I400*Оглавление!$E$23,\"по запросу\")","v":856.04959999999983},{"$f":"IFERROR(G400*(1-Оглавление!$D$29),\"по запросу\")","v":856.04959999999983},8.5399999999999991,"шт",null,0,0]
[null,522001102,"Адаптер муфтовый двойной ПВХ клеевой НР 125x110x4\" PIMTAS",16,"Фитинги","RUB",{"$f":"IFERROR(I401*Оглавление!$E$23,\"по запросу\")","v":1099.6328000000001},{"$f":"IFERROR(G401*(1-Оглавление!$D$29),\"по запросу\")","v":1099.6328000000001},10.97,"шт",null,0,0]
[null,520000202,"Ниппель двусторонний ПВХ НР 1/2\" PIMTAS",16,"Фитинги","RUB",{"$f":"IFERROR(I402*Оглавление!$E$23,\"по запросу\")","v":85.203999999999994},{"$f":"IFERROR(G402*(1-Оглавление!$D$29),\"по запросу\")","v":85.203999999999994},0.85,"шт",null,0,0]
[null,520000252,"Ниппель двусторонний ПВХ НР 3/4\" PIMTAS",16,"Фитинги","RUB",{"$f":"IFERROR(I403*Оглавление!$E$23,\"по запросу\")","v":95.227999999999994},{"$f":"IFERROR(G403*(1-Оглавление!$D$29),\"по запросу\")","v":95.227999999999994},0.95,"шт",null,0,0]
[null,520000322,"Ниппель двусторонний ПВХ НР 1\" PIMTAS",16,"Фитинги","RUB",{"$f":"IFERROR(I404*Оглавление!$E$23,\"по запросу\")","v":114.27359999999999},{"$f":"IFERROR(G404*(1-Оглавление!$D$29),\"по запросу\")","v":114.27359999999999},1.1399999999999999,"шт",null,0,0]
[null,520000402,"Ниппель двусторонний ПВХ НР 1 1/4\" PIMTAS",16,"Фитинги","RUB",{"$f":"IFERROR(I405*Оглавление!$E$23,\"по запросу\")","v":178.4272},{"$f":"IFERROR(G405*(1-Оглавление!$D$29),\"по запросу\")","v":178.4272},1.78,"шт",null,0,0]
[null,520000502,"Ниппель двусторонний ПВХ НР 1 1/2\" PIMTAS",16,"Фитинги","RUB",{"$f":"IFERROR(I406*Оглавление!$E$23,\"по запросу\")","v":209.50159999999997},{"$f":"IFERROR(G406*(1-Оглавление!$D$29),\"по запросу\")","v":209.50159999999997},2.09,"шт",null,0,0]
[null,520000632,"Ниппель двусторонний ПВХ НР 2\" PIMTAS",16,"Фитинги","RUB",{"$f":"IFERROR(I407*Оглавление!$E$23,\"по запросу\")","v":274.6576},{"$f":"IFERROR(G407*(1-Оглавление!$D$29),\"по запросу\")","v":274.6576},2.74,"шт",null,0,0]
[null,520000752,"Ниппель двусторонний ПВХ НР 2 1/2\" PIMTAS",16,"Фитинги","RUB",{"$f":"IFERROR(I408*Оглавление!$E$23,\"по запросу\")","v":453.08479999999992},{"$f":"IFERROR(G408*(1-Оглавление!$D$29),\"по запросу\")","v":453.08479999999992},4.5199999999999996,"шт",null,0,0]
[null,520000902,"Ниппель двусторонний ПВХ НР 3\" PIMTAS",16,"Фитинги","RUB",{"$f":"IFERROR(I409*Оглавление!$E$23,\"по запросу\")","v":633.51679999999999},{"$f":"IFERROR(G409*(1-Оглавление!$D$29),\"по запросу\")","v":633.51679999999999},6.32,"шт",null,0,0]
[null,520001102,"Ниппель двусторонний ПВХ НР 4\" PIMTAS",16,"Фитинги","RUB",{"$f":"IFERROR(I410*Оглавление!$E$23,\"по запросу\")","v":706.69199999999989},{"$f":"IFERROR(G410*(1-Оглавление!$D$29),\"по запросу\")","v":706.69199999999989},7.05,"шт",null,0,0]
[null,520001255,"Ниппель двусторонний ПВХ НР 4 1/2\" PIMTAS",16,"Фитинги","RUB",{"$f":"IFERROR(I411*Оглавление!$E$23,\"по запросу\")","v":2607.2424000000001},{"$f":"IFERROR(G411*(1-Оглавление!$D$29),\"по запросу\")","v":2607.2424000000001},26.01,"шт",null,0,0]
[null,520001405,"Ниппель двусторонний ПВХ НР 5\" PIMTAS",16,"Фитинги","RUB",{"$f":"IFERROR(I412*Оглавление!$E$23,\"по запросу\")","v":2926.0056},{"$f":"IFERROR(G412*(1-Оглавление!$D$29),\"по запросу\")","v":2926.0056},29.19,"шт",null,0,0]
[null,520001605,"Ниппель двусторонний ПВХ НР 6\" PIMTAS",16,"Фитинги","RUB",{"$f":"IFERROR(I413*Оглавление!$E$23,\"по запросу\")","v":4315.3319999999994},{"$f":"IFERROR(G413*(1-Оглавление!$D$29),\"по запросу\")","v":4315.3319999999994},43.05,"шт",null,0,0]
[null,520002005,"Ниппель двусторонний ПВХ НР 7\" PIMTAS",10,"Фитинги","RUB",{"$f":"IFERROR(I414*Оглавление!$E$23,\"по запросу\")","v":6107.6232},{"$f":"IFERROR(G414*(1-Оглавление!$D$29),\"по запросу\")","v":6107.6232},60.93,"шт",null,0,0]
[null,525000202,"Переходник шланговый ПВХ клеевой НР 20x1/2\" PIMTAS",16,"Фитинги","RUB",{"$f":"IFERROR(I415*Оглавление!$E$23,\"по запросу\")","v":85.203999999999994},{"$f":"IFERROR(G415*(1-Оглавление!$D$29),\"по запросу\")","v":85.203999999999994},0.85,"шт",null,0,0]
[null,525000252,"Переходник шланговый ПВХ клеевой НР 25x3/4\" PIMTAS",16,"Фитинги","RUB",{"$f":"IFERROR(I416*Оглавление!$E$23,\"по запросу\")","v":142.34079999999997},{"$f":"IFERROR(G416*(1-Оглавление!$D$29),\"по запросу\")","v":142.34079999999997},1.42,"шт",null,0,0]
[null,525000322,"Переходник шланговый ПВХ клеевой НР 32x1\" PIMTAS",16,"Фитинги","RUB",{"$f":"IFERROR(I417*Оглавление!$E$23,\"по запросу\")","v":170.40799999999999},{"$f":"IFERROR(G417*(1-Оглавление!$D$29),\"по запросу\")","v":170.40799999999999},1.7,"шт",null,0,0]
[null,525000402,"Переходник шланговый ПВХ клеевой НР 40x1 1/4\" PIMTAS",16,"Фитинги","RUB",{"$f":"IFERROR(I418*Оглавление!$E$23,\"по запросу\")","v":507.21439999999996},{"$f":"IFERROR(G418*(1-Оглавление!$D$29),\"по запросу\")","v":507.21439999999996},5.0599999999999996,"шт",null,0,0]
[null,525000502,"Переходник шланговый ПВХ клеевой НР 50x1 1/2\" PIMTAS",16,"Фитинги","RUB",{"$f":"IFERROR(I419*Оглавление!$E$23,\"по запросу\")","v":587.40639999999996},{"$f":"IFERROR(G419*(1-Оглавление!$D$29),\"по запросу\")","v":587.40639999999996},5.86,"шт",null,0,0]
[null,525000632,"Переходник шланговый ПВХ клеевой НР 63x2\" PIMTAS",16,"Фитинги","RUB",{"$f":"IFERROR(I420*Оглавление!$E$23,\"по запросу\")","v":657.57439999999997},{"$f":"IFERROR(G420*(1-Оглавление!$D$29),\"по запросу\")","v":657.57439999999997},6.56,"шт",null,0,0]
[null,525000752,"Переходник шланговый ПВХ клеевой НР 75x2 1/2\" PIMTAS",16,"Фитинги","RUB",{"$f":"IFERROR(I421*Оглавление!$E$23,\"по запросу\")","v":952.28},{"$f":"IFERROR(G421*(1-Оглавление!$D$29),\"по запросу\")","v":952.28},9.5,"шт",null,0,0]
[null,525000902,"Переходник шланговый ПВХ клеевой НР 90x3\" PIMTAS",16,"Фитинги","RUB",{"$f":"IFERROR(I422*Оглавление!$E$23,\"по запросу\")","v":1345.2207999999998},{"$f":"IFERROR(G422*(1-Оглавление!$D$29),\"по запросу\")","v":1345.2207999999998},13.42,"шт",null,0,0]
[null,525001102,"Переходник шланговый ПВХ клеевой НР 110x4\" PIMTAS",16,"Фитинги","RUB",{"$f":"IFERROR(I423*Оглавление!$E$23,\"по запросу\")","v":1603.84},{"$f":"IFERROR(G423*(1-Оглавление!$D$29),\"по запросу\")","v":1603.84},16,"шт",null,0,0]
[null,525001255,"Переходник шланговый ПВХ клеевой НР 125x4 1/2\" PIMTAS",16,"Фитинги","RUB",{"$f":"IFERROR(I424*Оглавление!$E$23,\"по запросу\")","v":3973.5135999999998},{"$f":"IFERROR(G424*(1-Оглавление!$D$29),\"по запросу\")","v":3973.5135999999998},39.64,"шт",null,0,0]
[null,525001405,"Переходник шланговый ПВХ клеевой НР 140x5\" PIMTAS",16,"Фитинги","RUB",{"$f":"IFERROR(I425*Оглавление!$E$23,\"по запросу\")","v":4273.2312000000002},{"$f":"IFERROR(G425*(1-Оглавление!$D$29),\"по запросу\")","v":4273.2312000000002},42.63,"шт",null,0,0]
[null,525001605,"Переходник шланговый ПВХ клеевой НР 160x6\" PIMTAS",16,"Фитинги","RUB",{"$f":"IFERROR(I426*Оглавление!$E$23,\"по запросу\")","v":6254.9759999999997},{"$f":"IFERROR(G426*(1-Оглавление!$D$29),\"по запросу\")","v":6254.9759999999997},62.4,"шт",null,0,0]
[null,528800202,"Переходник шланговый ПВХ клеевой 20 PIMTAS",16,"Фитинги","RUB",{"$f":"IFERROR(I427*Оглавление!$E$23,\"по запросу\")","v":85.203999999999994},{"$f":"IFERROR(G427*(1-Оглавление!$D$29),\"по запросу\")","v":85.203999999999994},0.85,"шт",null,0,0]
[null,528800252,"Переходник шланговый ПВХ клеевой 25 PIMTAS",16,"Фитинги","RUB",{"$f":"IFERROR(I428*Оглавление!$E$23,\"по запросу\")","v":142.34079999999997},{"$f":"IFERROR(G428*(1-Оглавление!$D$29),\"по запросу\")","v":142.34079999999997},1.42,"шт",null,0,0]
[null,528800322,"Переходник шланговый ПВХ клеевой 32 PIMTAS",16,"Фитинги","RUB",{"$f":"IFERROR(I429*Оглавление!$E$23,\"по запросу\")","v":170.40799999999999},{"$f":"IFERROR(G429*(1-Оглавление!$D$29),\"по запросу\")","v":170.40799999999999},1.7,"шт",null,0,0]
[null,528800402,"Переходник шланговый ПВХ клеевой 40 PIMTAS",16,"Фитинги","RUB",{"$f":"IFERROR(I430*Оглавление!$E$23,\"по запросу\")","v":507.21439999999996},{"$f":"IFERROR(G430*(1-Оглавление!$D$29),\"по запросу\")","v":507.21439999999996},5.0599999999999996,"шт",null,0,0]
[null,528800502,"Переходник шланговый ПВХ клеевой 50 PIMTAS",16,"Фитинги","RUB",{"$f":"IFERROR(I431*Оглавление!$E$23,\"по запросу\")","v":587.40639999999996},{"$f":"IFERROR(G431*(1-Оглавление!$D$29),\"по запросу\")","v":587.40639999999996},5.86,"шт",null,0,0]
[null,528800632,"Переходник шланговый ПВХ клеевой 63 PIMTAS",16,"Фитинги","RUB",{"$f":"IFERROR(I432*Оглавление!$E$23,\"по запросу\")","v":657.57439999999997},{"$f":"IFERROR(G432*(1-Оглавление!$D$29),\"по запросу\")","v":657.57439999999997},6.56,"шт",null,0,0]
[null,227000162,"Муфта разборная ПВХ клеевая уплотнение EPDM 16 PIMTAS",16,"Фитинги","RUB",{"$f":"IFERROR(I433*Оглавление!$E$23,\"по запросу\")","v":478.14479999999992},{"$f":"IFERROR(G433*(1-Оглавление!$D$29),\"по запросу\")","v":478.14479999999992},4.7699999999999996,"шт",null,0,0]
[null,227000202,"Муфта разборная ПВХ клеевая уплотнение EPDM 20 PIMTAS",16,"Фитинги","RUB",{"$f":"IFERROR(I434*Оглавление!$E$23,\"по запросу\")","v":348.83519999999999},{"$f":"IFERROR(G434*(1-Оглавление!$D$29),\"по запросу\")","v":348.83519999999999},3.48,"шт",null,0,0]
[null,227000252,"Муфта разборная ПВХ клеевая уплотнение EPDM 25 PIMTAS",16,"Фитинги","RUB",{"$f":"IFERROR(I435*Оглавление!$E$23,\"по запросу\")","v":491.17599999999999},{"$f":"IFERROR(G435*(1-Оглавление!$D$29),\"по запросу\")","v":491.17599999999999},4.9000000000000004,"шт",null,0,0]
[null,227000322,"Муфта разборная ПВХ клеевая уплотнение EPDM 32 PIMTAS",16,"Фитинги","RUB",{"$f":"IFERROR(I436*Оглавление!$E$23,\"по запросу\")","v":672.61039999999991},{"$f":"IFERROR(G436*(1-Оглавление!$D$29),\"по запросу\")","v":672.61039999999991},6.71,"шт",null,0,0]
[null,227000402,"Муфта разборная ПВХ клеевая уплотнение EPDM 40 PIMTAS",16,"Фитинги","RUB",{"$f":"IFERROR(I437*Оглавление!$E$23,\"по запросу\")","v":737.76639999999998},{"$f":"IFERROR(G437*(1-Оглавление!$D$29),\"по запросу\")","v":737.76639999999998},7.36,"шт",null,0,0]
[null,227000502,"Муфта разборная ПВХ клеевая уплотнение EPDM 50 PIMTAS",16,"Фитинги","RUB",{"$f":"IFERROR(I438*Оглавление!$E$23,\"по запросу\")","v":1008.4144},{"$f":"IFERROR(G438*(1-Оглавление!$D$29),\"по запросу\")","v":1008.4144},10.06,"шт",null,0,0]
[null,227000632,"Муфта разборная ПВХ клеевая уплотнение EPDM 63 PIMTAS",16,"Фитинги","RUB",{"$f":"IFERROR(I439*Оглавление!$E$23,\"по запросу\")","v":1189.8487999999998},{"$f":"IFERROR(G439*(1-Оглавление!$D$29),\"по запросу\")","v":1189.8487999999998},11.87,"шт",null,0,0]
[null,227000752,"Муфта разборная ПВХ клеевая уплотнение EPDM 75 PIMTAS",16,"Фитинги","RUB",{"$f":"IFERROR(I440*Оглавление!$E$23,\"по запросу\")","v":3104.4327999999996},{"$f":"IFERROR(G440*(1-Оглавление!$D$29),\"по запросу\")","v":3104.4327999999996},30.97,"шт",null,0,0]
[null,227000902,"Муфта разборная ПВХ клеевая уплотнение EPDM 90 PIMTAS",16,"Фитинги","RUB",{"$f":"IFERROR(I441*Оглавление!$E$23,\"по запросу\")","v":4268.2191999999995},{"$f":"IFERROR(G441*(1-Оглавление!$D$29),\"по запросу\")","v":4268.2191999999995},42.58,"шт",null,0,0]
[null,227001102,"Муфта разборная ПВХ клеевая уплотнение EPDM 110 PIMTAS",16,"Фитинги","RUB",{"$f":"IFERROR(I442*Оглавление!$E$23,\"по запросу\")","v":5562.3176000000003},{"$f":"IFERROR(G442*(1-Оглавление!$D$29),\"по запросу\")","v":5562.3176000000003},55.49,"шт",null,0,0]
[null,227550162,"Муфта разборная ПВХ клеевая уплотнение FKM 16 PIMTAS",16,"Фитинги","RUB",{"$f":"IFERROR(I443*Оглавление!$E$23,\"по запросу\")","v":620.48559999999998},{"$f":"IFERROR(G443*(1-Оглавление!$D$29),\"по запросу\")","v":620.48559999999998},6.19,"шт",null,0,0]
[null,227550202,"Муфта разборная ПВХ клеевая уплотнение FKM 20 PIMTAS",16,"Фитинги","RUB",{"$f":"IFERROR(I444*Оглавление!$E$23,\"по запросу\")","v":453.08479999999992},{"$f":"IFERROR(G444*(1-Оглавление!$D$29),\"по запросу\")","v":453.08479999999992},4.5199999999999996,"шт",null,0,0]
[null,227550252,"Муфта разборная ПВХ клеевая уплотнение FKM 25 PIMTAS",16,"Фитинги","RUB",{"$f":"IFERROR(I445*Оглавление!$E$23,\"по запросу\")","v":638.52879999999993},{"$f":"IFERROR(G445*(1-Оглавление!$D$29),\"по запросу\")","v":638.52879999999993},6.37,"шт",null,0,0]
[null,227550322,"Муфта разборная ПВХ клеевая уплотнение FKM 32 PIMTAS",16,"Фитинги","RUB",{"$f":"IFERROR(I446*Оглавление!$E$23,\"по запросу\")","v":874.09280000000001},{"$f":"IFERROR(G446*(1-Оглавление!$D$29),\"по запросу\")","v":874.09280000000001},8.7200000000000006,"шт",null,0,0]
[null,227550402,"Муфта разборная ПВХ клеевая уплотнение FKM 40 PIMTAS",16,"Фитинги","RUB",{"$f":"IFERROR(I447*Оглавление!$E$23,\"по запросу\")","v":957.29200000000003},{"$f":"IFERROR(G447*(1-Оглавление!$D$29),\"по запросу\")","v":957.29200000000003},9.5500000000000007,"шт",null,0,0]
[null,227550502,"Муфта разборная ПВХ клеевая уплотнение FKM 50 PIMTAS",16,"Фитинги","RUB",{"$f":"IFERROR(I448*Оглавление!$E$23,\"по запросу\")","v":1311.1391999999998},{"$f":"IFERROR(G448*(1-Оглавление!$D$29),\"по запросу\")","v":1311.1391999999998},13.08,"шт",null,0,0]
[null,227550632,"Муфта разборная ПВХ клеевая уплотнение FKM 63 PIMTAS",16,"Фитинги","RUB",{"$f":"IFERROR(I449*Оглавление!$E$23,\"по запросу\")","v":1546.7031999999999},{"$f":"IFERROR(G449*(1-Оглавление!$D$29),\"по запросу\")","v":1546.7031999999999},15.43,"шт",null,0,0]
[null,227550752,"Муфта разборная ПВХ клеевая уплотнение FKM 75 PIMTAS",16,"Фитинги","RUB",{"$f":"IFERROR(I450*Оглавление!$E$23,\"по запросу\")","v":4035.6623999999997},{"$f":"IFERROR(G450*(1-Оглавление!$D$29),\"по запросу\")","v":4035.6623999999997},40.26,"шт",null,0,0]
[null,227550902,"Муфта разборная ПВХ клеевая уплотнение FKM 90 PIMTAS",16,"Фитинги","RUB",{"$f":"IFERROR(I451*Оглавление!$E$23,\"по запросу\")","v":5549.2864},{"$f":"IFERROR(G451*(1-Оглавление!$D$29),\"по запросу\")","v":5549.2864},55.36,"шт",null,0,0]
[null,227551102,"Муфта разборная ПВХ клеевая уплотнение FKM 110 PIMTAS",16,"Фитинги","RUB",{"$f":"IFERROR(I452*Оглавление!$E$23,\"по запросу\")","v":7243.3424000000005},{"$f":"IFERROR(G452*(1-Оглавление!$D$29),\"по запросу\")","v":7243.3424000000005},72.260000000000005,"шт",null,0,0]
[null,228000162,"Муфта разборная ПВХ клеевая переход на ВР уплотнение EPDM 16x3/8\" PIMTAS",16,"Фитинги","RUB",{"$f":"IFERROR(I453*Оглавление!$E$23,\"по запросу\")","v":646.548},{"$f":"IFERROR(G453*(1-Оглавление!$D$29),\"по запросу\")","v":646.548},6.45,"шт",null,0,0]
[null,228000202,"Муфта разборная ПВХ клеевая переход на ВР уплотнение EPDM 20x1/2\" PIMTAS",16,"Фитинги","RUB",{"$f":"IFERROR(I454*Оглавление!$E$23,\"по запросу\")","v":517.23839999999996},{"$f":"IFERROR(G454*(1-Оглавление!$D$29),\"по запросу\")","v":517.23839999999996},5.16,"шт",null,0,0]
[null,228000252,"Муфта разборная ПВХ клеевая переход на ВР уплотнение EPDM 25x3/4\" PIMTAS",16,"Фитинги","RUB",{"$f":"IFERROR(I455*Оглавление!$E$23,\"по запросу\")","v":672.61039999999991},{"$f":"IFERROR(G455*(1-Оглавление!$D$29),\"по запросу\")","v":672.61039999999991},6.71,"шт",null,0,0]
[null,228000322,"Муфта разборная ПВХ клеевая переход на ВР уплотнение EPDM 32x1\" PIMTAS",16,"Фитинги","RUB",{"$f":"IFERROR(I456*Оглавление!$E$23,\"по запросу\")","v":905.16719999999987},{"$f":"IFERROR(G456*(1-Оглавление!$D$29),\"по запросу\")","v":905.16719999999987},9.0299999999999994,"шт",null,0,0]
[null,228000402,"Муфта разборная ПВХ клеевая переход на ВР уплотнение EPDM 40x1 1/4\" PIMTAS",16,"Фитинги","RUB",{"$f":"IFERROR(I457*Оглавление!$E$23,\"по запросу\")","v":983.35440000000006},{"$f":"IFERROR(G457*(1-Оглавление!$D$29),\"по запросу\")","v":983.35440000000006},9.81,"шт",null,0,0]
[null,228000502,"Муфта разборная ПВХ клеевая переход на ВР уплотнение EPDM 50x1 1/2\" PIMTAS",16,"Фитинги","RUB",{"$f":"IFERROR(I458*Оглавление!$E$23,\"по запросу\")","v":1293.096},{"$f":"IFERROR(G458*(1-Оглавление!$D$29),\"по запросу\")","v":1293.096},12.9,"шт",null,{"$f":"IFERROR(K458*G458,\"0 ₽\")","v":0},{"$f":"IFERROR(K458*H458,\"0 ₽\")","v":0}]
[null,228000632,"Муфта разборная ПВХ клеевая переход на ВР уплотнение EPDM 63x2\" PIMTAS",16,"Фитинги","RUB",{"$f":"IFERROR(I459*Оглавление!$E$23,\"по запросу\")","v":1551.7151999999999},{"$f":"IFERROR(G459*(1-Оглавление!$D$29),\"по запросу\")","v":1551.7151999999999},15.48,"шт",null,0,0]
[null,228000752,"Муфта разборная ПВХ клеевая переход на ВР уплотнение EPDM 75x2 1/2\" PIMTAS",16,"Фитинги","RUB",{"$f":"IFERROR(I460*Оглавление!$E$23,\"по запросу\")","v":3492.3616000000002},{"$f":"IFERROR(G460*(1-Оглавление!$D$29),\"по запросу\")","v":3492.3616000000002},34.840000000000003,"шт",null,0,0]
[null,228000902,"Муфта разборная ПВХ клеевая переход на ВР уплотнение EPDM 90x3\" PIMTAS",16,"Фитинги","RUB",{"$f":"IFERROR(I461*Оглавление!$E$23,\"по запросу\")","v":4656.1480000000001},{"$f":"IFERROR(G461*(1-Оглавление!$D$29),\"по запросу\")","v":4656.1480000000001},46.45,"шт",null,0,0]
[null,228001102,"Муфта разборная ПВХ клеевая переход на ВР уплотнение EPDM 110x4\" PIMTAS",16,"Фитинги","RUB",{"$f":"IFERROR(I462*Оглавление!$E$23,\"по запросу\")","v":5950.2464},{"$f":"IFERROR(G462*(1-Оглавление!$D$29),\"по запросу\")","v":5950.2464},59.36,"шт",null,0,0]
[null,228550162,"Муфта разборная ПВХ клеевая переход на ВР уплотнение FKM 16x3/8\" PIMTAS",16,"Фитинги","RUB",{"$f":"IFERROR(I463*Оглавление!$E$23,\"по запросу\")","v":841.0136},{"$f":"IFERROR(G463*(1-Оглавление!$D$29),\"по запросу\")","v":841.0136},8.39,"шт",null,0,0]
[null,228550202,"Муфта разборная ПВХ клеевая переход на ВР уплотнение FKM 20x1/2\" PIMTAS",16,"Фитинги","RUB",{"$f":"IFERROR(I464*Оглавление!$E$23,\"по запросу\")","v":672.61039999999991},{"$f":"IFERROR(G464*(1-Оглавление!$D$29),\"по запросу\")","v":672.61039999999991},6.71,"шт",null,0,0]
[null,228550252,"Муфта разборная ПВХ клеевая переход на ВР уплотнение FKM 25x3/4\" PIMTAS",16,"Фитинги","RUB",{"$f":"IFERROR(I465*Оглавление!$E$23,\"по запросу\")","v":874.09280000000001},{"$f":"IFERROR(G465*(1-Оглавление!$D$29),\"по запросу\")","v":874.09280000000001},8.7200000000000006,"шт",null,0,0]
[null,228550322,"Муфта разборная ПВХ клеевая переход на ВР уплотнение FKM 32x1\" PIMTAS",16,"Фитинги","RUB",{"$f":"IFERROR(I466*Оглавление!$E$23,\"по запросу\")","v":1176.8175999999999},{"$f":"IFERROR(G466*(1-Оглавление!$D$29),\"по запросу\")","v":1176.8175999999999},11.74,"шт",null,0,0]
[null,228550402,"Муфта разборная ПВХ клеевая переход на ВР уплотнение FKM 40x1 1/4\" PIMTAS",16,"Фитинги","RUB",{"$f":"IFERROR(I467*Оглавление!$E$23,\"по запросу\")","v":1278.06},{"$f":"IFERROR(G467*(1-Оглавление!$D$29),\"по запросу\")","v":1278.06},12.75,"шт",null,0,0]
[null,228550502,"Муфта разборная ПВХ клеевая переход на ВР уплотнение FKM 50x1 1/2\" PIMTAS",16,"Фитинги","RUB",{"$f":"IFERROR(I468*Оглавление!$E$23,\"по запросу\")","v":1681.0247999999999},{"$f":"IFERROR(G468*(1-Оглавление!$D$29),\"по запросу\")","v":1681.0247999999999},16.77,"шт",null,0,0]
[null,228550632,"Муфта разборная ПВХ клеевая переход на ВР уплотнение FKM 63x2\" PIMTAS",16,"Фитинги","RUB",{"$f":"IFERROR(I469*Оглавление!$E$23,\"по запросу\")","v":2017.8311999999999},{"$f":"IFERROR(G469*(1-Оглавление!$D$29),\"по запросу\")","v":2017.8311999999999},20.13,"шт",null,0,0]
[null,228550752,"Муфта разборная ПВХ клеевая переход на ВР уплотнение FKM 75x2 1/2\" PIMTAS",16,"Фитинги","RUB",{"$f":"IFERROR(I470*Оглавление!$E$23,\"по запросу\")","v":4539.8696},{"$f":"IFERROR(G470*(1-Оглавление!$D$29),\"по запросу\")","v":4539.8696},45.29,"шт",null,0,0]
[null,228550902,"Муфта разборная ПВХ клеевая переход на ВР уплотнение FKM 90x3\" PIMTAS",16,"Фитинги","RUB",{"$f":"IFERROR(I471*Оглавление!$E$23,\"по запросу\")","v":6053.4935999999998},{"$f":"IFERROR(G471*(1-Оглавление!$D$29),\"по запросу\")","v":6053.4935999999998},60.39,"шт",null,0,0]
[null,228551102,"Муфта разборная ПВХ клеевая переход на ВР уплотнение FKM 110x4\" PIMTAS",16,"Фитинги","RUB",{"$f":"IFERROR(I472*Оглавление!$E$23,\"по запросу\")","v":7760.5807999999997},{"$f":"IFERROR(G472*(1-Оглавление!$D$29),\"по запросу\")","v":7760.5807999999997},77.42,"шт",null,0,0]
[null,230000502,"Муфта ПВХ клеевая переход на НР EPDM 50x1 1/2\" PIMTAS",16,"Фитинги","RUB",{"$f":"IFERROR(I473*Оглавление!$E$23,\"по запросу\")","v":1060.5391999999999},{"$f":"IFERROR(G473*(1-Оглавление!$D$29),\"по запросу\")","v":1060.5391999999999},10.58,"шт",null,0,0]
[null,230000632,"Муфта ПВХ клеевая переход на НР EPDM 63x1 1/2\" PIMTAS",16,"Фитинги","RUB",{"$f":"IFERROR(I474*Оглавление!$E$23,\"по запросу\")","v":1268.0360000000001},{"$f":"IFERROR(G474*(1-Оглавление!$D$29),\"по запросу\")","v":1268.0360000000001},12.65,"шт",null,0,0]
[null,230010632,"Муфта ПВХ клеевая переход на НР EPDM 63x2\" PIMTAS",16,"Фитинги","RUB",{"$f":"IFERROR(I475*Оглавление!$E$23,\"по запросу\")","v":1280.0647999999999},{"$f":"IFERROR(G475*(1-Оглавление!$D$29),\"по запросу\")","v":1280.0647999999999},12.77,"шт",null,0,0]
[null,230550502,"Муфта ПВХ клеевая переход на НР FKM 50x1 1/2\" PIMTAS",16,"Фитинги","RUB",{"$f":"IFERROR(I476*Оглавление!$E$23,\"по запросу\")","v":1379.3023999999998},{"$f":"IFERROR(G476*(1-Оглавление!$D$29),\"по запросу\")","v":1379.3023999999998},13.76,"шт",null,0,0]
[null,230550632,"Муфта ПВХ клеевая переход на НР FKM 63x1 1/2\" PIMTAS",16,"Фитинги","RUB",{"$f":"IFERROR(I477*Оглавление!$E$23,\"по запросу\")","v":1647.9456},{"$f":"IFERROR(G477*(1-Оглавление!$D$29),\"по запросу\")","v":1647.9456},16.440000000000001,"шт",null,0,0]
[null,230560632,"Муфта ПВХ клеевая переход на НР FKM 63x2\" PIMTAS",16,"Фитинги","RUB",{"$f":"IFERROR(I478*Оглавление!$E$23,\"по запросу\")","v":1668.9959999999999},{"$f":"IFERROR(G478*(1-Оглавление!$D$29),\"по запросу\")","v":1668.9959999999999},16.649999999999999,"шт",null,0,0]
[null,242300202,"Муфта разборная ПВХ клеевая переход латунь на НР уплотнение EPDM 20x1/2\" PIMTAS",16,"Фитинги","RUB",{"$f":"IFERROR(I479*Оглавление!$E$23,\"по запросу\")","v":1070.5631999999998},{"$f":"IFERROR(G479*(1-Оглавление!$D$29),\"по запросу\")","v":1070.5631999999998},10.68,"шт",null,0,0]
[null,242300252,"Муфта разборная ПВХ клеевая переход латунь на НР уплотнение EPDM 25x3/4\" PIMTAS",16,"Фитинги","RUB",{"$f":"IFERROR(I480*Оглавление!$E$23,\"по запросу\")","v":1684.0319999999999},{"$f":"IFERROR(G480*(1-Оглавление!$D$29),\"по запросу\")","v":1684.0319999999999},16.8,"шт",null,0,0]
[null,242300322,"Муфта разборная ПВХ клеевая переход латунь на НР уплотнение EPDM 32x1\" PIMTAS",16,"Фитинги","RUB",{"$f":"IFERROR(I481*Оглавление!$E$23,\"по запросу\")","v":2240.364},{"$f":"IFERROR(G481*(1-Оглавление!$D$29),\"по запросу\")","v":2240.364},22.35,"шт",null,0,0]
[null,242300402,"Муфта разборная ПВХ клеевая переход латунь на НР уплотнение EPDM 40x1 1/4\" PIMTAS",16,"Фитинги","RUB",{"$f":"IFERROR(I482*Оглавление!$E$23,\"по запросу\")","v":4281.2503999999999},{"$f":"IFERROR(G482*(1-Оглавление!$D$29),\"по запросу\")","v":4281.2503999999999},42.71,"шт",null,0,0]
[null,242300502,"Муфта разборная ПВХ клеевая переход латунь на НР уплотнение EPDM 50x1 1/2\" PIMTAS",16,"Фитинги","RUB",{"$f":"IFERROR(I483*Оглавление!$E$23,\"по запросу\")","v":5778.8359999999993},{"$f":"IFERROR(G483*(1-Оглавление!$D$29),\"по запросу\")","v":5778.8359999999993},57.65,"шт",null,0,0]
[null,242300632,"Муфта разборная ПВХ клеевая переход латунь на НР уплотнение EPDM 63x2\" PIMTAS",16,"Фитинги","RUB",{"$f":"IFERROR(I484*Оглавление!$E$23,\"по запросу\")","v":9271.1975999999995},{"$f":"IFERROR(G484*(1-Оглавление!$D$29),\"по запросу\")","v":9271.1975999999995},92.49,"шт",null,0,0]
[null,242200202,"Муфта разборная ПВХ клеевая переход латунь на ВР уплотнение EPDM 20x1/2\" PIMTAS",16,"Фитинги","RUB",{"$f":"IFERROR(I485*Оглавление!$E$23,\"по запросу\")","v":970.32319999999993},{"$f":"IFERROR(G485*(1-Оглавление!$D$29),\"по запросу\")","v":970.32319999999993},9.68,"шт",null,0,0]
[null,242200252,"Муфта разборная ПВХ клеевая переход латунь на ВР уплотнение EPDM 25x3/4\" PIMTAS",16,"Фитинги","RUB",{"$f":"IFERROR(I486*Оглавление!$E$23,\"по запросу\")","v":1549.7103999999999},{"$f":"IFERROR(G486*(1-Оглавление!$D$29),\"по запросу\")","v":1549.7103999999999},15.46,"шт",null,0,0]
[null,242200322,"Муфта разборная ПВХ клеевая переход латунь на ВР уплотнение EPDM 32x1\" PIMTAS",16,"Фитинги","RUB",{"$f":"IFERROR(I487*Оглавление!$E$23,\"по запросу\")","v":2002.7952},{"$f":"IFERROR(G487*(1-Оглавление!$D$29),\"по запросу\")","v":2002.7952},19.98,"шт",null,0,0]
[null,242200402,"Муфта разборная ПВХ клеевая переход латунь на ВР уплотнение EPDM 40x1 1/4\" PIMTAS",16,"Фитинги","RUB",{"$f":"IFERROR(I488*Оглавление!$E$23,\"по запросу\")","v":3631.6951999999997},{"$f":"IFERROR(G488*(1-Оглавление!$D$29),\"по запросу\")","v":3631.6951999999997},36.229999999999997,"шт",null,0,0]
[null,242200502,"Муфта разборная ПВХ клеевая переход латунь на ВР уплотнение EPDM 50x1 1/2\" PIMTAS",16,"Фитинги","RUB",{"$f":"IFERROR(I489*Оглавление!$E$23,\"по запросу\")","v":5137.3},{"$f":"IFERROR(G489*(1-Оглавление!$D$29),\"по запросу\")","v":5137.3},51.25,"шт",null,0,0]
[null,242200632,"Муфта разборная ПВХ клеевая переход латунь на ВР уплотнение EPDM 63x2\" PIMTAS",16,"Фитинги","RUB",{"$f":"IFERROR(I490*Оглавление!$E$23,\"по запросу\")","v":8084.3559999999998},{"$f":"IFERROR(G490*(1-Оглавление!$D$29),\"по запросу\")","v":8084.3559999999998},80.650000000000006,"шт",null,0,0]
[null,118000204,"Опора для трубы ПП 20 PIMTAS","-","Фитинги","RUB",{"$f":"IFERROR(I491*Оглавление!$E$23,\"по запросу\")","v":21.0504},{"$f":"IFERROR(G491*(1-Оглавление!$D$29),\"по запросу\")","v":21.0504},0.21,"шт",null,0,0]
[null,118000254,"Опора для трубы ПП 25 PIMTAS","-","Фитинги","RUB",{"$f":"IFERROR(I492*Оглавление!$E$23,\"по запросу\")","v":23.055199999999999},{"$f":"IFERROR(G492*(1-Оглавление!$D$29),\"по запросу\")","v":23.055199999999999},0.23,"шт",null,0,0]
[null,118000324,"Опора для трубы ПП 32 PIMTAS","-","Фитинги","RUB",{"$f":"IFERROR(I493*Оглавление!$E$23,\"по запросу\")","v":36.086399999999998},{"$f":"IFERROR(G493*(1-Оглавление!$D$29),\"по запросу\")","v":36.086399999999998},0.36,"шт",null,0,0]
[null,118000404,"Опора для трубы ПП 40 PIMTAS","-","Фитинги","RUB",{"$f":"IFERROR(I494*Оглавление!$E$23,\"по запросу\")","v":41.098399999999998},{"$f":"IFERROR(G494*(1-Оглавление!$D$29),\"по запросу\")","v":41.098399999999998},0.41,"шт",null,0,0]
[null,118000504,"Опора для трубы ПП 50 PIMTAS","-","Фитинги","RUB",{"$f":"IFERROR(I495*Оглавление!$E$23,\"по запросу\")","v":57.136799999999994},{"$f":"IFERROR(G495*(1-Оглавление!$D$29),\"по запросу\")","v":57.136799999999994},0.56999999999999995,"шт",null,0,0]
[null,118000634,"Опора для трубы ПП 63 PIMTAS","-","Фитинги","RUB",{"$f":"IFERROR(I496*Оглавление!$E$23,\"по запросу\")","v":119.28559999999999},{"$f":"IFERROR(G496*(1-Оглавление!$D$29),\"по запросу\")","v":119.28559999999999},1.19,"шт",null,0,0]
[null,118000754,"Опора для трубы ПП 75 PIMTAS","-","Фитинги","RUB",{"$f":"IFERROR(I497*Оглавление!$E$23,\"по запросу\")","v":150.35999999999999},{"$f":"IFERROR(G497*(1-Оглавление!$D$29),\"по запросу\")","v":150.35999999999999},1.5,"шт",null,0,0]
[null,118000904,"Опора для трубы ПП 90 PIMTAS","-","Фитинги","RUB",{"$f":"IFERROR(I498*Оглавление!$E$23,\"по запросу\")","v":230.55199999999996},{"$f":"IFERROR(G498*(1-Оглавление!$D$29),\"по запросу\")","v":230.55199999999996},2.2999999999999998,"шт",null,0,0]
[null,118001104,"Опора для трубы ПП 110 PIMTAS","-","Фитинги","RUB",{"$f":"IFERROR(I499*Оглавление!$E$23,\"по запросу\")","v":235.56399999999999},{"$f":"IFERROR(G499*(1-Оглавление!$D$29),\"по запросу\")","v":235.56399999999999},2.35,"шт",null,0,0]
[null,118001254,"Опора для трубы ПП 125 PIMTAS","-","Фитинги","RUB",{"$f":"IFERROR(I500*Оглавление!$E$23,\"по запросу\")","v":366.8784},{"$f":"IFERROR(G500*(1-Оглавление!$D$29),\"по запросу\")","v":366.8784},3.66,"шт",null,0,0]
[null,118001404,"Опора для трубы ПП 140 PIMTAS","-","Фитинги","RUB",{"$f":"IFERROR(I501*Оглавление!$E$23,\"по запросу\")","v":413.99119999999999},{"$f":"IFERROR(G501*(1-Оглавление!$D$29),\"по запросу\")","v":413.99119999999999},4.13,"шт",null,0,0]
[null,118001604,"Опора для трубы ПП 160 PIMTAS","-","Фитинги","RUB",{"$f":"IFERROR(I502*Оглавление!$E$23,\"по запросу\")","v":631.51199999999994},{"$f":"IFERROR(G502*(1-Оглавление!$D$29),\"по запросу\")","v":631.51199999999994},6.3,"шт",null,0,0]
[null,118002004,"Опора для трубы ПП 200 PIMTAS","-","Фитинги","RUB",{"$f":"IFERROR(I503*Оглавление!$E$23,\"по запросу\")","v":861.0616},{"$f":"IFERROR(G503*(1-Оглавление!$D$29),\"по запросу\")","v":861.0616},8.59,"шт",null,0,0]
[null,118002254,"Опора для трубы ПП 225 PIMTAS","-","Фитинги","RUB",{"$f":"IFERROR(I504*Оглавление!$E$23,\"по запросу\")","v":2623.2808},{"$f":"IFERROR(G504*(1-Оглавление!$D$29),\"по запросу\")","v":2623.2808},26.17,"шт",null,0,0]
[null,118002504,"Опора для трубы ПП 250 PIMTAS","-","Фитинги","RUB",{"$f":"IFERROR(I505*Оглавление!$E$23,\"по запросу\")","v":3199.6608000000001},{"$f":"IFERROR(G505*(1-Оглавление!$D$29),\"по запросу\")","v":3199.6608000000001},31.92,"шт",null,0,0]
[null,118002804,"Опора для трубы ПП 280 PIMTAS","-","Фитинги","RUB",{"$f":"IFERROR(I506*Оглавление!$E$23,\"по запросу\")","v":3461.2871999999998},{"$f":"IFERROR(G506*(1-Оглавление!$D$29),\"по запросу\")","v":3461.2871999999998},34.53,"шт",null,0,0]
[null,118003154,"Опора для трубы ПП 315 PIMTAS","-","Фитинги","RUB",{"$f":"IFERROR(I507*Оглавление!$E$23,\"по запросу\")","v":4025.6383999999994},{"$f":"IFERROR(G507*(1-Оглавление!$D$29),\"по запросу\")","v":4025.6383999999994},40.159999999999997,"шт",null,0,0]
[null,118010204,"Подставка под трубный держатель ПП 20 PIMTAS","-","Фитинги","RUB",{"$f":"IFERROR(I508*Оглавление!$E$23,\"по запросу\")","v":24.057599999999997},{"$f":"IFERROR(G508*(1-Оглавление!$D$29),\"по запросу\")","v":24.057599999999997},0.24,"шт",null,0,0]
[null,118010254,"Подставка под трубный держатель ПП 25 PIMTAS","-","Фитинги","RUB",{"$f":"IFERROR(I509*Оглавление!$E$23,\"по запросу\")","v":24.057599999999997},{"$f":"IFERROR(G509*(1-Оглавление!$D$29),\"по запросу\")","v":24.057599999999997},0.24,"шт",null,0,0]
[null,118010324,"Подставка под трубный держатель ПП 32 PIMTAS","-","Фитинги","RUB",{"$f":"IFERROR(I510*Оглавление!$E$23,\"по запросу\")","v":34.081600000000002},{"$f":"IFERROR(G510*(1-Оглавление!$D$29),\"по запросу\")","v":34.081600000000002},0.34,"шт",null,0,0]
[null,118010404,"Подставка под трубный держатель ПП 40 PIMTAS","-","Фитинги","RUB",{"$f":"IFERROR(I511*Оглавление!$E$23,\"по запросу\")","v":34.081600000000002},{"$f":"IFERROR(G511*(1-Оглавление!$D$29),\"по запросу\")","v":34.081600000000002},0.34,"шт",null,0,0]
[null,118010504,"Подставка под трубный держатель ПП 50 PIMTAS","-","Фитинги","RUB",{"$f":"IFERROR(I512*Оглавление!$E$23,\"по запросу\")","v":37.088799999999999},{"$f":"IFERROR(G512*(1-Оглавление!$D$29),\"по запросу\")","v":37.088799999999999},0.37,"шт",null,0,0]
[null,118010634,"Подставка под трубный держатель ПП 63 PIMTAS","-","Фитинги","RUB",{"$f":"IFERROR(I513*Оглавление!$E$23,\"по запросу\")","v":71.170399999999987},{"$f":"IFERROR(G513*(1-Оглавление!$D$29),\"по запросу\")","v":71.170399999999987},0.71,"шт",null,0,0]
[null,118010754,"Подставка под трубный держатель ПП 75 PIMTAS","-","Фитинги","RUB",{"$f":"IFERROR(I514*Оглавление!$E$23,\"по запросу\")","v":77.184799999999996},{"$f":"IFERROR(G514*(1-Оглавление!$D$29),\"по запросу\")","v":77.184799999999996},0.77,"шт",null,0,0]
[null,118010904,"Подставка под трубный держатель ПП 90 PIMTAS","-","Фитинги","RUB",{"$f":"IFERROR(I515*Оглавление!$E$23,\"по запросу\")","v":104.2496},{"$f":"IFERROR(G515*(1-Оглавление!$D$29),\"по запросу\")","v":104.2496},1.04,"шт",null,0,0]
[null,118011104,"Подставка под трубный держатель ПП 110 PIMTAS","-","Фитинги","RUB",{"$f":"IFERROR(I516*Оглавление!$E$23,\"по запросу\")","v":279.6696},{"$f":"IFERROR(G516*(1-Оглавление!$D$29),\"по запросу\")","v":279.6696},2.79,"шт",null,0,0]
[null,221010639,"Обратный клапан ПВХ межфланцевый EPDM 63 PIMTAS",10,"Арматура","RUB",{"$f":"IFERROR(I517*Оглавление!$E$23,\"по запросу\")","v":5367.8519999999999},{"$f":"IFERROR(G517*(1-Оглавление!$D$29),\"по запросу\")","v":5367.8519999999999},53.55,"шт",null,0,0]
[null,221010759,"Обратный клапан ПВХ межфланцевый EPDM 75 PIMTAS",10,"Арматура","RUB",{"$f":"IFERROR(I518*Оглавление!$E$23,\"по запросу\")","v":6660.9480000000003},{"$f":"IFERROR(G518*(1-Оглавление!$D$29),\"по запросу\")","v":6660.9480000000003},66.45,"шт",null,0,0]
[null,221010909,"Обратный клапан ПВХ межфланцевый EPDM 90 PIMTAS",10,"Арматура","RUB",{"$f":"IFERROR(I519*Оглавление!$E$23,\"по запросу\")","v":7437.808},{"$f":"IFERROR(G519*(1-Оглавление!$D$29),\"по запросу\")","v":7437.808},74.2,"шт",null,0,0]
[null,221011109,"Обратный клапан ПВХ межфланцевый EPDM 110 PIMTAS",10,"Арматура","RUB",{"$f":"IFERROR(I520*Оглавление!$E$23,\"по запросу\")","v":8756.9663999999993},{"$f":"IFERROR(G520*(1-Оглавление!$D$29),\"по запросу\")","v":8756.9663999999993},87.36,"шт",null,0,0]
[null,221011259,"Обратный клапан ПВХ межфланцевый EPDM 125 PIMTAS",10,"Арматура","RUB",{"$f":"IFERROR(I521*Оглавление!$E$23,\"по запросу\")","v":10037.031199999999},{"$f":"IFERROR(G521*(1-Оглавление!$D$29),\"по запросу\")","v":10037.031199999999},100.13,"шт",null,0,0]
[null,221011409,"Обратный клапан ПВХ межфланцевый EPDM 140 PIMTAS",10,"Арматура","RUB",{"$f":"IFERROR(I522*Оглавление!$E$23,\"по запросу\")","v":11486.5016},{"$f":"IFERROR(G522*(1-Оглавление!$D$29),\"по запросу\")","v":11486.5016},114.59,"шт",null,{"$f":"IFERROR(K522*G522,\"0 ₽\")","v":0},{"$f":"IFERROR(K522*H522,\"0 ₽\")","v":0}]
[null,221011609,"Обратный клапан ПВХ межфланцевый EPDM 160 PIMTAS",10,"Арматура","RUB",{"$f":"IFERROR(I523*Оглавление!$E$23,\"по запросу\")","v":12934.969599999999},{"$f":"IFERROR(G523*(1-Оглавление!$D$29),\"по запросу\")","v":12934.969599999999},129.04,"шт",null,0,0]
[null,221012009,"Обратный клапан ПВХ межфланцевый EPDM 200 PIMTAS",10,"Арматура","RUB",{"$f":"IFERROR(I524*Оглавление!$E$23,\"по запросу\")","v":16039.402399999999},{"$f":"IFERROR(G524*(1-Оглавление!$D$29),\"по запросу\")","v":16039.402399999999},160.01,"шт",null,0,0]
[null,221012259,"Обратный клапан ПВХ межфланцевый EPDM 225 PIMTAS",10,"Арматура","RUB",{"$f":"IFERROR(I525*Оглавление!$E$23,\"по запросу\")","v":18366.975199999997},{"$f":"IFERROR(G525*(1-Оглавление!$D$29),\"по запросу\")","v":18366.975199999997},183.23,"шт",null,0,0]
[null,221012509,"Обратный клапан ПВХ межфланцевый EPDM 250 PIMTAS",10,"Арматура","RUB",{"$f":"IFERROR(I526*Оглавление!$E$23,\"по запросу\")","v":34923.615999999995},{"$f":"IFERROR(G526*(1-Оглавление!$D$29),\"по запросу\")","v":34923.615999999995},348.4,"шт",null,0,0]
[null,221012809,"Обратный клапан ПВХ межфланцевый EPDM 280 PIMTAS",10,"Арматура","RUB",{"$f":"IFERROR(I527*Оглавление!$E$23,\"по запросу\")","v":52514.7336},{"$f":"IFERROR(G527*(1-Оглавление!$D$29),\"по запросу\")","v":52514.7336},523.89,"шт",null,0,0]
[null,221013159,"Обратный клапан ПВХ межфланцевый EPDM 315 PIMTAS",10,"Арматура","RUB",{"$f":"IFERROR(I528*Оглавление!$E$23,\"по запросу\")","v":71141.330400000006},{"$f":"IFERROR(G528*(1-Оглавление!$D$29),\"по запросу\")","v":71141.330400000006},709.71,"шт",null,0,0]
[null,221020639,"Обратный клапан ПВХ межфланцевый FKM 63 PIMTAS",10,"Арматура","RUB",{"$f":"IFERROR(I529*Оглавление!$E$23,\"по запросу\")","v":7295.4672},{"$f":"IFERROR(G529*(1-Оглавление!$D$29),\"по запросу\")","v":7295.4672},72.78,"шт",null,0,0]
[null,221020759,"Обратный клапан ПВХ межфланцевый FKM 75 PIMTAS",10,"Арматура","RUB",{"$f":"IFERROR(I530*Оглавление!$E$23,\"по запросу\")","v":8976.4919999999984},{"$f":"IFERROR(G530*(1-Оглавление!$D$29),\"по запросу\")","v":8976.4919999999984},89.55,"шт",null,0,0]
[null,221020909,"Обратный клапан ПВХ межфланцевый FKM 90 PIMTAS",10,"Арматура","RUB",{"$f":"IFERROR(I531*Оглавление!$E$23,\"по запросу\")","v":9985.9087999999992},{"$f":"IFERROR(G531*(1-Оглавление!$D$29),\"по запросу\")","v":9985.9087999999992},99.62,"шт",null,0,0]
[null,221021109,"Обратный клапан ПВХ межфланцевый FKM 110 PIMTAS",10,"Арматура","RUB",{"$f":"IFERROR(I532*Оглавление!$E$23,\"по запросу\")","v":11719.0584},{"$f":"IFERROR(G532*(1-Оглавление!$D$29),\"по запросу\")","v":11719.0584},116.91,"шт",null,0,0]
[null,221021259,"Обратный клапан ПВХ межфланцевый FKM 125 PIMTAS",10,"Арматура","RUB",{"$f":"IFERROR(I533*Оглавление!$E$23,\"по запросу\")","v":13374.020799999998},{"$f":"IFERROR(G533*(1-Оглавление!$D$29),\"по запросу\")","v":13374.020799999998},133.41999999999999,"шт",null,0,0]
[null,221021409,"Обратный клапан ПВХ межфланцевый FKM 140 PIMTAS",10,"Арматура","RUB",{"$f":"IFERROR(I534*Оглавление!$E$23,\"по запросу\")","v":15599.3488},{"$f":"IFERROR(G534*(1-Оглавление!$D$29),\"по запросу\")","v":15599.3488},155.62,"шт",null,0,0]
[null,221021609,"Обратный клапан ПВХ межфланцевый FKM 160 PIMTAS",10,"Арматура","RUB",{"$f":"IFERROR(I535*Оглавление!$E$23,\"по запросу\")","v":17643.242399999999},{"$f":"IFERROR(G535*(1-Оглавление!$D$29),\"по запросу\")","v":17643.242399999999},176.01,"шт",null,0,0]
[null,221022009,"Обратный клапан ПВХ межфланцевый FKM 200 PIMTAS",10,"Арматура","RUB",{"$f":"IFERROR(I536*Оглавление!$E$23,\"по запросу\")","v":22027.739999999998},{"$f":"IFERROR(G536*(1-Оглавление!$D$29),\"по запросу\")","v":22027.739999999998},219.75,"шт",null,0,0]
[null,221022259,"Обратный клапан ПВХ межфланцевый FKM 225 PIMTAS",10,"Арматура","RUB",{"$f":"IFERROR(I537*Оглавление!$E$23,\"по запросу\")","v":23877.167999999998},{"$f":"IFERROR(G537*(1-Оглавление!$D$29),\"по запросу\")","v":23877.167999999998},238.2,"шт",null,0,0]
[null,221022509,"Обратный клапан ПВХ межфланцевый FKM 250 PIMTAS",10,"Арматура","RUB",{"$f":"IFERROR(I538*Оглавление!$E$23,\"по запросу\")","v":50445.78},{"$f":"IFERROR(G538*(1-Оглавление!$D$29),\"по запросу\")","v":50445.78},503.25,"шт",null,0,0]
[null,221022809,"Обратный клапан ПВХ межфланцевый FKM 280 PIMTAS",10,"Арматура","RUB",{"$f":"IFERROR(I539*Оглавление!$E$23,\"по запросу\")","v":64156.607199999991},{"$f":"IFERROR(G539*(1-Оглавление!$D$29),\"по запросу\")","v":64156.607199999991},640.03,"шт",null,0,0]
[null,221023159,"Обратный клапан ПВХ межфланцевый FKM 315 PIMTAS",10,"Арматура","RUB",{"$f":"IFERROR(I540*Оглавление!$E$23,\"по запросу\")","v":97527.505600000004},{"$f":"IFERROR(G540*(1-Оглавление!$D$29),\"по запросу\")","v":97527.505600000004},972.94,"шт",null,0,0]
[null,214000162,"Обратный клапан ПВХ пружинный с муфтовыми окончаниями EPDM 16 PIMTAS",16,"Арматура","RUB",{"$f":"IFERROR(I541*Оглавление!$E$23,\"по запросу\")","v":1616.8711999999998},{"$f":"IFERROR(G541*(1-Оглавление!$D$29),\"по запросу\")","v":1616.8711999999998},16.13,"шт",null,0,0]
[null,214000202,"Обратный клапан ПВХ пружинный с муфтовыми окончаниями EPDM 20 PIMTAS",16,"Арматура","RUB",{"$f":"IFERROR(I542*Оглавление!$E$23,\"по запросу\")","v":1358.252},{"$f":"IFERROR(G542*(1-Оглавление!$D$29),\"по запросу\")","v":1358.252},13.55,"шт",null,0,0]
[null,214000252,"Обратный клапан ПВХ пружинный с муфтовыми окончаниями EPDM 25 PIMTAS",16,"Арматура","RUB",{"$f":"IFERROR(I543*Оглавление!$E$23,\"по запросу\")","v":1487.5616},{"$f":"IFERROR(G543*(1-Оглавление!$D$29),\"по запросу\")","v":1487.5616},14.84,"шт",null,0,0]
[null,214000322,"Обратный клапан ПВХ пружинный с муфтовыми окончаниями EPDM 32 PIMTAS",16,"Арматура","RUB",{"$f":"IFERROR(I544*Оглавление!$E$23,\"по запросу\")","v":1849.4279999999999},{"$f":"IFERROR(G544*(1-Оглавление!$D$29),\"по запросу\")","v":1849.4279999999999},18.45,"шт",null,0,0]
[null,214000402,"Обратный клапан ПВХ пружинный с муфтовыми окончаниями EPDM 40 PIMTAS",16,"Арматура","RUB",{"$f":"IFERROR(I545*Оглавление!$E$23,\"по запросу\")","v":2030.8624},{"$f":"IFERROR(G545*(1-Оглавление!$D$29),\"по запросу\")","v":2030.8624},20.260000000000002,"шт",null,0,0]
[null,214000502,"Обратный клапан ПВХ пружинный с муфтовыми окончаниями EPDM 50 PIMTAS",16,"Арматура","RUB",{"$f":"IFERROR(I546*Оглавление!$E$23,\"по запросу\")","v":2289.4816000000001},{"$f":"IFERROR(G546*(1-Оглавление!$D$29),\"по запросу\")","v":2289.4816000000001},22.84,"шт",null,0,0]
[null,214000632,"Обратный клапан ПВХ пружинный с муфтовыми окончаниями EPDM 63 PIMTAS",16,"Арматура","RUB",{"$f":"IFERROR(I547*Оглавление!$E$23,\"по запросу\")","v":3039.2768000000001},{"$f":"IFERROR(G547*(1-Оглавление!$D$29),\"по запросу\")","v":3039.2768000000001},30.32,"шт",null,0,0]
[null,214000752,"Обратный клапан ПВХ пружинный с муфтовыми окончаниями EPDM 75 PIMTAS",16,"Арматура","RUB",{"$f":"IFERROR(I548*Оглавление!$E$23,\"по запросу\")","v":7114.0328},{"$f":"IFERROR(G548*(1-Оглавление!$D$29),\"по запросу\")","v":7114.0328},70.97,"шт",null,0,0]
[null,214000902,"Обратный клапан ПВХ пружинный с муфтовыми окончаниями EPDM 90 PIMTAS",16,"Арматура","RUB",{"$f":"IFERROR(I549*Оглавление!$E$23,\"по запросу\")","v":7889.8903999999993},{"$f":"IFERROR(G549*(1-Оглавление!$D$29),\"по запросу\")","v":7889.8903999999993},78.709999999999994,"шт",null,0,0]
[null,214001102,"Обратный клапан ПВХ пружинный с муфтовыми окончаниями EPDM 110 PIMTAS",16,"Арматура","RUB",{"$f":"IFERROR(I550*Оглавление!$E$23,\"по запросу\")","v":13840.136799999998},{"$f":"IFERROR(G550*(1-Оглавление!$D$29),\"по запросу\")","v":13840.136799999998},138.07,"шт",null,0,0]
[null,217000162,"Обратный клапан ПВХ шаровой с муфтовыми окончаниями EPDM 16 PIMTAS",16,"Арматура","RUB",{"$f":"IFERROR(I551*Оглавление!$E$23,\"по запросу\")","v":"по запросу"},{"$f":"IFERROR(G551*(1-Оглавление!$D$29),\"по запросу\")","v":"по запросу"},"по запросу","шт",null,"0 ₽","0 ₽"]
[null,217000202,"Обратный клапан ПВХ шаровой с муфтовыми окончаниями EPDM 20 PIMTAS",16,"Арматура","RUB",{"$f":"IFERROR(I552*Оглавление!$E$23,\"по запросу\")","v":2330.58},{"$f":"IFERROR(G552*(1-Оглавление!$D$29),\"по запросу\")","v":2330.58},23.25,"шт",null,0,0]
[null,217000252,"Обратный клапан ПВХ шаровой с муфтовыми окончаниями EPDM 25 PIMTAS",16,"Арматура","RUB",{"$f":"IFERROR(I553*Оглавление!$E$23,\"по запросу\")","v":"по запросу"},{"$f":"IFERROR(G553*(1-Оглавление!$D$29),\"по запросу\")","v":"по запросу"},"по запросу","шт",null,"0 ₽","0 ₽"]
[null,217000322,"Обратный клапан ПВХ шаровой с муфтовыми окончаниями EPDM 32 PIMTAS",16,"Арматура","RUB",{"$f":"IFERROR(I554*Оглавление!$E$23,\"по запросу\")","v":"по запросу"},{"$f":"IFERROR(G554*(1-Оглавление!$D$29),\"по запросу\")","v":"по запросу"},"по запросу","шт",null,"0 ₽","0 ₽"]
[null,217000402,"Обратный клапан ПВХ шаровой с муфтовыми окончаниями EPDM 40 PIMTAS",16,"Арматура","RUB",{"$f":"IFERROR(I555*Оглавление!$E$23,\"по запросу\")","v":"по запросу"},{"$f":"IFERROR(G555*(1-Оглавление!$D$29),\"по запросу\")","v":"по запросу"},"по запросу","шт",null,"0 ₽","0 ₽"]
[null,217000502,"Обратный клапан ПВХ шаровой с муфтовыми окончаниями EPDM 50 PIMTAS",16,"Арматура","RUB",{"$f":"IFERROR(I556*Оглавление!$E$23,\"по запросу\")","v":"по запросу"},{"$f":"IFERROR(G556*(1-Оглавление!$D$29),\"по запросу\")","v":"по запросу"},"по запросу","шт",null,"0 ₽","0 ₽"]
[null,217000632,"Обратный клапан ПВХ шаровой с муфтовыми окончаниями EPDM 63 PIMTAS",16,"Арматура","RUB",{"$f":"IFERROR(I557*Оглавление!$E$23,\"по запросу\")","v":13431.1576},{"$f":"IFERROR(G557*(1-Оглавление!$D$29),\"по запросу\")","v":13431.1576},133.99,"шт",null,0,0]
[null,217030202,"Обратный клапан ПВХ пружинный для скважины EPDM 20 PIMTAS",16,"Арматура","RUB",{"$f":"IFERROR(I558*Оглавление!$E$23,\"по запросу\")","v":1143.7384},{"$f":"IFERROR(G558*(1-Оглавление!$D$29),\"по запросу\")","v":1143.7384},11.41,"шт",null,0,0]
[null,217030252,"Обратный клапан ПВХ пружинный для скважины EPDM 25 PIMTAS",16,"Арматура","RUB",{"$f":"IFERROR(I559*Оглавление!$E$23,\"по запросу\")","v":1210.8991999999998},{"$f":"IFERROR(G559*(1-Оглавление!$D$29),\"по запросу\")","v":1210.8991999999998},12.08,"шт",null,0,0]
[null,217030322,"Обратный клапан ПВХ пружинный для скважины EPDM 32 PIMTAS",16,"Арматура","RUB",{"$f":"IFERROR(I560*Оглавление!$E$23,\"по запросу\")","v":1430.4247999999998},{"$f":"IFERROR(G560*(1-Оглавление!$D$29),\"по запросу\")","v":1430.4247999999998},14.27,"шт",null,0,0]
[null,217030402,"Обратный клапан ПВХ пружинный для скважины EPDM 40 PIMTAS",16,"Арматура","RUB",{"$f":"IFERROR(I561*Оглавление!$E$23,\"по запросу\")","v":1539.6863999999998},{"$f":"IFERROR(G561*(1-Оглавление!$D$29),\"по запросу\")","v":1539.6863999999998},15.36,"шт",null,0,0]
[null,217030502,"Обратный клапан ПВХ пружинный для скважины EPDM 50 PIMTAS",16,"Арматура","RUB",{"$f":"IFERROR(I562*Оглавление!$E$23,\"по запросу\")","v":1803.3175999999999},{"$f":"IFERROR(G562*(1-Оглавление!$D$29),\"по запросу\")","v":1803.3175999999999},17.989999999999998,"шт",null,0,0]
[null,217030632,"Обратный клапан ПВХ пружинный для скважины EPDM 63 PIMTAS",16,"Арматура","RUB",{"$f":"IFERROR(I563*Оглавление!$E$23,\"по запросу\")","v":2374.6855999999998},{"$f":"IFERROR(G563*(1-Оглавление!$D$29),\"по запросу\")","v":2374.6855999999998},23.69,"шт",null,0,0]
[null,217030752,"Обратный клапан ПВХ пружинный для скважины EPDM 75 PIMTAS",16,"Арматура","RUB",{"$f":"IFERROR(I564*Оглавление!$E$23,\"по запросу\")","v":6596.7943999999998},{"$f":"IFERROR(G564*(1-Оглавление!$D$29),\"по запросу\")","v":6596.7943999999998},65.81,"шт",null,0,0]
[null,217030902,"Обратный клапан ПВХ пружинный для скважины EPDM 90 PIMTAS",16,"Арматура","RUB",{"$f":"IFERROR(I565*Оглавление!$E$23,\"по запросу\")","v":7514.9927999999991},{"$f":"IFERROR(G565*(1-Оглавление!$D$29),\"по запросу\")","v":7514.9927999999991},74.97,"шт",null,0,0]
[null,217031102,"Обратный клапан ПВХ пружинный для скважины EPDM 110 PIMTAS",16,"Арматура","RUB",{"$f":"IFERROR(I566*Оглавление!$E$23,\"по запросу\")","v":12961.032000000001},{"$f":"IFERROR(G566*(1-Оглавление!$D$29),\"по запросу\")","v":12961.032000000001},129.30000000000001,"шт",null,0,0]
[null,202000162,"Кран шаровой ПВХ муфтовый общего применения EPDM 16 PIMTAS",16,"Арматура","RUB",{"$f":"IFERROR(I567*Оглавление!$E$23,\"по запросу\")","v":1629.9024000000002},{"$f":"IFERROR(G567*(1-Оглавление!$D$29),\"по запросу\")","v":1629.9024000000002},16.260000000000002,"шт",null,0,0]
[null,202000202,"Кран шаровой ПВХ муфтовый общего применения EPDM 20 PIMTAS",16,"Арматура","RUB",{"$f":"IFERROR(I568*Оглавление!$E$23,\"по запросу\")","v":1345.2207999999998},{"$f":"IFERROR(G568*(1-Оглавление!$D$29),\"по запросу\")","v":1345.2207999999998},13.42,"шт",null,0,0]
[null,202000252,"Кран шаровой ПВХ муфтовый общего применения EPDM 25 PIMTAS",16,"Арматура","RUB",{"$f":"IFERROR(I569*Оглавление!$E$23,\"по запросу\")","v":1422.4055999999998},{"$f":"IFERROR(G569*(1-Оглавление!$D$29),\"по запросу\")","v":1422.4055999999998},14.19,"шт",null,0,0]
[null,202000322,"Кран шаровой ПВХ муфтовый общего применения EPDM 32 PIMTAS",16,"Арматура","RUB",{"$f":"IFERROR(I570*Оглавление!$E$23,\"по запросу\")","v":1681.0247999999999},{"$f":"IFERROR(G570*(1-Оглавление!$D$29),\"по запросу\")","v":1681.0247999999999},16.77,"шт",null,0,0]
[null,202000402,"Кран шаровой ПВХ муфтовый общего применения EPDM 40 PIMTAS",16,"Арматура","RUB",{"$f":"IFERROR(I571*Оглавление!$E$23,\"по запросу\")","v":1811.3368},{"$f":"IFERROR(G571*(1-Оглавление!$D$29),\"по запросу\")","v":1811.3368},18.07,"шт",null,0,0]
[null,202000502,"Кран шаровой ПВХ муфтовый общего применения EPDM 50 PIMTAS",16,"Арматура","RUB",{"$f":"IFERROR(I572*Оглавление!$E$23,\"по запросу\")","v":2121.0783999999999},{"$f":"IFERROR(G572*(1-Оглавление!$D$29),\"по запросу\")","v":2121.0783999999999},21.16,"шт",null,0,0]
[null,202000632,"Кран шаровой ПВХ муфтовый общего применения EPDM 63 PIMTAS",16,"Арматура","RUB",{"$f":"IFERROR(I573*Оглавление!$E$23,\"по запросу\")","v":2793.6887999999999},{"$f":"IFERROR(G573*(1-Оглавление!$D$29),\"по запросу\")","v":2793.6887999999999},27.87,"шт",null,0,0]
[null,202000752,"Кран шаровой ПВХ муфтовый общего применения EPDM 75 PIMTAS",16,"Арматура","RUB",{"$f":"IFERROR(I574*Оглавление!$E$23,\"по запросу\")","v":7243.3424000000005},{"$f":"IFERROR(G574*(1-Оглавление!$D$29),\"по запросу\")","v":7243.3424000000005},72.260000000000005,"шт",null,0,0]
[null,202000902,"Кран шаровой ПВХ муфтовый общего применения EPDM 90 PIMTAS",16,"Арматура","RUB",{"$f":"IFERROR(I575*Оглавление!$E$23,\"по запросу\")","v":9571.9175999999989},{"$f":"IFERROR(G575*(1-Оглавление!$D$29),\"по запросу\")","v":9571.9175999999989},95.49,"шт",null,0,0]
[null,202001102,"Кран шаровой ПВХ муфтовый общего применения EPDM 110 PIMTAS",16,"Арматура","RUB",{"$f":"IFERROR(I576*Оглавление!$E$23,\"по запросу\")","v":14228.0656},{"$f":"IFERROR(G576*(1-Оглавление!$D$29),\"по запросу\")","v":14228.0656},141.94,"шт",null,0,0]
[null,204000162,"Кран шаровой ПВХ резьбовой с одной стороны общего применения EPDM 16 3/8 PIMTAS",16,"Арматура","RUB",{"$f":"IFERROR(I577*Оглавление!$E$23,\"по запросу\")","v":2095.0159999999996},{"$f":"IFERROR(G577*(1-Оглавление!$D$29),\"по запросу\")","v":2095.0159999999996},20.9,"шт",null,0,0]
[null,204000202,"Кран шаровой ПВХ резьбовой с одной стороны общего применения EPDM 20 1/2 PIMTAS",16,"Арматура","RUB",{"$f":"IFERROR(I578*Оглавление!$E$23,\"по запросу\")","v":1811.3368},{"$f":"IFERROR(G578*(1-Оглавление!$D$29),\"по запросу\")","v":1811.3368},18.07,"шт",null,0,0]
[null,204000252,"Кран шаровой ПВХ резьбовой с одной стороны общего применения EPDM 25 3/4 PIMTAS",16,"Арматура","RUB",{"$f":"IFERROR(I579*Оглавление!$E$23,\"по запросу\")","v":1914.5840000000001},{"$f":"IFERROR(G579*(1-Оглавление!$D$29),\"по запросу\")","v":1914.5840000000001},19.100000000000001,"шт",null,0,0]
[null,204000322,"Кран шаровой ПВХ резьбовой с одной стороны общего применения EPDM 32 1 PIMTAS",16,"Арматура","RUB",{"$f":"IFERROR(I580*Оглавление!$E$23,\"по запросу\")","v":2302.5128},{"$f":"IFERROR(G580*(1-Оглавление!$D$29),\"по запросу\")","v":2302.5128},22.97,"шт",null,0,0]
[null,204000402,"Кран шаровой ПВХ резьбовой с одной стороны общего применения EPDM 40 1 1/4 PIMTAS",16,"Арматура","RUB",{"$f":"IFERROR(I581*Оглавление!$E$23,\"по запросу\")","v":2431.8224},{"$f":"IFERROR(G581*(1-Оглавление!$D$29),\"по запросу\")","v":2431.8224},24.26,"шт",null,0,0]
[null,204000502,"Кран шаровой ПВХ резьбовой с одной стороны общего применения EPDM 50 1 1/2 PIMTAS",16,"Арматура","RUB",{"$f":"IFERROR(I582*Оглавление!$E$23,\"по запросу\")","v":2793.6887999999999},{"$f":"IFERROR(G582*(1-Оглавление!$D$29),\"по запросу\")","v":2793.6887999999999},27.87,"шт",null,0,0]
[null,204000632,"Кран шаровой ПВХ резьбовой с одной стороны общего применения EPDM 63 2 PIMTAS",16,"Арматура","RUB",{"$f":"IFERROR(I583*Оглавление!$E$23,\"по запросу\")","v":3466.2991999999995},{"$f":"IFERROR(G583*(1-Оглавление!$D$29),\"по запросу\")","v":3466.2991999999995},34.58,"шт",null,0,0]
[null,204000752,"Кран шаровой ПВХ резьбовой с одной стороны общего применения EPDM 75 2 1/2 PIMTAS",16,"Арматура","RUB",{"$f":"IFERROR(I584*Оглавление!$E$23,\"по запросу\")","v":8277.8191999999999},{"$f":"IFERROR(G584*(1-Оглавление!$D$29),\"по запросу\")","v":8277.8191999999999},82.58,"шт",null,0,0]
[null,204000902,"Кран шаровой ПВХ резьбовой с одной стороны общего применения EPDM 90 3 PIMTAS",16,"Арматура","RUB",{"$f":"IFERROR(I585*Оглавление!$E$23,\"по запросу\")","v":10606.394399999999},{"$f":"IFERROR(G585*(1-Оглавление!$D$29),\"по запросу\")","v":10606.394399999999},105.81,"шт",null,0,0]
[null,204001102,"Кран шаровой ПВХ резьбовой с одной стороны общего применения EPDM 110 4 PIMTAS",16,"Арматура","RUB",{"$f":"IFERROR(I586*Оглавление!$E$23,\"по запросу\")","v":15780.7832},{"$f":"IFERROR(G586*(1-Оглавление!$D$29),\"по запросу\")","v":15780.7832},157.43,"шт",null,{"$f":"IFERROR(K586*G586,\"0 ₽\")","v":0},{"$f":"IFERROR(K586*H586,\"0 ₽\")","v":0}]
[null,205000202,"Кран шаровой ПВХ муфтовый промышленный EPDM 20 PIMTAS",16,"Арматура","RUB",{"$f":"IFERROR(I587*Оглавление!$E$23,\"по запросу\")","v":1914.5840000000001},{"$f":"IFERROR(G587*(1-Оглавление!$D$29),\"по запросу\")","v":1914.5840000000001},19.100000000000001,"шт",null,0,0]
[null,205000252,"Кран шаровой ПВХ муфтовый промышленный EPDM 25 PIMTAS",16,"Арматура","RUB",{"$f":"IFERROR(I588*Оглавление!$E$23,\"по запросу\")","v":2431.8224},{"$f":"IFERROR(G588*(1-Оглавление!$D$29),\"по запросу\")","v":2431.8224},24.26,"шт",null,0,0]
[null,205000322,"Кран шаровой ПВХ муфтовый промышленный EPDM 32 PIMTAS",16,"Арматура","RUB",{"$f":"IFERROR(I589*Оглавление!$E$23,\"по запросу\")","v":3259.8048000000003},{"$f":"IFERROR(G589*(1-Оглавление!$D$29),\"по запросу\")","v":3259.8048000000003},32.520000000000003,"шт",null,0,0]
[null,205000402,"Кран шаровой ПВХ муфтовый промышленный EPDM 40 PIMTAS",16,"Арматура","RUB",{"$f":"IFERROR(I590*Оглавление!$E$23,\"по запросу\")","v":4035.6623999999997},{"$f":"IFERROR(G590*(1-Оглавление!$D$29),\"по запросу\")","v":4035.6623999999997},40.26,"шт",null,0,0]
[null,205000502,"Кран шаровой ПВХ муфтовый промышленный EPDM 50 PIMTAS",16,"Арматура","RUB",{"$f":"IFERROR(I591*Оглавление!$E$23,\"по запросу\")","v":4708.2727999999997},{"$f":"IFERROR(G591*(1-Оглавление!$D$29),\"по запросу\")","v":4708.2727999999997},46.97,"шт",null,0,0]
[null,205000632,"Кран шаровой ПВХ муфтовый промышленный EPDM 63 PIMTAS",16,"Арматура","RUB",{"$f":"IFERROR(I592*Оглавление!$E$23,\"по запросу\")","v":5691.6271999999999},{"$f":"IFERROR(G592*(1-Оглавление!$D$29),\"по запросу\")","v":5691.6271999999999},56.78,"шт",null,0,0]
[null,205000752,"Кран шаровой ПВХ муфтовый промышленный EPDM 75 PIMTAS",16,"Арматура","RUB",{"$f":"IFERROR(I593*Оглавление!$E$23,\"по запросу\")","v":13452.207999999999},{"$f":"IFERROR(G593*(1-Оглавление!$D$29),\"по запросу\")","v":13452.207999999999},134.19999999999999,"шт",null,0,0]
[null,205000902,"Кран шаровой ПВХ муфтовый промышленный EPDM 90 PIMTAS",16,"Арматура","RUB",{"$f":"IFERROR(I594*Оглавление!$E$23,\"по запросу\")","v":17332.4984},{"$f":"IFERROR(G594*(1-Оглавление!$D$29),\"по запросу\")","v":17332.4984},172.91,"шт",null,0,0]
[null,205001102,"Кран шаровой ПВХ муфтовый промышленный EPDM 110 PIMTAS",16,"Арматура","RUB",{"$f":"IFERROR(I595*Оглавление!$E$23,\"по запросу\")","v":22247.265599999999},{"$f":"IFERROR(G595*(1-Оглавление!$D$29),\"по запросу\")","v":22247.265599999999},221.94,"шт",null,0,0]
[null,234000202,"Кран шаровой ПВХ муфтовый промышленный FKM 20 PIMTAS",16,"Арматура","RUB",{"$f":"IFERROR(I596*Оглавление!$E$23,\"по запросу\")","v":3223.7183999999993},{"$f":"IFERROR(G596*(1-Оглавление!$D$29),\"по запросу\")","v":3223.7183999999993},32.159999999999997,"шт",null,0,0]
[null,234000252,"Кран шаровой ПВХ муфтовый промышленный FKM 25 PIMTAS",16,"Арматура","RUB",{"$f":"IFERROR(I597*Оглавление!$E$23,\"по запросу\")","v":4340.3919999999998},{"$f":"IFERROR(G597*(1-Оглавление!$D$29),\"по запросу\")","v":4340.3919999999998},43.3,"шт",null,0,0]
[null,234000322,"Кран шаровой ПВХ муфтовый промышленный FKM 32 PIMTAS",16,"Арматура","RUB",{"$f":"IFERROR(I598*Оглавление!$E$23,\"по запросу\")","v":5168.3743999999997},{"$f":"IFERROR(G598*(1-Оглавление!$D$29),\"по запросу\")","v":5168.3743999999997},51.56,"шт",null,0,0]
[null,234000402,"Кран шаровой ПВХ муфтовый промышленный FKM 40 PIMTAS",16,"Арматура","RUB",{"$f":"IFERROR(I599*Оглавление!$E$23,\"по запросу\")","v":"по запросу"},{"$f":"IFERROR(G599*(1-Оглавление!$D$29),\"по запросу\")","v":"по запросу"},"по запросу","шт",null,"0 ₽","0 ₽"]
[null,234000502,"Кран шаровой ПВХ муфтовый промышленный FKM 50 PIMTAS",16,"Арматура","RUB",{"$f":"IFERROR(I600*Оглавление!$E$23,\"по запросу\")","v":8352.9992000000002},{"$f":"IFERROR(G600*(1-Оглавление!$D$29),\"по запросу\")","v":8352.9992000000002},83.33,"шт",null,0,0]
[null,234000632,"Кран шаровой ПВХ муфтовый промышленный FKM 63 PIMTAS",16,"Арматура","RUB",{"$f":"IFERROR(I601*Оглавление!$E$23,\"по запросу\")","v":10591.358399999999},{"$f":"IFERROR(G601*(1-Оглавление!$D$29),\"по запросу\")","v":10591.358399999999},105.66,"шт",null,0,0]
[null,234000752,"Кран шаровой ПВХ муфтовый промышленный FKM 75 PIMTAS",16,"Арматура","RUB",{"$f":"IFERROR(I602*Оглавление!$E$23,\"по запросу\")","v":23916.261599999998},{"$f":"IFERROR(G602*(1-Оглавление!$D$29),\"по запросу\")","v":23916.261599999998},238.59,"шт",null,0,0]
[null,234000902,"Кран шаровой ПВХ муфтовый промышленный FKM 90 PIMTAS",16,"Арматура","RUB",{"$f":"IFERROR(I603*Оглавление!$E$23,\"по запросу\")","v":23996.453599999997},{"$f":"IFERROR(G603*(1-Оглавление!$D$29),\"по запросу\")","v":23996.453599999997},239.39,"шт",null,0,0]
[null,234001102,"Кран шаровой ПВХ муфтовый промышленный FKM 110 PIMTAS",16,"Арматура","RUB",{"$f":"IFERROR(I604*Оглавление!$E$23,\"по запросу\")","v":33759.829599999997},{"$f":"IFERROR(G604*(1-Оглавление!$D$29),\"по запросу\")","v":33759.829599999997},336.79,"шт",null,0,0]
[null,209000202,"Кран шаровой ПВХ фланцевый промышленный EPDM 20 PIMTAS",16,"Арматура","RUB",{"$f":"IFERROR(I605*Оглавление!$E$23,\"по запросу\")","v":5044.0767999999998},{"$f":"IFERROR(G605*(1-Оглавление!$D$29),\"по запросу\")","v":5044.0767999999998},50.32,"шт",null,0,0]
[null,209000252,"Кран шаровой ПВХ фланцевый промышленный EPDM 25 PIMTAS",16,"Арматура","RUB",{"$f":"IFERROR(I606*Оглавление!$E$23,\"по запросу\")","v":5562.3176000000003},{"$f":"IFERROR(G606*(1-Оглавление!$D$29),\"по запросу\")","v":5562.3176000000003},55.49,"шт",null,0,0]
[null,209000322,"Кран шаровой ПВХ фланцевый промышленный EPDM 32 PIMTAS",16,"Арматура","RUB",{"$f":"IFERROR(I607*Оглавление!$E$23,\"по запросу\")","v":6467.4847999999993},{"$f":"IFERROR(G607*(1-Оглавление!$D$29),\"по запросу\")","v":6467.4847999999993},64.52,"шт",null,0,0]
[null,209000402,"Кран шаровой ПВХ фланцевый промышленный EPDM 40 PIMTAS",16,"Арматура","RUB",{"$f":"IFERROR(I608*Оглавление!$E$23,\"по запросу\")","v":7760.5807999999997},{"$f":"IFERROR(G608*(1-Оглавление!$D$29),\"по запросу\")","v":7760.5807999999997},77.42,"шт",null,0,0]
[null,209000502,"Кран шаровой ПВХ фланцевый промышленный EPDM 50 PIMTAS",16,"Арматура","RUB",{"$f":"IFERROR(I609*Оглавление!$E$23,\"по запросу\")","v":8536.4383999999991},{"$f":"IFERROR(G609*(1-Оглавление!$D$29),\"по запросу\")","v":8536.4383999999991},85.16,"шт",null,0,0]
[null,209000632,"Кран шаровой ПВХ фланцевый промышленный EPDM 63 PIMTAS",16,"Арматура","RUB",{"$f":"IFERROR(I610*Оглавление!$E$23,\"по запросу\")","v":9830.536799999998},{"$f":"IFERROR(G610*(1-Оглавление!$D$29),\"по запросу\")","v":9830.536799999998},98.07,"шт",null,0,0]
[null,209000752,"Кран шаровой ПВХ фланцевый промышленный EPDM 75 PIMTAS",16,"Арматура","RUB",{"$f":"IFERROR(I611*Оглавление!$E$23,\"по запросу\")","v":20695.5504},{"$f":"IFERROR(G611*(1-Оглавление!$D$29),\"по запросу\")","v":20695.5504},206.46,"шт",null,0,0]
[null,209000902,"Кран шаровой ПВХ фланцевый промышленный EPDM 90 PIMTAS",16,"Арматура","RUB",{"$f":"IFERROR(I612*Оглавление!$E$23,\"по запросу\")","v":23282.7448},{"$f":"IFERROR(G612*(1-Оглавление!$D$29),\"по запросу\")","v":23282.7448},232.27,"шт",null,0,0]
[null,209001102,"Кран шаровой ПВХ фланцевый промышленный EPDM 110 PIMTAS",16,"Арматура","RUB",{"$f":"IFERROR(I613*Оглавление!$E$23,\"по запросу\")","v":40098.004799999995},{"$f":"IFERROR(G613*(1-Оглавление!$D$29),\"по запросу\")","v":40098.004799999995},400.02,"шт",null,0,0]
[null,237000202,"Кран шаровой ПВХ фланцевый промышленный FKM 20 PIMTAS",16,"Арматура","RUB",{"$f":"IFERROR(I614*Оглавление!$E$23,\"по запросу\")","v":6353.2111999999997},{"$f":"IFERROR(G614*(1-Оглавление!$D$29),\"по запросу\")","v":6353.2111999999997},63.38,"шт",null,0,0]
[null,237000252,"Кран шаровой ПВХ фланцевый промышленный FKM 25 PIMTAS",16,"Арматура","RUB",{"$f":"IFERROR(I615*Оглавление!$E$23,\"по запросу\")","v":7470.8872000000001},{"$f":"IFERROR(G615*(1-Оглавление!$D$29),\"по запросу\")","v":7470.8872000000001},74.53,"шт",null,0,0]
[null,237000322,"Кран шаровой ПВХ фланцевый промышленный FKM 32 PIMTAS",16,"Арматура","RUB",{"$f":"IFERROR(I616*Оглавление!$E$23,\"по запросу\")","v":8376.0543999999991},{"$f":"IFERROR(G616*(1-Оглавление!$D$29),\"по запросу\")","v":8376.0543999999991},83.56,"шт",null,0,0]
[null,237000402,"Кран шаровой ПВХ фланцевый промышленный FKM 40 PIMTAS",16,"Арматура","RUB",{"$f":"IFERROR(I617*Оглавление!$E$23,\"по запросу\")","v":10422.9552},{"$f":"IFERROR(G617*(1-Оглавление!$D$29),\"по запросу\")","v":10422.9552},103.98,"шт",null,0,0]
[null,237000502,"Кран шаровой ПВХ фланцевый промышленный FKM 50 PIMTAS",16,"Арматура","RUB",{"$f":"IFERROR(I618*Оглавление!$E$23,\"по запросу\")","v":12182.1672},{"$f":"IFERROR(G618*(1-Оглавление!$D$29),\"по запросу\")","v":12182.1672},121.53,"шт",null,0,0]
[null,237000632,"Кран шаровой ПВХ фланцевый промышленный FKM 63 PIMTAS",16,"Арматура","RUB",{"$f":"IFERROR(I619*Оглавление!$E$23,\"по запросу\")","v":14730.267999999998},{"$f":"IFERROR(G619*(1-Оглавление!$D$29),\"по запросу\")","v":14730.267999999998},146.94999999999999,"шт",null,0,0]
[null,237000752,"Кран шаровой ПВХ фланцевый промышленный FKM 75 PIMTAS",16,"Арматура","RUB",{"$f":"IFERROR(I620*Оглавление!$E$23,\"по запросу\")","v":31172.635200000001},{"$f":"IFERROR(G620*(1-Оглавление!$D$29),\"по запросу\")","v":31172.635200000001},310.98,"шт",null,0,0]
[null,237000902,"Кран шаровой ПВХ фланцевый промышленный FKM 90 PIMTAS",16,"Арматура","RUB",{"$f":"IFERROR(I621*Оглавление!$E$23,\"по запросу\")","v":32543.918400000002},{"$f":"IFERROR(G621*(1-Оглавление!$D$29),\"по запросу\")","v":32543.918400000002},324.66000000000003,"шт",null,0,0]
[null,237001102,"Кран шаровой ПВХ фланцевый промышленный FKM 110 PIMTAS",16,"Арматура","RUB",{"$f":"IFERROR(I622*Оглавление!$E$23,\"по запросу\")","v":51609.566399999996},{"$f":"IFERROR(G622*(1-Оглавление!$D$29),\"по запросу\")","v":51609.566399999996},514.86,"шт",null,0,0]
[null,201000634,"Затвор дисковый ПВХ без фланца с рукояткой общего применения 63 (DN50) EPDM PIMTAS",10,"Арматура","RUB",{"$f":"IFERROR(I623*Оглавление!$E$23,\"по запросу\")","v":10606.394399999999},{"$f":"IFERROR(G623*(1-Оглавление!$D$29),\"по запросу\")","v":10606.394399999999},105.81,"шт",null,0,0]
[null,201000754,"Затвор дисковый ПВХ без фланца с рукояткой общего применения 75 (DN65) EPDM PIMTAS",10,"Арматура","RUB",{"$f":"IFERROR(I624*Оглавление!$E$23,\"по запросу\")","v":11640.8712},{"$f":"IFERROR(G624*(1-Оглавление!$D$29),\"по запросу\")","v":11640.8712},116.13,"шт",null,0,0]
[null,201000904,"Затвор дисковый ПВХ без фланца с рукояткой общего применения 90 (DN80) EPDM PIMTAS",10,"Арматура","RUB",{"$f":"IFERROR(I625*Оглавление!$E$23,\"по запросу\")","v":12417.731199999998},{"$f":"IFERROR(G625*(1-Оглавление!$D$29),\"по запросу\")","v":12417.731199999998},123.88,"шт",null,0,0]
[null,201001104,"Затвор дисковый ПВХ без фланца с рукояткой общего применения 110 (DN100) EPDM PIMTAS",10,"Арматура","RUB",{"$f":"IFERROR(I626*Оглавление!$E$23,\"по запросу\")","v":14228.0656},{"$f":"IFERROR(G626*(1-Оглавление!$D$29),\"по запросу\")","v":14228.0656},141.94,"шт",null,0,0]
[null,201001254,"Затвор дисковый ПВХ без фланца с рукояткой общего применения 125 (DN110) EPDM PIMTAS",10,"Арматура","RUB",{"$f":"IFERROR(I627*Оглавление!$E$23,\"по запросу\")","v":16039.402399999999},{"$f":"IFERROR(G627*(1-Оглавление!$D$29),\"по запросу\")","v":16039.402399999999},160.01,"шт",null,0,0]
[null,201001404,"Затвор дисковый ПВХ без фланца с рукояткой общего применения 140 (DN125) EPDM PIMTAS",10,"Арматура","RUB",{"$f":"IFERROR(I628*Оглавление!$E$23,\"по запросу\")","v":16039.402399999999},{"$f":"IFERROR(G628*(1-Оглавление!$D$29),\"по запросу\")","v":16039.402399999999},160.01,"шт",null,0,0]
[null,201001604,"Затвор дисковый ПВХ без фланца с рукояткой общего применения 160 (DN150) EPDM PIMTAS",10,"Арматура","RUB",{"$f":"IFERROR(I629*Оглавление!$E$23,\"по запросу\")","v":20436.931199999999},{"$f":"IFERROR(G629*(1-Оглавление!$D$29),\"по запросу\")","v":20436.931199999999},203.88,"шт",null,0,0]
[null,201002004,"Затвор дисковый ПВХ без фланца с рукояткой общего применения 200 (DN175) EPDM PIMTAS",10,"Арматура","RUB",{"$f":"IFERROR(I630*Оглавление!$E$23,\"по запросу\")","v":34147.758399999999},{"$f":"IFERROR(G630*(1-Оглавление!$D$29),\"по запросу\")","v":34147.758399999999},340.66,"шт",null,0,0]
[null,201002254,"Затвор дисковый ПВХ без фланца с рукояткой общего применения 225 (DN200) EPDM PIMTAS",10,"Арматура","RUB",{"$f":"IFERROR(I631*Оглавление!$E$23,\"по запросу\")","v":34147.758399999999},{"$f":"IFERROR(G631*(1-Оглавление!$D$29),\"по запросу\")","v":34147.758399999999},340.66,"шт",null,0,0]
[null,201002504,"Затвор дисковый ПВХ без фланца с рукояткой общего применения 250 (DN225) EPDM PIMTAS",10,"Арматура","RUB",{"$f":"IFERROR(I632*Оглавление!$E$23,\"по запросу\")","v":90542.782399999996},{"$f":"IFERROR(G632*(1-Оглавление!$D$29),\"по запросу\")","v":90542.782399999996},903.26,"шт",null,0,0]
[null,201002804,"Затвор дисковый ПВХ без фланца с рукояткой общего применения 280 (DN250) EPDM PIMTAS",10,"Арматура","RUB",{"$f":"IFERROR(I633*Оглавление!$E$23,\"по запросу\")","v":90542.782399999996},{"$f":"IFERROR(G633*(1-Оглавление!$D$29),\"по запросу\")","v":90542.782399999996},903.26,"шт",null,0,0]
[null,201003154,"Затвор дисковый ПВХ без фланца с рукояткой общего применения 315 (DN300) EPDM PIMTAS",10,"Арматура","RUB",{"$f":"IFERROR(I634*Оглавление!$E$23,\"по запросу\")","v":232825.44319999998},{"$f":"IFERROR(G634*(1-Оглавление!$D$29),\"по запросу\")","v":232825.44319999998},2322.6799999999998,"шт",null,0,0]
[null,201113554,"Затвор дисковый ПВХ без фланца с редуктором общего применения 355 (DN350) EPDM PIMTAS",6,"Арматура","RUB",{"$f":"IFERROR(I635*Оглавление!$E$23,\"по запросу\")","v":"по запросу"},{"$f":"IFERROR(G635*(1-Оглавление!$D$29),\"по запросу\")","v":"по запросу"},"по запросу","шт",null,"0 ₽","0 ₽"]
[null,201114004,"Затвор дисковый ПВХ без фланца с редуктором общего применения 400 (DN400) EPDM PIMTAS",6,"Арматура","RUB",{"$f":"IFERROR(I636*Оглавление!$E$23,\"по запросу\")","v":"по запросу"},{"$f":"IFERROR(G636*(1-Оглавление!$D$29),\"по запросу\")","v":"по запросу"},"по запросу","шт",null,"0 ₽","0 ₽"]
[null,201010634,"Затвор дисковый ПВХ без фланца с рукояткой промышленный 63 (DN50) FKM PIMTAS",10,"Арматура","RUB",{"$f":"IFERROR(I637*Оглавление!$E$23,\"по запросу\")","v":15910.092799999999},{"$f":"IFERROR(G637*(1-Оглавление!$D$29),\"по запросу\")","v":15910.092799999999},158.72,"шт",null,0,0]
[null,201010754,"Затвор дисковый ПВХ без фланца с рукояткой промышленный 75 (DN65) FKM PIMTAS",10,"Арматура","RUB",{"$f":"IFERROR(I638*Оглавление!$E$23,\"по запросу\")","v":17461.807999999997},{"$f":"IFERROR(G638*(1-Оглавление!$D$29),\"по запросу\")","v":17461.807999999997},174.2,"шт",null,0,0]
[null,201010904,"Затвор дисковый ПВХ без фланца с рукояткой промышленный 90 (DN80) FKM PIMTAS",10,"Арматура","RUB",{"$f":"IFERROR(I639*Оглавление!$E$23,\"по запросу\")","v":18625.594399999998},{"$f":"IFERROR(G639*(1-Оглавление!$D$29),\"по запросу\")","v":18625.594399999998},185.81,"шт",null,0,0]
[null,201011104,"Затвор дисковый ПВХ без фланца с рукояткой промышленный 110 (DN100) FKM PIMTAS",10,"Арматура","RUB",{"$f":"IFERROR(I640*Оглавление!$E$23,\"по запросу\")","v":21342.098399999999},{"$f":"IFERROR(G640*(1-Оглавление!$D$29),\"по запросу\")","v":21342.098399999999},212.91,"шт",null,0,0]
[null,201011254,"Затвор дисковый ПВХ без фланца с рукояткой промышленный 125 (DN110) FKM PIMTAS",10,"Арматура","RUB",{"$f":"IFERROR(I641*Оглавление!$E$23,\"по запросу\")","v":24058.602399999996},{"$f":"IFERROR(G641*(1-Оглавление!$D$29),\"по запросу\")","v":24058.602399999996},240.01,"шт",null,0,0]
[null,201011404,"Затвор дисковый ПВХ без фланца с рукояткой промышленный 140 (DN125) FKM PIMTAS",10,"Арматура","RUB",{"$f":"IFERROR(I642*Оглавление!$E$23,\"по запросу\")","v":24058.602399999996},{"$f":"IFERROR(G642*(1-Оглавление!$D$29),\"по запросу\")","v":24058.602399999996},240.01,"шт",null,0,0]
[null,201011604,"Затвор дисковый ПВХ без фланца с рукояткой промышленный 160 (DN150) FKM PIMTAS",10,"Арматура","RUB",{"$f":"IFERROR(I643*Оглавление!$E$23,\"по запросу\")","v":30655.396799999999},{"$f":"IFERROR(G643*(1-Оглавление!$D$29),\"по запросу\")","v":30655.396799999999},305.82,"шт",null,0,0]
[null,201012004,"Затвор дисковый ПВХ без фланца с рукояткой промышленный 200 (DN175) FKM PIMTAS",10,"Арматура","RUB",{"$f":"IFERROR(I644*Оглавление!$E$23,\"по запросу\")","v":51221.637600000002},{"$f":"IFERROR(G644*(1-Оглавление!$D$29),\"по запросу\")","v":51221.637600000002},510.99,"шт",null,0,0]
[null,201012254,"Затвор дисковый ПВХ без фланца с рукояткой промышленный 225 (DN200) FKM PIMTAS",10,"Арматура","RUB",{"$f":"IFERROR(I645*Оглавление!$E$23,\"по запросу\")","v":51221.637600000002},{"$f":"IFERROR(G645*(1-Оглавление!$D$29),\"по запросу\")","v":51221.637600000002},510.99,"шт",null,0,0]
[null,201012504,"Затвор дисковый ПВХ без фланца с рукояткой промышленный 250 (DN225) FKM PIMTAS",10,"Арматура","RUB",{"$f":"IFERROR(I646*Оглавление!$E$23,\"по запросу\")","v":135814.17360000001},{"$f":"IFERROR(G646*(1-Оглавление!$D$29),\"по запросу\")","v":135814.17360000001},1354.89,"шт",null,0,0]
[null,201012804,"Затвор дисковый ПВХ без фланца с рукояткой промышленный 280 (DN250) FKM PIMTAS",10,"Арматура","RUB",{"$f":"IFERROR(I647*Оглавление!$E$23,\"по запросу\")","v":135814.17360000001},{"$f":"IFERROR(G647*(1-Оглавление!$D$29),\"по запросу\")","v":135814.17360000001},1354.89,"шт",null,0,0]
[null,201013154,"Затвор дисковый ПВХ без фланца с рукояткой промышленный 315 (DN300) FKM PIMTAS",10,"Арматура","RUB",{"$f":"IFERROR(I648*Оглавление!$E$23,\"по запросу\")","v":349237.16240000003},{"$f":"IFERROR(G648*(1-Оглавление!$D$29),\"по запросу\")","v":349237.16240000003},3484.01,"шт",null,0,0]
[null,201013554,"Затвор дисковый ПВХ без фланца с рукояткой промышленный 355 (DN350) FKM PIMTAS",6,"Арматура","RUB",{"$f":"IFERROR(I649*Оглавление!$E$23,\"по запросу\")","v":"по запросу"},{"$f":"IFERROR(G649*(1-Оглавление!$D$29),\"по запросу\")","v":"по запросу"},"по запросу","шт",null,"0 ₽","0 ₽"]
[null,201014004,"Затвор дисковый ПВХ без фланца с рукояткой промышленный 400 (DN400) FKM PIMTAS",6,"Арматура","RUB",{"$f":"IFERROR(I650*Оглавление!$E$23,\"по запросу\")","v":"по запросу"},{"$f":"IFERROR(G650*(1-Оглавление!$D$29),\"по запросу\")","v":"по запросу"},"по запросу","шт",null,{"$f":"IFERROR(K650*G650,\"0 ₽\")","v":"0 ₽"},{"$f":"IFERROR(K650*H650,\"0 ₽\")","v":"0 ₽"}]
[null,200000632,"Затвор дисковый ПВХ с рукояткой общего применения 63 (DN50) EPDM PIMTAS",10,"Арматура","RUB",{"$f":"IFERROR(I651*Оглавление!$E$23,\"по запросу\")","v":15522.163999999999},{"$f":"IFERROR(G651*(1-Оглавление!$D$29),\"по запросу\")","v":15522.163999999999},154.85,"шт",null,0,0]
[null,200000752,"Затвор дисковый ПВХ с рукояткой общего применения 75 (DN65) EPDM PIMTAS",10,"Арматура","RUB",{"$f":"IFERROR(I652*Оглавление!$E$23,\"по запросу\")","v":16815.259999999998},{"$f":"IFERROR(G652*(1-Оглавление!$D$29),\"по запросу\")","v":16815.259999999998},167.75,"шт",null,0,0]
[null,200000902,"Затвор дисковый ПВХ с рукояткой общего применения 90 (DN80) EPDM PIMTAS",10,"Арматура","RUB",{"$f":"IFERROR(I653*Оглавление!$E$23,\"по запросу\")","v":18625.594399999998},{"$f":"IFERROR(G653*(1-Оглавление!$D$29),\"по запросу\")","v":18625.594399999998},185.81,"шт",null,0,0]
[null,200001102,"Затвор дисковый ПВХ с рукояткой общего применения 110 (DN100) EPDM PIMTAS",10,"Арматура","RUB",{"$f":"IFERROR(I654*Оглавление!$E$23,\"по запросу\")","v":20954.169599999997},{"$f":"IFERROR(G654*(1-Оглавление!$D$29),\"по запросу\")","v":20954.169599999997},209.04,"шт",null,0,0]
[null,200001252,"Затвор дисковый ПВХ с рукояткой общего применения 125 (DN110) EPDM PIMTAS",10,"Арматура","RUB",{"$f":"IFERROR(I655*Оглавление!$E$23,\"по запросу\")","v":24575.840799999998},{"$f":"IFERROR(G655*(1-Оглавление!$D$29),\"по запросу\")","v":24575.840799999998},245.17,"шт",null,0,0]
[null,200001402,"Затвор дисковый ПВХ с рукояткой общего применения 140 (DN125) EPDM PIMTAS",10,"Арматура","RUB",{"$f":"IFERROR(I656*Оглавление!$E$23,\"по запросу\")","v":24575.840799999998},{"$f":"IFERROR(G656*(1-Оглавление!$D$29),\"по запросу\")","v":24575.840799999998},245.17,"шт",null,0,0]
[null,200001602,"Затвор дисковый ПВХ с рукояткой общего применения 160 (DN150) EPDM PIMTAS",10,"Арматура","RUB",{"$f":"IFERROR(I657*Оглавление!$E$23,\"по запросу\")","v":35958.092799999999},{"$f":"IFERROR(G657*(1-Оглавление!$D$29),\"по запросу\")","v":35958.092799999999},358.72,"шт",null,0,0]
[null,200002002,"Затвор дисковый ПВХ с рукояткой общего применения 200 (DN175) EPDM PIMTAS",10,"Арматура","RUB",{"$f":"IFERROR(I658*Оглавление!$E$23,\"по запросу\")","v":50445.78},{"$f":"IFERROR(G658*(1-Оглавление!$D$29),\"по запросу\")","v":50445.78},503.25,"шт",null,0,0]
[null,200002252,"Затвор дисковый ПВХ с рукояткой общего применения 225 (DN200) EPDM PIMTAS",10,"Арматура","RUB",{"$f":"IFERROR(I659*Оглавление!$E$23,\"по запросу\")","v":51480.256800000003},{"$f":"IFERROR(G659*(1-Оглавление!$D$29),\"по запросу\")","v":51480.256800000003},513.57000000000005,"шт",null,0,0]
[null,200002502,"Затвор дисковый ПВХ с рукояткой общего применения 250 (DN225) EPDM PIMTAS",10,"Арматура","RUB",{"$f":"IFERROR(I660*Оглавление!$E$23,\"по запросу\")","v":130640.78719999999},{"$f":"IFERROR(G660*(1-Оглавление!$D$29),\"по запросу\")","v":130640.78719999999},1303.28,"шт",null,0,0]
[null,200002802,"Затвор дисковый ПВХ с рукояткой общего применения 280 (DN250) EPDM PIMTAS",10,"Арматура","RUB",{"$f":"IFERROR(I661*Оглавление!$E$23,\"по запросу\")","v":134521.07759999999},{"$f":"IFERROR(G661*(1-Оглавление!$D$29),\"по запросу\")","v":134521.07759999999},1341.99,"шт",null,0,0]
[null,200003152,"Затвор дисковый ПВХ с рукояткой общего применения 315 (DN300) EPDM PIMTAS",10,"Арматура","RUB",{"$f":"IFERROR(I662*Оглавление!$E$23,\"по запросу\")","v":310433.25599999999},{"$f":"IFERROR(G662*(1-Оглавление!$D$29),\"по запросу\")","v":310433.25599999999},3096.9,"шт",null,0,0]
[null,200003552,"Затвор дисковый ПВХ с рукояткой общего применения 355 (DN350) EPDM PIMTAS",6,"Арматура","RUB",{"$f":"IFERROR(I663*Оглавление!$E$23,\"по запросу\")","v":"по запросу"},{"$f":"IFERROR(G663*(1-Оглавление!$D$29),\"по запросу\")","v":"по запросу"},"по запросу","шт",null,"0 ₽","0 ₽"]
[null,200004002,"Затвор дисковый ПВХ с рукояткой общего применения 400 (DN400) EPDM PIMTAS",6,"Арматура","RUB",{"$f":"IFERROR(I664*Оглавление!$E$23,\"по запросу\")","v":"по запросу"},{"$f":"IFERROR(G664*(1-Оглавление!$D$29),\"по запросу\")","v":"по запросу"},"по запросу","шт",null,"0 ₽","0 ₽"]
[null,200010634,"Затвор дисковый ПВХ с рукояткой промышленный 63 (DN50) FKM PIMTAS",10,"Арматура","RUB",{"$f":"IFERROR(I665*Оглавление!$E$23,\"по запросу\")","v":23282.7448},{"$f":"IFERROR(G665*(1-Оглавление!$D$29),\"по запросу\")","v":23282.7448},232.27,"шт",null,0,0]
[null,200010754,"Затвор дисковый ПВХ с рукояткой промышленный 75 (DN65) FKM PIMTAS",10,"Арматура","RUB",{"$f":"IFERROR(I666*Оглавление!$E$23,\"по запросу\")","v":25222.388800000001},{"$f":"IFERROR(G666*(1-Оглавление!$D$29),\"по запросу\")","v":25222.388800000001},251.62,"шт",null,0,0]
[null,200010904,"Затвор дисковый ПВХ с рукояткой промышленный 90 (DN80) FKM PIMTAS",10,"Арматура","RUB",{"$f":"IFERROR(I667*Оглавление!$E$23,\"по запросу\")","v":27938.892800000001},{"$f":"IFERROR(G667*(1-Оглавление!$D$29),\"по запросу\")","v":27938.892800000001},278.72000000000003,"шт",null,0,0]
[null,200011104,"Затвор дисковый ПВХ с рукояткой промышленный 110 (DN100) FKM PIMTAS",10,"Арматура","RUB",{"$f":"IFERROR(I668*Оглавление!$E$23,\"по запросу\")","v":31431.254399999998},{"$f":"IFERROR(G668*(1-Оглавление!$D$29),\"по запросу\")","v":31431.254399999998},313.56,"шт",null,0,0]
[null,200011254,"Затвор дисковый ПВХ с рукояткой промышленный 125 (DN110) FKM PIMTAS",10,"Арматура","RUB",{"$f":"IFERROR(I669*Оглавление!$E$23,\"по запросу\")","v":36864.2624},{"$f":"IFERROR(G669*(1-Оглавление!$D$29),\"по запросу\")","v":36864.2624},367.76,"шт",null,0,0]
[null,200011404,"Затвор дисковый ПВХ с рукояткой промышленный 140 (DN125) FKM PIMTAS",10,"Арматура","RUB",{"$f":"IFERROR(I670*Оглавление!$E$23,\"по запросу\")","v":36864.2624},{"$f":"IFERROR(G670*(1-Оглавление!$D$29),\"по запросу\")","v":36864.2624},367.76,"шт",null,0,0]
[null,200011604,"Затвор дисковый ПВХ с рукояткой промышленный 160 (DN150) FKM PIMTAS",10,"Арматура","RUB",{"$f":"IFERROR(I671*Оглавление!$E$23,\"по запросу\")","v":53938.141600000003},{"$f":"IFERROR(G671*(1-Оглавление!$D$29),\"по запросу\")","v":53938.141600000003},538.09,"шт",null,0,0]
[null,200012004,"Затвор дисковый ПВХ с рукояткой промышленный 200 (DN175) FKM PIMTAS",10,"Арматура","RUB",{"$f":"IFERROR(I672*Оглавление!$E$23,\"по запросу\")","v":75668.168799999999},{"$f":"IFERROR(G672*(1-Оглавление!$D$29),\"по запросу\")","v":75668.168799999999},754.87,"шт",null,0,0]
[null,200012254,"Затвор дисковый ПВХ с рукояткой промышленный 225 (DN200) FKM PIMTAS",10,"Арматура","RUB",{"$f":"IFERROR(I673*Оглавление!$E$23,\"по запросу\")","v":77219.884000000005},{"$f":"IFERROR(G673*(1-Оглавление!$D$29),\"по запросу\")","v":77219.884000000005},770.35,"шт",null,0,0]
[null,200012504,"Затвор дисковый ПВХ с рукояткой промышленный 250 (DN225) FKM PIMTAS",10,"Арматура","RUB",{"$f":"IFERROR(I674*Оглавление!$E$23,\"по запросу\")","v":195831.87119999999},{"$f":"IFERROR(G674*(1-Оглавление!$D$29),\"по запросу\")","v":195831.87119999999},1953.63,"шт",null,0,0]
[null,200012804,"Затвор дисковый ПВХ с рукояткой промышленный 280 (DN250) FKM PIMTAS",10,"Арматура","RUB",{"$f":"IFERROR(I675*Оглавление!$E$23,\"по запросу\")","v":201782.1176},{"$f":"IFERROR(G675*(1-Оглавление!$D$29),\"по запросу\")","v":201782.1176},2012.99,"шт",null,0,0]
[null,200013154,"Затвор дисковый ПВХ с рукояткой промышленный 315 (DN300) FKM PIMTAS",10,"Арматура","RUB",{"$f":"IFERROR(I676*Оглавление!$E$23,\"по запросу\")","v":446247.42959999997},{"$f":"IFERROR(G676*(1-Оглавление!$D$29),\"по запросу\")","v":446247.42959999997},4451.79,"шт",null,0,0]
[null,200013554,"Затвор дисковый ПВХ с рукояткой промышленный 355 (DN350) FKM PIMTAS",6,"Арматура","RUB",{"$f":"IFERROR(I677*Оглавление!$E$23,\"по запросу\")","v":"по запросу"},{"$f":"IFERROR(G677*(1-Оглавление!$D$29),\"по запросу\")","v":"по запросу"},"по запросу","шт",null,"0 ₽","0 ₽"]
[null,200014004,"Затвор дисковый ПВХ с рукояткой промышленный 400 (DN400) FKM PIMTAS",6,"Арматура","RUB",{"$f":"IFERROR(I678*Оглавление!$E$23,\"по запросу\")","v":"по запросу"},{"$f":"IFERROR(G678*(1-Оглавление!$D$29),\"по запросу\")","v":"по запросу"},"по запросу","шт",null,"0 ₽","0 ₽"]
[null,201110634,"Затвор дисковый ПВХ без фланца с редуктором общего применения 63 (DN50) EPDM PIMTAS",10,"Арматура","RUB",{"$f":"IFERROR(I679*Оглавление!$E$23,\"по запросу\")","v":23696.736000000001},{"$f":"IFERROR(G679*(1-Оглавление!$D$29),\"по запросу\")","v":23696.736000000001},236.4,"шт",null,0,0]
[null,201110754,"Затвор дисковый ПВХ без фланца с редуктором общего применения 75 (DN65) EPDM PIMTAS",10,"Арматура","RUB",{"$f":"IFERROR(I680*Оглавление!$E$23,\"по запросу\")","v":24731.212799999998},{"$f":"IFERROR(G680*(1-Оглавление!$D$29),\"по запросу\")","v":24731.212799999998},246.72,"шт",null,0,0]
[null,201110904,"Затвор дисковый ПВХ без фланца с редуктором общего применения 90 (DN80) EPDM PIMTAS",10,"Арматура","RUB",{"$f":"IFERROR(I681*Оглавление!$E$23,\"по запросу\")","v":25507.070400000001},{"$f":"IFERROR(G681*(1-Оглавление!$D$29),\"по запросу\")","v":25507.070400000001},254.46,"шт",null,0,0]
[null,201111104,"Затвор дисковый ПВХ без фланца с редуктором общего применения 110 (DN100) EPDM PIMTAS",10,"Арматура","RUB",{"$f":"IFERROR(I682*Оглавление!$E$23,\"по запросу\")","v":27318.407199999994},{"$f":"IFERROR(G682*(1-Оглавление!$D$29),\"по запросу\")","v":27318.407199999994},272.52999999999997,"шт",null,0,0]
[null,201111254,"Затвор дисковый ПВХ без фланца с редуктором общего применения 125 (DN110) EPDM PIMTAS",10,"Арматура","RUB",{"$f":"IFERROR(I683*Оглавление!$E$23,\"по запросу\")","v":44495.533599999995},{"$f":"IFERROR(G683*(1-Оглавление!$D$29),\"по запросу\")","v":44495.533599999995},443.89,"шт",null,0,0]
[null,201111404,"Затвор дисковый ПВХ без фланца с редуктором общего применения 140 (DN125) EPDM PIMTAS",10,"Арматура","RUB",{"$f":"IFERROR(I684*Оглавление!$E$23,\"по запросу\")","v":44495.533599999995},{"$f":"IFERROR(G684*(1-Оглавление!$D$29),\"по запросу\")","v":44495.533599999995},443.89,"шт",null,0,0]
[null,201111604,"Затвор дисковый ПВХ без фланца с редуктором общего применения 160 (DN150) EPDM PIMTAS",10,"Арматура","RUB",{"$f":"IFERROR(I685*Оглавление!$E$23,\"по запросу\")","v":48893.062399999995},{"$f":"IFERROR(G685*(1-Оглавление!$D$29),\"по запросу\")","v":48893.062399999995},487.76,"шт",null,0,0]
[null,201112004,"Затвор дисковый ПВХ без фланца с редуктором общего применения 200 (DN175) EPDM PIMTAS",10,"Арматура","RUB",{"$f":"IFERROR(I686*Оглавление!$E$23,\"по запросу\")","v":62603.889599999995},{"$f":"IFERROR(G686*(1-Оглавление!$D$29),\"по запросу\")","v":62603.889599999995},624.54,"шт",null,0,0]
[null,201112254,"Затвор дисковый ПВХ без фланца с редуктором общего применения 225 (DN200) EPDM PIMTAS",10,"Арматура","RUB",{"$f":"IFERROR(I687*Оглавление!$E$23,\"по запросу\")","v":62603.889599999995},{"$f":"IFERROR(G687*(1-Оглавление!$D$29),\"по запросу\")","v":62603.889599999995},624.54,"шт",null,0,0]
[null,201112504,"Затвор дисковый ПВХ без фланца с редуктором общего применения 250 (DN225) EPDM PIMTAS",10,"Арматура","RUB",{"$f":"IFERROR(I688*Оглавление!$E$23,\"по запросу\")","v":118999.916},{"$f":"IFERROR(G688*(1-Оглавление!$D$29),\"по запросу\")","v":118999.916},1187.1500000000001,"шт",null,0,0]
[null,201112804,"Затвор дисковый ПВХ без фланца с редуктором общего применения 280 (DN250) EPDM PIMTAS",10,"Арматура","RUB",{"$f":"IFERROR(I689*Оглавление!$E$23,\"по запросу\")","v":118999.916},{"$f":"IFERROR(G689*(1-Оглавление!$D$29),\"по запросу\")","v":118999.916},1187.1500000000001,"шт",null,0,0]
[null,201113154,"Затвор дисковый ПВХ без фланца с редуктором общего применения 315 (DN300) EPDM PIMTAS",10,"Арматура","RUB",{"$f":"IFERROR(I690*Оглавление!$E$23,\"по запросу\")","v":261281.57439999998},{"$f":"IFERROR(G690*(1-Оглавление!$D$29),\"по запросу\")","v":261281.57439999998},2606.56,"шт",null,0,0]
[null,201113554,"Затвор дисковый ПВХ без фланца с редуктором общего применения 355 (DN350) EPDM PIMTAS",6,"Арматура","RUB",{"$f":"IFERROR(I691*Оглавление!$E$23,\"по запросу\")","v":"по запросу"},{"$f":"IFERROR(G691*(1-Оглавление!$D$29),\"по запросу\")","v":"по запросу"},"по запросу","шт",null,"0 ₽","0 ₽"]
[null,201114004,"Затвор дисковый ПВХ без фланца с редуктором общего применения 400 (DN400) EPDM PIMTAS",6,"Арматура","RUB",{"$f":"IFERROR(I692*Оглавление!$E$23,\"по запросу\")","v":"по запросу"},{"$f":"IFERROR(G692*(1-Оглавление!$D$29),\"по запросу\")","v":"по запросу"},"по запросу","шт",null,"0 ₽","0 ₽"]
[null,201020634,"Затвор дисковый ПВХ без фланца с редуктором промышленный 63 (DN50) FKM PIMTAS",10,"Арматура","RUB",{"$f":"IFERROR(I693*Оглавление!$E$23,\"по запросу\")","v":28999.432000000001},{"$f":"IFERROR(G693*(1-Оглавление!$D$29),\"по запросу\")","v":28999.432000000001},289.3,"шт",null,0,0]
[null,201020754,"Затвор дисковый ПВХ без фланца с редуктором промышленный 75 (DN65) FKM PIMTAS",10,"Арматура","RUB",{"$f":"IFERROR(I694*Оглавление!$E$23,\"по запросу\")","v":30552.149600000001},{"$f":"IFERROR(G694*(1-Оглавление!$D$29),\"по запросу\")","v":30552.149600000001},304.79000000000002,"шт",null,0,0]
[null,201020904,"Затвор дисковый ПВХ без фланца с редуктором промышленный 90 (DN80) FKM PIMTAS",10,"Арматура","RUB",{"$f":"IFERROR(I695*Оглавление!$E$23,\"по запросу\")","v":31715.935999999998},{"$f":"IFERROR(G695*(1-Оглавление!$D$29),\"по запросу\")","v":31715.935999999998},316.39999999999998,"шт",null,0,0]
[null,201021104,"Затвор дисковый ПВХ без фланца с редуктором промышленный 110 (DN100) FKM PIMTAS",10,"Арматура","RUB",{"$f":"IFERROR(I696*Оглавление!$E$23,\"по запросу\")","v":34432.439999999995},{"$f":"IFERROR(G696*(1-Оглавление!$D$29),\"по запросу\")","v":34432.439999999995},343.5,"шт",null,0,0]
[null,201021254,"Затвор дисковый ПВХ без фланца с редуктором промышленный 125 (DN110) FKM PIMTAS",10,"Арматура","RUB",{"$f":"IFERROR(I697*Оглавление!$E$23,\"по запросу\")","v":52514.7336},{"$f":"IFERROR(G697*(1-Оглавление!$D$29),\"по запросу\")","v":52514.7336},523.89,"шт",null,0,0]
[null,201021404,"Затвор дисковый ПВХ без фланца с редуктором промышленный 140 (DN125) FKM PIMTAS",10,"Арматура","RUB",{"$f":"IFERROR(I698*Оглавление!$E$23,\"по запросу\")","v":52514.7336},{"$f":"IFERROR(G698*(1-Оглавление!$D$29),\"по запросу\")","v":52514.7336},523.89,"шт",null,0,0]
[null,201021604,"Затвор дисковый ПВХ без фланца с редуктором промышленный 160 (DN150) FKM PIMTAS",10,"Арматура","RUB",{"$f":"IFERROR(I699*Оглавление!$E$23,\"по запросу\")","v":59111.527999999998},{"$f":"IFERROR(G699*(1-Оглавление!$D$29),\"по запросу\")","v":59111.527999999998},589.70000000000005,"шт",null,0,0]
[null,201022004,"Затвор дисковый ПВХ без фланца с редуктором промышленный 200 (DN175) FKM PIMTAS",10,"Арматура","RUB",{"$f":"IFERROR(I700*Оглавление!$E$23,\"по запросу\")","v":79677.768799999991},{"$f":"IFERROR(G700*(1-Оглавление!$D$29),\"по запросу\")","v":79677.768799999991},794.87,"шт",null,0,0]
[null,201022254,"Затвор дисковый ПВХ без фланца с редуктором промышленный 225 (DN200) FKM PIMTAS",10,"Арматура","RUB",{"$f":"IFERROR(I701*Оглавление!$E$23,\"по запросу\")","v":79677.768799999991},{"$f":"IFERROR(G701*(1-Оглавление!$D$29),\"по запросу\")","v":79677.768799999991},794.87,"шт",null,0,0]
[null,201022504,"Затвор дисковый ПВХ без фланца с редуктором промышленный 250 (DN225) FKM PIMTAS",10,"Арматура","RUB",{"$f":"IFERROR(I702*Оглавление!$E$23,\"по запросу\")","v":164271.30719999998},{"$f":"IFERROR(G702*(1-Оглавление!$D$29),\"по запросу\")","v":164271.30719999998},1638.78,"шт",null,0,0]
[null,201022804,"Затвор дисковый ПВХ без фланца с редуктором промышленный 280 (DN250) FKM PIMTAS",10,"Арматура","RUB",{"$f":"IFERROR(I703*Оглавление!$E$23,\"по запросу\")","v":164271.30719999998},{"$f":"IFERROR(G703*(1-Оглавление!$D$29),\"по запросу\")","v":164271.30719999998},1638.78,"шт",null,0,0]
[null,201023154,"Затвор дисковый ПВХ без фланца с редуктором промышленный 315 (DN300) FKM PIMTAS",10,"Арматура","RUB",{"$f":"IFERROR(I704*Оглавление!$E$23,\"по запросу\")","v":377694.29599999997},{"$f":"IFERROR(G704*(1-Оглавление!$D$29),\"по запросу\")","v":377694.29599999997},3767.9,"шт",null,0,0]
[null,201023554,"Затвор дисковый ПВХ без фланца с редуктором промышленный 355 (DN350) FKM PIMTAS",6,"Арматура","RUB",{"$f":"IFERROR(I705*Оглавление!$E$23,\"по запросу\")","v":"по запросу"},{"$f":"IFERROR(G705*(1-Оглавление!$D$29),\"по запросу\")","v":"по запросу"},"по запросу","шт",null,"0 ₽","0 ₽"]
[null,201024004,"Затвор дисковый ПВХ без фланца с редуктором промышленный 400 (DN400) FKM PIMTAS",6,"Арматура","RUB",{"$f":"IFERROR(I706*Оглавление!$E$23,\"по запросу\")","v":"по запросу"},{"$f":"IFERROR(G706*(1-Оглавление!$D$29),\"по запросу\")","v":"по запросу"},"по запросу","шт",null,"0 ₽","0 ₽"]
[null,201030634,"Затвор дисковый ПВХ с редуктором общего применения 63 (DN50) EPDM PIMTAS",10,"Арматура","RUB",{"$f":"IFERROR(I707*Оглавление!$E$23,\"по запросу\")","v":28611.503199999999},{"$f":"IFERROR(G707*(1-Оглавление!$D$29),\"по запросу\")","v":28611.503199999999},285.43,"шт",null,0,0]
[null,201030754,"Затвор дисковый ПВХ с редуктором общего применения 75 (DN65) EPDM PIMTAS",10,"Арматура","RUB",{"$f":"IFERROR(I708*Оглавление!$E$23,\"по запросу\")","v":29904.599199999997},{"$f":"IFERROR(G708*(1-Оглавление!$D$29),\"по запросу\")","v":29904.599199999997},298.33,"шт",null,0,0]
[null,201030904,"Затвор дисковый ПВХ с редуктором общего применения 90 (DN80) EPDM PIMTAS",10,"Арматура","RUB",{"$f":"IFERROR(I709*Оглавление!$E$23,\"по запросу\")","v":31715.935999999998},{"$f":"IFERROR(G709*(1-Оглавление!$D$29),\"по запросу\")","v":31715.935999999998},316.39999999999998,"шт",null,0,0]
[null,201031104,"Затвор дисковый ПВХ с редуктором общего применения 110 (DN100) EPDM PIMTAS",10,"Арматура","RUB",{"$f":"IFERROR(I710*Оглавление!$E$23,\"по запросу\")","v":34044.511200000001},{"$f":"IFERROR(G710*(1-Оглавление!$D$29),\"по запросу\")","v":34044.511200000001},339.63,"шт",null,0,0]
[null,201031254,"Затвор дисковый ПВХ с редуктором общего применения 125 (DN110) EPDM PIMTAS",10,"Арматура","RUB",{"$f":"IFERROR(I711*Оглавление!$E$23,\"по запросу\")","v":53031.971999999994},{"$f":"IFERROR(G711*(1-Оглавление!$D$29),\"по запросу\")","v":53031.971999999994},529.04999999999995,"шт",null,0,0]
[null,201031404,"Затвор дисковый ПВХ с редуктором общего применения 140 (DN125) EPDM PIMTAS",10,"Арматура","RUB",{"$f":"IFERROR(I712*Оглавление!$E$23,\"по запросу\")","v":53031.971999999994},{"$f":"IFERROR(G712*(1-Оглавление!$D$29),\"по запросу\")","v":53031.971999999994},529.04999999999995,"шт",null,0,0]
[null,201031604,"Затвор дисковый ПВХ с редуктором общего применения 160 (DN150) EPDM PIMTAS",10,"Арматура","RUB",{"$f":"IFERROR(I713*Оглавление!$E$23,\"по запросу\")","v":64415.2264},{"$f":"IFERROR(G713*(1-Оглавление!$D$29),\"по запросу\")","v":64415.2264},642.61,"шт",null,0,0]
[null,201032004,"Затвор дисковый ПВХ с редуктором общего применения 200 (DN175) EPDM PIMTAS",10,"Арматура","RUB",{"$f":"IFERROR(I714*Оглавление!$E$23,\"по запросу\")","v":78901.911200000002},{"$f":"IFERROR(G714*(1-Оглавление!$D$29),\"по запросу\")","v":78901.911200000002},787.13,"шт",null,{"$f":"IFERROR(K714*G714,\"0 ₽\")","v":0},{"$f":"IFERROR(K714*H714,\"0 ₽\")","v":0}]
[null,201032254,"Затвор дисковый ПВХ с редуктором общего применения 225 (DN200) EPDM PIMTAS",10,"Арматура","RUB",{"$f":"IFERROR(I715*Оглавление!$E$23,\"по запросу\")","v":79936.388000000006},{"$f":"IFERROR(G715*(1-Оглавление!$D$29),\"по запросу\")","v":79936.388000000006},797.45,"шт",null,0,0]
[null,201032504,"Затвор дисковый ПВХ с редуктором общего применения 250 (DN225) EPDM PIMTAS",10,"Арматура","RUB",{"$f":"IFERROR(I716*Оглавление!$E$23,\"по запросу\")","v":159096.9184},{"$f":"IFERROR(G716*(1-Оглавление!$D$29),\"по запросу\")","v":159096.9184},1587.16,"шт",null,0,0]
[null,201032804,"Затвор дисковый ПВХ с редуктором общего применения 280 (DN250) EPDM PIMTAS",10,"Арматура","RUB",{"$f":"IFERROR(I717*Оглавление!$E$23,\"по запросу\")","v":162977.20879999999},{"$f":"IFERROR(G717*(1-Оглавление!$D$29),\"по запросу\")","v":162977.20879999999},1625.87,"шт",null,0,0]
[null,201033154,"Затвор дисковый ПВХ с редуктором общего применения 315 (DN300) EPDM PIMTAS",10,"Арматура","RUB",{"$f":"IFERROR(I718*Оглавление!$E$23,\"по запросу\")","v":338889.3872},{"$f":"IFERROR(G718*(1-Оглавление!$D$29),\"по запросу\")","v":338889.3872},3380.78,"шт",null,0,0]
[null,201033554,"Затвор дисковый ПВХ с редуктором общего применения 355 (DN350) EPDM PIMTAS",6,"Арматура","RUB",{"$f":"IFERROR(I719*Оглавление!$E$23,\"по запросу\")","v":"по запросу"},{"$f":"IFERROR(G719*(1-Оглавление!$D$29),\"по запросу\")","v":"по запросу"},"по запросу","шт",null,"0 ₽","0 ₽"]
[null,201034004,"Затвор дисковый ПВХ с редуктором общего применения 400 (DN400) EPDM PIMTAS",6,"Арматура","RUB",{"$f":"IFERROR(I720*Оглавление!$E$23,\"по запросу\")","v":"по запросу"},{"$f":"IFERROR(G720*(1-Оглавление!$D$29),\"по запросу\")","v":"по запросу"},"по запросу","шт",null,"0 ₽","0 ₽"]
[null,201090634,"Затвор дисковый ПВХ с редуктором промышленный 63 (DN50) FKM PIMTAS",10,"Арматура","RUB",{"$f":"IFERROR(I721*Оглавление!$E$23,\"по запросу\")","v":36372.084000000003},{"$f":"IFERROR(G721*(1-Оглавление!$D$29),\"по запросу\")","v":36372.084000000003},362.85,"шт",null,0,0]
[null,201090754,"Затвор дисковый ПВХ с редуктором промышленный 75 (DN65) FKM PIMTAS",10,"Арматура","RUB",{"$f":"IFERROR(I722*Оглавление!$E$23,\"по запросу\")","v":38312.730399999993},{"$f":"IFERROR(G722*(1-Оглавление!$D$29),\"по запросу\")","v":38312.730399999993},382.21,"шт",null,0,0]
[null,201090904,"Затвор дисковый ПВХ с редуктором промышленный 90 (DN80) FKM PIMTAS",10,"Арматура","RUB",{"$f":"IFERROR(I723*Оглавление!$E$23,\"по запросу\")","v":41029.234400000001},{"$f":"IFERROR(G723*(1-Оглавление!$D$29),\"по запросу\")","v":41029.234400000001},409.31,"шт",null,0,0]
[null,201091104,"Затвор дисковый ПВХ с редуктором промышленный 110 (DN100) FKM PIMTAS",10,"Арматура","RUB",{"$f":"IFERROR(I724*Оглавление!$E$23,\"по запросу\")","v":44521.595999999998},{"$f":"IFERROR(G724*(1-Оглавление!$D$29),\"по запросу\")","v":44521.595999999998},444.15,"шт",null,0,0]
[null,201091254,"Затвор дисковый ПВХ с редуктором промышленный 125 (DN110) FKM PIMTAS",10,"Арматура","RUB",{"$f":"IFERROR(I725*Оглавление!$E$23,\"по запросу\")","v":65320.393599999996},{"$f":"IFERROR(G725*(1-Оглавление!$D$29),\"по запросу\")","v":65320.393599999996},651.64,"шт",null,0,0]
[null,201091404,"Затвор дисковый ПВХ с редуктором промышленный 140 (DN125) FKM PIMTAS",10,"Арматура","RUB",{"$f":"IFERROR(I726*Оглавление!$E$23,\"по запросу\")","v":65320.393599999996},{"$f":"IFERROR(G726*(1-Оглавление!$D$29),\"по запросу\")","v":65320.393599999996},651.64,"шт",null,0,0]
[null,201091604,"Затвор дисковый ПВХ с редуктором промышленный 160 (DN150) FKM PIMTAS",10,"Арматура","RUB",{"$f":"IFERROR(I727*Оглавление!$E$23,\"по запросу\")","v":82394.272799999992},{"$f":"IFERROR(G727*(1-Оглавление!$D$29),\"по запросу\")","v":82394.272799999992},821.97,"шт",null,0,0]
[null,201092004,"Затвор дисковый ПВХ с редуктором промышленный 200 (DN175) FKM PIMTAS",10,"Арматура","RUB",{"$f":"IFERROR(I728*Оглавление!$E$23,\"по запросу\")","v":104124.29999999999},{"$f":"IFERROR(G728*(1-Оглавление!$D$29),\"по запросу\")","v":104124.29999999999},1038.75,"шт",null,0,0]
[null,201092254,"Затвор дисковый ПВХ с редуктором промышленный 225 (DN200) FKM PIMTAS",10,"Арматура","RUB",{"$f":"IFERROR(I729*Оглавление!$E$23,\"по запросу\")","v":105677.01759999999},{"$f":"IFERROR(G729*(1-Оглавление!$D$29),\"по запросу\")","v":105677.01759999999},1054.24,"шт",null,0,0]
[null,201092504,"Затвор дисковый ПВХ с редуктором промышленный 250 (DN225) FKM PIMTAS",10,"Арматура","RUB",{"$f":"IFERROR(I730*Оглавление!$E$23,\"по запросу\")","v":224288.0024},{"$f":"IFERROR(G730*(1-Оглавление!$D$29),\"по запросу\")","v":224288.0024},2237.5100000000002,"шт",null,0,0]
[null,201092804,"Затвор дисковый ПВХ с редуктором промышленный 280 (DN250) FKM PIMTAS",10,"Арматура","RUB",{"$f":"IFERROR(I731*Оглавление!$E$23,\"по запросу\")","v":230238.24879999997},{"$f":"IFERROR(G731*(1-Оглавление!$D$29),\"по запросу\")","v":230238.24879999997},2296.87,"шт",null,0,0]
[null,201093154,"Затвор дисковый ПВХ с редуктором промышленный 315 (DN300) FKM PIMTAS",10,"Арматура","RUB",{"$f":"IFERROR(I732*Оглавление!$E$23,\"по запросу\")","v":474704.56320000003},{"$f":"IFERROR(G732*(1-Оглавление!$D$29),\"по запросу\")","v":474704.56320000003},4735.68,"шт",null,0,0]
[null,201093554,"Затвор дисковый ПВХ с редуктором промышленный 355 (DN350) FKM PIMTAS",6,"Арматура","RUB",{"$f":"IFERROR(I733*Оглавление!$E$23,\"по запросу\")","v":"по запросу"},{"$f":"IFERROR(G733*(1-Оглавление!$D$29),\"по запросу\")","v":"по запросу"},"по запросу","шт",null,"0 ₽","0 ₽"]
[null,201094004,"Затвор дисковый ПВХ с редуктором промышленный 400 (DN400) FKM PIMTAS",6,"Арматура","RUB",{"$f":"IFERROR(I734*Оглавление!$E$23,\"по запросу\")","v":"по запросу"},{"$f":"IFERROR(G734*(1-Оглавление!$D$29),\"по запросу\")","v":"по запросу"},"по запросу","шт",null,"0 ₽","0 ₽"]
[null,300000634,"Затвор дисковый ПВХ без фланца под привод общего применения 63 (DN50) EPDM PIMTAS",10,"Арматура","RUB",{"$f":"IFERROR(I735*Оглавление!$E$23,\"по запросу\")","v":10076.1248},{"$f":"IFERROR(G735*(1-Оглавление!$D$29),\"по запросу\")","v":10076.1248},100.52,"шт",null,0,0]
[null,300000754,"Затвор дисковый ПВХ без фланца под привод общего применения 75 (DN65) EPDM PIMTAS",10,"Арматура","RUB",{"$f":"IFERROR(I736*Оглавление!$E$23,\"по запросу\")","v":11059.4792},{"$f":"IFERROR(G736*(1-Оглавление!$D$29),\"по запросу\")","v":11059.4792},110.33,"шт",null,0,0]
[null,300000904,"Затвор дисковый ПВХ без фланца под привод общего применения 90 (DN80) EPDM PIMTAS",10,"Арматура","RUB",{"$f":"IFERROR(I737*Оглавление!$E$23,\"по запросу\")","v":11796.243200000001},{"$f":"IFERROR(G737*(1-Оглавление!$D$29),\"по запросу\")","v":11796.243200000001},117.68,"шт",null,0,0]
[null,300001104,"Затвор дисковый ПВХ без фланца под привод общего применения 110 (DN100) EPDM PIMTAS",10,"Арматура","RUB",{"$f":"IFERROR(I738*Оглавление!$E$23,\"по запросу\")","v":"по запросу"},{"$f":"IFERROR(G738*(1-Оглавление!$D$29),\"по запросу\")","v":"по запросу"},"по запросу","шт",null,"0 ₽","0 ₽"]
[null,300001254,"Затвор дисковый ПВХ без фланца под привод общего применения 125 (DN110) EPDM PIMTAS",10,"Арматура","RUB",{"$f":"IFERROR(I739*Оглавление!$E$23,\"по запросу\")","v":15237.482399999999},{"$f":"IFERROR(G739*(1-Оглавление!$D$29),\"по запросу\")","v":15237.482399999999},152.01,"шт",null,0,0]
[null,300001404,"Затвор дисковый ПВХ без фланца под привод общего применения 140 (DN125) EPDM PIMTAS",10,"Арматура","RUB",{"$f":"IFERROR(I740*Оглавление!$E$23,\"по запросу\")","v":15237.482399999999},{"$f":"IFERROR(G740*(1-Оглавление!$D$29),\"по запросу\")","v":15237.482399999999},152.01,"шт",null,0,0]
[null,300001604,"Затвор дисковый ПВХ без фланца под привод общего применения 160 (DN150) EPDM PIMTAS",10,"Арматура","RUB",{"$f":"IFERROR(I741*Оглавление!$E$23,\"по запросу\")","v":19415.4856},{"$f":"IFERROR(G741*(1-Оглавление!$D$29),\"по запросу\")","v":19415.4856},193.69,"шт",null,0,0]
[null,300002004,"Затвор дисковый ПВХ без фланца под привод общего применения 200 (DN175) EPDM PIMTAS",10,"Арматура","RUB",{"$f":"IFERROR(I742*Оглавление!$E$23,\"по запросу\")","v":32440.671199999997},{"$f":"IFERROR(G742*(1-Оглавление!$D$29),\"по запросу\")","v":32440.671199999997},323.63,"шт",null,0,0]
[null,300002254,"Затвор дисковый ПВХ без фланца под привод общего применения 225 (DN200) EPDM PIMTAS",10,"Арматура","RUB",{"$f":"IFERROR(I743*Оглавление!$E$23,\"по запросу\")","v":32440.671199999997},{"$f":"IFERROR(G743*(1-Оглавление!$D$29),\"по запросу\")","v":32440.671199999997},323.63,"шт",null,0,0]
[null,300002504,"Затвор дисковый ПВХ без фланца под привод общего применения 250 (DN225) EPDM PIMTAS",10,"Арматура","RUB",{"$f":"IFERROR(I744*Оглавление!$E$23,\"по запросу\")","v":86015.944000000003},{"$f":"IFERROR(G744*(1-Оглавление!$D$29),\"по запросу\")","v":86015.944000000003},858.1,"шт",null,0,0]
[null,300002804,"Затвор дисковый ПВХ без фланца под привод общего применения 280 (DN250) EPDM PIMTAS",10,"Арматура","RUB",{"$f":"IFERROR(I745*Оглавление!$E$23,\"по запросу\")","v":86015.944000000003},{"$f":"IFERROR(G745*(1-Оглавление!$D$29),\"по запросу\")","v":86015.944000000003},858.1,"шт",null,0,0]
[null,300003154,"Затвор дисковый ПВХ без фланца под привод общего применения 315 (DN300) EPDM PIMTAS",10,"Арматура","RUB",{"$f":"IFERROR(I746*Оглавление!$E$23,\"по запросу\")","v":221183.56959999999},{"$f":"IFERROR(G746*(1-Оглавление!$D$29),\"по запросу\")","v":221183.56959999999},2206.54,"шт",null,0,0]
[null,300003554,"Затвор дисковый ПВХ без фланца под привод общего применения 355 (DN350) EPDM PIMTAS",6,"Арматура","RUB",{"$f":"IFERROR(I747*Оглавление!$E$23,\"по запросу\")","v":"по запросу"},{"$f":"IFERROR(G747*(1-Оглавление!$D$29),\"по запросу\")","v":"по запросу"},"по запросу","шт",null,"0 ₽","0 ₽"]
[null,300004004,"Затвор дисковый ПВХ без фланца под привод общего применения 400 (DN400) EPDM PIMTAS",6,"Арматура","RUB",{"$f":"IFERROR(I748*Оглавление!$E$23,\"по запросу\")","v":"по запросу"},{"$f":"IFERROR(G748*(1-Оглавление!$D$29),\"по запросу\")","v":"по запросу"},"по запросу","шт",null,"0 ₽","0 ₽"]
[null,300010634,"Затвор дисковый ПВХ без фланца под привод промышленный 63 (DN50) FKM PIMTAS",10,"Арматура","RUB",{"$f":"IFERROR(I749*Оглавление!$E$23,\"по запросу\")","v":15115.189599999998},{"$f":"IFERROR(G749*(1-Оглавление!$D$29),\"по запросу\")","v":15115.189599999998},150.79,"шт",null,0,0]
[null,300010754,"Затвор дисковый ПВХ без фланца под привод промышленный 75 (DN65) FKM PIMTAS",10,"Арматура","RUB",{"$f":"IFERROR(I750*Оглавление!$E$23,\"по запросу\")","v":16589.719999999998},{"$f":"IFERROR(G750*(1-Оглавление!$D$29),\"по запросу\")","v":16589.719999999998},165.5,"шт",null,0,0]
[null,300010904,"Затвор дисковый ПВХ без фланца под привод промышленный 90 (DN80) FKM PIMTAS",10,"Арматура","RUB",{"$f":"IFERROR(I751*Оглавление!$E$23,\"по запросу\")","v":17694.364799999999},{"$f":"IFERROR(G751*(1-Оглавление!$D$29),\"по запросу\")","v":17694.364799999999},176.52,"шт",null,0,0]
[null,300011104,"Затвор дисковый ПВХ без фланца под привод промышленный 110 (DN100) FKM PIMTAS",10,"Арматура","RUB",{"$f":"IFERROR(I752*Оглавление!$E$23,\"по запросу\")","v":20276.547200000001},{"$f":"IFERROR(G752*(1-Оглавление!$D$29),\"по запросу\")","v":20276.547200000001},202.28,"шт",null,0,0]
[null,300011254,"Затвор дисковый ПВХ без фланца под привод промышленный 125 (DN110) FKM PIMTAS",10,"Арматура","RUB",{"$f":"IFERROR(I753*Оглавление!$E$23,\"по запросу\")","v":22855.722399999999},{"$f":"IFERROR(G753*(1-Оглавление!$D$29),\"по запросу\")","v":22855.722399999999},228.01,"шт",null,0,0]
[null,300011404,"Затвор дисковый ПВХ без фланца под привод промышленный 140 (DN125) FKM PIMTAS",10,"Арматура","RUB",{"$f":"IFERROR(I754*Оглавление!$E$23,\"по запросу\")","v":22855.722399999999},{"$f":"IFERROR(G754*(1-Оглавление!$D$29),\"по запросу\")","v":22855.722399999999},228.01,"шт",null,0,0]
[null,300011604,"Затвор дисковый ПВХ без фланца под привод промышленный 160 (DN150) FKM PIMTAS",10,"Арматура","RUB",{"$f":"IFERROR(I755*Оглавление!$E$23,\"по запросу\")","v":29123.729599999999},{"$f":"IFERROR(G755*(1-Оглавление!$D$29),\"по запросу\")","v":29123.729599999999},290.54000000000002,"шт",null,0,0]
[null,300012004,"Затвор дисковый ПВХ без фланца под привод промышленный 200 (DN175) FKM PIMTAS",10,"Арматура","RUB",{"$f":"IFERROR(I756*Оглавление!$E$23,\"по запросу\")","v":48660.505599999997},{"$f":"IFERROR(G756*(1-Оглавление!$D$29),\"по запросу\")","v":48660.505599999997},485.44,"шт",null,0,0]
[null,300012254,"Затвор дисковый ПВХ без фланца под привод промышленный 225 (DN200) FKM PIMTAS",10,"Арматура","RUB",{"$f":"IFERROR(I757*Оглавление!$E$23,\"по запросу\")","v":48660.505599999997},{"$f":"IFERROR(G757*(1-Оглавление!$D$29),\"по запросу\")","v":48660.505599999997},485.44,"шт",null,0,0]
[null,300012504,"Затвор дисковый ПВХ без фланца под привод промышленный 250 (DN225) FKM PIMTAS",10,"Арматура","RUB",{"$f":"IFERROR(I758*Оглавление!$E$23,\"по запросу\")","v":129023.916},{"$f":"IFERROR(G758*(1-Оглавление!$D$29),\"по запросу\")","v":129023.916},1287.1500000000001,"шт",null,0,0]
[null,300012804,"Затвор дисковый ПВХ без фланца под привод промышленный 280 (DN250) FKM PIMTAS",10,"Арматура","RUB",{"$f":"IFERROR(I759*Оглавление!$E$23,\"по запросу\")","v":129023.916},{"$f":"IFERROR(G759*(1-Оглавление!$D$29),\"по запросу\")","v":129023.916},1287.1500000000001,"шт",null,0,0]
[null,300013154,"Затвор дисковый ПВХ без фланца под привод промышленный 315 (DN300) FKM PIMTAS",10,"Арматура","RUB",{"$f":"IFERROR(I760*Оглавление!$E$23,\"по запросу\")","v":331775.35439999995},{"$f":"IFERROR(G760*(1-Оглавление!$D$29),\"по запросу\")","v":331775.35439999995},3309.81,"шт",null,0,0]
[null,300013554,"Затвор дисковый ПВХ без фланца под привод промышленный 355 (DN350) FKM PIMTAS",6,"Арматура","RUB",{"$f":"IFERROR(I761*Оглавление!$E$23,\"по запросу\")","v":"по запросу"},{"$f":"IFERROR(G761*(1-Оглавление!$D$29),\"по запросу\")","v":"по запросу"},"по запросу","шт",null,"0 ₽","0 ₽"]
[null,300014004,"Затвор дисковый ПВХ без фланца под привод промышленный 400 (DN400) FKM PIMTAS",6,"Арматура","RUB",{"$f":"IFERROR(I762*Оглавление!$E$23,\"по запросу\")","v":"по запросу"},{"$f":"IFERROR(G762*(1-Оглавление!$D$29),\"по запросу\")","v":"по запросу"},"по запросу","шт",null,"0 ₽","0 ₽"]
[null,301000634,"Затвор дисковый ПВХ под привод общего применения 63 (DN50) EPDM PIMTAS",10,"Арматура","RUB",{"$f":"IFERROR(I763*Оглавление!$E$23,\"по запросу\")","v":14745.303999999998},{"$f":"IFERROR(G763*(1-Оглавление!$D$29),\"по запросу\")","v":14745.303999999998},147.1,"шт",null,0,0]
[null,301000754,"Затвор дисковый ПВХ под привод общего применения 75 (DN65) EPDM PIMTAS",10,"Арматура","RUB",{"$f":"IFERROR(I764*Оглавление!$E$23,\"по запросу\")","v":15974.2464},{"$f":"IFERROR(G764*(1-Оглавление!$D$29),\"по запросу\")","v":15974.2464},159.36000000000001,"шт",null,0,0]
[null,301000904,"Затвор дисковый ПВХ под привод общего применения 90 (DN80) EPDM PIMTAS",10,"Арматура","RUB",{"$f":"IFERROR(I765*Оглавление!$E$23,\"по запросу\")","v":17694.364799999999},{"$f":"IFERROR(G765*(1-Оглавление!$D$29),\"по запросу\")","v":17694.364799999999},176.52,"шт",null,0,0]
[null,301001104,"Затвор дисковый ПВХ под привод общего применения 110 (DN100) EPDM PIMTAS",10,"Арматура","RUB",{"$f":"IFERROR(I766*Оглавление!$E$23,\"по запросу\")","v":20890.016},{"$f":"IFERROR(G766*(1-Оглавление!$D$29),\"по запросу\")","v":20890.016},208.4,"шт",null,0,0]
[null,301001254,"Затвор дисковый ПВХ под привод общего применения 125 (DN110) EPDM PIMTAS",10,"Арматура","RUB",{"$f":"IFERROR(I767*Оглавление!$E$23,\"по запросу\")","v":23346.898399999998},{"$f":"IFERROR(G767*(1-Оглавление!$D$29),\"по запросу\")","v":23346.898399999998},232.91,"шт",null,0,0]
[null,301001404,"Затвор дисковый ПВХ под привод общего применения 140 (DN125) EPDM PIMTAS",10,"Арматура","RUB",{"$f":"IFERROR(I768*Оглавление!$E$23,\"по запросу\")","v":23346.898399999998},{"$f":"IFERROR(G768*(1-Оглавление!$D$29),\"по запросу\")","v":23346.898399999998},232.91,"шт",null,0,0]
[null,301001604,"Затвор дисковый ПВХ под привод общего применения 160 (DN150) EPDM PIMTAS",10,"Арматура","RUB",{"$f":"IFERROR(I769*Оглавление!$E$23,\"по запросу\")","v":34160.789600000004},{"$f":"IFERROR(G769*(1-Оглавление!$D$29),\"по запросу\")","v":34160.789600000004},340.79,"шт",null,0,0]
[null,301002004,"Затвор дисковый ПВХ под привод общего применения 200 (DN175) EPDM PIMTAS",10,"Арматура","RUB",{"$f":"IFERROR(I770*Оглавление!$E$23,\"по запросу\")","v":47922.739199999996},{"$f":"IFERROR(G770*(1-Оглавление!$D$29),\"по запросу\")","v":47922.739199999996},478.08,"шт",null,0,0]
[null,301002254,"Затвор дисковый ПВХ под привод общего применения 225 (DN200) EPDM PIMTAS",10,"Арматура","RUB",{"$f":"IFERROR(I771*Оглавление!$E$23,\"по запросу\")","v":48906.093599999993},{"$f":"IFERROR(G771*(1-Оглавление!$D$29),\"по запросу\")","v":48906.093599999993},487.89,"шт",null,0,0]
[null,301002504,"Затвор дисковый ПВХ под привод общего применения 250 (DN225) EPDM PIMTAS",10,"Арматура","RUB",{"$f":"IFERROR(I772*Оглавление!$E$23,\"по запросу\")","v":124108.14639999998},{"$f":"IFERROR(G772*(1-Оглавление!$D$29),\"по запросу\")","v":124108.14639999998},1238.1099999999999,"шт",null,0,0]
[null,301002804,"Затвор дисковый ПВХ под привод общего применения 280 (DN250) EPDM PIMTAS",10,"Арматура","RUB",{"$f":"IFERROR(I773*Оглавление!$E$23,\"по запросу\")","v":127794.9736},{"$f":"IFERROR(G773*(1-Оглавление!$D$29),\"по запросу\")","v":127794.9736},1274.8900000000001,"шт",null,0,0]
[null,301003154,"Затвор дисковый ПВХ под привод общего применения 315 (DN300) EPDM PIMTAS",10,"Арматура","RUB",{"$f":"IFERROR(I774*Оглавление!$E$23,\"по запросу\")","v":282623.67279999994},{"$f":"IFERROR(G774*(1-Оглавление!$D$29),\"по запросу\")","v":282623.67279999994},2819.47,"шт",null,0,0]
[null,301003554,"Затвор дисковый ПВХ под привод общего применения 355 (DN350) EPDM PIMTAS",6,"Арматура","RUB",{"$f":"IFERROR(I775*Оглавление!$E$23,\"по запросу\")","v":"по запросу"},{"$f":"IFERROR(G775*(1-Оглавление!$D$29),\"по запросу\")","v":"по запросу"},"по запросу","шт",null,"0 ₽","0 ₽"]
[null,301004004,"Затвор дисковый ПВХ под привод общего применения 400 (DN400) EPDM PIMTAS",6,"Арматура","RUB",{"$f":"IFERROR(I776*Оглавление!$E$23,\"по запросу\")","v":"по запросу"},{"$f":"IFERROR(G776*(1-Оглавление!$D$29),\"по запросу\")","v":"по запросу"},"по запросу","шт",null,"0 ₽","0 ₽"]
[null,301010634,"Затвор дисковый ПВХ под привод промышленный 63 (DN50) FKM PIMTAS",10,"Арматура","RUB",{"$f":"IFERROR(I777*Оглавление!$E$23,\"по запросу\")","v":22117.955999999998},{"$f":"IFERROR(G777*(1-Оглавление!$D$29),\"по запросу\")","v":22117.955999999998},220.65,"шт",null,0,0]
[null,301010754,"Затвор дисковый ПВХ под привод промышленный 75 (DN65) FKM PIMTAS",10,"Арматура","RUB",{"$f":"IFERROR(I778*Оглавление!$E$23,\"по запросу\")","v":23962.371999999999},{"$f":"IFERROR(G778*(1-Оглавление!$D$29),\"по запросу\")","v":23962.371999999999},239.05,"шт",null,{"$f":"IFERROR(K778*G778,\"0 ₽\")","v":0},{"$f":"IFERROR(K778*H778,\"0 ₽\")","v":0}]
[null,301010904,"Затвор дисковый ПВХ под привод промышленный 90 (DN80) FKM PIMTAS",10,"Арматура","RUB",{"$f":"IFERROR(I779*Оглавление!$E$23,\"по запросу\")","v":"по запросу"},{"$f":"IFERROR(G779*(1-Оглавление!$D$29),\"по запросу\")","v":"по запросу"},"по запросу","шт",null,"0 ₽","0 ₽"]
[null,301011104,"Затвор дисковый ПВХ под привод промышленный 110 (DN100) FKM PIMTAS",10,"Арматура","RUB",{"$f":"IFERROR(I780*Оглавление!$E$23,\"по запросу\")","v":29861.495999999996},{"$f":"IFERROR(G780*(1-Оглавление!$D$29),\"по запросу\")","v":29861.495999999996},297.89999999999998,"шт",null,0,0]
[null,301011254,"Затвор дисковый ПВХ под привод промышленный 125 (DN110) FKM PIMTAS",10,"Арматура","RUB",{"$f":"IFERROR(I781*Оглавление!$E$23,\"по запросу\")","v":35021.851199999997},{"$f":"IFERROR(G781*(1-Оглавление!$D$29),\"по запросу\")","v":35021.851199999997},349.38,"шт",null,0,0]
[null,301011404,"Затвор дисковый ПВХ под привод промышленный 140 (DN125) FKM PIMTAS",10,"Арматура","RUB",{"$f":"IFERROR(I782*Оглавление!$E$23,\"по запросу\")","v":35021.851199999997},{"$f":"IFERROR(G782*(1-Оглавление!$D$29),\"по запросу\")","v":35021.851199999997},349.38,"шт",null,0,0]
[null,301011604,"Затвор дисковый ПВХ под привод промышленный 160 (DN150) FKM PIMTAS",10,"Арматура","RUB",{"$f":"IFERROR(I783*Оглавление!$E$23,\"по запросу\")","v":51241.685599999997},{"$f":"IFERROR(G783*(1-Оглавление!$D$29),\"по запросу\")","v":51241.685599999997},511.19,"шт",null,0,0]
[null,301012004,"Затвор дисковый ПВХ под привод промышленный 200 (DN175) FKM PIMTAS",10,"Арматура","RUB",{"$f":"IFERROR(I784*Оглавление!$E$23,\"по запросу\")","v":71886.113599999997},{"$f":"IFERROR(G784*(1-Оглавление!$D$29),\"по запросу\")","v":71886.113599999997},717.14,"шт",null,0,0]
[null,301012254,"Затвор дисковый ПВХ под привод промышленный 225 (DN200) FKM PIMTAS",10,"Арматура","RUB",{"$f":"IFERROR(I785*Оглавление!$E$23,\"по запросу\")","v":73360.644},{"$f":"IFERROR(G785*(1-Оглавление!$D$29),\"по запросу\")","v":73360.644},731.85,"шт",null,0,0]
[null,301012504,"Затвор дисковый ПВХ под привод промышленный 250 (DN225) FKM PIMTAS",10,"Арматура","RUB",{"$f":"IFERROR(I786*Оглавление!$E$23,\"по запросу\")","v":186040.42799999999},{"$f":"IFERROR(G786*(1-Оглавление!$D$29),\"по запросу\")","v":186040.42799999999},1855.95,"шт",null,{"$f":"IFERROR(K786*G786,\"0 ₽\")","v":0},{"$f":"IFERROR(K786*H786,\"0 ₽\")","v":0}]
[null,301012804,"Затвор дисковый ПВХ под привод промышленный 280 (DN250) FKM PIMTAS",10,"Арматура","RUB",{"$f":"IFERROR(I787*Оглавление!$E$23,\"по запросу\")","v":191692.96159999998},{"$f":"IFERROR(G787*(1-Оглавление!$D$29),\"по запросу\")","v":191692.96159999998},1912.34,"шт",null,0,0]
[null,301013154,"Затвор дисковый ПВХ под привод промышленный 315 (DN300) FKM PIMTAS",10,"Арматура","RUB",{"$f":"IFERROR(I788*Оглавление!$E$23,\"по запросу\")","v":423935.00799999997},{"$f":"IFERROR(G788*(1-Оглавление!$D$29),\"по запросу\")","v":423935.00799999997},4229.2,"шт",null,0,0]
[null,301013554,"Затвор дисковый ПВХ под привод промышленный 355 (DN350) FKM PIMTAS",6,"Арматура","RUB",{"$f":"IFERROR(I789*Оглавление!$E$23,\"по запросу\")","v":"по запросу"},{"$f":"IFERROR(G789*(1-Оглавление!$D$29),\"по запросу\")","v":"по запросу"},"по запросу","шт",null,"0 ₽","0 ₽"]
[null,301014004,"Затвор дисковый ПВХ под привод промышленный 400 (DN400) FKM PIMTAS",6,"Арматура","RUB",{"$f":"IFERROR(I790*Оглавление!$E$23,\"по запросу\")","v":"по запросу"},{"$f":"IFERROR(G790*(1-Оглавление!$D$29),\"по запросу\")","v":"по запросу"},"по запросу","шт",null,{"$f":"IFERROR(K790*G790,\"0 ₽\")","v":"0 ₽"},{"$f":"IFERROR(K790*H790,\"0 ₽\")","v":"0 ₽"}]

{"sheet":"ПВХ FIP","index":3,"n_rows":339,"n_cols":13,"rows_kept":339,"cut":false,"hidden":false,"merged":[[302,0,313,0],[326,0,331,0],[332,0,338,0],[314,0,325,0],[141,0,152,0],[153,0,164,0],[165,0,176,0],[177,0,188,0],[189,0,198,0],[209,0,218,0],[199,0,208,0],[219,0,228,0],[229,0,238,0],[9,0,18,0],[260,0,269,0],[270,0,279,0],[280,0,289,0],[290,0,301,0],[253,0,259,0],[133,0,140,0],[95,0,101,0],[102,0,108,0],[19,0,28,0],[29,0,38,0],[39,0,48,0],[49,0,55,0],[56,0,62,0],[239,0,245,0],[246,0,252,0],[63,0,71,0],[109,0,116,0],[117,0,124,0],[125,0,132,0],[88,0,94,0],[81,0,87,0],[72,0,80,0]]}
[null,null,null,null,null,null,null,null,null,{"$f":"COUNT(K10:K339)","v":0},"Товаров в заказе"]
[null,null,null,null,null,null,null,null,null,{"$f":"SUM(M10:M339)","v":0},"Сумма заказа со скидкой с НДС"]
[]
[]
[]
[]
[]
[]
["Фото","Код","Наименование","PN","Категория","Валюта\nпродажи","Цена\nПРОДАЖИ с НДС ","Цена с НДС\nсо скидкой","Цена\nEUR","Ед. измерения","Заказ (метры/штуки)","Сумма рубли","Сумма со скидкой"]
[null,"VEEIV016E","Кран шаровой ПВХ муфтовый общего применения EPDM 16 FIP",16,"Арматура","RUB",{"$f":"IFERROR(I10*Оглавление!$E$23,\"по запросу\")","v":2269.4335999999998},{"$f":"IFERROR(G10*(1-Оглавление!$D$30),\"по запросу\")","v":2269.4335999999998},22.64,"шт",null,{"$f":"IFERROR(K10*G10,\"0 ₽\")","v":0},{"$f":"IFERROR(K10*H10,\"0 ₽\")","v":0}]
[null,"VEEIV020E","Кран шаровой ПВХ муфтовый общего применения EPDM 20 FIP",16,"Арматура","RUB",{"$f":"IFERROR(I11*Оглавление!$E$23,\"по запросу\")","v":2289.4816000000001},{"$f":"IFERROR(G11*(1-Оглавление!$D$30),\"по запросу\")","v":2289.4816000000001},22.84,"шт",null,{"$f":"IFERROR(K11*G11,\"0 ₽\")","v":0},{"$f":"IFERROR(K11*H11,\"0 ₽\")","v":0}]
[null,"VEEIV025E","Кран шаровой ПВХ муфтовый общего применения EPDM 25 FIP",16,"Арматура","RUB",{"$f":"IFERROR(I12*Оглавление!$E$23,\"по запросу\")","v":2700.4656},{"$f":"IFERROR(G12*(1-Оглавление!$D$30),\"по запросу\")","v":2700.4656},26.94,"шт",null,0,0]
[null,"VEEIV032E","Кран шаровой ПВХ муфтовый общего применения EPDM 32 FIP",16,"Арматура","RUB",{"$f":"IFERROR(I13*Оглавление!$E$23,\"по запросу\")","v":3189.6367999999998},{"$f":"IFERROR(G13*(1-Оглавление!$D$30),\"по запросу\")","v":3189.6367999999998},31.82,"шт",null,0,0]
[null,"VEEIV040E","Кран шаровой ПВХ муфтовый общего применения EPDM 40 FIP",16,"Арматура","RUB",{"$f":"IFERROR(I14*Оглавление!$E$23,\"по запросу\")","v":4139.9119999999994},{"$f":"IFERROR(G14*(1-Оглавление!$D$30),\"по запросу\")","v":4139.9119999999994},41.3,"шт",null,0,0]
[null,"VEEIV050E","Кран шаровой ПВХ муфтовый общего применения EPDM 50 FIP",16,"Арматура","RUB",{"$f":"IFERROR(I15*Оглавление!$E$23,\"по запросу\")","v":4789.4672},{"$f":"IFERROR(G15*(1-Оглавление!$D$30),\"по запросу\")","v":4789.4672},47.78,"шт",null,0,0]
[null,"VEEIV063E","Кран шаровой ПВХ муфтовый общего применения EPDM 63 FIP",16,"Арматура","RUB",{"$f":"IFERROR(I16*Оглавление!$E$23,\"по запросу\")","v":6754.1711999999989},{"$f":"IFERROR(G16*(1-Оглавление!$D$30),\"по запросу\")","v":6754.1711999999989},67.38,"шт",null,0,0]
[null,"VEEIV075E","Кран шаровой ПВХ муфтовый общего применения EPDM 75 FIP",16,"Арматура","RUB",{"$f":"IFERROR(I17*Оглавление!$E$23,\"по запросу\")","v":15861.9776},{"$f":"IFERROR(G17*(1-Оглавление!$D$30),\"по запросу\")","v":15861.9776},158.24,"шт",null,0,0]
[null,"VEEIV090E","Кран шаровой ПВХ муфтовый общего применения EPDM 90 FIP",16,"Арматура","RUB",{"$f":"IFERROR(I18*Оглавление!$E$23,\"по запросу\")","v":20108.143999999997},{"$f":"IFERROR(G18*(1-Оглавление!$D$30),\"по запросу\")","v":20108.143999999997},200.6,"шт",null,0,0]
[null,"VEEIV110E","Кран шаровой ПВХ муфтовый общего применения EPDM 110 FIP",16,"Арматура","RUB",{"$f":"IFERROR(I19*Оглавление!$E$23,\"по запросу\")","v":32604.062399999999},{"$f":"IFERROR(G19*(1-Оглавление!$D$30),\"по запросу\")","v":32604.062399999999},325.26,"шт",null,0,0]
[null,"VEEFV038E","Кран шаровой ПВХ резьбовой общего применения EPDM  FIP",16,"Арматура","RUB",{"$f":"IFERROR(I20*Оглавление!$E$23,\"по запросу\")","v":2493.9712},{"$f":"IFERROR(G20*(1-Оглавление!$D$30),\"по запросу\")","v":2493.9712},24.88,"шт",null,0,0]
[null,"VEEFV012E","Кран шаровой ПВХ резьбовой общего применения EPDM  FIP",16,"Арматура","RUB",{"$f":"IFERROR(I21*Оглавление!$E$23,\"по запросу\")","v":2514.0191999999997},{"$f":"IFERROR(G21*(1-Оглавление!$D$30),\"по запросу\")","v":2514.0191999999997},25.08,"шт",null,0,0]
[null,"VEEFV034E","Кран шаровой ПВХ резьбовой общего применения EPDM  FIP",16,"Арматура","RUB",{"$f":"IFERROR(I22*Оглавление!$E$23,\"по запросу\")","v":2971.1135999999997},{"$f":"IFERROR(G22*(1-Оглавление!$D$30),\"по запросу\")","v":2971.1135999999997},29.64,"шт",null,0,0]
[null,"VEEFV100E","Кран шаровой ПВХ резьбовой общего применения EPDM  FIP",16,"Арматура","RUB",{"$f":"IFERROR(I23*Оглавление!$E$23,\"по запросу\")","v":3502.3855999999996},{"$f":"IFERROR(G23*(1-Оглавление!$D$30),\"по запросу\")","v":3502.3855999999996},34.94,"шт",null,0,0]
[null,"VEEFV114E","Кран шаровой ПВХ резьбовой общего применения EPDM  FIP",16,"Арматура","RUB",{"$f":"IFERROR(I24*Оглавление!$E$23,\"по запросу\")","v":4554.9055999999991},{"$f":"IFERROR(G24*(1-Оглавление!$D$30),\"по запросу\")","v":4554.9055999999991},45.44,"шт",null,0,0]
[null,"VEEFV112E","Кран шаровой ПВХ резьбовой общего применения EPDM  FIP",16,"Арматура","RUB",{"$f":"IFERROR(I25*Оглавление!$E$23,\"по запросу\")","v":5272.6239999999998},{"$f":"IFERROR(G25*(1-Оглавление!$D$30),\"по запросу\")","v":5272.6239999999998},52.6,"шт",null,0,0]
[null,"VEEFV200E","Кран шаровой ПВХ резьбовой общего применения EPDM  FIP",16,"Арматура","RUB",{"$f":"IFERROR(I26*Оглавление!$E$23,\"по запросу\")","v":7423.7744000000002},{"$f":"IFERROR(G26*(1-Оглавление!$D$30),\"по запросу\")","v":7423.7744000000002},74.06,"шт",null,0,0]
[null,"VEEFV212E","Кран шаровой ПВХ резьбовой общего применения EPDM  FIP",16,"Арматура","RUB",{"$f":"IFERROR(I27*Оглавление!$E$23,\"по запросу\")","v":17435.745599999998},{"$f":"IFERROR(G27*(1-Оглавление!$D$30),\"по запросу\")","v":17435.745599999998},173.94,"шт",null,0,0]
[null,"VEEFV300E","Кран шаровой ПВХ резьбовой общего применения EPDM  FIP",16,"Арматура","RUB",{"$f":"IFERROR(I28*Оглавление!$E$23,\"по запросу\")","v":22165.068800000001},{"$f":"IFERROR(G28*(1-Оглавление!$D$30),\"по запросу\")","v":22165.068800000001},221.12,"шт",null,0,0]
[null,"VEEFV400E","Кран шаровой ПВХ резьбовой общего применения EPDM  FIP",16,"Арматура","RUB",{"$f":"IFERROR(I29*Оглавление!$E$23,\"по запросу\")","v":35885.919999999998},{"$f":"IFERROR(G29*(1-Оглавление!$D$30),\"по запросу\")","v":35885.919999999998},358,"шт",null,0,0]
[null,"VKDIV016E","Кран шаровой ПВХ муфтовый промышленный EPDM 16 FIP",16,"Арматура","RUB",{"$f":"IFERROR(I30*Оглавление!$E$23,\"по запросу\")","v":5703.6559999999999},{"$f":"IFERROR(G30*(1-Оглавление!$D$30),\"по запросу\")","v":5703.6559999999999},56.9,"шт",null,0,0]
[null,"VKDIV020E","Кран шаровой ПВХ муфтовый промышленный EPDM 20 FIP",16,"Арматура","RUB",{"$f":"IFERROR(I31*Оглавление!$E$23,\"по запросу\")","v":5936.2127999999993},{"$f":"IFERROR(G31*(1-Оглавление!$D$30),\"по запросу\")","v":5936.2127999999993},59.22,"шт",null,0,0]
[null,"VKDIV025E","Кран шаровой ПВХ муфтовый промышленный EPDM 25 FIP",16,"Арматура","RUB",{"$f":"IFERROR(I32*Оглавление!$E$23,\"по запросу\")","v":7022.8144000000002},{"$f":"IFERROR(G32*(1-Оглавление!$D$30),\"по запросу\")","v":7022.8144000000002},70.06,"шт",null,0,0]
[null,"VKDIV032E","Кран шаровой ПВХ муфтовый промышленный EPDM 32 FIP",16,"Арматура","RUB",{"$f":"IFERROR(I33*Оглавление!$E$23,\"по запросу\")","v":8742.9327999999987},{"$f":"IFERROR(G33*(1-Оглавление!$D$30),\"по запросу\")","v":8742.9327999999987},87.22,"шт",null,0,0]
[null,"VKDIV040E","Кран шаровой ПВХ муфтовый промышленный EPDM 40 FIP",16,"Арматура","RUB",{"$f":"IFERROR(I34*Оглавление!$E$23,\"по запросу\")","v":10888.068799999999},{"$f":"IFERROR(G34*(1-Оглавление!$D$30),\"по запросу\")","v":10888.068799999999},108.62,"шт",null,0,0]
[null,"VKDIV050E","Кран шаровой ПВХ муфтовый промышленный EPDM 50 FIP",16,"Арматура","RUB",{"$f":"IFERROR(I35*Оглавление!$E$23,\"по запросу\")","v":14033.599999999999},{"$f":"IFERROR(G35*(1-Оглавление!$D$30),\"по запросу\")","v":14033.599999999999},140,"шт",null,0,0]
[null,"VKDIV063E","Кран шаровой ПВХ муфтовый промышленный EPDM 63 FIP",16,"Арматура","RUB",{"$f":"IFERROR(I36*Оглавление!$E$23,\"по запросу\")","v":17467.822399999997},{"$f":"IFERROR(G36*(1-Оглавление!$D$30),\"по запросу\")","v":17467.822399999997},174.26,"шт",null,0,0]
[null,"VKDIV075E","Кран шаровой ПВХ муфтовый промышленный EPDM 75 FIP",16,"Арматура","RUB",{"$f":"IFERROR(I37*Оглавление!$E$23,\"по запросу\")","v":67353.260799999989},{"$f":"IFERROR(G37*(1-Оглавление!$D$30),\"по запросу\")","v":67353.260799999989},671.92,"шт",null,0,0]
[null,"VKDIV090E","Кран шаровой ПВХ муфтовый промышленный EPDM 90 FIP",16,"Арматура","RUB",{"$f":"IFERROR(I38*Оглавление!$E$23,\"по запросу\")","v":85809.449599999993},{"$f":"IFERROR(G38*(1-Оглавление!$D$30),\"по запросу\")","v":85809.449599999993},856.04,"шт",null,0,0]
[null,"VKDIV110E","Кран шаровой ПВХ муфтовый промышленный EPDM 110 FIP",16,"Арматура","RUB",{"$f":"IFERROR(I39*Оглавление!$E$23,\"по запросу\")","v":96489.019199999995},{"$f":"IFERROR(G39*(1-Оглавление!$D$30),\"по запросу\")","v":96489.019199999995},962.58,"шт",null,0,0]
[null,"VKDIV016F","Кран шаровой ПВХ муфтовый промышленный FKM 16 FIP",16,"Арматура","RUB",{"$f":"IFERROR(I40*Оглавление!$E$23,\"по запросу\")","v":6916.5599999999995},{"$f":"IFERROR(G40*(1-Оглавление!$D$30),\"по запросу\")","v":6916.5599999999995},69,"шт",null,0,0]
[null,"VKDIV020F","Кран шаровой ПВХ муфтовый промышленный FKM 20 FIP",16,"Арматура","RUB",{"$f":"IFERROR(I41*Оглавление!$E$23,\"по запросу\")","v":7096.9919999999993},{"$f":"IFERROR(G41*(1-Оглавление!$D$30),\"по запросу\")","v":7096.9919999999993},70.8,"шт",null,0,0]
[null,"VKDIV025F","Кран шаровой ПВХ муфтовый промышленный FKM 25 FIP",16,"Арматура","RUB",{"$f":"IFERROR(I42*Оглавление!$E$23,\"по запросу\")","v":8510.3760000000002},{"$f":"IFERROR(G42*(1-Оглавление!$D$30),\"по запросу\")","v":8510.3760000000002},84.9,"шт",null,0,0]
[null,"VKDIV032F","Кран шаровой ПВХ муфтовый промышленный FKM 32 FIP",16,"Арматура","RUB",{"$f":"IFERROR(I43*Оглавление!$E$23,\"по запросу\")","v":10569.3056},{"$f":"IFERROR(G43*(1-Оглавление!$D$30),\"по запросу\")","v":10569.3056},105.44,"шт",null,0,0]
[null,"VKDIV040F","Кран шаровой ПВХ муфтовый промышленный FKM 40 FIP",16,"Арматура","RUB",{"$f":"IFERROR(I44*Оглавление!$E$23,\"по запросу\")","v":12878.835199999998},{"$f":"IFERROR(G44*(1-Оглавление!$D$30),\"по запросу\")","v":12878.835199999998},128.47999999999999,"шт",null,0,0]
[null,"VKDIV050F","Кран шаровой ПВХ муфтовый промышленный FKM 50 FIP",16,"Арматура","RUB",{"$f":"IFERROR(I45*Оглавление!$E$23,\"по запросу\")","v":16517.547200000001},{"$f":"IFERROR(G45*(1-Оглавление!$D$30),\"по запросу\")","v":16517.547200000001},164.78,"шт",null,0,0]
[null,"VKDIV063F","Кран шаровой ПВХ муфтовый промышленный FKM 63 FIP",16,"Арматура","RUB",{"$f":"IFERROR(I46*Оглавление!$E$23,\"по запросу\")","v":22377.577600000001},{"$f":"IFERROR(G46*(1-Оглавление!$D$30),\"по запросу\")","v":22377.577600000001},223.24,"шт",null,0,0]
[null,"VKDIV075F","Кран шаровой ПВХ муфтовый промышленный FKM 75 FIP",16,"Арматура","RUB",{"$f":"IFERROR(I47*Оглавление!$E$23,\"по запросу\")","v":80623.031999999992},{"$f":"IFERROR(G47*(1-Оглавление!$D$30),\"по запросу\")","v":80623.031999999992},804.3,"шт",null,0,0]
[null,"VKDIV090F","Кран шаровой ПВХ муфтовый промышленный FKM 90 FIP",16,"Арматура","RUB",{"$f":"IFERROR(I48*Оглавление!$E$23,\"по запросу\")","v":101994.2},{"$f":"IFERROR(G48*(1-Оглавление!$D$30),\"по запросу\")","v":101994.2},1017.5,"шт",null,0,0]
[null,"VKDIV110F","Кран шаровой ПВХ муфтовый промышленный FKM 110 FIP",16,"Арматура","RUB",{"$f":"IFERROR(I49*Оглавление!$E$23,\"по запросу\")","v":118830.5104},{"$f":"IFERROR(G49*(1-Оглавление!$D$30),\"по запросу\")","v":118830.5104},1185.46,"шт",null,0,0]
[null,"VKDFV038E","Кран шаровой ПВХ резьбовой промышленный EPDM 3/8\" (DN10) FIP",16,"Арматура","RUB",{"$f":"IFERROR(I50*Оглавление!$E$23,\"по запросу\")","v":6148.7215999999999},{"$f":"IFERROR(G50*(1-Оглавление!$D$30),\"по запросу\")","v":6148.7215999999999},61.34,"шт",null,0,0]
[null,"VKDFV012E","Кран шаровой ПВХ резьбовой промышленный EPDM 1/2\" (DN15) FIP",16,"Арматура","RUB",{"$f":"IFERROR(I51*Оглавление!$E$23,\"по запросу\")","v":6441.4224000000004},{"$f":"IFERROR(G51*(1-Оглавление!$D$30),\"по запросу\")","v":6441.4224000000004},64.260000000000005,"шт",null,0,0]
[null,"VKDFV034E","Кран шаровой ПВХ резьбовой промышленный EPDM 3/4\" (DN20) FIP",16,"Арматура","RUB",{"$f":"IFERROR(I52*Оглавление!$E$23,\"по запросу\")","v":7712.4655999999995},{"$f":"IFERROR(G52*(1-Оглавление!$D$30),\"по запросу\")","v":7712.4655999999995},76.94,"шт",null,0,0]
[null,"VKDFV100E","Кран шаровой ПВХ резьбовой промышленный EPDM 1\" (DN25) FIP",16,"Арматура","RUB",{"$f":"IFERROR(I53*Оглавление!$E$23,\"по запросу\")","v":9462.6560000000009},{"$f":"IFERROR(G53*(1-Оглавление!$D$30),\"по запросу\")","v":9462.6560000000009},94.4,"шт",null,0,0]
[null,"VKDFV114E","Кран шаровой ПВХ резьбовой промышленный EPDM 1 1/4\" (DN32) FIP",16,"Арматура","RUB",{"$f":"IFERROR(I54*Оглавление!$E$23,\"по запросу\")","v":12020.7808},{"$f":"IFERROR(G54*(1-Оглавление!$D$30),\"по запросу\")","v":12020.7808},119.92,"шт",null,0,0]
[null,"VKDFV112E","Кран шаровой ПВХ резьбовой промышленный EPDM 1 1/2\" (DN40) FIP",16,"Арматура","RUB",{"$f":"IFERROR(I55*Оглавление!$E$23,\"по запросу\")","v":15755.7232},{"$f":"IFERROR(G55*(1-Оглавление!$D$30),\"по запросу\")","v":15755.7232},157.18,"шт",null,0,0]
[null,"VKDFV200E","Кран шаровой ПВХ резьбовой промышленный EPDM 2\" (DN50) FIP",16,"Арматура","RUB",{"$f":"IFERROR(I56*Оглавление!$E$23,\"по запросу\")","v":19849.524799999999},{"$f":"IFERROR(G56*(1-Оглавление!$D$30),\"по запросу\")","v":19849.524799999999},198.02,"шт",null,0,0]
[null,"VKDFV038F","Кран шаровой ПВХ резьбовой промышленный FKM 3/8\" (DN10) FIP",16,"Арматура","RUB",{"$f":"IFERROR(I57*Оглавление!$E$23,\"по запросу\")","v":7435.8032000000003},{"$f":"IFERROR(G57*(1-Оглавление!$D$30),\"по запросу\")","v":7435.8032000000003},74.180000000000007,"шт",null,0,0]
[null,"VKDFV012F","Кран шаровой ПВХ резьбовой промышленный FKM 1/2\" (DN15) FIP",16,"Арматура","RUB",{"$f":"IFERROR(I58*Оглавление!$E$23,\"по запросу\")","v":7712.4655999999995},{"$f":"IFERROR(G58*(1-Оглавление!$D$30),\"по запросу\")","v":7712.4655999999995},76.94,"шт",null,0,0]
[null,"VKDFV034F","Кран шаровой ПВХ резьбовой промышленный FKM 3/4\" (DN20) FIP",16,"Арматура","RUB",{"$f":"IFERROR(I59*Оглавление!$E$23,\"по запросу\")","v":8945.4175999999989},{"$f":"IFERROR(G59*(1-Оглавление!$D$30),\"по запросу\")","v":8945.4175999999989},89.24,"шт",null,0,0]
[null,"VKDFV100F","Кран шаровой ПВХ резьбовой промышленный FKM 1\" (DN25) FIP",16,"Арматура","RUB",{"$f":"IFERROR(I60*Оглавление!$E$23,\"по запросу\")","v":11920.540799999999},{"$f":"IFERROR(G60*(1-Оглавление!$D$30),\"по запросу\")","v":11920.540799999999},118.92,"шт",null,0,0]
[null,"VKDFV114F","Кран шаровой ПВХ резьбовой промышленный FKM 1 1/4\" (DN32) FIP",16,"Арматура","RUB",{"$f":"IFERROR(I61*Оглавление!$E$23,\"по запросу\")","v":14053.647999999997},{"$f":"IFERROR(G61*(1-Оглавление!$D$30),\"по запросу\")","v":14053.647999999997},140.19999999999999,"шт",null,0,0]
[null,"VKDFV112F","Кран шаровой ПВХ резьбовой промышленный FKM 1 1/2\" (DN40) FIP",16,"Арматура","RUB",{"$f":"IFERROR(I62*Оглавление!$E$23,\"по запросу\")","v":18317.857599999999},{"$f":"IFERROR(G62*(1-Оглавление!$D$30),\"по запросу\")","v":18317.857599999999},182.74,"шт",null,0,0]
[null,"VKDFV200F","Кран шаровой ПВХ резьбовой промышленный FKM 2\" (DN50) FIP",16,"Арматура","RUB",{"$f":"IFERROR(I63*Оглавление!$E$23,\"по запросу\")","v":24929.687999999998},{"$f":"IFERROR(G63*(1-Оглавление!$D$30),\"по запросу\")","v":24929.687999999998},248.7,"шт",null,0,0]
[null,"VKDOV020E","Кран шаровой ПВХ фланцевый промышленный EPDM 20 FIP",16,"Арматура","RUB",{"$f":"IFERROR(I64*Оглавление!$E$23,\"по запросу\")","v":10831.9344},{"$f":"IFERROR(G64*(1-Оглавление!$D$30),\"по запросу\")","v":10831.9344},108.06,"шт",null,0,0]
[null,"VKDOV025E","Кран шаровой ПВХ фланцевый промышленный EPDM 25 FIP",16,"Арматура","RUB",{"$f":"IFERROR(I65*Оглавление!$E$23,\"по запросу\")","v":12546.038399999999},{"$f":"IFERROR(G65*(1-Оглавление!$D$30),\"по запросу\")","v":12546.038399999999},125.16,"шт",null,0,0]
[null,"VKDOV032E","Кран шаровой ПВХ фланцевый промышленный EPDM 32 FIP",16,"Арматура","RUB",{"$f":"IFERROR(I66*Оглавление!$E$23,\"по запросу\")","v":14709.2176},{"$f":"IFERROR(G66*(1-Оглавление!$D$30),\"по запросу\")","v":14709.2176},146.74,"шт",null,0,0]
[null,"VKDOV040E","Кран шаровой ПВХ фланцевый промышленный EPDM 40 FIP",16,"Арматура","RUB",{"$f":"IFERROR(I67*Оглавление!$E$23,\"по запросу\")","v":18869.177599999999},{"$f":"IFERROR(G67*(1-Оглавление!$D$30),\"по запросу\")","v":18869.177599999999},188.24,"шт",null,0,0]
[null,"VKDOV050E","Кран шаровой ПВХ фланцевый промышленный EPDM 50 FIP",16,"Арматура","RUB",{"$f":"IFERROR(I68*Оглавление!$E$23,\"по запросу\")","v":22820.6384},{"$f":"IFERROR(G68*(1-Оглавление!$D$30),\"по запросу\")","v":22820.6384},227.66,"шт",null,0,0]
[null,"VKDOV063E","Кран шаровой ПВХ фланцевый промышленный EPDM 63 FIP",16,"Арматура","RUB",{"$f":"IFERROR(I69*Оглавление!$E$23,\"по запросу\")","v":29213.945599999999},{"$f":"IFERROR(G69*(1-Оглавление!$D$30),\"по запросу\")","v":29213.945599999999},291.44,"шт",null,0,0]
[null,"VKDOV075E","Кран шаровой ПВХ фланцевый промышленный EPDM 75 FIP",16,"Арматура","RUB",{"$f":"IFERROR(I70*Оглавление!$E$23,\"по запросу\")","v":85043.615999999995},{"$f":"IFERROR(G70*(1-Оглавление!$D$30),\"по запросу\")","v":85043.615999999995},848.4,"шт",null,0,0]
[null,"VKDOV090E","Кран шаровой ПВХ фланцевый промышленный EPDM 90 FIP",16,"Арматура","RUB",{"$f":"IFERROR(I71*Оглавление!$E$23,\"по запросу\")","v":108341.39679999999},{"$f":"IFERROR(G71*(1-Оглавление!$D$30),\"по запросу\")","v":108341.39679999999},1080.82,"шт",null,0,0]
[null,"VKDOV110E","Кран шаровой ПВХ фланцевый промышленный EPDM 110 FIP",16,"Арматура","RUB",{"$f":"IFERROR(I72*Оглавление!$E$23,\"по запросу\")","v":123333.29120000001},{"$f":"IFERROR(G72*(1-Оглавление!$D$30),\"по запросу\")","v":123333.29120000001},1230.3800000000001,"шт",null,0,0]
[null,"VKDOV020F","Кран шаровой ПВХ фланцевый промышленный FKM 20 FIP",16,"Арматура","RUB",{"$f":"IFERROR(I73*Оглавление!$E$23,\"по запросу\")","v":12283.409600000001},{"$f":"IFERROR(G73*(1-Оглавление!$D$30),\"по запросу\")","v":12283.409600000001},122.54,"шт",null,0,0]
[null,"VKDOV025F","Кран шаровой ПВХ фланцевый промышленный FKM 25 FIP",16,"Арматура","RUB",{"$f":"IFERROR(I74*Оглавление!$E$23,\"по запросу\")","v":14410.502399999998},{"$f":"IFERROR(G74*(1-Оглавление!$D$30),\"по запросу\")","v":14410.502399999998},143.76,"шт",null,0,0]
[null,"VKDOV032F","Кран шаровой ПВХ фланцевый промышленный FKM 32 FIP",16,"Арматура","RUB",{"$f":"IFERROR(I75*Оглавление!$E$23,\"по запросу\")","v":16904.473599999998},{"$f":"IFERROR(G75*(1-Оглавление!$D$30),\"по запросу\")","v":16904.473599999998},168.64,"шт",null,{"$f":"IFERROR(K75*G75,\"0 ₽\")","v":0},{"$f":"IFERROR(K75*H75,\"0 ₽\")","v":0}]
[null,"VKDOV040F","Кран шаровой ПВХ фланцевый промышленный FKM 40 FIP",16,"Арматура","RUB",{"$f":"IFERROR(I76*Оглавление!$E$23,\"по запросу\")","v":21246.8704},{"$f":"IFERROR(G76*(1-Оглавление!$D$30),\"по запросу\")","v":21246.8704},211.96,"шт",null,0,0]
[null,"VKDOV050F","Кран шаровой ПВХ фланцевый промышленный FKM 50 FIP",16,"Арматура","RUB",{"$f":"IFERROR(I77*Оглавление!$E$23,\"по запросу\")","v":25679.483199999999},{"$f":"IFERROR(G77*(1-Оглавление!$D$30),\"по запросу\")","v":25679.483199999999},256.18,"шт",null,0,0]
[null,"VKDOV063F","Кран шаровой ПВХ фланцевый промышленный FKM 63 FIP",16,"Арматура","RUB",{"$f":"IFERROR(I78*Оглавление!$E$23,\"по запросу\")","v":34861.467199999992},{"$f":"IFERROR(G78*(1-Оглавление!$D$30),\"по запросу\")","v":34861.467199999992},347.78,"шт",null,0,0]
[null,"VKDOV075F","Кран шаровой ПВХ фланцевый промышленный FKM 75 FIP",16,"Арматура","RUB",{"$f":"IFERROR(I79*Оглавление!$E$23,\"по запросу\")","v":98317.396800000002},{"$f":"IFERROR(G79*(1-Оглавление!$D$30),\"по запросу\")","v":98317.396800000002},980.82,"шт",null,0,0]
[null,"VKDOV090F","Кран шаровой ПВХ фланцевый промышленный FKM 90 FIP",16,"Арматура","RUB",{"$f":"IFERROR(I80*Оглавление!$E$23,\"по запросу\")","v":124534.16639999999},{"$f":"IFERROR(G80*(1-Оглавление!$D$30),\"по запросу\")","v":124534.16639999999},1242.3599999999999,"шт",null,0,0]
[null,"VKDOV110F","Кран шаровой ПВХ фланцевый промышленный FKM 110 FIP",16,"Арматура","RUB",{"$f":"IFERROR(I81*Оглавление!$E$23,\"по запросу\")","v":145678.79199999999},{"$f":"IFERROR(G81*(1-Оглавление!$D$30),\"по запросу\")","v":145678.79199999999},1453.3,"шт",null,0,0]
[null,"TKDIV016E","Кран трехходовой ПВХ T-шар муфтовый EPDM 16 FIP",16,"Арматура","RUB",{"$f":"IFERROR(I82*Оглавление!$E$23,\"по запросу\")","v":9993.9279999999999},{"$f":"IFERROR(G82*(1-Оглавление!$D$30),\"по запросу\")","v":9993.9279999999999},99.7,"шт",null,0,0]
[null,"TKDIV020E","Кран трехходовой ПВХ T-шар муфтовый EPDM 20 FIP",16,"Арматура","RUB",{"$f":"IFERROR(I83*Оглавление!$E$23,\"по запросу\")","v":10200.422399999999},{"$f":"IFERROR(G83*(1-Оглавление!$D$30),\"по запросу\")","v":10200.422399999999},101.76,"шт",null,0,0]
[null,"TKDIV025E","Кран трехходовой ПВХ T-шар муфтовый EPDM 25 FIP",16,"Арматура","RUB",{"$f":"IFERROR(I84*Оглавление!$E$23,\"по запросу\")","v":11806.2672},{"$f":"IFERROR(G84*(1-Оглавление!$D$30),\"по запросу\")","v":11806.2672},117.78,"шт",null,0,0]
[null,"TKDIV032E","Кран трехходовой ПВХ T-шар муфтовый EPDM 32 FIP",16,"Арматура","RUB",{"$f":"IFERROR(I85*Оглавление!$E$23,\"по запросу\")","v":14635.039999999999},{"$f":"IFERROR(G85*(1-Оглавление!$D$30),\"по запросу\")","v":14635.039999999999},146,"шт",null,0,0]
[null,"TKDIV040E","Кран трехходовой ПВХ T-шар муфтовый EPDM 40 FIP",16,"Арматура","RUB",{"$f":"IFERROR(I86*Оглавление!$E$23,\"по запросу\")","v":17654.268799999998},{"$f":"IFERROR(G86*(1-Оглавление!$D$30),\"по запросу\")","v":17654.268799999998},176.12,"шт",null,0,0]
[null,"TKDIV050E","Кран трехходовой ПВХ T-шар муфтовый EPDM 50 FIP",16,"Арматура","RUB",{"$f":"IFERROR(I87*Оглавление!$E$23,\"по запросу\")","v":21333.076799999999},{"$f":"IFERROR(G87*(1-Оглавление!$D$30),\"по запросу\")","v":21333.076799999999},212.82,"шт",null,0,0]
[null,"TKDIV063E","Кран трехходовой ПВХ T-шар муфтовый EPDM 63 FIP",16,"Арматура","RUB",{"$f":"IFERROR(I88*Оглавление!$E$23,\"по запросу\")","v":26912.4352},{"$f":"IFERROR(G88*(1-Оглавление!$D$30),\"по запросу\")","v":26912.4352},268.48,"шт",null,0,0]
[null,"TKDIV016F","Кран трехходовой ПВХ T-шар муфтовый FKM 16 FIP",16,"Арматура","RUB",{"$f":"IFERROR(I89*Оглавление!$E$23,\"по запросу\")","v":11295.0432},{"$f":"IFERROR(G89*(1-Оглавление!$D$30),\"по запросу\")","v":11295.0432},112.68,"шт",null,0,0]
[null,"TKDIV020F","Кран трехходовой ПВХ T-шар муфтовый FKM 20 FIP",16,"Арматура","RUB",{"$f":"IFERROR(I90*Оглавление!$E$23,\"по запросу\")","v":11533.6144},{"$f":"IFERROR(G90*(1-Оглавление!$D$30),\"по запросу\")","v":11533.6144},115.06,"шт",null,0,0]
[null,"TKDIV025F","Кран трехходовой ПВХ T-шар муфтовый FKM 25 FIP",16,"Арматура","RUB",{"$f":"IFERROR(I91*Оглавление!$E$23,\"по запросу\")","v":13576.505599999999},{"$f":"IFERROR(G91*(1-Оглавление!$D$30),\"по запросу\")","v":13576.505599999999},135.44,"шт",null,0,0]
[null,"TKDIV032F","Кран трехходовой ПВХ T-шар муфтовый FKM 32 FIP",16,"Арматура","RUB",{"$f":"IFERROR(I92*Оглавление!$E$23,\"по запросу\")","v":16830.295999999998},{"$f":"IFERROR(G92*(1-Оглавление!$D$30),\"по запросу\")","v":16830.295999999998},167.9,"шт",null,0,0]
[null,"TKDIV040F","Кран трехходовой ПВХ T-шар муфтовый FKM 40 FIP",16,"Арматура","RUB",{"$f":"IFERROR(I93*Оглавление!$E$23,\"по запросу\")","v":20837.891199999998},{"$f":"IFERROR(G93*(1-Оглавление!$D$30),\"по запросу\")","v":20837.891199999998},207.88,"шт",null,0,0]
[null,"TKDIV050F","Кран трехходовой ПВХ T-шар муфтовый FKM 50 FIP",16,"Арматура","RUB",{"$f":"IFERROR(I94*Оглавление!$E$23,\"по запросу\")","v":26667.849600000001},{"$f":"IFERROR(G94*(1-Оглавление!$D$30),\"по запросу\")","v":26667.849600000001},266.04000000000002,"шт",null,0,0]
[null,"TKDIV063F","Кран трехходовой ПВХ T-шар муфтовый FKM 63 FIP",16,"Арматура","RUB",{"$f":"IFERROR(I95*Оглавление!$E$23,\"по запросу\")","v":33648.563199999997},{"$f":"IFERROR(G95*(1-Оглавление!$D$30),\"по запросу\")","v":33648.563199999997},335.68,"шт",null,0,0]
[null,"TKDFV038E","Кран трехходовой ПВХ T-шар резьбовой EPDM 3/8\" FIP",16,"Арматура","RUB",{"$f":"IFERROR(I96*Оглавление!$E$23,\"по запросу\")","v":10994.323200000001},{"$f":"IFERROR(G96*(1-Оглавление!$D$30),\"по запросу\")","v":10994.323200000001},109.68,"шт",null,0,0]
[null,"TKDFV012E","Кран трехходовой ПВХ T-шар резьбовой EPDM 1/2\" FIP",16,"Арматура","RUB",{"$f":"IFERROR(I97*Оглавление!$E$23,\"по запросу\")","v":11220.865599999999},{"$f":"IFERROR(G97*(1-Оглавление!$D$30),\"по запросу\")","v":11220.865599999999},111.94,"шт",null,0,0]
[null,"TKDFV034E","Кран трехходовой ПВХ T-шар резьбовой EPDM 3/4\" FIP",16,"Арматура","RUB",{"$f":"IFERROR(I98*Оглавление!$E$23,\"по запросу\")","v":12991.103999999999},{"$f":"IFERROR(G98*(1-Оглавление!$D$30),\"по запросу\")","v":12991.103999999999},129.6,"шт",null,0,0]
[null,"TKDFV100E","Кран трехходовой ПВХ T-шар резьбовой EPDM 1\" FIP",16,"Арматура","RUB",{"$f":"IFERROR(I99*Оглавление!$E$23,\"по запросу\")","v":16104.558399999998},{"$f":"IFERROR(G99*(1-Оглавление!$D$30),\"по запросу\")","v":16104.558399999998},160.66,"шт",null,0,0]
[null,"TKDFV114E","Кран трехходовой ПВХ T-шар резьбовой EPDM 1 1/4\" FIP",16,"Арматура","RUB",{"$f":"IFERROR(I100*Оглавление!$E$23,\"по запросу\")","v":19424.5072},{"$f":"IFERROR(G100*(1-Оглавление!$D$30),\"по запросу\")","v":19424.5072},193.78,"шт",null,0,0]
[null,"TKDFV112E","Кран трехходовой ПВХ T-шар резьбовой EPDM 1 1/2\" FIP",16,"Арматура","RUB",{"$f":"IFERROR(I101*Оглавление!$E$23,\"по запросу\")","v":23466.183999999997},{"$f":"IFERROR(G101*(1-Оглавление!$D$30),\"по запросу\")","v":23466.183999999997},234.1,"шт",null,0,0]
[null,"TKDFV200E","Кран трехходовой ПВХ T-шар резьбовой EPDM 2\" FIP",16,"Арматура","RUB",{"$f":"IFERROR(I102*Оглавление!$E$23,\"по запросу\")","v":29606.886399999999},{"$f":"IFERROR(G102*(1-Оглавление!$D$30),\"по запросу\")","v":29606.886399999999},295.36,"шт",null,0,0]
[null,"TKDFV038F","Кран трехходовой ПВХ T-шар резьбовой FKM 3/8\" FIP",16,"Арматура","RUB",{"$f":"IFERROR(I103*Оглавление!$E$23,\"по запросу\")","v":12295.438399999999},{"$f":"IFERROR(G103*(1-Оглавление!$D$30),\"по запросу\")","v":12295.438399999999},122.66,"шт",null,0,0]
[null,"TKDFV012F","Кран трехходовой ПВХ T-шар резьбовой FKM 1/2\" FIP",16,"Арматура","RUB",{"$f":"IFERROR(I104*Оглавление!$E$23,\"по запросу\")","v":12546.038399999999},{"$f":"IFERROR(G104*(1-Оглавление!$D$30),\"по запросу\")","v":12546.038399999999},125.16,"шт",null,0,0]
[null,"TKDFV034F","Кран трехходовой ПВХ T-шар резьбовой FKM 3/4\" FIP",16,"Арматура","RUB",{"$f":"IFERROR(I105*Оглавление!$E$23,\"по запросу\")","v":14761.342399999998},{"$f":"IFERROR(G105*(1-Оглавление!$D$30),\"по запросу\")","v":14761.342399999998},147.26,"шт",null,0,0]
[null,"TKDFV100F","Кран трехходовой ПВХ T-шар резьбовой FKM 1\" FIP",16,"Арматура","RUB",{"$f":"IFERROR(I106*Оглавление!$E$23,\"по запросу\")","v":18291.795199999997},{"$f":"IFERROR(G106*(1-Оглавление!$D$30),\"по запросу\")","v":18291.795199999997},182.48,"шт",null,0,0]
[null,"TKDFV114F","Кран трехходовой ПВХ T-шар резьбовой FKM 1 1/4\" FIP",16,"Арматура","RUB",{"$f":"IFERROR(I107*Оглавление!$E$23,\"по запросу\")","v":22602.115199999997},{"$f":"IFERROR(G107*(1-Оглавление!$D$30),\"по запросу\")","v":22602.115199999997},225.48,"шт",null,0,0]
[null,"TKDFV112F","Кран трехходовой ПВХ T-шар резьбовой FKM 1 1/2\" FIP",16,"Арматура","RUB",{"$f":"IFERROR(I108*Оглавление!$E$23,\"по запросу\")","v":28800.956799999996},{"$f":"IFERROR(G108*(1-Оглавление!$D$30),\"по запросу\")","v":28800.956799999996},287.32,"шт",null,0,0]
[null,"TKDFV200F","Кран трехходовой ПВХ T-шар резьбовой FKM 2\" FIP",16,"Арматура","RUB",{"$f":"IFERROR(I109*Оглавление!$E$23,\"по запросу\")","v":36343.0144},{"$f":"IFERROR(G109*(1-Оглавление!$D$30),\"по запросу\")","v":36343.0144},362.56,"шт",null,0,0]
[null,"FEOVLM050E","Затвор дисковый ПВХ с рукояткой общего применения 50 (DN40) EPDM FIP",16,"Арматура","RUB",{"$f":"IFERROR(I110*Оглавление!$E$23,\"по запросу\")","v":11746.1232},{"$f":"IFERROR(G110*(1-Оглавление!$D$30),\"по запросу\")","v":11746.1232},117.18,"шт",null,0,0]
[null,"FEOVLM063E","Затвор дисковый ПВХ с рукояткой общего применения 63 (DN50) EPDM FIP",16,"Арматура","RUB",{"$f":"IFERROR(I111*Оглавление!$E$23,\"по запросу\")","v":12395.678399999999},{"$f":"IFERROR(G111*(1-Оглавление!$D$30),\"по запросу\")","v":12395.678399999999},123.66,"шт",null,0,0]
[null,"FEOVLM075E","Затвор дисковый ПВХ с рукояткой общего применения 75 (DN65) EPDM FIP",10,"Арматура","RUB",{"$f":"IFERROR(I112*Оглавление!$E$23,\"по запросу\")","v":12752.532799999999},{"$f":"IFERROR(G112*(1-Оглавление!$D$30),\"по запросу\")","v":12752.532799999999},127.22,"шт",null,0,0]
[null,"FEOVLM090E","Затвор дисковый ПВХ с рукояткой общего применения 90 (DN80) EPDM FIP",10,"Арматура","RUB",{"$f":"IFERROR(I113*Оглавление!$E$23,\"по запросу\")","v":14635.039999999999},{"$f":"IFERROR(G113*(1-Оглавление!$D$30),\"по запросу\")","v":14635.039999999999},146,"шт",null,0,0]
[null,"FEOVLM110E","Затвор дисковый ПВХ с рукояткой общего применения 110 (DN100) EPDM FIP",10,"Арматура","RUB",{"$f":"IFERROR(I114*Оглавление!$E$23,\"по запросу\")","v":16311.052799999999},{"$f":"IFERROR(G114*(1-Оглавление!$D$30),\"по запросу\")","v":16311.052799999999},162.72,"шт",null,0,0]
[null,"FEOVLM140E","Затвор дисковый ПВХ с рукояткой общего применения 140 (DN125) EPDM FIP",10,"Арматура","RUB",{"$f":"IFERROR(I115*Оглавление!$E$23,\"по запросу\")","v":18500.294399999999},{"$f":"IFERROR(G115*(1-Оглавление!$D$30),\"по запросу\")","v":18500.294399999999},184.56,"шт",null,0,0]
[null,"FEOVLM160E","Затвор дисковый ПВХ с рукояткой общего применения 160 (DN150) EPDM FIP",10,"Арматура","RUB",{"$f":"IFERROR(I116*Оглавление!$E$23,\"по запросу\")","v":22676.292799999999},{"$f":"IFERROR(G116*(1-Оглавление!$D$30),\"по запросу\")","v":22676.292799999999},226.22,"шт",null,0,0]
[null,"FEOVLM225E","Затвор дисковый ПВХ с рукояткой общего применения 225 (DN200) EPDM FIP",10,"Арматура","RUB",{"$f":"IFERROR(I117*Оглавление!$E$23,\"по запросу\")","v":39931.606399999997},{"$f":"IFERROR(G117*(1-Оглавление!$D$30),\"по запросу\")","v":39931.606399999997},398.36,"шт",null,0,0]
[null,"FEOVLM050F","Затвор дисковый ПВХ с рукояткой общего применения 50 (DN40) FKM FIP",16,"Арматура","RUB",{"$f":"IFERROR(I118*Оглавление!$E$23,\"по запросу\")","v":20577.267199999998},{"$f":"IFERROR(G118*(1-Оглавление!$D$30),\"по запросу\")","v":20577.267199999998},205.28,"шт",null,0,0]
[null,"FEOVLM063F","Затвор дисковый ПВХ с рукояткой общего применения 63 (DN50) FKM FIP",16,"Арматура","RUB",{"$f":"IFERROR(I119*Оглавление!$E$23,\"по запросу\")","v":21695.945599999999},{"$f":"IFERROR(G119*(1-Оглавление!$D$30),\"по запросу\")","v":21695.945599999999},216.44,"шт",null,0,0]
[null,"FEOVLM075F","Затвор дисковый ПВХ с рукояткой общего применения 75 (DN65) FKM FIP",10,"Арматура","RUB",{"$f":"IFERROR(I120*Оглавление!$E$23,\"по запросу\")","v":22371.563200000001},{"$f":"IFERROR(G120*(1-Оглавление!$D$30),\"по запросу\")","v":22371.563200000001},223.18,"шт",null,0,0]
[null,"FEOVLM090F","Затвор дисковый ПВХ с рукояткой общего применения 90 (DN80) FKM FIP",10,"Арматура","RUB",{"$f":"IFERROR(I121*Оглавление!$E$23,\"по запросу\")","v":26762.075199999999},{"$f":"IFERROR(G121*(1-Оглавление!$D$30),\"по запросу\")","v":26762.075199999999},266.98,"шт",null,0,0]
[null,"FEOVLM110F","Затвор дисковый ПВХ с рукояткой общего применения 110 (DN100) FKM FIP",10,"Арматура","RUB",{"$f":"IFERROR(I122*Оглавление!$E$23,\"по запросу\")","v":33233.569600000003},{"$f":"IFERROR(G122*(1-Оглавление!$D$30),\"по запросу\")","v":33233.569600000003},331.54,"шт",null,0,0]
[null,"FEOVLM140F","Затвор дисковый ПВХ с рукояткой общего применения 140 (DN125) FKM FIP",10,"Арматура","RUB",{"$f":"IFERROR(I123*Оглавление!$E$23,\"по запросу\")","v":43480.102399999996},{"$f":"IFERROR(G123*(1-Оглавление!$D$30),\"по запросу\")","v":43480.102399999996},433.76,"шт",null,0,0]
[null,"FEOVLM160F","Затвор дисковый ПВХ с рукояткой общего применения 160 (DN150) FKM FIP",10,"Арматура","RUB",{"$f":"IFERROR(I124*Оглавление!$E$23,\"по запросу\")","v":62818.403199999993},{"$f":"IFERROR(G124*(1-Оглавление!$D$30),\"по запросу\")","v":62818.403199999993},626.67999999999995,"шт",null,0,0]
[null,"FEOVLM225F","Затвор дисковый ПВХ с рукояткой общего применения 225 (DN200) FKM FIP",10,"Арматура","RUB",{"$f":"IFERROR(I125*Оглавление!$E$23,\"по запросу\")","v":84708.814399999988},{"$f":"IFERROR(G125*(1-Оглавление!$D$30),\"по запросу\")","v":84708.814399999988},845.06,"шт",null,0,0]
[null,"FKOVLM050E","Затвор дисковый ПВХ с рукояткой промышленный 50 (DN40) EPDM FIP",16,"Арматура","RUB",{"$f":"IFERROR(I126*Оглавление!$E$23,\"по запросу\")","v":25053.9856},{"$f":"IFERROR(G126*(1-Оглавление!$D$30),\"по запросу\")","v":25053.9856},249.94,"шт",null,0,0]
[null,"FKOVLM063E","Затвор дисковый ПВХ с рукояткой промышленный 63 (DN50) EPDM FIP",16,"Арматура","RUB",{"$f":"IFERROR(I127*Оглавление!$E$23,\"по запросу\")","v":26529.518400000001},{"$f":"IFERROR(G127*(1-Оглавление!$D$30),\"по запросу\")","v":26529.518400000001},264.66000000000003,"шт",null,0,0]
[null,"FKOVLM075E","Затвор дисковый ПВХ с рукояткой промышленный 75 (DN65) EPDM FIP",10,"Арматура","RUB",{"$f":"IFERROR(I128*Оглавление!$E$23,\"по запросу\")","v":29476.574399999998},{"$f":"IFERROR(G128*(1-Оглавление!$D$30),\"по запросу\")","v":29476.574399999998},294.06,"шт",null,0,0]
[null,"FKOVLM090E","Затвор дисковый ПВХ с рукояткой промышленный 90 (DN80) EPDM FIP",10,"Арматура","RUB",{"$f":"IFERROR(I129*Оглавление!$E$23,\"по запросу\")","v":30932.059199999996},{"$f":"IFERROR(G129*(1-Оглавление!$D$30),\"по запросу\")","v":30932.059199999996},308.58,"шт",null,0,0]
[null,"FKOVLM110E","Затвор дисковый ПВХ с рукояткой промышленный 110 (DN100) EPDM FIP",10,"Арматура","RUB",{"$f":"IFERROR(I130*Оглавление!$E$23,\"по запросу\")","v":33654.577599999997},{"$f":"IFERROR(G130*(1-Оглавление!$D$30),\"по запросу\")","v":33654.577599999997},335.74,"шт",null,0,0]
[null,"FKOVLM140E","Затвор дисковый ПВХ с рукояткой промышленный 140 (DN125) EPDM FIP",10,"Арматура","RUB",{"$f":"IFERROR(I131*Оглавление!$E$23,\"по запросу\")","v":44731.097600000001},{"$f":"IFERROR(G131*(1-Оглавление!$D$30),\"по запросу\")","v":44731.097600000001},446.24,"шт",null,0,0]
[null,"FKOVLM160E","Затвор дисковый ПВХ с рукояткой промышленный 160 (DN150) EPDM FIP",10,"Арматура","RUB",{"$f":"IFERROR(I132*Оглавление!$E$23,\"по запросу\")","v":48287.612800000003},{"$f":"IFERROR(G132*(1-Оглавление!$D$30),\"по запросу\")","v":48287.612800000003},481.72,"шт",null,0,0]
[null,"FKOVLM225E","Затвор дисковый ПВХ с рукояткой промышленный 225 (DN200) EPDM FIP",10,"Арматура","RUB",{"$f":"IFERROR(I133*Оглавление!$E$23,\"по запросу\")","v":62499.64},{"$f":"IFERROR(G133*(1-Оглавление!$D$30),\"по запросу\")","v":62499.64},623.5,"шт",null,0,0]
[null,"FKOVLM050F","Затвор дисковый ПВХ с рукояткой промышленный 50 (DN40) FKM FIP",16,"Арматура","RUB",{"$f":"IFERROR(I134*Оглавление!$E$23,\"по запросу\")","v":37050.7088},{"$f":"IFERROR(G134*(1-Оглавление!$D$30),\"по запросу\")","v":37050.7088},369.62,"шт",null,0,0]
[null,"FKOVLM063F","Затвор дисковый ПВХ с рукояткой промышленный 63 (DN50) FKM FIP",16,"Арматура","RUB",{"$f":"IFERROR(I135*Оглавление!$E$23,\"по запросу\")","v":39227.921599999994},{"$f":"IFERROR(G135*(1-Оглавление!$D$30),\"по запросу\")","v":39227.921599999994},391.34,"шт",null,0,0]
[null,"FKOVLM075F","Затвор дисковый ПВХ с рукояткой промышленный 75 (DN65) FKM FIP",10,"Арматура","RUB",{"$f":"IFERROR(I136*Оглавление!$E$23,\"по запросу\")","v":43586.356799999994},{"$f":"IFERROR(G136*(1-Оглавление!$D$30),\"по запросу\")","v":43586.356799999994},434.82,"шт",null,0,0]
[null,"FKOVLM090F","Затвор дисковый ПВХ с рукояткой промышленный 90 (DN80) FKM FIP",10,"Арматура","RUB",{"$f":"IFERROR(I137*Оглавление!$E$23,\"по запросу\")","v":45675.358399999997},{"$f":"IFERROR(G137*(1-Оглавление!$D$30),\"по запросу\")","v":45675.358399999997},455.66,"шт",null,0,0]
[null,"FKOVLM110F","Затвор дисковый ПВХ с рукояткой промышленный 110 (DN100) FKM FIP",10,"Арматура","RUB",{"$f":"IFERROR(I138*Оглавление!$E$23,\"по запросу\")","v":49440.372799999997},{"$f":"IFERROR(G138*(1-Оглавление!$D$30),\"по запросу\")","v":49440.372799999997},493.22,"шт",null,0,0]
[null,"FKOVLM140F","Затвор дисковый ПВХ с рукояткой промышленный 140 (DN125) FKM FIP",10,"Арматура","RUB",{"$f":"IFERROR(I139*Оглавление!$E$23,\"по запросу\")","v":66156.395199999999},{"$f":"IFERROR(G139*(1-Оглавление!$D$30),\"по запросу\")","v":66156.395199999999},659.98,"шт",null,{"$f":"IFERROR(K139*G139,\"0 ₽\")","v":0},{"$f":"IFERROR(K139*H139,\"0 ₽\")","v":0}]
[null,"FKOVLM160F","Затвор дисковый ПВХ с рукояткой промышленный 160 (DN150) FKM FIP",10,"Арматура","RUB",{"$f":"IFERROR(I140*Оглавление!$E$23,\"по запросу\")","v":69191.662400000001},{"$f":"IFERROR(G140*(1-Оглавление!$D$30),\"по запросу\")","v":69191.662400000001},690.26,"шт",null,0,0]
[null,"FKOVLM225F","Затвор дисковый ПВХ с рукояткой промышленный 225 (DN200) FKM FIP",10,"Арматура","RUB",{"$f":"IFERROR(I141*Оглавление!$E$23,\"по запросу\")","v":89778.953599999993},{"$f":"IFERROR(G141*(1-Оглавление!$D$30),\"по запросу\")","v":89778.953599999993},895.64,"шт",null,0,0]
[null,"FKOVRM050E","Затвор дисковый ПВХ с редуктором промышленный 50 (DN40) EPDM FIP",16,"Арматура","RUB",{"$f":"IFERROR(I142*Оглавление!$E$23,\"по запросу\")","v":67729.239865647934},{"$f":"IFERROR(G142*(1-Оглавление!$D$30),\"по запросу\")","v":67729.239865647934},675.67078876344704,"шт",null,0,0]
[null,"FKOVRM063E","Затвор дисковый ПВХ с редуктором промышленный 63 (DN50) EPDM FIP",16,"Арматура","RUB",{"$f":"IFERROR(I143*Оглавление!$E$23,\"по запросу\")","v":68978.302739316539},{"$f":"IFERROR(G143*(1-Оглавление!$D$30),\"по запросу\")","v":68978.302739316539},688.13151176492954,"шт",null,0,0]
[null,"FKOVRM075E","Затвор дисковый ПВХ с редуктором промышленный 75 (DN65) EPDM FIP",10,"Арматура","RUB",{"$f":"IFERROR(I144*Оглавление!$E$23,\"по запросу\")","v":71493.1728},{"$f":"IFERROR(G144*(1-Оглавление!$D$30),\"по запросу\")","v":71493.1728},713.22,"шт",null,0,0]
[null,"FKOVRM090E","Затвор дисковый ПВХ с редуктором промышленный 90 (DN80) EPDM FIP",10,"Арматура","RUB",{"$f":"IFERROR(I145*Оглавление!$E$23,\"по запросу\")","v":73056.916800000006},{"$f":"IFERROR(G145*(1-Оглавление!$D$30),\"по запросу\")","v":73056.916800000006},728.82,"шт",null,0,0]
[null,"FKOVRM110E","Затвор дисковый ПВХ с редуктором промышленный 110 (DN100) EPDM FIP",10,"Арматура","RUB",{"$f":"IFERROR(I146*Оглавление!$E$23,\"по запросу\")","v":75669.171199999997},{"$f":"IFERROR(G146*(1-Оглавление!$D$30),\"по запросу\")","v":75669.171199999997},754.88,"шт",null,0,0]
[null,"FKOVRM140E","Затвор дисковый ПВХ с редуктором промышленный 140 (DN125) EPDM FIP",10,"Арматура","RUB",{"$f":"IFERROR(I147*Оглавление!$E$23,\"по запросу\")","v":86751.705600000001},{"$f":"IFERROR(G147*(1-Оглавление!$D$30),\"по запросу\")","v":86751.705600000001},865.44,"шт",null,0,0]
[null,"FKOVRM160E","Затвор дисковый ПВХ с редуктором промышленный 160 (DN150) EPDM FIP",10,"Арматура","RUB",{"$f":"IFERROR(I148*Оглавление!$E$23,\"по запросу\")","v":90306.216},{"$f":"IFERROR(G148*(1-Оглавление!$D$30),\"по запросу\")","v":90306.216},900.9,"шт",null,0,0]
[null,"FKOVRM225E","Затвор дисковый ПВХ с редуктором промышленный 225 (DN200) EPDM FIP",10,"Арматура","RUB",{"$f":"IFERROR(I149*Оглавление!$E$23,\"по запросу\")","v":114027.00959999999},{"$f":"IFERROR(G149*(1-Оглавление!$D$30),\"по запросу\")","v":114027.00959999999},1137.54,"шт",null,0,0]
[null,"FKOVRM280E","Затвор дисковый ПВХ с редуктором промышленный 280 (DN250) EPDM FIP",10,"Арматура","RUB",{"$f":"IFERROR(I150*Оглавление!$E$23,\"по запросу\")","v":230080.872},{"$f":"IFERROR(G150*(1-Оглавление!$D$30),\"по запросу\")","v":230080.872},2295.3000000000002,"шт",null,0,0]
[null,"FKOVRM315E","Затвор дисковый ПВХ с редуктором промышленный 315 (DN300) EPDM FIP",8,"Арматура","RUB",{"$f":"IFERROR(I151*Оглавление!$E$23,\"по запросу\")","v":247903.54399999997},{"$f":"IFERROR(G151*(1-Оглавление!$D$30),\"по запросу\")","v":247903.54399999997},2473.1,"шт",null,0,0]
[null,"FKOVRM355E","Затвор дисковый ПВХ с редуктором промышленный 355 (DN350) EPDM FIP",7,"Арматура","RUB",{"$f":"IFERROR(I152*Оглавление!$E$23,\"по запросу\")","v":718488.53259668197},{"$f":"IFERROR(G152*(1-Оглавление!$D$30),\"по запросу\")","v":718488.53259668197},7167.6828870379295,"шт",null,0,0]
[null,"FKOVRM400E","Затвор дисковый ПВХ с редуктором промышленный 400 (DN400) EPDM FIP",6,"Арматура","RUB",{"$f":"IFERROR(I153*Оглавление!$E$23,\"по запросу\")","v":799101.25119999994},{"$f":"IFERROR(G153*(1-Оглавление!$D$30),\"по запросу\")","v":799101.25119999994},7971.88,"шт",null,0,0]
[null,"FKOVRM050F","Затвор дисковый ПВХ с редуктором промышленный 50 (DN40) FKM FIP",16,"Арматура","RUB",{"$f":"IFERROR(I154*Оглавление!$E$23,\"по запросу\")","v":"по запросу"},{"$f":"IFERROR(G154*(1-Оглавление!$D$30),\"по запросу\")","v":"по запросу"},"по запросу","шт",null,"0 ₽","0 ₽"]
[null,"FKOVRM063F","Затвор дисковый ПВХ с редуктором промышленный 63 (DN50) FKM FIP",16,"Арматура","RUB",{"$f":"IFERROR(I155*Оглавление!$E$23,\"по запросу\")","v":"по запросу"},{"$f":"IFERROR(G155*(1-Оглавление!$D$30),\"по запросу\")","v":"по запросу"},"по запросу","шт",null,"0 ₽","0 ₽"]
[null,"FKOVRM075F","Затвор дисковый ПВХ с редуктором промышленный 75 (DN65) FKM FIP",10,"Арматура","RUB",{"$f":"IFERROR(I156*Оглавление!$E$23,\"по запросу\")","v":"по запросу"},{"$f":"IFERROR(G156*(1-Оглавление!$D$30),\"по запросу\")","v":"по запросу"},"по запросу","шт",null,"0 ₽","0 ₽"]
[null,"FKOVRM090F","Затвор дисковый ПВХ с редуктором промышленный 90 (DN80) FKM FIP",10,"Арматура","RUB",{"$f":"IFERROR(I157*Оглавление!$E$23,\"по запросу\")","v":87787.035090909092},{"$f":"IFERROR(G157*(1-Оглавление!$D$30),\"по запросу\")","v":87787.035090909092},875.76850649350661,"шт",null,0,0]
[null,"FKOVRM110F","Затвор дисковый ПВХ с редуктором промышленный 110 (DN100) FKM FIP",10,"Арматура","RUB",{"$f":"IFERROR(I158*Оглавление!$E$23,\"по запросу\")","v":91448.95199999999},{"$f":"IFERROR(G158*(1-Оглавление!$D$30),\"по запросу\")","v":91448.95199999999},912.3,"шт",null,0,0]
[null,"FKOVRM140F","Затвор дисковый ПВХ с редуктором промышленный 140 (DN125) FKM FIP",10,"Арматура","RUB",{"$f":"IFERROR(I159*Оглавление!$E$23,\"по запросу\")","v":108172.9936},{"$f":"IFERROR(G159*(1-Оглавление!$D$30),\"по запросу\")","v":108172.9936},1079.1400000000001,"шт",null,0,0]
[null,"FKOVRM160F","Затвор дисковый ПВХ с редуктором промышленный 160 (DN150) FKM FIP",10,"Арматура","RUB",{"$f":"IFERROR(I160*Оглавление!$E$23,\"по запросу\")","v":111206.25600000001},{"$f":"IFERROR(G160*(1-Оглавление!$D$30),\"по запросу\")","v":111206.25600000001},1109.4000000000001,"шт",null,0,0]
[null,"FKOVRM225F","Затвор дисковый ПВХ с редуктором промышленный 225 (DN200) FKM FIP",10,"Арматура","RUB",{"$f":"IFERROR(I161*Оглавление!$E$23,\"по запросу\")","v":141308.32800000001},{"$f":"IFERROR(G161*(1-Оглавление!$D$30),\"по запросу\")","v":141308.32800000001},1409.7,"шт",null,0,0]
[null,"FKOVRM280F","Затвор дисковый ПВХ с редуктором промышленный 280 (DN250) FKM FIP",10,"Арматура","RUB",{"$f":"IFERROR(I162*Оглавление!$E$23,\"по запросу\")","v":362995.10239999997},{"$f":"IFERROR(G162*(1-Оглавление!$D$30),\"по запросу\")","v":362995.10239999997},3621.26,"шт",null,0,0]
[null,"FKOVRM315F","Затвор дисковый ПВХ с редуктором промышленный 315 (DN300) FKM FIP",8,"Арматура","RUB",{"$f":"IFERROR(I163*Оглавление!$E$23,\"по запросу\")","v":393927.16159999999},{"$f":"IFERROR(G163*(1-Оглавление!$D$30),\"по запросу\")","v":393927.16159999999},3929.84,"шт",null,0,0]
[null,"FKOVRM355F","Затвор дисковый ПВХ с редуктором промышленный 355 (DN350) FKM FIP",7,"Арматура","RUB",{"$f":"IFERROR(I164*Оглавление!$E$23,\"по запросу\")","v":"по запросу"},{"$f":"IFERROR(G164*(1-Оглавление!$D$30),\"по запросу\")","v":"по запросу"},"по запросу","шт",null,"0 ₽","0 ₽"]
[null,"FKOVRM400F","Затвор дисковый ПВХ с редуктором промышленный 400 (DN400) FKM FIP",6,"Арматура","RUB",{"$f":"IFERROR(I165*Оглавление!$E$23,\"по запросу\")","v":"по запросу"},{"$f":"IFERROR(G165*(1-Оглавление!$D$30),\"по запросу\")","v":"по запросу"},"по запросу","шт",null,"0 ₽","0 ₽"]
[null,"FKOVFM050E","Затвор дисковый ПВХ под привод промышленный 50 (DN40) EPDM FIP",16,"Арматура","RUB",{"$f":"IFERROR(I166*Оглавление!$E$23,\"по запросу\")","v":21327.062399999999},{"$f":"IFERROR(G166*(1-Оглавление!$D$30),\"по запросу\")","v":21327.062399999999},212.76,"шт",null,0,0]
[null,"FKOVFM063E","Затвор дисковый ПВХ под привод промышленный 63 (DN50) EPDM FIP",16,"Арматура","RUB",{"$f":"IFERROR(I167*Оглавление!$E$23,\"по запросу\")","v":22576.052799999998},{"$f":"IFERROR(G167*(1-Оглавление!$D$30),\"по запросу\")","v":22576.052799999998},225.22,"шт",null,0,0]
[null,"FKOVFM075E","Затвор дисковый ПВХ под привод промышленный 75 (DN65) EPDM FIP",10,"Арматура","RUB",{"$f":"IFERROR(I168*Оглавление!$E$23,\"по запросу\")","v":25086.062399999999},{"$f":"IFERROR(G168*(1-Оглавление!$D$30),\"по запросу\")","v":25086.062399999999},250.26,"шт",null,0,0]
[null,"FKOVFM090E","Затвор дисковый ПВХ под привод промышленный 90 (DN80) EPDM FIP",10,"Арматура","RUB",{"$f":"IFERROR(I169*Оглавление!$E$23,\"по запросу\")","v":27281.3184},{"$f":"IFERROR(G169*(1-Оглавление!$D$30),\"по запросу\")","v":27281.3184},272.16000000000003,"шт",null,0,0]
[null,"FKOVFM110E","Затвор дисковый ПВХ под привод промышленный 110 (DN100) EPDM FIP",10,"Арматура","RUB",{"$f":"IFERROR(I170*Оглавление!$E$23,\"по запросу\")","v":29576.814399999999},{"$f":"IFERROR(G170*(1-Оглавление!$D$30),\"по запросу\")","v":29576.814399999999},295.06,"шт",null,0,0]
[null,"FKOVFM140E","Затвор дисковый ПВХ под привод промышленный 140 (DN125) EPDM FIP",10,"Арматура","RUB",{"$f":"IFERROR(I171*Оглавление!$E$23,\"по запросу\")","v":39302.099199999997},{"$f":"IFERROR(G171*(1-Оглавление!$D$30),\"по запросу\")","v":39302.099199999997},392.08,"шт",null,0,0]
[null,"FKOVFM160E","Затвор дисковый ПВХ под привод промышленный 160 (DN150) EPDM FIP",10,"Арматура","RUB",{"$f":"IFERROR(I172*Оглавление!$E$23,\"по запросу\")","v":43480.102399999996},{"$f":"IFERROR(G172*(1-Оглавление!$D$30),\"по запросу\")","v":43480.102399999996},433.76,"шт",null,0,0]
[null,"FKOVFM225E","Затвор дисковый ПВХ под привод промышленный 225 (DN200) EPDM FIP",10,"Арматура","RUB",{"$f":"IFERROR(I173*Оглавление!$E$23,\"по запросу\")","v":56232.635199999997},{"$f":"IFERROR(G173*(1-Оглавление!$D$30),\"по запросу\")","v":56232.635199999997},560.98,"шт",null,0,0]
[null,"FKOVFM280E","Затвор дисковый ПВХ под привод промышленный 280 (DN250) EPDM FIP",10,"Арматура","RUB",{"$f":"IFERROR(I174*Оглавление!$E$23,\"по запросу\")","v":197196.13759999999},{"$f":"IFERROR(G174*(1-Оглавление!$D$30),\"по запросу\")","v":197196.13759999999},1967.24,"шт",null,0,0]
[null,"FKOVFM315E","Затвор дисковый ПВХ под привод промышленный 315 (DN300) EPDM FIP",8,"Арматура","RUB",{"$f":"IFERROR(I175*Оглавление!$E$23,\"по запросу\")","v":215014.8},{"$f":"IFERROR(G175*(1-Оглавление!$D$30),\"по запросу\")","v":215014.8},2145,"шт",null,0,0]
[null,"FKOVFM355E","Затвор дисковый ПВХ под привод промышленный 355 (DN350) EPDM FIP",7,"Арматура","RUB",{"$f":"IFERROR(I176*Оглавление!$E$23,\"по запросу\")","v":582975.79200000002},{"$f":"IFERROR(G176*(1-Оглавление!$D$30),\"по запросу\")","v":582975.79200000002},5815.8,"шт",null,0,0]
[null,"FKOVFM400E","Затвор дисковый ПВХ под привод промышленный 400 (DN400) EPDM FIP",6,"Арматура","RUB",{"$f":"IFERROR(I177*Оглавление!$E$23,\"по запросу\")","v":663593.02360902273},{"$f":"IFERROR(G177*(1-Оглавление!$D$30),\"по запросу\")","v":663593.02360902273},6620.0421349663084,"шт",null,0,0]
[null,"FKOVFM050F","Затвор дисковый ПВХ под привод промышленный 50 (DN40) FKM FIP",16,"Арматура","RUB",{"$f":"IFERROR(I178*Оглавление!$E$23,\"по запросу\")","v":33317.771199999996},{"$f":"IFERROR(G178*(1-Оглавление!$D$30),\"по запросу\")","v":33317.771199999996},332.38,"шт",null,0,0]
[null,"FKOVFM063F","Затвор дисковый ПВХ под привод промышленный 63 (DN50) FKM FIP",16,"Арматура","RUB",{"$f":"IFERROR(I179*Оглавление!$E$23,\"по запросу\")","v":35280.470399999998},{"$f":"IFERROR(G179*(1-Оглавление!$D$30),\"по запросу\")","v":35280.470399999998},351.96,"шт",null,0,0]
[null,"FKOVFM075F","Затвор дисковый ПВХ под привод промышленный 75 (DN65) FKM FIP",10,"Арматура","RUB",{"$f":"IFERROR(I180*Оглавление!$E$23,\"по запросу\")","v":39195.844799999999},{"$f":"IFERROR(G180*(1-Оглавление!$D$30),\"по запросу\")","v":39195.844799999999},391.02,"шт",null,0,0]
[null,"FKOVFM090F","Затвор дисковый ПВХ под привод промышленный 90 (DN80) FKM FIP",10,"Арматура","RUB",{"$f":"IFERROR(I181*Оглавление!$E$23,\"по запросу\")","v":42014.593599999993},{"$f":"IFERROR(G181*(1-Оглавление!$D$30),\"по запросу\")","v":42014.593599999993},419.14,"шт",null,0,0]
[null,"FKOVFM110F","Затвор дисковый ПВХ под привод промышленный 110 (DN100) FKM FIP",10,"Арматура","RUB",{"$f":"IFERROR(I182*Оглавление!$E$23,\"по запросу\")","v":45468.864000000001},{"$f":"IFERROR(G182*(1-Оглавление!$D$30),\"по запросу\")","v":45468.864000000001},453.6,"шт",null,0,0]
[null,"FKOVFM140F","Затвор дисковый ПВХ под привод промышленный 140 (DN125) FKM FIP",10,"Арматура","RUB",{"$f":"IFERROR(I183*Оглавление!$E$23,\"по запросу\")","v":60827.6368},{"$f":"IFERROR(G183*(1-Оглавление!$D$30),\"по запросу\")","v":60827.6368},606.82000000000005,"шт",null,0,0]
[null,"FKOVFM160F","Затвор дисковый ПВХ под привод промышленный 160 (DN150) FKM FIP",10,"Арматура","RUB",{"$f":"IFERROR(I184*Оглавление!$E$23,\"по запросу\")","v":65743.406399999993},{"$f":"IFERROR(G184*(1-Оглавление!$D$30),\"по запросу\")","v":65743.406399999993},655.86,"шт",null,0,0]
[null,"FKOVFM225F","Затвор дисковый ПВХ под привод промышленный 225 (DN200) FKM FIP",10,"Арматура","RUB",{"$f":"IFERROR(I185*Оглавление!$E$23,\"по запросу\")","v":85288.2016},{"$f":"IFERROR(G185*(1-Оглавление!$D$30),\"по запросу\")","v":85288.2016},850.84,"шт",null,0,0]
[null,"FKOVFM280F","Затвор дисковый ПВХ под привод промышленный 280 (DN250) FKM FIP",10,"Арматура","RUB",{"$f":"IFERROR(I186*Оглавление!$E$23,\"по запросу\")","v":331255.10879999999},{"$f":"IFERROR(G186*(1-Оглавление!$D$30),\"по запросу\")","v":331255.10879999999},3304.62,"шт",null,0,0]
[null,"FKOVFM315F","Затвор дисковый ПВХ под привод промышленный 315 (DN300) FKM FIP",8,"Арматура","RUB",{"$f":"IFERROR(I187*Оглавление!$E$23,\"по запросу\")","v":361156.70079999999},{"$f":"IFERROR(G187*(1-Оглавление!$D$30),\"по запросу\")","v":361156.70079999999},3602.92,"шт",null,0,0]
[null,"FKOVFM355F","Затвор дисковый ПВХ под привод промышленный 355 (DN350) FKM FIP",7,"Арматура","RUB",{"$f":"IFERROR(I188*Оглавление!$E$23,\"по запросу\")","v":1069139.0561166368},{"$f":"IFERROR(G188*(1-Оглавление!$D$30),\"по запросу\")","v":1069139.0561166368},10665.792658785285,"шт",null,0,0]
[null,"FKOVFM400F","Затвор дисковый ПВХ под привод промышленный 400 (DN400) FKM FIP",6,"Арматура","RUB",{"$f":"IFERROR(I189*Оглавление!$E$23,\"по запросу\")","v":"по запросу"},{"$f":"IFERROR(G189*(1-Оглавление!$D$30),\"по запросу\")","v":"по запросу"},"по запросу","шт",null,"0 ₽","0 ₽"]
[null,"CROV050E","Обратный клапан ПВХ межфланцевый EPDM 50 FIP",5,"Арматура","RUB",{"$f":"IFERROR(I190*Оглавление!$E$23,\"по запросу\")","v":14683.155199999997},{"$f":"IFERROR(G190*(1-Оглавление!$D$30),\"по запросу\")","v":14683.155199999997},146.47999999999999,"шт",null,0,0]
[null,"CROV063E","Обратный клапан ПВХ межфланцевый EPDM 63 FIP",5,"Арматура","RUB",{"$f":"IFERROR(I191*Оглавление!$E$23,\"по запросу\")","v":17802.624},{"$f":"IFERROR(G191*(1-Оглавление!$D$30),\"по запросу\")","v":17802.624},177.6,"шт",null,0,0]
[null,"CROV075E","Обратный клапан ПВХ межфланцевый EPDM 75 FIP",5,"Арматура","RUB",{"$f":"IFERROR(I192*Оглавление!$E$23,\"по запросу\")","v":19582.886399999999},{"$f":"IFERROR(G192*(1-Оглавление!$D$30),\"по запросу\")","v":19582.886399999999},195.36,"шт",null,0,0]
[null,"CROV090E","Обратный клапан ПВХ межфланцевый EPDM 90 FIP",5,"Арматура","RUB",{"$f":"IFERROR(I193*Оглавление!$E$23,\"по запросу\")","v":23139.401599999997},{"$f":"IFERROR(G193*(1-Оглавление!$D$30),\"по запросу\")","v":23139.401599999997},230.84,"шт",null,0,0]
[null,"CROV110E","Обратный клапан ПВХ межфланцевый EPDM 110 FIP",5,"Арматура","RUB",{"$f":"IFERROR(I194*Оглавление!$E$23,\"по запросу\")","v":28317.8},{"$f":"IFERROR(G194*(1-Оглавление!$D$30),\"по запросу\")","v":28317.8},282.5,"шт",null,0,0]
[null,"CROV140E","Обратный клапан ПВХ межфланцевый EPDM 140 FIP",5,"Арматура","RUB",{"$f":"IFERROR(I195*Оглавление!$E$23,\"по запросу\")","v":32429.644799999998},{"$f":"IFERROR(G195*(1-Оглавление!$D$30),\"по запросу\")","v":32429.644799999998},323.52,"шт",null,0,0]
[null,"CROV160E","Обратный клапан ПВХ межфланцевый EPDM 160 FIP",5,"Арматура","RUB",{"$f":"IFERROR(I196*Оглавление!$E$23,\"по запросу\")","v":39731.126400000001},{"$f":"IFERROR(G196*(1-Оглавление!$D$30),\"по запросу\")","v":39731.126400000001},396.36,"шт",null,0,0]
[null,"CROV225E","Обратный клапан ПВХ межфланцевый EPDM 225 FIP",5,"Арматура","RUB",{"$f":"IFERROR(I197*Оглавление!$E$23,\"по запросу\")","v":46852.175999999992},{"$f":"IFERROR(G197*(1-Оглавление!$D$30),\"по запросу\")","v":46852.175999999992},467.4,"шт",null,0,0]
[null,"CROV280E","Обратный клапан ПВХ межфланцевый EPDM 280 FIP",5,"Арматура","RUB",{"$f":"IFERROR(I198*Оглавление!$E$23,\"по запросу\")","v":79506.358399999997},{"$f":"IFERROR(G198*(1-Оглавление!$D$30),\"по запросу\")","v":79506.358399999997},793.16,"шт",null,0,0]
[null,"CROV315E","Обратный клапан ПВХ межфланцевый EPDM 315 FIP",5,"Арматура","RUB",{"$f":"IFERROR(I199*Оглавление!$E$23,\"по запросу\")","v":119738.68479999999},{"$f":"IFERROR(G199*(1-Оглавление!$D$30),\"по запросу\")","v":119738.68479999999},1194.52,"шт",null,0,0]
[null,"SSEIV016E","Обратный клапан ПВХ пружинный с муфтовыми окончаниями EPDM 16 FIP",16,"Арматура","RUB",{"$f":"IFERROR(I200*Оглавление!$E$23,\"по запросу\")","v":7718.48},{"$f":"IFERROR(G200*(1-Оглавление!$D$30),\"по запросу\")","v":7718.48},77,"шт",null,0,0]
[null,"SSEIV020E","Обратный клапан ПВХ пружинный с муфтовыми окончаниями EPDM 20 FIP",16,"Арматура","RUB",{"$f":"IFERROR(I201*Оглавление!$E$23,\"по запросу\")","v":7754.5663999999997},{"$f":"IFERROR(G201*(1-Оглавление!$D$30),\"по запросу\")","v":7754.5663999999997},77.36,"шт",null,0,0]
[null,"SSEIV025E","Обратный клапан ПВХ пружинный с муфтовыми окончаниями EPDM 25 FIP",16,"Арматура","RUB",{"$f":"IFERROR(I202*Оглавление!$E$23,\"по запросу\")","v":8961.4560000000001},{"$f":"IFERROR(G202*(1-Оглавление!$D$30),\"по запросу\")","v":8961.4560000000001},89.4,"шт",null,0,0]
[null,"SSEIV032E","Обратный клапан ПВХ пружинный с муфтовыми окончаниями EPDM 32 FIP",16,"Арматура","RUB",{"$f":"IFERROR(I203*Оглавление!$E$23,\"по запросу\")","v":9512.7759999999998},{"$f":"IFERROR(G203*(1-Оглавление!$D$30),\"по запросу\")","v":9512.7759999999998},94.9,"шт",null,{"$f":"IFERROR(K203*G203,\"0 ₽\")","v":0},{"$f":"IFERROR(K203*H203,\"0 ₽\")","v":0}]
[null,"SSEIV040E","Обратный клапан ПВХ пружинный с муфтовыми окончаниями EPDM 40 FIP",16,"Арматура","RUB",{"$f":"IFERROR(I204*Оглавление!$E$23,\"по запросу\")","v":11844.358399999999},{"$f":"IFERROR(G204*(1-Оглавление!$D$30),\"по запросу\")","v":11844.358399999999},118.16,"шт",null,0,0]
[null,"SSEIV050E","Обратный клапан ПВХ пружинный с муфтовыми окончаниями EPDM 50 FIP",16,"Арматура","RUB",{"$f":"IFERROR(I205*Оглавление!$E$23,\"по запросу\")","v":14570.886400000001},{"$f":"IFERROR(G205*(1-Оглавление!$D$30),\"по запросу\")","v":14570.886400000001},145.36000000000001,"шт",null,0,0]
[null,"SSEIV063E","Обратный клапан ПВХ пружинный с муфтовыми окончаниями EPDM 63 FIP",16,"Арматура","RUB",{"$f":"IFERROR(I206*Оглавление!$E$23,\"по запросу\")","v":21170.687999999998},{"$f":"IFERROR(G206*(1-Оглавление!$D$30),\"по запросу\")","v":21170.687999999998},211.2,"шт",null,0,0]
[null,"SSEIV075E","Обратный клапан ПВХ пружинный с муфтовыми окончаниями EPDM 75 FIP",16,"Арматура","RUB",{"$f":"IFERROR(I207*Оглавление!$E$23,\"по запросу\")","v":48796.832000000002},{"$f":"IFERROR(G207*(1-Оглавление!$D$30),\"по запросу\")","v":48796.832000000002},486.8,"шт",null,0,0]
[null,"SSEIV090E","Обратный клапан ПВХ пружинный с муфтовыми окончаниями EPDM 90 FIP",16,"Арматура","RUB",{"$f":"IFERROR(I208*Оглавление!$E$23,\"по запросу\")","v":61204.539199999999},{"$f":"IFERROR(G208*(1-Оглавление!$D$30),\"по запросу\")","v":61204.539199999999},610.58000000000004,"шт",null,0,0]
[null,"SSEIV110E","Обратный клапан ПВХ пружинный с муфтовыми окончаниями EPDM 110 FIP",16,"Арматура","RUB",{"$f":"IFERROR(I209*Оглавление!$E$23,\"по запросу\")","v":80318.3024},{"$f":"IFERROR(G209*(1-Оглавление!$D$30),\"по запросу\")","v":80318.3024},801.26,"шт",null,0,0]
[null,"SSEIV016F","Обратный клапан ПВХ пружинный с муфтовыми окончаниями FKM 16 FIP",16,"Арматура","RUB",{"$f":"IFERROR(I210*Оглавление!$E$23,\"по запросу\")","v":8175.5743999999995},{"$f":"IFERROR(G210*(1-Оглавление!$D$30),\"по запросу\")","v":8175.5743999999995},81.56,"шт",null,0,0]
[null,"SSEIV020F","Обратный клапан ПВХ пружинный с муфтовыми окончаниями FKM 20 FIP",16,"Арматура","RUB",{"$f":"IFERROR(I211*Оглавление!$E$23,\"по запросу\")","v":8191.6127999999999},{"$f":"IFERROR(G211*(1-Оглавление!$D$30),\"по запросу\")","v":8191.6127999999999},81.72,"шт",null,0,0]
[null,"SSEIV025F","Обратный клапан ПВХ пружинный с муфтовыми окончаниями FKM 25 FIP",16,"Арматура","RUB",{"$f":"IFERROR(I212*Оглавление!$E$23,\"по запросу\")","v":9165.5186906054259},{"$f":"IFERROR(G212*(1-Оглавление!$D$30),\"по запросу\")","v":9165.5186906054259},91.435741127348635,"шт",null,0,0]
[null,"SSEIV032F","Обратный клапан ПВХ пружинный с муфтовыми окончаниями FKM 32 FIP",16,"Арматура","RUB",{"$f":"IFERROR(I213*Оглавление!$E$23,\"по запросу\")","v":9937.7935999999991},{"$f":"IFERROR(G213*(1-Оглавление!$D$30),\"по запросу\")","v":9937.7935999999991},99.14,"шт",null,0,0]
[null,"SSEIV040F","Обратный клапан ПВХ пружинный с муфтовыми окончаниями FKM 40 FIP",16,"Арматура","RUB",{"$f":"IFERROR(I214*Оглавление!$E$23,\"по запросу\")","v":13367.661524175364},{"$f":"IFERROR(G214*(1-Оглавление!$D$30),\"по запросу\")","v":13367.661524175364},133.35655949895616,"шт",null,0,0]
[null,"SSEIV050F","Обратный клапан ПВХ пружинный с муфтовыми окончаниями FKM 50 FIP",16,"Арматура","RUB",{"$f":"IFERROR(I215*Оглавление!$E$23,\"по запросу\")","v":15597.343999999999},{"$f":"IFERROR(G215*(1-Оглавление!$D$30),\"по запросу\")","v":15597.343999999999},155.6,"шт",null,0,0]
[null,"SSEIV063F","Обратный клапан ПВХ пружинный с муфтовыми окончаниями FKM 63 FIP",16,"Арматура","RUB",{"$f":"IFERROR(I216*Оглавление!$E$23,\"по запросу\")","v":24861.524799999999},{"$f":"IFERROR(G216*(1-Оглавление!$D$30),\"по запросу\")","v":24861.524799999999},248.02,"шт",null,0,0]
[null,"SSEIV075F","Обратный клапан ПВХ пружинный с муфтовыми окончаниями FKM 75 FIP",16,"Арматура","RUB",{"$f":"IFERROR(I217*Оглавление!$E$23,\"по запросу\")","v":52193.606174578861},{"$f":"IFERROR(G217*(1-Оглавление!$D$30),\"по запросу\")","v":52193.606174578861},520.68641435134543,"шт",null,0,0]
[null,"SSEIV090F","Обратный клапан ПВХ пружинный с муфтовыми окончаниями FKM 90 FIP",16,"Арматура","RUB",{"$f":"IFERROR(I218*Оглавление!$E$23,\"по запросу\")","v":65125.3837888782},{"$f":"IFERROR(G218*(1-Оглавление!$D$30),\"по запросу\")","v":65125.3837888782},649.69457091857748,"шт",null,0,0]
[null,"SSEIV110F","Обратный клапан ПВХ пружинный с муфтовыми окончаниями FKM 110 FIP",16,"Арматура","RUB",{"$f":"IFERROR(I219*Оглавление!$E$23,\"по запросу\")","v":13363.996799999999},{"$f":"IFERROR(G219*(1-Оглавление!$D$30),\"по запросу\")","v":13363.996799999999},133.32,"шт",null,0,0]
[null,"SXEIV016E","Обратный клапан ПВХ шаровой с муфтовыми окончаниями EPDM 16 FIP",16,"Арматура","RUB",{"$f":"IFERROR(I220*Оглавление!$E$23,\"по запросу\")","v":7548.0719999999992},{"$f":"IFERROR(G220*(1-Оглавление!$D$30),\"по запросу\")","v":7548.0719999999992},75.3,"шт",null,0,0]
[null,"SXEIV020E","Обратный клапан ПВХ шаровой с муфтовыми окончаниями EPDM 20 FIP",16,"Арматура","RUB",{"$f":"IFERROR(I221*Оглавление!$E$23,\"по запросу\")","v":7580.1487999999999},{"$f":"IFERROR(G221*(1-Оглавление!$D$30),\"по запросу\")","v":7580.1487999999999},75.62,"шт",null,0,0]
[null,"SXEIV025E","Обратный клапан ПВХ шаровой с муфтовыми окончаниями EPDM 25 FIP",16,"Арматура","RUB",{"$f":"IFERROR(I222*Оглавление!$E$23,\"по запросу\")","v":8760.9760000000006},{"$f":"IFERROR(G222*(1-Оглавление!$D$30),\"по запросу\")","v":8760.9760000000006},87.4,"шт",null,0,0]
[null,"SXEIV032E","Обратный клапан ПВХ шаровой с муфтовыми окончаниями EPDM 32 FIP",16,"Арматура","RUB",{"$f":"IFERROR(I223*Оглавление!$E$23,\"по запросу\")","v":9312.2960000000003},{"$f":"IFERROR(G223*(1-Оглавление!$D$30),\"по запросу\")","v":9312.2960000000003},92.9,"шт",null,0,0]
[null,"SXEIV040E","Обратный клапан ПВХ шаровой с муфтовыми окончаниями EPDM 40 FIP",16,"Арматура","RUB",{"$f":"IFERROR(I224*Оглавление!$E$23,\"по запросу\")","v":11587.743999999999},{"$f":"IFERROR(G224*(1-Оглавление!$D$30),\"по запросу\")","v":11587.743999999999},115.6,"шт",null,0,0]
[null,"SXEIV050E","Обратный клапан ПВХ шаровой с муфтовыми окончаниями EPDM 50 FIP",16,"Арматура","RUB",{"$f":"IFERROR(I225*Оглавление!$E$23,\"по запросу\")","v":14252.1232},{"$f":"IFERROR(G225*(1-Оглавление!$D$30),\"по запросу\")","v":14252.1232},142.18,"шт",null,0,0]
[null,"SXEIV063E","Обратный клапан ПВХ шаровой с муфтовыми окончаниями EPDM 63 FIP",16,"Арматура","RUB",{"$f":"IFERROR(I226*Оглавление!$E$23,\"по запросу\")","v":20699.559999999998},{"$f":"IFERROR(G226*(1-Оглавление!$D$30),\"по запросу\")","v":20699.559999999998},206.5,"шт",null,0,0]
[null,"SXEIV075E","Обратный клапан ПВХ шаровой с муфтовыми окончаниями EPDM 75 FIP",16,"Арматура","RUB",{"$f":"IFERROR(I227*Оглавление!$E$23,\"по запросу\")","v":55675.30079999999},{"$f":"IFERROR(G227*(1-Оглавление!$D$30),\"по запросу\")","v":55675.30079999999},555.41999999999996,"шт",null,0,0]
[null,"SXEIV090E","Обратный клапан ПВХ шаровой с муфтовыми окончаниями EPDM 90 FIP",16,"Арматура","RUB",{"$f":"IFERROR(I228*Оглавление!$E$23,\"по запросу\")","v":69841.217600000004},{"$f":"IFERROR(G228*(1-Оглавление!$D$30),\"по запросу\")","v":69841.217600000004},696.74,"шт",null,0,0]
[null,"SXEIV110E","Обратный клапан ПВХ шаровой с муфтовыми окончаниями EPDM 110 FIP",16,"Арматура","RUB",{"$f":"IFERROR(I229*Оглавление!$E$23,\"по запросу\")","v":91641.412799999991},{"$f":"IFERROR(G229*(1-Оглавление!$D$30),\"по запросу\")","v":91641.412799999991},914.22,"шт",null,0,0]
[null,"SXEIV016F","Обратный клапан ПВХ шаровой с муфтовыми окончаниями FKM 16 FIP",16,"Арматура","RUB",{"$f":"IFERROR(I230*Оглавление!$E$23,\"по запросу\")","v":7993.1375999999991},{"$f":"IFERROR(G230*(1-Оглавление!$D$30),\"по запросу\")","v":7993.1375999999991},79.739999999999995,"шт",null,0,0]
[null,"SXEIV020F","Обратный клапан ПВХ шаровой с муфтовыми окончаниями FKM 20 FIP",16,"Арматура","RUB",{"$f":"IFERROR(I231*Оглавление!$E$23,\"по запросу\")","v":8017.1952000000001},{"$f":"IFERROR(G231*(1-Оглавление!$D$30),\"по запросу\")","v":8017.1952000000001},79.98,"шт",null,0,0]
[null,"SXEIV025F","Обратный клапан ПВХ шаровой с муфтовыми окончаниями FKM 25 FIP",16,"Арматура","RUB",{"$f":"IFERROR(I232*Оглавление!$E$23,\"по запросу\")","v":8949.4272000000001},{"$f":"IFERROR(G232*(1-Оглавление!$D$30),\"по запросу\")","v":8949.4272000000001},89.28,"шт",null,0,0]
[null,"SXEIV032F","Обратный клапан ПВХ шаровой с муфтовыми окончаниями FKM 32 FIP",16,"Арматура","RUB",{"$f":"IFERROR(I233*Оглавление!$E$23,\"по запросу\")","v":9725.2847999999994},{"$f":"IFERROR(G233*(1-Оглавление!$D$30),\"по запросу\")","v":9725.2847999999994},97.02,"шт",null,0,0]
[null,"SXEIV040F","Обратный клапан ПВХ шаровой с муфтовыми окончаниями FKM 40 FIP",16,"Арматура","RUB",{"$f":"IFERROR(I234*Оглавление!$E$23,\"по запросу\")","v":13077.3104},{"$f":"IFERROR(G234*(1-Оглавление!$D$30),\"по запросу\")","v":13077.3104},130.46,"шт",null,0,0]
[null,"SXEIV050F","Обратный клапан ПВХ шаровой с муфтовыми окончаниями FKM 50 FIP",16,"Арматура","RUB",{"$f":"IFERROR(I235*Оглавление!$E$23,\"по запросу\")","v":15254.5232},{"$f":"IFERROR(G235*(1-Оглавление!$D$30),\"по запросу\")","v":15254.5232},152.18,"шт",null,0,0]
[null,"SXEIV063F","Обратный клапан ПВХ шаровой с муфтовыми окончаниями FKM 63 FIP",16,"Арматура","RUB",{"$f":"IFERROR(I236*Оглавление!$E$23,\"по запросу\")","v":24318.223999999998},{"$f":"IFERROR(G236*(1-Оглавление!$D$30),\"по запросу\")","v":24318.223999999998},242.6,"шт",null,0,0]
[null,"SXEIV075F","Обратный клапан ПВХ шаровой с муфтовыми окончаниями FKM 75 FIP",16,"Арматура","RUB",{"$f":"IFERROR(I237*Оглавление!$E$23,\"по запросу\")","v":59576.641600000003},{"$f":"IFERROR(G237*(1-Оглавление!$D$30),\"по запросу\")","v":59576.641600000003},594.34,"шт",null,0,0]
[null,"SXEIV090F","Обратный клапан ПВХ шаровой с муфтовыми окончаниями FKM 90 FIP",16,"Арматура","RUB",{"$f":"IFERROR(I238*Оглавление!$E$23,\"по запросу\")","v":74299.892800000001},{"$f":"IFERROR(G238*(1-Оглавление!$D$30),\"по запросу\")","v":74299.892800000001},741.22,"шт",null,0,0]
[null,"SXEIV110F","Обратный клапан ПВХ шаровой с муфтовыми окончаниями FKM 110 FIP",16,"Арматура","RUB",{"$f":"IFERROR(I239*Оглавление!$E$23,\"по запросу\")","v":101086.02559999999},{"$f":"IFERROR(G239*(1-Оглавление!$D$30),\"по запросу\")","v":101086.02559999999},1008.44,"шт",null,0,0]
[null,"VRUIV016E","Обратный клапан ПВХ угловой с разборными муфтовыми окончаниями EPDM 16 FIP",16,"Арматура","RUB",{"$f":"IFERROR(I240*Оглавление!$E$23,\"по запросу\")","v":6816.32},{"$f":"IFERROR(G240*(1-Оглавление!$D$30),\"по запросу\")","v":6816.32},68,"шт",null,0,0]
[null,"VRUIV020E","Обратный клапан ПВХ угловой с разборными муфтовыми окончаниями EPDM 20 FIP",16,"Арматура","RUB",{"$f":"IFERROR(I241*Оглавление!$E$23,\"по запросу\")","v":7273.4143999999997},{"$f":"IFERROR(G241*(1-Оглавление!$D$30),\"по запросу\")","v":7273.4143999999997},72.56,"шт",null,0,0]
[null,"VRUIV025E","Обратный клапан ПВХ угловой с разборными муфтовыми окончаниями EPDM 25 FIP",16,"Арматура","RUB",{"$f":"IFERROR(I242*Оглавление!$E$23,\"по запросу\")","v":8436.1983999999993},{"$f":"IFERROR(G242*(1-Оглавление!$D$30),\"по запросу\")","v":8436.1983999999993},84.16,"шт",null,0,0]
[null,"VRUIV032E","Обратный клапан ПВХ угловой с разборными муфтовыми окончаниями EPDM 32 FIP",16,"Арматура","RUB",{"$f":"IFERROR(I243*Оглавление!$E$23,\"по запросу\")","v":10088.1536},{"$f":"IFERROR(G243*(1-Оглавление!$D$30),\"по запросу\")","v":10088.1536},100.64,"шт",null,0,0]
[null,"VRUIV040E","Обратный клапан ПВХ угловой с разборными муфтовыми окончаниями EPDM 40 FIP",16,"Арматура","RUB",{"$f":"IFERROR(I244*Оглавление!$E$23,\"по запросу\")","v":12582.1248},{"$f":"IFERROR(G244*(1-Оглавление!$D$30),\"по запросу\")","v":12582.1248},125.52,"шт",null,0,0]
[null,"VRUIV050E","Обратный клапан ПВХ угловой с разборными муфтовыми окончаниями EPDM 50 FIP",16,"Арматура","RUB",{"$f":"IFERROR(I245*Оглавление!$E$23,\"по запросу\")","v":17880.8112},{"$f":"IFERROR(G245*(1-Оглавление!$D$30),\"по запросу\")","v":17880.8112},178.38,"шт",null,0,0]
[null,"VRUIV063E","Обратный клапан ПВХ угловой с разборными муфтовыми окончаниями EPDM 63 FIP",16,"Арматура","RUB",{"$f":"IFERROR(I246*Оглавление!$E$23,\"по запросу\")","v":26036.337599999999},{"$f":"IFERROR(G246*(1-Оглавление!$D$30),\"по запросу\")","v":26036.337599999999},259.74,"шт",null,0,0]
[null,"VRUIV016F","Обратный клапан ПВХ угловой с разборными муфтовыми окончаниями FKM 16 FIP",16,"Арматура","RUB",{"$f":"IFERROR(I247*Оглавление!$E$23,\"по запросу\")","v":8175.5743999999995},{"$f":"IFERROR(G247*(1-Оглавление!$D$30),\"по запросу\")","v":8175.5743999999995},81.56,"шт",null,0,0]
[null,"VRUIV020F","Обратный клапан ПВХ угловой с разборными муфтовыми окончаниями FKM 20 FIP",16,"Арматура","RUB",{"$f":"IFERROR(I248*Оглавление!$E$23,\"по запросу\")","v":8724.8896000000004},{"$f":"IFERROR(G248*(1-Оглавление!$D$30),\"по запросу\")","v":8724.8896000000004},87.04,"шт",null,0,0]
[null,"VRUIV025F","Обратный клапан ПВХ угловой с разборными муфтовыми окончаниями FKM 25 FIP",16,"Арматура","RUB",{"$f":"IFERROR(I249*Оглавление!$E$23,\"по запросу\")","v":10114.216},{"$f":"IFERROR(G249*(1-Оглавление!$D$30),\"по запросу\")","v":10114.216},100.9,"шт",null,0,0]
[null,"VRUIV032F","Обратный клапан ПВХ угловой с разборными муфтовыми окончаниями FKM 32 FIP",16,"Арматура","RUB",{"$f":"IFERROR(I250*Оглавление!$E$23,\"по запросу\")","v":12102.977599999998},{"$f":"IFERROR(G250*(1-Оглавление!$D$30),\"по запросу\")","v":12102.977599999998},120.74,"шт",null,0,0]
[null,"VRUIV040F","Обратный клапан ПВХ угловой с разборными муфтовыми окончаниями FKM 40 FIP",16,"Арматура","RUB",{"$f":"IFERROR(I251*Оглавление!$E$23,\"по запросу\")","v":15098.148799999999},{"$f":"IFERROR(G251*(1-Оглавление!$D$30),\"по запросу\")","v":15098.148799999999},150.62,"шт",null,0,0]
[null,"VRUIV050F","Обратный клапан ПВХ угловой с разборными муфтовыми окончаниями FKM 50 FIP",16,"Арматура","RUB",{"$f":"IFERROR(I252*Оглавление!$E$23,\"по запросу\")","v":21459.379199999999},{"$f":"IFERROR(G252*(1-Оглавление!$D$30),\"по запросу\")","v":21459.379199999999},214.08,"шт",null,0,0]
[null,"VRUIV063F","Обратный клапан ПВХ угловой с разборными муфтовыми окончаниями FKM 63 FIP",16,"Арматура","RUB",{"$f":"IFERROR(I253*Оглавление!$E$23,\"по запросу\")","v":31238.793599999997},{"$f":"IFERROR(G253*(1-Оглавление!$D$30),\"по запросу\")","v":31238.793599999997},311.64,"шт",null,0,0]
[null,"VVUIV016E","Вентиль ПВХ угловой муфтовый 16 (DN10) EPDM FIP",16,"Арматура","RUB",{"$f":"IFERROR(I254*Оглавление!$E$23,\"по запросу\")","v":8436.1983999999993},{"$f":"IFERROR(G254*(1-Оглавление!$D$30),\"по запросу\")","v":8436.1983999999993},84.16,"шт",null,0,0]
[null,"VVUIV020E","Вентиль ПВХ угловой муфтовый 20 (DN15) EPDM FIP",16,"Арматура","RUB",{"$f":"IFERROR(I255*Оглавление!$E$23,\"по запросу\")","v":8618.6352000000006},{"$f":"IFERROR(G255*(1-Оглавление!$D$30),\"по запросу\")","v":8618.6352000000006},85.98,"шт",null,0,0]
[null,"VVUIV025E","Вентиль ПВХ угловой муфтовый 25 (DN20) EPDM FIP",16,"Арматура","RUB",{"$f":"IFERROR(I256*Оглавление!$E$23,\"по запросу\")","v":9869.6303999999982},{"$f":"IFERROR(G256*(1-Оглавление!$D$30),\"по запросу\")","v":9869.6303999999982},98.46,"шт",null,0,0]
[null,"VVUIV032E","Вентиль ПВХ угловой муфтовый 32 (DN25) EPDM FIP",16,"Арматура","RUB",{"$f":"IFERROR(I257*Оглавление!$E$23,\"по запросу\")","v":11746.1232},{"$f":"IFERROR(G257*(1-Оглавление!$D$30),\"по запросу\")","v":11746.1232},117.18,"шт",null,0,0]
[null,"VVUIV040E","Вентиль ПВХ угловой муфтовый 40 (DN32) EPDM FIP",16,"Арматура","RUB",{"$f":"IFERROR(I258*Оглавление!$E$23,\"по запросу\")","v":15473.046400000001},{"$f":"IFERROR(G258*(1-Оглавление!$D$30),\"по запросу\")","v":15473.046400000001},154.36000000000001,"шт",null,0,0]
[null,"VVUIV050E","Вентиль ПВХ угловой муфтовый 50 (DN40) EPDM FIP",16,"Арматура","RUB",{"$f":"IFERROR(I259*Оглавление!$E$23,\"по запросу\")","v":20657.459200000001},{"$f":"IFERROR(G259*(1-Оглавление!$D$30),\"по запросу\")","v":20657.459200000001},206.08,"шт",null,0,0]
[null,"VVUIV063E","Вентиль ПВХ угловой муфтовый 63 (DN50) EPDM FIP",16,"Арматура","RUB",{"$f":"IFERROR(I260*Оглавление!$E$23,\"по запросу\")","v":30926.044799999996},{"$f":"IFERROR(G260*(1-Оглавление!$D$30),\"по запросу\")","v":30926.044799999996},308.52,"шт",null,0,0]
[null,"RVUIV016E","Фильтр сетчатый ПВХ муфтовый 16 (DN10) EPDM FIP",16,"Арматура","RUB",{"$f":"IFERROR(I261*Оглавление!$E$23,\"по запросу\")","v":5284.6527999999998},{"$f":"IFERROR(G261*(1-Оглавление!$D$30),\"по запросу\")","v":5284.6527999999998},52.72,"шт",null,0,0]
[null,"RVUIV020E","Фильтр сетчатый ПВХ муфтовый 20 (DN15) EPDM FIP",16,"Арматура","RUB",{"$f":"IFERROR(I262*Оглавление!$E$23,\"по запросу\")","v":5284.6527999999998},{"$f":"IFERROR(G262*(1-Оглавление!$D$30),\"по запросу\")","v":5284.6527999999998},52.72,"шт",null,0,0]
[null,"RVUIV025E","Фильтр сетчатый ПВХ муфтовый 25 (DN20) EPDM FIP",16,"Арматура","RUB",{"$f":"IFERROR(I263*Оглавление!$E$23,\"по запросу\")","v":6110.6304},{"$f":"IFERROR(G263*(1-Оглавление!$D$30),\"по запросу\")","v":6110.6304},60.96,"шт",null,0,0]
[null,"RVUIV032E","Фильтр сетчатый ПВХ муфтовый 32 (DN25) EPDM FIP",16,"Арматура","RUB",{"$f":"IFERROR(I264*Оглавление!$E$23,\"по запросу\")","v":8323.9295999999995},{"$f":"IFERROR(G264*(1-Оглавление!$D$30),\"по запросу\")","v":8323.9295999999995},83.04,"шт",null,0,0]
[null,"RVUIV040E","Фильтр сетчатый ПВХ муфтовый 40 (DN32) EPDM FIP",16,"Арматура","RUB",{"$f":"IFERROR(I265*Оглавление!$E$23,\"по запросу\")","v":10539.2336},{"$f":"IFERROR(G265*(1-Оглавление!$D$30),\"по запросу\")","v":10539.2336},105.14,"шт",null,0,0]
[null,"RVUIV050E","Фильтр сетчатый ПВХ муфтовый 50 (DN40) EPDM FIP",16,"Арматура","RUB",{"$f":"IFERROR(I266*Оглавление!$E$23,\"по запросу\")","v":13789.0144},{"$f":"IFERROR(G266*(1-Оглавление!$D$30),\"по запросу\")","v":13789.0144},137.56,"шт",null,0,0]
[null,"RVUIV063E","Фильтр сетчатый ПВХ муфтовый 63 (DN50) EPDM FIP",16,"Арматура","RUB",{"$f":"IFERROR(I267*Оглавление!$E$23,\"по запросу\")","v":17954.988799999999},{"$f":"IFERROR(G267*(1-Оглавление!$D$30),\"по запросу\")","v":17954.988799999999},179.12,"шт",null,{"$f":"IFERROR(K267*G267,\"0 ₽\")","v":0},{"$f":"IFERROR(K267*H267,\"0 ₽\")","v":0}]
[null,"RVIV075E","Фильтр сетчатый ПВХ муфтовый 75 (DN65) EPDM FIP",16,"Арматура","RUB",{"$f":"IFERROR(I268*Оглавление!$E$23,\"по запросу\")","v":23351.910400000001},{"$f":"IFERROR(G268*(1-Оглавление!$D$30),\"по запросу\")","v":23351.910400000001},232.96,"шт",null,0,0]
[null,"RVIV090E","Фильтр сетчатый ПВХ муфтовый 90 (DN80) EPDM FIP",16,"Арматура","RUB",{"$f":"IFERROR(I269*Оглавление!$E$23,\"по запросу\")","v":27836.647999999997},{"$f":"IFERROR(G269*(1-Оглавление!$D$30),\"по запросу\")","v":27836.647999999997},277.7,"шт",null,0,0]
[null,"RVIV110E","Фильтр сетчатый ПВХ муфтовый 110 (DN100) EPDM FIP",16,"Арматура","RUB",{"$f":"IFERROR(I270*Оглавление!$E$23,\"по запросу\")","v":65562.974399999992},{"$f":"IFERROR(G270*(1-Оглавление!$D$30),\"по запросу\")","v":65562.974399999992},654.05999999999995,"шт",null,0,0]
[null,"RVUIT016E","Фильтр сетчатый ПВХ муфтовый прозрачный 16 (DN10) EPDM FIP",16,"Арматура","RUB",{"$f":"IFERROR(I271*Оглавление!$E$23,\"по запросу\")","v":5284.6527999999998},{"$f":"IFERROR(G271*(1-Оглавление!$D$30),\"по запросу\")","v":5284.6527999999998},52.72,"шт",null,0,0]
[null,"RVUIT020E","Фильтр сетчатый ПВХ муфтовый прозрачный 20 (DN15) EPDM FIP",16,"Арматура","RUB",{"$f":"IFERROR(I272*Оглавление!$E$23,\"по запросу\")","v":5284.6527999999998},{"$f":"IFERROR(G272*(1-Оглавление!$D$30),\"по запросу\")","v":5284.6527999999998},52.72,"шт",null,0,0]
[null,"RVUIT025E","Фильтр сетчатый ПВХ муфтовый прозрачный 25 (DN20) EPDM FIP",16,"Арматура","RUB",{"$f":"IFERROR(I273*Оглавление!$E$23,\"по запросу\")","v":6110.6304},{"$f":"IFERROR(G273*(1-Оглавление!$D$30),\"по запросу\")","v":6110.6304},60.96,"шт",null,0,0]
[null,"RVUIT032E","Фильтр сетчатый ПВХ муфтовый прозрачный 32 (DN25) EPDM FIP",16,"Арматура","RUB",{"$f":"IFERROR(I274*Оглавление!$E$23,\"по запросу\")","v":8323.9295999999995},{"$f":"IFERROR(G274*(1-Оглавление!$D$30),\"по запросу\")","v":8323.9295999999995},83.04,"шт",null,0,0]
[null,"RVUIT040E","Фильтр сетчатый ПВХ муфтовый прозрачный 40 (DN32) EPDM FIP",16,"Арматура","RUB",{"$f":"IFERROR(I275*Оглавление!$E$23,\"по запросу\")","v":10539.2336},{"$f":"IFERROR(G275*(1-Оглавление!$D$30),\"по запросу\")","v":10539.2336},105.14,"шт",null,0,0]
[null,"RVUIT050E","Фильтр сетчатый ПВХ муфтовый прозрачный 50 (DN40) EPDM FIP",16,"Арматура","RUB",{"$f":"IFERROR(I276*Оглавление!$E$23,\"по запросу\")","v":13789.0144},{"$f":"IFERROR(G276*(1-Оглавление!$D$30),\"по запросу\")","v":13789.0144},137.56,"шт",null,0,0]
[null,"RVUIT063E","Фильтр сетчатый ПВХ муфтовый прозрачный 63 (DN50) EPDM FIP",16,"Арматура","RUB",{"$f":"IFERROR(I277*Оглавление!$E$23,\"по запросу\")","v":17954.988799999999},{"$f":"IFERROR(G277*(1-Оглавление!$D$30),\"по запросу\")","v":17954.988799999999},179.12,"шт",null,0,0]
[null,"RVIT075E","Фильтр сетчатый ПВХ муфтовый прозрачный 75 (DN65) EPDM FIP",16,"Арматура","RUB",{"$f":"IFERROR(I278*Оглавление!$E$23,\"по запросу\")","v":24761.284800000001},{"$f":"IFERROR(G278*(1-Оглавление!$D$30),\"по запросу\")","v":24761.284800000001},247.02,"шт",null,0,0]
[null,"RVIT090E","Фильтр сетчатый ПВХ муфтовый прозрачный 90 (DN80) EPDM FIP",16,"Арматура","RUB",{"$f":"IFERROR(I279*Оглавление!$E$23,\"по запросу\")","v":27836.647999999997},{"$f":"IFERROR(G279*(1-Оглавление!$D$30),\"по запросу\")","v":27836.647999999997},277.7,"шт",null,0,0]
[null,"RVIT110E","Фильтр сетчатый ПВХ муфтовый прозрачный 110 (DN100) EPDM FIP",16,"Арматура","RUB",{"$f":"IFERROR(I280*Оглавление!$E$23,\"по запросу\")","v":65562.974399999992},{"$f":"IFERROR(G280*(1-Оглавление!$D$30),\"по запросу\")","v":65562.974399999992},654.05999999999995,"шт",null,0,0]
[null,"RVUFT038E","Фильтр сетчатый ПВХ резьбовой прозрачный 3/8\" (DN10) EPDM FIP",16,"Арматура","RUB",{"$f":"IFERROR(I281*Оглавление!$E$23,\"по запросу\")","v":6786.2479999999996},{"$f":"IFERROR(G281*(1-Оглавление!$D$30),\"по запросу\")","v":6786.2479999999996},67.7,"шт",null,0,0]
[null,"RVUFT012E","Фильтр сетчатый ПВХ резьбовой прозрачный 1/2\" (DN15) EPDM FIP",16,"Арматура","RUB",{"$f":"IFERROR(I282*Оглавление!$E$23,\"по запросу\")","v":7111.025599999999},{"$f":"IFERROR(G282*(1-Оглавление!$D$30),\"по запросу\")","v":7111.025599999999},70.94,"шт",null,0,0]
[null,"RVUFT034E","Фильтр сетчатый ПВХ резьбовой прозрачный 3/4\" (DN20) EPDM FIP",16,"Арматура","RUB",{"$f":"IFERROR(I283*Оглавление!$E$23,\"по запросу\")","v":9392.4879999999994},{"$f":"IFERROR(G283*(1-Оглавление!$D$30),\"по запросу\")","v":9392.4879999999994},93.7,"шт",null,0,0]
[null,"RVUFT100E","Фильтр сетчатый ПВХ резьбовой прозрачный 1\" (DN25) EPDM FIP",16,"Арматура","RUB",{"$f":"IFERROR(I284*Оглавление!$E$23,\"по запросу\")","v":12527.995199999999},{"$f":"IFERROR(G284*(1-Оглавление!$D$30),\"по запросу\")","v":12527.995199999999},124.98,"шт",null,0,0]
[null,"RVUFT114E","Фильтр сетчатый ПВХ резьбовой прозрачный 1 1/4\" (DN32) EPDM FIP",16,"Арматура","RUB",{"$f":"IFERROR(I285*Оглавление!$E$23,\"по запросу\")","v":15679.540799999999},{"$f":"IFERROR(G285*(1-Оглавление!$D$30),\"по запросу\")","v":15679.540799999999},156.41999999999999,"шт",null,0,0]
[null,"RVUFT112E","Фильтр сетчатый ПВХ резьбовой прозрачный 1 1/2\" (DN40) EPDM FIP",16,"Арматура","RUB",{"$f":"IFERROR(I286*Оглавление!$E$23,\"по запросу\")","v":19151.8544},{"$f":"IFERROR(G286*(1-Оглавление!$D$30),\"по запросу\")","v":19151.8544},191.06,"шт",null,0,0]
[null,"RVUFT200E","Фильтр сетчатый ПВХ резьбовой прозрачный 2\" (DN50) EPDM FIP",16,"Арматура","RUB",{"$f":"IFERROR(I287*Оглавление!$E$23,\"по запросу\")","v":24705.150399999999},{"$f":"IFERROR(G287*(1-Оглавление!$D$30),\"по запросу\")","v":24705.150399999999},246.46,"шт",null,0,0]
[null,"RVFT212E","Фильтр сетчатый ПВХ резьбовой прозрачный 2 1/2\" (DN65) EPDM FIP",16,"Арматура","RUB",{"$f":"IFERROR(I288*Оглавление!$E$23,\"по запросу\")","v":38464.092799999999},{"$f":"IFERROR(G288*(1-Оглавление!$D$30),\"по запросу\")","v":38464.092799999999},383.72,"шт",null,0,0]
[null,"RVFT300E","Фильтр сетчатый ПВХ резьбовой прозрачный 3\" (DN80) EPDM FIP",16,"Арматура","RUB",{"$f":"IFERROR(I289*Оглавление!$E$23,\"по запросу\")","v":49452.401599999997},{"$f":"IFERROR(G289*(1-Оглавление!$D$30),\"по запросу\")","v":49452.401599999997},493.34,"шт",null,0,0]
[null,"RVFT400E","Фильтр сетчатый ПВХ резьбовой прозрачный 4\" (DN100) EPDM FIP",16,"Арматура","RUB",{"$f":"IFERROR(I290*Оглавление!$E$23,\"по запросу\")","v":71048.107199999999},{"$f":"IFERROR(G290*(1-Оглавление!$D$30),\"по запросу\")","v":71048.107199999999},708.78,"шт",null,0,0]
[null,"DKUIV020E","Мембранный клапан ПВХ с разборными муфтовыми окончаниями EPDM 20 FIP",16,"Арматура","RUB",{"$f":"IFERROR(I291*Оглавление!$E$23,\"по запросу\")","v":14234.08},{"$f":"IFERROR(G291*(1-Оглавление!$D$30),\"по запросу\")","v":14234.08},142,"шт",null,0,0]
[null,"DKUIV025E","Мембранный клапан ПВХ с разборными муфтовыми окончаниями EPDM 25 FIP",16,"Арматура","RUB",{"$f":"IFERROR(I292*Оглавление!$E$23,\"по запросу\")","v":15573.286400000001},{"$f":"IFERROR(G292*(1-Оглавление!$D$30),\"по запросу\")","v":15573.286400000001},155.36000000000001,"шт",null,0,0]
[null,"DKUIV032E","Мембранный клапан ПВХ с разборными муфтовыми окончаниями EPDM 32 FIP",16,"Арматура","RUB",{"$f":"IFERROR(I293*Оглавление!$E$23,\"по запросу\")","v":19344.315199999997},{"$f":"IFERROR(G293*(1-Оглавление!$D$30),\"по запросу\")","v":19344.315199999997},192.98,"шт",null,0,0]
[null,"DKUIV040E","Мембранный клапан ПВХ с разборными муфтовыми окончаниями EPDM 40 FIP",16,"Арматура","RUB",{"$f":"IFERROR(I294*Оглавление!$E$23,\"по запросу\")","v":23121.358399999997},{"$f":"IFERROR(G294*(1-Оглавление!$D$30),\"по запросу\")","v":23121.358399999997},230.66,"шт",null,0,0]
[null,"DKUIV050E","Мембранный клапан ПВХ с разборными муфтовыми окончаниями EPDM 50 FIP",16,"Арматура","RUB",{"$f":"IFERROR(I295*Оглавление!$E$23,\"по запросу\")","v":31553.547199999997},{"$f":"IFERROR(G295*(1-Оглавление!$D$30),\"по запросу\")","v":31553.547199999997},314.77999999999997,"шт",null,0,0]
[null,"DKUIV063E","Мембранный клапан ПВХ с разборными муфтовыми окончаниями EPDM 63 FIP",16,"Арматура","RUB",{"$f":"IFERROR(I296*Оглавление!$E$23,\"по запросу\")","v":38883.095999999998},{"$f":"IFERROR(G296*(1-Оглавление!$D$30),\"по запросу\")","v":38883.095999999998},387.9,"шт",null,0,0]
[null,"DKUIV020F","Мембранный клапан ПВХ с разборными муфтовыми окончаниями FKM 20 FIP",16,"Арматура","RUB",{"$f":"IFERROR(I297*Оглавление!$E$23,\"по запросу\")","v":23776.927999999996},{"$f":"IFERROR(G297*(1-Оглавление!$D$30),\"по запросу\")","v":23776.927999999996},237.2,"шт",null,0,0]
[null,"DKUIV025F","Мембранный клапан ПВХ с разборными муфтовыми окончаниями FKM 25 FIP",16,"Арматура","RUB",{"$f":"IFERROR(I298*Оглавление!$E$23,\"по запросу\")","v":26236.817599999998},{"$f":"IFERROR(G298*(1-Оглавление!$D$30),\"по запросу\")","v":26236.817599999998},261.74,"шт",null,0,0]
[null,"DKUIV032F","Мембранный клапан ПВХ с разборными муфтовыми окончаниями FKM 32 FIP",16,"Арматура","RUB",{"$f":"IFERROR(I299*Оглавление!$E$23,\"по запросу\")","v":30246.417600000001},{"$f":"IFERROR(G299*(1-Оглавление!$D$30),\"по запросу\")","v":30246.417600000001},301.74,"шт",null,0,0]
[null,"DKUIV040F","Мембранный клапан ПВХ с разборными муфтовыми окончаниями FKM 40 FIP",16,"Арматура","RUB",{"$f":"IFERROR(I300*Оглавление!$E$23,\"по запросу\")","v":40446.839999999997},{"$f":"IFERROR(G300*(1-Оглавление!$D$30),\"по запросу\")","v":40446.839999999997},403.5,"шт",null,0,0]
[null,"DKUIV050F","Мембранный клапан ПВХ с разборными муфтовыми окончаниями FKM 50 FIP",16,"Арматура","RUB",{"$f":"IFERROR(I301*Оглавление!$E$23,\"по запросу\")","v":50009.735999999997},{"$f":"IFERROR(G301*(1-Оглавление!$D$30),\"по запросу\")","v":50009.735999999997},498.9,"шт",null,0,0]
[null,"DKUIV063F","Мембранный клапан ПВХ с разборными муфтовыми окончаниями FKM 63 FIP",16,"Арматура","RUB",{"$f":"IFERROR(I302*Оглавление!$E$23,\"по запросу\")","v":68221.339200000002},{"$f":"IFERROR(G302*(1-Оглавление!$D$30),\"по запросу\")","v":68221.339200000002},680.58,"шт",null,0,0]
[null,"DKDV020E","Мембранный клапан ПВХ с втулочными окончаниями EPDM 20 FIP",16,"Арматура","RUB",{"$f":"IFERROR(I303*Оглавление!$E$23,\"по запросу\")","v":11784.214399999999},{"$f":"IFERROR(G303*(1-Оглавление!$D$30),\"по запросу\")","v":11784.214399999999},117.56,"шт",null,0,0]
[null,"DKDV025E","Мембранный клапан ПВХ с втулочными окончаниями EPDM 25 FIP",16,"Арматура","RUB",{"$f":"IFERROR(I304*Оглавление!$E$23,\"по запросу\")","v":13123.420799999998},{"$f":"IFERROR(G304*(1-Оглавление!$D$30),\"по запросу\")","v":13123.420799999998},130.91999999999999,"шт",null,0,0]
[null,"DKDV032E","Мембранный клапан ПВХ с втулочными окончаниями EPDM 32 FIP",16,"Арматура","RUB",{"$f":"IFERROR(I305*Оглавление!$E$23,\"по запросу\")","v":16010.332799999998},{"$f":"IFERROR(G305*(1-Оглавление!$D$30),\"по запросу\")","v":16010.332799999998},159.72,"шт",null,0,0]
[null,"DKDV040E","Мембранный клапан ПВХ с втулочными окончаниями EPDM 40 FIP",16,"Арматура","RUB",{"$f":"IFERROR(I306*Оглавление!$E$23,\"по запросу\")","v":18901.254399999998},{"$f":"IFERROR(G306*(1-Оглавление!$D$30),\"по запросу\")","v":18901.254399999998},188.56,"шт",null,0,0]
[null,"DKDV050E","Мембранный клапан ПВХ с втулочными окончаниями EPDM 50 FIP",16,"Арматура","RUB",{"$f":"IFERROR(I307*Оглавление!$E$23,\"по запросу\")","v":26018.294399999999},{"$f":"IFERROR(G307*(1-Оглавление!$D$30),\"по запросу\")","v":26018.294399999999},259.56,"шт",null,0,0]
[null,"DKDV063E","Мембранный клапан ПВХ с втулочными окончаниями EPDM 63 FIP",16,"Арматура","RUB",{"$f":"IFERROR(I308*Оглавление!$E$23,\"по запросу\")","v":31778.084799999997},{"$f":"IFERROR(G308*(1-Оглавление!$D$30),\"по запросу\")","v":31778.084799999997},317.02,"шт",null,0,0]
[null,"DKDV020F","Мембранный клапан ПВХ с втулочными окончаниями FKM 20 FIP",16,"Арматура","RUB",{"$f":"IFERROR(I309*Оглавление!$E$23,\"по запросу\")","v":20896.0304},{"$f":"IFERROR(G309*(1-Оглавление!$D$30),\"по запросу\")","v":20896.0304},208.46,"шт",null,0,0]
[null,"DKDV025F","Мембранный клапан ПВХ с втулочными окончаниями FKM 25 FIP",16,"Арматура","RUB",{"$f":"IFERROR(I310*Оглавление!$E$23,\"по запросу\")","v":22008.6944},{"$f":"IFERROR(G310*(1-Оглавление!$D$30),\"по запросу\")","v":22008.6944},219.56,"шт",null,0,0]
[null,"DKDV032F","Мембранный клапан ПВХ с втулочными окончаниями FKM 32 FIP",16,"Арматура","RUB",{"$f":"IFERROR(I311*Оглавление!$E$23,\"по запросу\")","v":25116.134399999999},{"$f":"IFERROR(G311*(1-Оглавление!$D$30),\"по запросу\")","v":25116.134399999999},250.56,"шт",null,0,0]
[null,"DKDV040F","Мембранный клапан ПВХ с втулочными окончаниями FKM 40 FIP",16,"Арматура","RUB",{"$f":"IFERROR(I312*Оглавление!$E$23,\"по запросу\")","v":34448.4784},{"$f":"IFERROR(G312*(1-Оглавление!$D$30),\"по запросу\")","v":34448.4784},343.66,"шт",null,0,0]
[null,"DKDV050F","Мембранный клапан ПВХ с втулочными окончаниями FKM 50 FIP",16,"Арматура","RUB",{"$f":"IFERROR(I313*Оглавление!$E$23,\"по запросу\")","v":41334.966399999998},{"$f":"IFERROR(G313*(1-Оглавление!$D$30),\"по запросу\")","v":41334.966399999998},412.36,"шт",null,0,0]
[null,"DKDV063F","Мембранный клапан ПВХ с втулочными окончаниями FKM 63 FIP",16,"Арматура","RUB",{"$f":"IFERROR(I314*Оглавление!$E$23,\"по запросу\")","v":57563.822399999997},{"$f":"IFERROR(G314*(1-Оглавление!$D$30),\"по запросу\")","v":57563.822399999997},574.26,"шт",null,0,0]
[null,"DKOV020E","Мембранный клапан ПВХ с фланцевыми окончаниями EPDM 20 FIP",16,"Арматура","RUB",{"$f":"IFERROR(I315*Оглавление!$E$23,\"по запросу\")","v":19492.670399999999},{"$f":"IFERROR(G315*(1-Оглавление!$D$30),\"по запросу\")","v":19492.670399999999},194.46,"шт",null,0,0]
[null,"DKOV025E","Мембранный клапан ПВХ с фланцевыми окончаниями EPDM 25 FIP",16,"Арматура","RUB",{"$f":"IFERROR(I316*Оглавление!$E$23,\"по запросу\")","v":21208.779200000001},{"$f":"IFERROR(G316*(1-Оглавление!$D$30),\"по запросу\")","v":21208.779200000001},211.58,"шт",null,0,0]
[null,"DKOV032E","Мембранный клапан ПВХ с фланцевыми окончаниями EPDM 32 FIP",16,"Арматура","RUB",{"$f":"IFERROR(I317*Оглавление!$E$23,\"по запросу\")","v":24434.502399999998},{"$f":"IFERROR(G317*(1-Оглавление!$D$30),\"по запросу\")","v":24434.502399999998},243.76,"шт",null,0,0]
[null,"DKOV040E","Мембранный клапан ПВХ с фланцевыми окончаниями EPDM 40 FIP",16,"Арматура","RUB",{"$f":"IFERROR(I318*Оглавление!$E$23,\"по запросу\")","v":30120.1152},{"$f":"IFERROR(G318*(1-Оглавление!$D$30),\"по запросу\")","v":30120.1152},300.48,"шт",null,0,0]
[null,"DKOV050E","Мембранный клапан ПВХ с фланцевыми окончаниями EPDM 50 FIP",16,"Арматура","RUB",{"$f":"IFERROR(I319*Оглавление!$E$23,\"по запросу\")","v":37788.475200000001},{"$f":"IFERROR(G319*(1-Оглавление!$D$30),\"по запросу\")","v":37788.475200000001},376.98,"шт",null,0,0]
[null,"DKOV063E","Мембранный клапан ПВХ с фланцевыми окончаниями EPDM 63 FIP",16,"Арматура","RUB",{"$f":"IFERROR(I320*Оглавление!$E$23,\"по запросу\")","v":48263.555200000003},{"$f":"IFERROR(G320*(1-Оглавление!$D$30),\"по запросу\")","v":48263.555200000003},481.48,"шт",null,0,0]
[null,"DKOV020F","Мембранный клапан ПВХ с фланцевыми окончаниями FKM 20 FIP",16,"Арматура","RUB",{"$f":"IFERROR(I321*Оглавление!$E$23,\"по запросу\")","v":28606.491199999997},{"$f":"IFERROR(G321*(1-Оглавление!$D$30),\"по запросу\")","v":28606.491199999997},285.38,"шт",null,0,0]
[null,"DKOV025F","Мембранный клапан ПВХ с фланцевыми окончаниями FKM 25 FIP",16,"Арматура","RUB",{"$f":"IFERROR(I322*Оглавление!$E$23,\"по запросу\")","v":30096.0576},{"$f":"IFERROR(G322*(1-Оглавление!$D$30),\"по запросу\")","v":30096.0576},300.24,"шт",null,0,0]
[null,"DKOV032F","Мембранный клапан ПВХ с фланцевыми окончаниями FKM 32 FIP",16,"Арматура","RUB",{"$f":"IFERROR(I323*Оглавление!$E$23,\"по запросу\")","v":33542.308799999999},{"$f":"IFERROR(G323*(1-Оглавление!$D$30),\"по запросу\")","v":33542.308799999999},334.62,"шт",null,0,0]
[null,"DKOV040F","Мембранный клапан ПВХ с фланцевыми окончаниями FKM 40 FIP",16,"Арматура","RUB",{"$f":"IFERROR(I324*Оглавление!$E$23,\"по запросу\")","v":45667.339199999995},{"$f":"IFERROR(G324*(1-Оглавление!$D$30),\"по запросу\")","v":45667.339199999995},455.58,"шт",null,0,0]
[null,"DKOV050F","Мембранный клапан ПВХ с фланцевыми окончаниями FKM 50 FIP",16,"Арматура","RUB",{"$f":"IFERROR(I325*Оглавление!$E$23,\"по запросу\")","v":53111.161599999999},{"$f":"IFERROR(G325*(1-Оглавление!$D$30),\"по запросу\")","v":53111.161599999999},529.84,"шт",null,0,0]
[null,"DKOV063F","Мембранный клапан ПВХ с фланцевыми окончаниями FKM 63 FIP",16,"Арматура","RUB",{"$f":"IFERROR(I326*Оглавление!$E$23,\"по запросу\")","v":74057.311999999991},{"$f":"IFERROR(G326*(1-Оглавление!$D$30),\"по запросу\")","v":74057.311999999991},738.8,"шт",null,0,0]
[null,"VAIV020E","Клапан воздухоотводный ПВХ с муфтовыми окончаниями EPDM 20 FIP",16,"Арматура","RUB",{"$f":"IFERROR(I327*Оглавление!$E$23,\"по запросу\")","v":6948.6367999999993},{"$f":"IFERROR(G327*(1-Оглавление!$D$30),\"по запросу\")","v":6948.6367999999993},69.319999999999993,"шт",null,0,0]
[null,"VAIV025E","Клапан воздухоотводный ПВХ с муфтовыми окончаниями EPDM 25 FIP",16,"Арматура","RUB",{"$f":"IFERROR(I328*Оглавление!$E$23,\"по запросу\")","v":7866.8352000000004},{"$f":"IFERROR(G328*(1-Оглавление!$D$30),\"по запросу\")","v":7866.8352000000004},78.48,"шт",null,0,0]
[null,"VAIV032E","Клапан воздухоотводный ПВХ с муфтовыми окончаниями EPDM 32 FIP",16,"Арматура","RUB",{"$f":"IFERROR(I329*Оглавление!$E$23,\"по запросу\")","v":8516.3903999999984},{"$f":"IFERROR(G329*(1-Оглавление!$D$30),\"по запросу\")","v":8516.3903999999984},84.96,"шт",null,0,0]
[null,"VAIV040E","Клапан воздухоотводный ПВХ с муфтовыми окончаниями EPDM 40 FIP",16,"Арматура","RUB",{"$f":"IFERROR(I330*Оглавление!$E$23,\"по запросу\")","v":9256.1615999999995},{"$f":"IFERROR(G330*(1-Оглавление!$D$30),\"по запросу\")","v":9256.1615999999995},92.34,"шт",null,0,0]
[null,"VAIV050E","Клапан воздухоотводный ПВХ с муфтовыми окончаниями EPDM 50 FIP",16,"Арматура","RUB",{"$f":"IFERROR(I331*Оглавление!$E$23,\"по запросу\")","v":13295.833599999998},{"$f":"IFERROR(G331*(1-Оглавление!$D$30),\"по запросу\")","v":13295.833599999998},132.63999999999999,"шт",null,{"$f":"IFERROR(K331*G331,\"0 ₽\")","v":0},{"$f":"IFERROR(K331*H331,\"0 ₽\")","v":0}]
[null,"VAIV063E","Клапан воздухоотводный ПВХ с муфтовыми окончаниями EPDM 63 FIP",16,"Арматура","RUB",{"$f":"IFERROR(I332*Оглавление!$E$23,\"по запросу\")","v":19450.569599999999},{"$f":"IFERROR(G332*(1-Оглавление!$D$30),\"по запросу\")","v":19450.569599999999},194.04,"шт",null,0,0]
[null,"VZIV016E","Клапан донный ПВХ с муфтовыми окончаниями EPDM 16 FIP",16,"Арматура","RUB",{"$f":"IFERROR(I333*Оглавление!$E$23,\"по запросу\")","v":6786.2479999999996},{"$f":"IFERROR(G333*(1-Оглавление!$D$30),\"по запросу\")","v":6786.2479999999996},67.7,"шт",null,0,0]
[null,"VZIV020E","Клапан донный ПВХ с муфтовыми окончаниями EPDM 20 FIP",16,"Арматура","RUB",{"$f":"IFERROR(I334*Оглавление!$E$23,\"по запросу\")","v":6948.6367999999993},{"$f":"IFERROR(G334*(1-Оглавление!$D$30),\"по запросу\")","v":6948.6367999999993},69.319999999999993,"шт",null,0,0]
[null,"VZIV025E","Клапан донный ПВХ с муфтовыми окончаниями EPDM 25 FIP",16,"Арматура","RUB",{"$f":"IFERROR(I335*Оглавление!$E$23,\"по запросу\")","v":7854.8063999999995},{"$f":"IFERROR(G335*(1-Оглавление!$D$30),\"по запросу\")","v":7854.8063999999995},78.36,"шт",null,0,0]
[null,"VZIV032E","Клапан донный ПВХ с муфтовыми окончаниями EPDM 32 FIP",16,"Арматура","RUB",{"$f":"IFERROR(I336*Оглавление!$E$23,\"по запросу\")","v":8480.3039999999983},{"$f":"IFERROR(G336*(1-Оглавление!$D$30),\"по запросу\")","v":8480.3039999999983},84.6,"шт",null,0,0]
[null,"VZIV040E","Клапан донный ПВХ с муфтовыми окончаниями EPDM 40 FIP",16,"Арматура","RUB",{"$f":"IFERROR(I337*Оглавление!$E$23,\"по запросу\")","v":9556.8816000000006},{"$f":"IFERROR(G337*(1-Оглавление!$D$30),\"по запросу\")","v":9556.8816000000006},95.34,"шт",null,0,0]
[null,"VZIV050E","Клапан донный ПВХ с муфтовыми окончаниями EPDM 50 FIP",16,"Арматура","RUB",{"$f":"IFERROR(I338*Оглавление!$E$23,\"по запросу\")","v":13257.742399999999},{"$f":"IFERROR(G338*(1-Оглавление!$D$30),\"по запросу\")","v":13257.742399999999},132.26,"шт",null,0,0]
[null,"VZIV063E","Клапан донный ПВХ с муфтовыми окончаниями EPDM 63 FIP",16,"Арматура","RUB",{"$f":"IFERROR(I339*Оглавление!$E$23,\"по запросу\")","v":18893.235199999999},{"$f":"IFERROR(G339*(1-Оглавление!$D$30),\"по запросу\")","v":18893.235199999999},188.48,"шт",null,0,0]

{"sheet":"ХПВХ IPS","index":4,"n_rows":552,"n_cols":13,"rows_kept":552,"cut":false,"hidden":false,"merged":[[381,0,398,0],[399,0,416,0],[157,0,175,0],[257,0,260,0],[314,0,332,0],[369,0,380,0],[351,0,368,0],[333,0,350,0],[261,0,274,0],[275,0,313,0],[431,0,436,0],[437,0,452,0],[507,0,533,0],[534,0,551,0],[417,0,430,0],[26,0,44,0],[9,0,25,0],[45,0,63,0],[245,0,250,0],[251,0,256,0],[98,0,125,0],[64,0,79,0],[80,0,97,0]]}
[null,null,null,null,null,null,null,null,null,{"$f":"COUNT(K10:K552)","v":0},"Товаров в заказе"]
[null,null,null,null,null,null,null,null,null,{"$f":"SUM(M10:M45)","v":0},"Сумма заказа со скидкой с НДС (трубы)"]
[null,null,null,null,null,null,null,null,null,{"$f":"SUM(M46:M369)","v":0},"Сумма заказа со скидкой с НДС (фитинги)"]
[null,null,null,null,null,null,null,null,null,{"$f":"SUM(M370:M552)","v":0},"Сумма заказа со скидкой с НДС (арматура)"]
[null,null,null,null,null,null,null,null,null,{"$f":"SUM(M10:M552)","v":0},"Сумма заказа со скидкой с НДС"]
[]
[]
[]
["Фото","Код","Наименование","PN","Категория","Валюта\nпродажи","Цена\nПРОДАЖИ с НДС ","Цена с НДС\nсо скидкой","Цена\nEUR","Ед. измерения","Заказ (метры/штуки)","Сумма рубли","Сумма со скидкой"]
[null,"PIPEC13016","Труба ХПВХ напорная клеевая PN16 16x1.4x5 м (поставляется под брендом FIP)",16,"Трубы","RUB",{"$f":"IFERROR(I10*Оглавление!$E$23,\"по запросу\")","v":673.61279999999999},{"$f":"IFERROR(G10*(1-Оглавление!$D$31),\"по запросу\")","v":673.61279999999999},6.72,"м",null,{"$f":"IFERROR(K10*G10,\"0 ₽\")","v":0},{"$f":"IFERROR(K10*H10,\"0 ₽\")","v":0}]
[null,"IPIPEC16020","Труба ХПВХ напорная клеевая PN16 20x2.3x4 м IPS",16,"Трубы","RUB",{"$f":"IFERROR(I11*Оглавление!$E$23,\"по запросу\")","v":607.45439999999996},{"$f":"IFERROR(G11*(1-Оглавление!$D$31),\"по запросу\")","v":607.45439999999996},6.06,"м",null,0,0]
[null,"IPIPEC16025","Труба ХПВХ напорная клеевая PN16 25x2.8x4 м IPS",16,"Трубы","RUB",{"$f":"IFERROR(I12*Оглавление!$E$23,\"по запросу\")","v":933.23440000000005},{"$f":"IFERROR(G12*(1-Оглавление!$D$31),\"по запросу\")","v":933.23440000000005},9.31,"м",null,0,0]
[null,"IPIPEC16032","Труба ХПВХ напорная клеевая PN16 32x3.6x4 м IPS",16,"Трубы","RUB",{"$f":"IFERROR(I13*Оглавление!$E$23,\"по запросу\")","v":1369.2783999999999},{"$f":"IFERROR(G13*(1-Оглавление!$D$31),\"по запросу\")","v":1369.2783999999999},13.66,"м",null,0,0]
[null,"IPIPEC16040","Труба ХПВХ напорная клеевая PN16 40x3.0x4 м IPS",16,"Трубы","RUB",{"$f":"IFERROR(I14*Оглавление!$E$23,\"по запросу\")","v":1898.5455999999999},{"$f":"IFERROR(G14*(1-Оглавление!$D$31),\"по запросу\")","v":1898.5455999999999},18.940000000000001,"м",null,0,0]
[null,"IPIPEC16050","Труба ХПВХ напорная клеевая PN16 50x3.7x4 м IPS",16,"Трубы","RUB",{"$f":"IFERROR(I15*Оглавление!$E$23,\"по запросу\")","v":2884.9072000000001},{"$f":"IFERROR(G15*(1-Оглавление!$D$31),\"по запросу\")","v":2884.9072000000001},28.78,"м",null,0,0]
[null,"IPIPEC16063","Труба ХПВХ напорная клеевая PN16 63x4.7x4 м IPS",16,"Трубы","RUB",{"$f":"IFERROR(I16*Оглавление!$E$23,\"по запросу\")","v":4602.018399999999},{"$f":"IFERROR(G16*(1-Оглавление!$D$31),\"по запросу\")","v":4602.018399999999},45.91,"м",null,0,0]
[null,"IPIPEC16075","Труба ХПВХ напорная клеевая PN16 75x5.5x4 м IPS",16,"Трубы","RUB",{"$f":"IFERROR(I17*Оглавление!$E$23,\"по запросу\")","v":6499.5616},{"$f":"IFERROR(G17*(1-Оглавление!$D$31),\"по запросу\")","v":6499.5616},64.84,"м",null,0,0]
[null,"IPIPEC16090","Труба ХПВХ напорная клеевая PN16 90x6.6x4 м IPS",16,"Трубы","RUB",{"$f":"IFERROR(I18*Оглавление!$E$23,\"по запросу\")","v":9997.9375999999993},{"$f":"IFERROR(G18*(1-Оглавление!$D$31),\"по запросу\")","v":9997.9375999999993},99.74,"м",null,0,0]
[null,"IPIPEC16110","Труба ХПВХ напорная клеевая PN16 110x8.1x4 м IPS",16,"Трубы","RUB",{"$f":"IFERROR(I19*Оглавление!$E$23,\"по запросу\")","v":14918.719200000001},{"$f":"IFERROR(G19*(1-Оглавление!$D$31),\"по запросу\")","v":14918.719200000001},148.83000000000001,"м",null,0,0]
[null,"IPIPEC16140","Труба ХПВХ напорная клеевая PN16 140x10.3x4 м IPS",16,"Трубы","RUB",{"$f":"IFERROR(I20*Оглавление!$E$23,\"по запросу\")","v":21452.362399999998},{"$f":"IFERROR(G20*(1-Оглавление!$D$31),\"по запросу\")","v":21452.362399999998},214.01,"м",null,0,0]
[null,"IPIPEC16160","Труба ХПВХ напорная клеевая PN16 160x11.8x4 м IPS",16,"Трубы","RUB",{"$f":"IFERROR(I21*Оглавление!$E$23,\"по запросу\")","v":29571.802399999997},{"$f":"IFERROR(G21*(1-Оглавление!$D$31),\"по запросу\")","v":29571.802399999997},295.01,"м",null,0,0]
[null,"IPIPEC16225","Труба ХПВХ напорная клеевая PN16 225x16.6x4 м IPS",16,"Трубы","RUB",{"$f":"IFERROR(I22*Оглавление!$E$23,\"по запросу\")","v":55185.127199999995},{"$f":"IFERROR(G22*(1-Оглавление!$D$31),\"по запросу\")","v":55185.127199999995},550.53,"м",null,0,0]
[null,"IPIPEC16280","Труба ХПВХ напорная клеевая PN16 280x20.6x4 м IPS",16,"Трубы","RUB",{"$f":"IFERROR(I23*Оглавление!$E$23,\"по запросу\")","v":78293.454399999988},{"$f":"IFERROR(G23*(1-Оглавление!$D$31),\"по запросу\")","v":78293.454399999988},781.06,"м",null,0,0]
[null,"IPIPEC16315","Труба ХПВХ напорная клеевая PN16 315x23.2x4 м IPS",16,"Трубы","RUB",{"$f":"IFERROR(I24*Оглавление!$E$23,\"по запросу\")","v":99207.528000000006},{"$f":"IFERROR(G24*(1-Оглавление!$D$31),\"по запросу\")","v":99207.528000000006},989.7,"м",null,0,0]
[null,"IPIPEC16355","Труба ХПВХ напорная клеевая PN16 355x26.1x4 м IPS",16,"Трубы","RUB",{"$f":"IFERROR(I25*Оглавление!$E$23,\"по запросу\")","v":125720.0056},{"$f":"IFERROR(G25*(1-Оглавление!$D$31),\"по запросу\")","v":125720.0056},1254.19,"м",null,0,0]
[null,"IPIPEC16400","Труба ХПВХ напорная клеевая PN16 400x29.4x4 м IPS",16,"Трубы","RUB",{"$f":"IFERROR(I26*Оглавление!$E$23,\"по запросу\")","v":159618.16639999999},{"$f":"IFERROR(G26*(1-Оглавление!$D$31),\"по запросу\")","v":159618.16639999999},1592.36,"м",null,0,0]
[null,"IPIPEC10020","Труба ХПВХ напорная клеевая PN10 20x2.0x4 м IPS",10,"Трубы","RUB",{"$f":"IFERROR(I27*Оглавление!$E$23,\"по запросу\")","v":484.1592},{"$f":"IFERROR(G27*(1-Оглавление!$D$31),\"по запросу\")","v":484.1592},4.83,"м",null,{"$f":"IFERROR(K27*G27,\"0 ₽\")","v":0},{"$f":"IFERROR(K27*H27,\"0 ₽\")","v":0}]
[null,"IPIPEC10025","Труба ХПВХ напорная клеевая PN10 25x2.0x4 м IPS",10,"Трубы","RUB",{"$f":"IFERROR(I28*Оглавление!$E$23,\"по запросу\")","v":626.5},{"$f":"IFERROR(G28*(1-Оглавление!$D$31),\"по запросу\")","v":626.5},6.25,"м",null,0,0]
[null,"IPIPEC10032","Труба ХПВХ напорная клеевая PN10 32x2.0x4 м IPS",10,"Трубы","RUB",{"$f":"IFERROR(I29*Оглавление!$E$23,\"по запросу\")","v":797.91039999999998},{"$f":"IFERROR(G29*(1-Оглавление!$D$31),\"по запросу\")","v":797.91039999999998},7.96,"м",null,0,0]
[null,"IPIPEC10040","Труба ХПВХ напорная клеевая PN10 40x2.0x4 м IPS",10,"Трубы","RUB",{"$f":"IFERROR(I30*Оглавление!$E$23,\"по запросу\")","v":1025.4551999999999},{"$f":"IFERROR(G30*(1-Оглавление!$D$31),\"по запросу\")","v":1025.4551999999999},10.23,"м",null,0,0]
[null,"IPIPEC10050","Труба ХПВХ напорная клеевая PN10 50x2.4x4 м IPS",10,"Трубы","RUB",{"$f":"IFERROR(I31*Оглавление!$E$23,\"по запросу\")","v":1538.684},{"$f":"IFERROR(G31*(1-Оглавление!$D$31),\"по запросу\")","v":1538.684},15.35,"м",null,0,0]
[null,"IPIPEC10063","Труба ХПВХ напорная клеевая PN10 63x3.0x4 м IPS",10,"Трубы","RUB",{"$f":"IFERROR(I32*Оглавление!$E$23,\"по запросу\")","v":2421.7983999999997},{"$f":"IFERROR(G32*(1-Оглавление!$D$31),\"по запросу\")","v":2421.7983999999997},24.16,"м",null,0,0]
[null,"IPIPEC10075","Труба ХПВХ напорная клеевая PN10 75x3.6x4 м IPS",10,"Трубы","RUB",{"$f":"IFERROR(I33*Оглавление!$E$23,\"по запросу\")","v":3447.2536},{"$f":"IFERROR(G33*(1-Оглавление!$D$31),\"по запросу\")","v":3447.2536},34.39,"м",null,0,0]
[null,"IPIPEC10090","Труба ХПВХ напорная клеевая PN10 90x4.3x4 м IPS",10,"Трубы","RUB",{"$f":"IFERROR(I34*Оглавление!$E$23,\"по запросу\")","v":4956.8680000000004},{"$f":"IFERROR(G34*(1-Оглавление!$D$31),\"по запросу\")","v":4956.8680000000004},49.45,"м",null,0,0]
[null,"IPIPEC10110","Труба ХПВХ напорная клеевая PN10 110x5.3x4 м IPS",10,"Трубы","RUB",{"$f":"IFERROR(I35*Оглавление!$E$23,\"по запросу\")","v":7435.8032000000003},{"$f":"IFERROR(G35*(1-Оглавление!$D$31),\"по запросу\")","v":7435.8032000000003},74.180000000000007,"м",null,0,0]
[null,"IPIPEC10140","Труба ХПВХ напорная клеевая PN10 140x6.7x4 м IPS",10,"Трубы","RUB",{"$f":"IFERROR(I36*Оглавление!$E$23,\"по запросу\")","v":11994.7184},{"$f":"IFERROR(G36*(1-Оглавление!$D$31),\"по запросу\")","v":11994.7184},119.66,"м",null,0,0]
[null,"IPIPEC10160","Труба ХПВХ напорная клеевая PN10 160x7.7x4 м IPS",10,"Трубы","RUB",{"$f":"IFERROR(I37*Оглавление!$E$23,\"по запросу\")","v":15726.653599999998},{"$f":"IFERROR(G37*(1-Оглавление!$D$31),\"по запросу\")","v":15726.653599999998},156.88999999999999,"м",null,0,0]
[null,"IPIPEC10225","Труба ХПВХ напорная клеевая PN10 225x10.8x4 м IPS",10,"Трубы","RUB",{"$f":"IFERROR(I38*Оглавление!$E$23,\"по запросу\")","v":34590.819199999998},{"$f":"IFERROR(G38*(1-Оглавление!$D$31),\"по запросу\")","v":34590.819199999998},345.08,"м",null,0,0]
[null,"IPIPEC10280","Труба ХПВХ напорная клеевая PN10 280x13.4x4 м IPS",10,"Трубы","RUB",{"$f":"IFERROR(I39*Оглавление!$E$23,\"по запросу\")","v":52340.315999999992},{"$f":"IFERROR(G39*(1-Оглавление!$D$31),\"по запросу\")","v":52340.315999999992},522.15,"м",null,0,0]
[null,"IPIPEC10315","Труба ХПВХ напорная клеевая PN10 315x15.0x4 м IPS",10,"Трубы","RUB",{"$f":"IFERROR(I40*Оглавление!$E$23,\"по запросу\")","v":65930.855200000005},{"$f":"IFERROR(G40*(1-Оглавление!$D$31),\"по запросу\")","v":65930.855200000005},657.73,"м",null,0,0]
[null,"IPIPEC10355","Труба ХПВХ напорная клеевая PN10 355x16.9x4 м IPS",10,"Трубы","RUB",{"$f":"IFERROR(I41*Оглавление!$E$23,\"по запросу\")","v":83689.373599999992},{"$f":"IFERROR(G41*(1-Оглавление!$D$31),\"по запросу\")","v":83689.373599999992},834.89,"м",null,0,0]
[null,"IPIPEC10400","Труба ХПВХ напорная клеевая PN10 400x19.1x4 м IPS",10,"Трубы","RUB",{"$f":"IFERROR(I42*Оглавление!$E$23,\"по запросу\")","v":106578.1752},{"$f":"IFERROR(G42*(1-Оглавление!$D$31),\"по запросу\")","v":106578.1752},1063.23,"м",null,0,0]
[null,"IPIPEC10450","Труба ХПВХ напорная клеевая PN10 450x21.5x4 м IPS",10,"Трубы","RUB",{"$f":"IFERROR(I43*Оглавление!$E$23,\"по запросу\")","v":134941.08319999999},{"$f":"IFERROR(G43*(1-Оглавление!$D$31),\"по запросу\")","v":134941.08319999999},1346.18,"м",null,0,0]
[null,"IPIPEC10500","Труба ХПВХ напорная клеевая PN10 500x23.9x4 м IPS",10,"Трубы","RUB",{"$f":"IFERROR(I44*Оглавление!$E$23,\"по запросу\")","v":166663.0336},{"$f":"IFERROR(G44*(1-Оглавление!$D$31),\"по запросу\")","v":166663.0336},1662.64,"м",null,0,0]
[null,"IPIPEC10630","Труба ХПВХ напорная клеевая PN10 630x30.0x4 м IPS",10,"Трубы","RUB",{"$f":"IFERROR(I45*Оглавление!$E$23,\"по запросу\")","v":263662.27439999999},{"$f":"IFERROR(G45*(1-Оглавление!$D$31),\"по запросу\")","v":263662.27439999999},2630.31,"м",null,0,0]
[null,"IGIC020","Отвод ХПВХ 90° клеевой 20 IPS",16,"Фитинги","RUB",{"$f":"IFERROR(I46*Оглавление!$E$23,\"по запросу\")","v":416.9984},{"$f":"IFERROR(G46*(1-Оглавление!$D$32),\"по запросу\")","v":416.9984},4.16,"шт",null,0,{"$f":"IFERROR(K46*H46,\"0 ₽\")","v":0}]
[null,"IGIC025","Отвод ХПВХ 90° клеевой 25 IPS",16,"Фитинги","RUB",{"$f":"IFERROR(I47*Оглавление!$E$23,\"по запросу\")","v":523.25279999999998},{"$f":"IFERROR(G47*(1-Оглавление!$D$32),\"по запросу\")","v":523.25279999999998},5.22,"шт",null,{"$f":"IFERROR(K47*G47,\"0 ₽\")","v":0},0]
[null,"IGIC032","Отвод ХПВХ 90° клеевой 32 IPS",16,"Фитинги","RUB",{"$f":"IFERROR(I48*Оглавление!$E$23,\"по запросу\")","v":620.48559999999998},{"$f":"IFERROR(G48*(1-Оглавление!$D$32),\"по запросу\")","v":620.48559999999998},6.19,"шт",null,0,0]
[null,"IGIC040","Отвод ХПВХ 90° клеевой 40 IPS",16,"Фитинги","RUB",{"$f":"IFERROR(I49*Оглавление!$E$23,\"по запросу\")","v":811.94399999999996},{"$f":"IFERROR(G49*(1-Оглавление!$D$32),\"по запросу\")","v":811.94399999999996},8.1,"шт",null,0,0]
[null,"IGIC050","Отвод ХПВХ 90° клеевой 50 IPS",16,"Фитинги","RUB",{"$f":"IFERROR(I50*Оглавление!$E$23,\"по запросу\")","v":1413.3839999999998},{"$f":"IFERROR(G50*(1-Оглавление!$D$32),\"по запросу\")","v":1413.3839999999998},14.1,"шт",null,0,0]
[null,"IGIC063","Отвод ХПВХ 90° клеевой 63 IPS",16,"Фитинги","RUB",{"$f":"IFERROR(I51*Оглавление!$E$23,\"по запросу\")","v":1766.2288000000001},{"$f":"IFERROR(G51*(1-Оглавление!$D$32),\"по запросу\")","v":1766.2288000000001},17.62,"шт",null,0,0]
[null,"IGIC075","Отвод ХПВХ 90° клеевой 75 IPS",16,"Фитинги","RUB",{"$f":"IFERROR(I52*Оглавление!$E$23,\"по запросу\")","v":3371.0711999999999},{"$f":"IFERROR(G52*(1-Оглавление!$D$32),\"по запросу\")","v":3371.0711999999999},33.630000000000003,"шт",null,0,0]
[null,"IGIC090","Отвод ХПВХ 90° клеевой 90 IPS",16,"Фитинги","RUB",{"$f":"IFERROR(I53*Оглавление!$E$23,\"по запросу\")","v":4514.8095999999996},{"$f":"IFERROR(G53*(1-Оглавление!$D$32),\"по запросу\")","v":4514.8095999999996},45.04,"шт",null,0,0]
[null,"IGIC110","Отвод ХПВХ 90° клеевой 110 IPS",16,"Фитинги","RUB",{"$f":"IFERROR(I54*Оглавление!$E$23,\"по запросу\")","v":8279.8239999999987},{"$f":"IFERROR(G54*(1-Оглавление!$D$32),\"по запросу\")","v":8279.8239999999987},82.6,"шт",null,0,0]
[null,"IGIC140","Отвод ХПВХ 90° клеевой 140 IPS",16,"Фитинги","RUB",{"$f":"IFERROR(I55*Оглавление!$E$23,\"по запросу\")","v":16889.437600000001},{"$f":"IFERROR(G55*(1-Оглавление!$D$32),\"по запросу\")","v":16889.437600000001},168.49,"шт",null,0,0]
[null,"IGIC160","Отвод ХПВХ 90° клеевой 160 IPS",16,"Фитинги","RUB",{"$f":"IFERROR(I56*Оглавление!$E$23,\"по запросу\")","v":20692.5432},{"$f":"IFERROR(G56*(1-Оглавление!$D$32),\"по запросу\")","v":20692.5432},206.43,"шт",null,0,0]
[null,"IGIC225","Отвод ХПВХ 90° клеевой 225 IPS",16,"Фитинги","RUB",{"$f":"IFERROR(I57*Оглавление!$E$23,\"по запросу\")","v":69098.439199999993},{"$f":"IFERROR(G57*(1-Оглавление!$D$32),\"по запросу\")","v":69098.439199999993},689.33,"шт",null,0,0]
[null,"IGIC280","Отвод ХПВХ 90° клеевой 280 IPS",10,"Фитинги","RUB",{"$f":"IFERROR(I58*Оглавление!$E$23,\"по запросу\")","v":92689.92319999999},{"$f":"IFERROR(G58*(1-Оглавление!$D$32),\"по запросу\")","v":92689.92319999999},924.68,"шт",null,{"$f":"IFERROR(K58*G58,\"0 ₽\")","v":0},{"$f":"IFERROR(K58*H58,\"0 ₽\")","v":0}]
[null,"IGIC315","Отвод ХПВХ 90° клеевой 315 IPS",10,"Фитинги","RUB",{"$f":"IFERROR(I59*Оглавление!$E$23,\"по запросу\")","v":146238.1312},{"$f":"IFERROR(G59*(1-Оглавление!$D$32),\"по запросу\")","v":146238.1312},1458.88,"шт",null,0,0]
[null,"IGIC355","Отвод ХПВХ 90° клеевой 355 IPS",10,"Фитинги","RUB",{"$f":"IFERROR(I60*Оглавление!$E$23,\"по запросу\")","v":280950.66720000003},{"$f":"IFERROR(G60*(1-Оглавление!$D$32),\"по запросу\")","v":280950.66720000003},2802.78,"шт",null,0,0]
[null,"IGIC400","Отвод ХПВХ 90° клеевой 400 IPS",10,"Фитинги","RUB",{"$f":"IFERROR(I61*Оглавление!$E$23,\"по запросу\")","v":333971.61279999994},{"$f":"IFERROR(G61*(1-Оглавление!$D$32),\"по запросу\")","v":333971.61279999994},3331.72,"шт",null,0,0]
[null,"IGIC450","Отвод ХПВХ 90° клеевой 450 IPS",10,"Фитинги","RUB",{"$f":"IFERROR(I62*Оглавление!$E$23,\"по запросу\")","v":576308.82959999994},{"$f":"IFERROR(G62*(1-Оглавление!$D$32),\"по запросу\")","v":576308.82959999994},5749.29,"шт",null,0,0]
[null,"IGIC500","Отвод ХПВХ 90° клеевой 500 IPS",10,"Фитинги","RUB",{"$f":"IFERROR(I63*Оглавление!$E$23,\"по запросу\")","v":753043.97839999991},{"$f":"IFERROR(G63*(1-Оглавление!$D$32),\"по запросу\")","v":753043.97839999991},7512.41,"шт",null,0,0]
[null,"IGIC630","Отвод ХПВХ 90° клеевой 630 IPS",10,"Фитинги","RUB",{"$f":"IFERROR(I64*Оглавление!$E$23,\"по запросу\")","v":1029672.2967999999},{"$f":"IFERROR(G64*(1-Оглавление!$D$32),\"по запросу\")","v":1029672.2967999999},10272.07,"шт",null,0,0]
[null,"IHIC020","Отвод ХПВХ 45° клеевой 20 IPS",16,"Фитинги","RUB",{"$f":"IFERROR(I65*Оглавление!$E$23,\"по запросу\")","v":498.19279999999998},{"$f":"IFERROR(G65*(1-Оглавление!$D$32),\"по запросу\")","v":498.19279999999998},4.97,"шт",null,0,0]
[null,"IHIC025","Отвод ХПВХ 45° клеевой 25 IPS",16,"Фитинги","RUB",{"$f":"IFERROR(I66*Оглавление!$E$23,\"по запросу\")","v":696.66800000000001},{"$f":"IFERROR(G66*(1-Оглавление!$D$32),\"по запросу\")","v":696.66800000000001},6.95,"шт",null,0,0]
[null,"IHIC032","Отвод ХПВХ 45° клеевой 32 IPS",16,"Фитинги","RUB",{"$f":"IFERROR(I67*Оглавление!$E$23,\"по запросу\")","v":846.02559999999994},{"$f":"IFERROR(G67*(1-Оглавление!$D$32),\"по запросу\")","v":846.02559999999994},8.44,"шт",null,0,0]
[null,"IHIC040","Отвод ХПВХ 45° клеевой 40 IPS",16,"Фитинги","RUB",{"$f":"IFERROR(I68*Оглавление!$E$23,\"по запросу\")","v":1224.9328},{"$f":"IFERROR(G68*(1-Оглавление!$D$32),\"по запросу\")","v":1224.9328},12.22,"шт",null,0,0]
[null,"IHIC050","Отвод ХПВХ 45° клеевой 50 IPS",16,"Фитинги","RUB",{"$f":"IFERROR(I69*Оглавление!$E$23,\"по запросу\")","v":1956.6847999999998},{"$f":"IFERROR(G69*(1-Оглавление!$D$32),\"по запросу\")","v":1956.6847999999998},19.52,"шт",null,0,0]
[null,"IHIC063","Отвод ХПВХ 45° клеевой 63 IPS",16,"Фитинги","RUB",{"$f":"IFERROR(I70*Оглавление!$E$23,\"по запросу\")","v":2991.1615999999999},{"$f":"IFERROR(G70*(1-Оглавление!$D$32),\"по запросу\")","v":2991.1615999999999},29.84,"шт",null,0,0]
[null,"IHIC075","Отвод ХПВХ 45° клеевой 75 IPS",16,"Фитинги","RUB",{"$f":"IFERROR(I71*Оглавление!$E$23,\"по запросу\")","v":4607.0303999999996},{"$f":"IFERROR(G71*(1-Оглавление!$D$32),\"по запросу\")","v":4607.0303999999996},45.96,"шт",null,0,0]
[null,"IHIC090","Отвод ХПВХ 45° клеевой 90 IPS",16,"Фитинги","RUB",{"$f":"IFERROR(I72*Оглавление!$E$23,\"по запросу\")","v":6824.3391999999994},{"$f":"IFERROR(G72*(1-Оглавление!$D$32),\"по запросу\")","v":6824.3391999999994},68.08,"шт",null,0,0]
[null,"IHIC110","Отвод ХПВХ 45° клеевой 110 IPS",16,"Фитинги","RUB",{"$f":"IFERROR(I73*Оглавление!$E$23,\"по запросу\")","v":11119.6232},{"$f":"IFERROR(G73*(1-Оглавление!$D$32),\"по запросу\")","v":11119.6232},110.93,"шт",null,0,0]
[null,"IHIC140","Отвод ХПВХ 45° клеевой 140 IPS",16,"Фитинги","RUB",{"$f":"IFERROR(I74*Оглавление!$E$23,\"по запросу\")","v":27772.4944},{"$f":"IFERROR(G74*(1-Оглавление!$D$32),\"по запросу\")","v":27772.4944},277.06,"шт",null,0,0]
[null,"IHIC160","Отвод ХПВХ 45° клеевой 160 IPS",16,"Фитинги","RUB",{"$f":"IFERROR(I75*Оглавление!$E$23,\"по запросу\")","v":34645.951199999996},{"$f":"IFERROR(G75*(1-Оглавление!$D$32),\"по запросу\")","v":34645.951199999996},345.63,"шт",null,0,0]
[null,"IHIC225","Отвод ХПВХ 45° клеевой 225 IPS",16,"Фитинги","RUB",{"$f":"IFERROR(I76*Оглавление!$E$23,\"по запросу\")","v":91781.748800000001},{"$f":"IFERROR(G76*(1-Оглавление!$D$32),\"по запросу\")","v":91781.748800000001},915.62,"шт",null,0,0]
[null,"IHIC280","Отвод ХПВХ 45° клеевой 280 IPS",10,"Фитинги","RUB",{"$f":"IFERROR(I77*Оглавление!$E$23,\"по запросу\")","v":182618.23439999999},{"$f":"IFERROR(G77*(1-Оглавление!$D$32),\"по запросу\")","v":182618.23439999999},1821.81,"шт",null,0,0]
[null,"IHIC315","Отвод ХПВХ 45° клеевой 315 IPS",10,"Фитинги","RUB",{"$f":"IFERROR(I78*Оглавление!$E$23,\"по запросу\")","v":259361.97839999996},{"$f":"IFERROR(G78*(1-Оглавление!$D$32),\"по запросу\")","v":259361.97839999996},2587.41,"шт",null,0,0]
[null,"IHIC355","Отвод ХПВХ 45° клеевой 355 IPS",10,"Фитинги","RUB",{"$f":"IFERROR(I79*Оглавление!$E$23,\"по запросу\")","v":498282.01360000001},{"$f":"IFERROR(G79*(1-Оглавление!$D$32),\"по запросу\")","v":498282.01360000001},4970.8900000000003,"шт",null,0,0]
[null,"IHIC400","Отвод ХПВХ 45° клеевой 400 IPS",10,"Фитинги","RUB",{"$f":"IFERROR(I80*Оглавление!$E$23,\"по запросу\")","v":592317.15759999992},{"$f":"IFERROR(G80*(1-Оглавление!$D$32),\"по запросу\")","v":592317.15759999992},5908.99,"шт",null,0,0]
[null,"ITIC020","Тройник ХПВХ 90° клеевой 20 IPS",16,"Фитинги","RUB",{"$f":"IFERROR(I81*Оглавление!$E$23,\"по запросу\")","v":462.10640000000001},{"$f":"IFERROR(G81*(1-Оглавление!$D$32),\"по запросу\")","v":462.10640000000001},4.6100000000000003,"шт",null,0,0]
[null,"ITIC025","Тройник ХПВХ 90° клеевой 25 IPS",16,"Фитинги","RUB",{"$f":"IFERROR(I82*Оглавление!$E$23,\"по запросу\")","v":573.37279999999998},{"$f":"IFERROR(G82*(1-Оглавление!$D$32),\"по запросу\")","v":573.37279999999998},5.72,"шт",null,0,0]
[null,"ITIC032","Тройник ХПВХ 90° клеевой 32 IPS",16,"Фитинги","RUB",{"$f":"IFERROR(I83*Оглавление!$E$23,\"по запросу\")","v":696.66800000000001},{"$f":"IFERROR(G83*(1-Оглавление!$D$32),\"по запросу\")","v":696.66800000000001},6.95,"шт",null,0,0]
[null,"ITIC040","Тройник ХПВХ 90° клеевой 40 IPS",16,"Фитинги","RUB",{"$f":"IFERROR(I84*Оглавление!$E$23,\"по запросу\")","v":959.29679999999996},{"$f":"IFERROR(G84*(1-Оглавление!$D$32),\"по запросу\")","v":959.29679999999996},9.57,"шт",null,0,0]
[null,"ITIC050","Тройник ХПВХ 90° клеевой 50 IPS",16,"Фитинги","RUB",{"$f":"IFERROR(I85*Оглавление!$E$23,\"по запросу\")","v":1613.864},{"$f":"IFERROR(G85*(1-Оглавление!$D$32),\"по запросу\")","v":1613.864},16.100000000000001,"шт",null,0,0]
[null,"ITIC063","Тройник ХПВХ 90° клеевой 63 IPS",16,"Фитинги","RUB",{"$f":"IFERROR(I86*Оглавление!$E$23,\"по запросу\")","v":2186.2343999999998},{"$f":"IFERROR(G86*(1-Оглавление!$D$32),\"по запросу\")","v":2186.2343999999998},21.81,"шт",null,0,0]
[null,"ITIC075","Тройник ХПВХ 90° клеевой 75 IPS",16,"Фитинги","RUB",{"$f":"IFERROR(I87*Оглавление!$E$23,\"по запросу\")","v":4514.8095999999996},{"$f":"IFERROR(G87*(1-Оглавление!$D$32),\"по запросу\")","v":4514.8095999999996},45.04,"шт",null,0,0]
[null,"ITIC090","Тройник ХПВХ 90° клеевой 90 IPS",16,"Фитинги","RUB",{"$f":"IFERROR(I88*Оглавление!$E$23,\"по запросу\")","v":6510.5879999999997},{"$f":"IFERROR(G88*(1-Оглавление!$D$32),\"по запросу\")","v":6510.5879999999997},64.95,"шт",null,0,0]
[null,"ITIC110","Тройник ХПВХ 90° клеевой 110 IPS",16,"Фитинги","RUB",{"$f":"IFERROR(I89*Оглавление!$E$23,\"по запросу\")","v":10043.045599999999},{"$f":"IFERROR(G89*(1-Оглавление!$D$32),\"по запросу\")","v":10043.045599999999},100.19,"шт",null,0,0]
[null,"ITIC140","Тройник ХПВХ 90° клеевой 140 IPS",16,"Фитинги","RUB",{"$f":"IFERROR(I90*Оглавление!$E$23,\"по запросу\")","v":25203.343199999999},{"$f":"IFERROR(G90*(1-Оглавление!$D$32),\"по запросу\")","v":25203.343199999999},251.43,"шт",null,0,0]
[null,"ITIC160","Тройник ХПВХ 90° клеевой 160 IPS",16,"Фитинги","RUB",{"$f":"IFERROR(I91*Оглавление!$E$23,\"по запросу\")","v":31114.495999999996},{"$f":"IFERROR(G91*(1-Оглавление!$D$32),\"по запросу\")","v":31114.495999999996},310.39999999999998,"шт",null,0,0]
[null,"ITIC225","Тройник ХПВХ 90° клеевой 225 IPS",16,"Фитинги","RUB",{"$f":"IFERROR(I92*Оглавление!$E$23,\"по запросу\")","v":95298.168000000005},{"$f":"IFERROR(G92*(1-Оглавление!$D$32),\"по запросу\")","v":95298.168000000005},950.7,"шт",null,0,0]
[null,"ITIC280","Тройник ХПВХ 90° клеевой 280 IPS",10,"Фитинги","RUB",{"$f":"IFERROR(I93*Оглавление!$E$23,\"по запросу\")","v":104536.28639999998},{"$f":"IFERROR(G93*(1-Оглавление!$D$32),\"по запросу\")","v":104536.28639999998},1042.8599999999999,"шт",null,0,{"$f":"IFERROR(K93*H93,\"0 ₽\")","v":0}]
[null,"ITIC315","Тройник ХПВХ 90° клеевой 315 IPS",10,"Фитинги","RUB",{"$f":"IFERROR(I94*Оглавление!$E$23,\"по запросу\")","v":236384.9656},{"$f":"IFERROR(G94*(1-Оглавление!$D$32),\"по запросу\")","v":236384.9656},2358.19,"шт",null,{"$f":"IFERROR(K94*G94,\"0 ₽\")","v":0},0]
[null,"ITIC355","Тройник ХПВХ 90° клеевой 355 IPS",10,"Фитинги","RUB",{"$f":"IFERROR(I95*Оглавление!$E$23,\"по запросу\")","v":453844.61919999996},{"$f":"IFERROR(G95*(1-Оглавление!$D$32),\"по запросу\")","v":453844.61919999996},4527.58,"шт",null,0,0]
[null,"ITIC400","Тройник ХПВХ 90° клеевой 400 IPS",10,"Фитинги","RUB",{"$f":"IFERROR(I96*Оглавление!$E$23,\"по запросу\")","v":645787.17839999998},{"$f":"IFERROR(G96*(1-Оглавление!$D$32),\"по запросу\")","v":645787.17839999998},6442.41,"шт",null,0,0]
[null,"ITIC450","Тройник ХПВХ 90° клеевой 450 IPS",10,"Фитинги","RUB",{"$f":"IFERROR(I97*Оглавление!$E$23,\"по запросу\")","v":887956.99439999985},{"$f":"IFERROR(G97*(1-Оглавление!$D$32),\"по запросу\")","v":887956.99439999985},8858.31,"шт",null,0,0]
[null,"ITIC500","Тройник ХПВХ 90° клеевой 500 IPS",10,"Фитинги","RUB",{"$f":"IFERROR(I98*Оглавление!$E$23,\"по запросу\")","v":1089765.1743999999},{"$f":"IFERROR(G98*(1-Оглавление!$D$32),\"по запросу\")","v":1089765.1743999999},10871.56,"шт",null,0,0]
[null,"ITRIC025020","Тройник переходной ХПВХ 90° клеевой 25x20 IPS",16,"Фитинги","RUB",{"$f":"IFERROR(I99*Оглавление!$E$23,\"по запросу\")","v":491.17599999999999},{"$f":"IFERROR(G99*(1-Оглавление!$D$32),\"по запросу\")","v":491.17599999999999},4.9000000000000004,"шт",null,0,0]
[null,"ITRIC032020","Тройник переходной ХПВХ 90° клеевой 32x20 IPS",16,"Фитинги","RUB",{"$f":"IFERROR(I100*Оглавление!$E$23,\"по запросу\")","v":788.88879999999995},{"$f":"IFERROR(G100*(1-Оглавление!$D$32),\"по запросу\")","v":788.88879999999995},7.87,"шт",null,0,0]
[null,"ITRIC032025","Тройник переходной ХПВХ 90° клеевой 32x25 IPS",16,"Фитинги","RUB",{"$f":"IFERROR(I101*Оглавление!$E$23,\"по запросу\")","v":798.91279999999995},{"$f":"IFERROR(G101*(1-Оглавление!$D$32),\"по запросу\")","v":798.91279999999995},7.97,"шт",null,0,0]
[null,"ITRIC040020","Тройник переходной ХПВХ 90° клеевой 40x20 IPS",16,"Фитинги","RUB",{"$f":"IFERROR(I102*Оглавление!$E$23,\"по запросу\")","v":1169.8008},{"$f":"IFERROR(G102*(1-Оглавление!$D$32),\"по запросу\")","v":1169.8008},11.67,"шт",null,0,0]
[null,"ITRIC040025","Тройник переходной ХПВХ 90° клеевой 40x25 IPS",16,"Фитинги","RUB",{"$f":"IFERROR(I103*Оглавление!$E$23,\"по запросу\")","v":1215.9112},{"$f":"IFERROR(G103*(1-Оглавление!$D$32),\"по запросу\")","v":1215.9112},12.13,"шт",null,0,0]
[null,"ITRIC040032","Тройник переходной ХПВХ 90° клеевой 40x32 IPS",16,"Фитинги","RUB",{"$f":"IFERROR(I104*Оглавление!$E$23,\"по запросу\")","v":885.11919999999998},{"$f":"IFERROR(G104*(1-Оглавление!$D$32),\"по запросу\")","v":885.11919999999998},8.83,"шт",null,0,0]
[null,"ITRIC050020","Тройник переходной ХПВХ 90° клеевой 50x20 IPS",16,"Фитинги","RUB",{"$f":"IFERROR(I105*Оглавление!$E$23,\"по запросу\")","v":1839.404},{"$f":"IFERROR(G105*(1-Оглавление!$D$32),\"по запросу\")","v":1839.404},18.350000000000001,"шт",null,0,0]
[null,"ITRIC050025","Тройник переходной ХПВХ 90° клеевой 50x25 IPS",16,"Фитинги","RUB",{"$f":"IFERROR(I106*Оглавление!$E$23,\"по запросу\")","v":2069.9559999999997},{"$f":"IFERROR(G106*(1-Оглавление!$D$32),\"по запросу\")","v":2069.9559999999997},20.65,"шт",null,0,0]
[null,"ITRIC050032","Тройник переходной ХПВХ 90° клеевой 50x32 IPS",16,"Фитинги","RUB",{"$f":"IFERROR(I107*Оглавление!$E$23,\"по запросу\")","v":2100.0279999999998},{"$f":"IFERROR(G107*(1-Оглавление!$D$32),\"по запросу\")","v":2100.0279999999998},20.95,"шт",null,0,0]
[null,"ITRIC050040","Тройник переходной ХПВХ 90° клеевой 50x40 IPS",16,"Фитинги","RUB",{"$f":"IFERROR(I108*Оглавление!$E$23,\"по запросу\")","v":2184.2295999999997},{"$f":"IFERROR(G108*(1-Оглавление!$D$32),\"по запросу\")","v":2184.2295999999997},21.79,"шт",null,0,0]
[null,"ITRIC063020","Тройник переходной ХПВХ 90° клеевой 63x20 IPS",16,"Фитинги","RUB",{"$f":"IFERROR(I109*Оглавление!$E$23,\"по запросу\")","v":2709.4872},{"$f":"IFERROR(G109*(1-Оглавление!$D$32),\"по запросу\")","v":2709.4872},27.03,"шт",null,0,0]
[null,"ITRIC063025","Тройник переходной ХПВХ 90° клеевой 63x25 IPS",16,"Фитинги","RUB",{"$f":"IFERROR(I110*Оглавление!$E$23,\"по запросу\")","v":3025.2431999999999},{"$f":"IFERROR(G110*(1-Оглавление!$D$32),\"по запросу\")","v":3025.2431999999999},30.18,"шт",null,0,0]
[null,"ITRIC063032","Тройник переходной ХПВХ 90° клеевой 63x32 IPS",16,"Фитинги","RUB",{"$f":"IFERROR(I111*Оглавление!$E$23,\"по запросу\")","v":3033.2624000000001},{"$f":"IFERROR(G111*(1-Оглавление!$D$32),\"по запросу\")","v":3033.2624000000001},30.26,"шт",null,0,0]
[null,"ITRIC063040","Тройник переходной ХПВХ 90° клеевой 63x40 IPS",16,"Фитинги","RUB",{"$f":"IFERROR(I112*Оглавление!$E$23,\"по запросу\")","v":3606.6351999999997},{"$f":"IFERROR(G112*(1-Оглавление!$D$32),\"по запросу\")","v":3606.6351999999997},35.979999999999997,"шт",null,0,0]
[null,"ITRIC063050","Тройник переходной ХПВХ 90° клеевой 63x50 IPS",16,"Фитинги","RUB",{"$f":"IFERROR(I113*Оглавление!$E$23,\"по запросу\")","v":3764.0119999999997},{"$f":"IFERROR(G113*(1-Оглавление!$D$32),\"по запросу\")","v":3764.0119999999997},37.549999999999997,"шт",null,0,0]
[null,"ITRIC075032","Тройник переходной ХПВХ 90° клеевой 75x32 IPS",16,"Фитинги","RUB",{"$f":"IFERROR(I114*Оглавление!$E$23,\"по запросу\")","v":4319.3415999999997},{"$f":"IFERROR(G114*(1-Оглавление!$D$32),\"по запросу\")","v":4319.3415999999997},43.09,"шт",null,0,0]
[null,"ITRIC075040","Тройник переходной ХПВХ 90° клеевой 75x40 IPS",16,"Фитинги","RUB",{"$f":"IFERROR(I115*Оглавление!$E$23,\"по запросу\")","v":4384.4975999999997},{"$f":"IFERROR(G115*(1-Оглавление!$D$32),\"по запросу\")","v":4384.4975999999997},43.74,"шт",null,0,0]
[null,"ITRIC075050","Тройник переходной ХПВХ 90° клеевой 75x50 IPS",16,"Фитинги","RUB",{"$f":"IFERROR(I116*Оглавление!$E$23,\"по запросу\")","v":4548.8912},{"$f":"IFERROR(G116*(1-Оглавление!$D$32),\"по запросу\")","v":4548.8912},45.38,"шт",null,0,0]
[null,"ITRIC075063","Тройник переходной ХПВХ 90° клеевой 75x63 IPS",16,"Фитинги","RUB",{"$f":"IFERROR(I117*Оглавление!$E$23,\"по запросу\")","v":4839.5871999999999},{"$f":"IFERROR(G117*(1-Оглавление!$D$32),\"по запросу\")","v":4839.5871999999999},48.28,"шт",null,0,0]
[null,"ITRIC090032","Тройник переходной ХПВХ 90° клеевой 90x32 IPS",16,"Фитинги","RUB",{"$f":"IFERROR(I118*Оглавление!$E$23,\"по запросу\")","v":11439.388800000001},{"$f":"IFERROR(G118*(1-Оглавление!$D$32),\"по запросу\")","v":11439.388800000001},114.12,"шт",null,{"$f":"IFERROR(K118*G118,\"0 ₽\")","v":0},{"$f":"IFERROR(K118*H118,\"0 ₽\")","v":0}]
[null,"ITRIC090040","Тройник переходной ХПВХ 90° клеевой 90x40 IPS",16,"Фитинги","RUB",{"$f":"IFERROR(I119*Оглавление!$E$23,\"по запросу\")","v":11843.356},{"$f":"IFERROR(G119*(1-Оглавление!$D$32),\"по запросу\")","v":11843.356},118.15,"шт",null,0,0]
[null,"ITRIC090050","Тройник переходной ХПВХ 90° клеевой 90x50 IPS",16,"Фитинги","RUB",{"$f":"IFERROR(I120*Оглавление!$E$23,\"по запросу\")","v":7303.4863999999998},{"$f":"IFERROR(G120*(1-Оглавление!$D$32),\"по запросу\")","v":7303.4863999999998},72.86,"шт",null,0,0]
[null,"ITRIC090063","Тройник переходной ХПВХ 90° клеевой 90x63 IPS",16,"Фитинги","RUB",{"$f":"IFERROR(I121*Оглавление!$E$23,\"по запросу\")","v":8157.5311999999994},{"$f":"IFERROR(G121*(1-Оглавление!$D$32),\"по запросу\")","v":8157.5311999999994},81.38,"шт",null,0,0]
[null,"ITRIC090075","Тройник переходной ХПВХ 90° клеевой 90x75 IPS",16,"Фитинги","RUB",{"$f":"IFERROR(I122*Оглавление!$E$23,\"по запросу\")","v":7670.3647999999994},{"$f":"IFERROR(G122*(1-Оглавление!$D$32),\"по запросу\")","v":7670.3647999999994},76.52,"шт",null,0,0]
[null,"ITRIC110050","Тройник переходной ХПВХ 90° клеевой 110x50 IPS",16,"Фитинги","RUB",{"$f":"IFERROR(I123*Оглавление!$E$23,\"по запросу\")","v":10250.5424},{"$f":"IFERROR(G123*(1-Оглавление!$D$32),\"по запросу\")","v":10250.5424},102.26,"шт",null,0,0]
[null,"ITRIC110063","Тройник переходной ХПВХ 90° клеевой 110x63 IPS",16,"Фитинги","RUB",{"$f":"IFERROR(I124*Оглавление!$E$23,\"по запросу\")","v":10709.641599999999},{"$f":"IFERROR(G124*(1-Оглавление!$D$32),\"по запросу\")","v":10709.641599999999},106.84,"шт",null,0,0]
[null,"ITRIC110075","Тройник переходной ХПВХ 90° клеевой 110x75 IPS",16,"Фитинги","RUB",{"$f":"IFERROR(I125*Оглавление!$E$23,\"по запросу\")","v":11578.722400000001},{"$f":"IFERROR(G125*(1-Оглавление!$D$32),\"по запросу\")","v":11578.722400000001},115.51,"шт",null,0,0]
[null,"ITRIC110090","Тройник переходной ХПВХ 90° клеевой 110x90 IPS",16,"Фитинги","RUB",{"$f":"IFERROR(I126*Оглавление!$E$23,\"по запросу\")","v":13064.279200000001},{"$f":"IFERROR(G126*(1-Оглавление!$D$32),\"по запросу\")","v":13064.279200000001},130.33000000000001,"шт",null,0,0]
[null,"ITRIC140090","Тройник переходной ХПВХ 90° клеевой 140x90 IPS",16,"Фитинги","RUB",{"$f":"IFERROR(I127*Оглавление!$E$23,\"по запросу\")","v":22851.712799999998},{"$f":"IFERROR(G127*(1-Оглавление!$D$32),\"по запросу\")","v":22851.712799999998},227.97,"шт",null,0,0]
[null,"ITRIC140110","Тройник переходной ХПВХ 90° клеевой 140x110 IPS",16,"Фитинги","RUB",{"$f":"IFERROR(I128*Оглавление!$E$23,\"по запросу\")","v":23994.448799999998},{"$f":"IFERROR(G128*(1-Оглавление!$D$32),\"по запросу\")","v":23994.448799999998},239.37,"шт",null,0,0]
[null,"ITRIC160063","Тройник переходной ХПВХ 90° клеевой 160x63 IPS",16,"Фитинги","RUB",{"$f":"IFERROR(I129*Оглавление!$E$23,\"по запросу\")","v":33544.313599999994},{"$f":"IFERROR(G129*(1-Оглавление!$D$32),\"по запросу\")","v":33544.313599999994},334.64,"шт",null,0,0]
[null,"ITRIC160075","Тройник переходной ХПВХ 90° клеевой 160x75 IPS",16,"Фитинги","RUB",{"$f":"IFERROR(I130*Оглавление!$E$23,\"по запросу\")","v":34382.32},{"$f":"IFERROR(G130*(1-Оглавление!$D$32),\"по запросу\")","v":34382.32},343,"шт",null,0,0]
[null,"ITRIC160090","Тройник переходной ХПВХ 90° клеевой 160x90 IPS",16,"Фитинги","RUB",{"$f":"IFERROR(I131*Оглавление!$E$23,\"по запросу\")","v":35221.328799999996},{"$f":"IFERROR(G131*(1-Оглавление!$D$32),\"по запросу\")","v":35221.328799999996},351.37,"шт",null,0,0]
[null,"ITRIC160110","Тройник переходной ХПВХ 90° клеевой 160x110 IPS",16,"Фитинги","RUB",{"$f":"IFERROR(I132*Оглавление!$E$23,\"по запросу\")","v":36059.335200000001},{"$f":"IFERROR(G132*(1-Оглавление!$D$32),\"по запросу\")","v":36059.335200000001},359.73,"шт",null,0,0]
[null,"ITRIC160140","Тройник переходной ХПВХ 90° клеевой 160x140 IPS",16,"Фитинги","RUB",{"$f":"IFERROR(I133*Оглавление!$E$23,\"по запросу\")","v":36898.343999999997},{"$f":"IFERROR(G133*(1-Оглавление!$D$32),\"по запросу\")","v":36898.343999999997},368.1,"шт",null,0,0]
[null,"ITRIC225063","Тройник переходной ХПВХ 90° клеевой 225x63 IPS",16,"Фитинги","RUB",{"$f":"IFERROR(I134*Оглавление!$E$23,\"по запросу\")","v":110558.7056},{"$f":"IFERROR(G134*(1-Оглавление!$D$32),\"по запросу\")","v":110558.7056},1102.94,"шт",null,0,0]
[null,"ITRIC225075","Тройник переходной ХПВХ 90° клеевой 225x75 IPS",16,"Фитинги","RUB",{"$f":"IFERROR(I135*Оглавление!$E$23,\"по запросу\")","v":115477.48239999999},{"$f":"IFERROR(G135*(1-Оглавление!$D$32),\"по запросу\")","v":115477.48239999999},1152.01,"шт",null,0,0]
[null,"ITRIC225090","Тройник переходной ХПВХ 90° клеевой 225x90 IPS",16,"Фитинги","RUB",{"$f":"IFERROR(I136*Оглавление!$E$23,\"по запросу\")","v":110818.32719999999},{"$f":"IFERROR(G136*(1-Оглавление!$D$32),\"по запросу\")","v":110818.32719999999},1105.53,"шт",null,0,0]
[null,"ITRIC225110","Тройник переходной ХПВХ 90° клеевой 225x110 IPS",16,"Фитинги","RUB",{"$f":"IFERROR(I137*Оглавление!$E$23,\"по запросу\")","v":117189.58159999999},{"$f":"IFERROR(G137*(1-Оглавление!$D$32),\"по запросу\")","v":117189.58159999999},1169.0899999999999,"шт",null,0,0]
[null,"ITRIC225160","Тройник переходной ХПВХ 90° клеевой 225x160 IPS",16,"Фитинги","RUB",{"$f":"IFERROR(I138*Оглавление!$E$23,\"по запросу\")","v":142412.97279999999},{"$f":"IFERROR(G138*(1-Оглавление!$D$32),\"по запросу\")","v":142412.97279999999},1420.72,"шт",null,0,0]
[null,"ITRIC280110","Тройник переходной ХПВХ 90° клеевой 280x110 IPS",10,"Фитинги","RUB",{"$f":"IFERROR(I139*Оглавление!$E$23,\"по запросу\")","v":227973.8272},{"$f":"IFERROR(G139*(1-Оглавление!$D$32),\"по запросу\")","v":227973.8272},2274.2800000000002,"шт",null,0,0]
[null,"ITRIC280140","Тройник переходной ХПВХ 90° клеевой 280x140 IPS",10,"Фитинги","RUB",{"$f":"IFERROR(I140*Оглавление!$E$23,\"по запросу\")","v":233672.4712},{"$f":"IFERROR(G140*(1-Оглавление!$D$32),\"по запросу\")","v":233672.4712},2331.13,"шт",null,0,0]
[null,"ITRIC280160","Тройник переходной ХПВХ 90° клеевой 280x160 IPS",10,"Фитинги","RUB",{"$f":"IFERROR(I141*Оглавление!$E$23,\"по запросу\")","v":235223.18399999998},{"$f":"IFERROR(G141*(1-Оглавление!$D$32),\"по запросу\")","v":235223.18399999998},2346.6,"шт",null,0,0]
[null,"ITRIC280225","Тройник переходной ХПВХ 90° клеевой 280x225 IPS",10,"Фитинги","RUB",{"$f":"IFERROR(I142*Оглавление!$E$23,\"по запросу\")","v":237160.82319999998},{"$f":"IFERROR(G142*(1-Оглавление!$D$32),\"по запросу\")","v":237160.82319999998},2365.9299999999998,"шт",null,0,0]
[null,"ITRIC315225","Тройник переходной ХПВХ 90° клеевой 315x225 IPS",10,"Фитинги","RUB",{"$f":"IFERROR(I143*Оглавление!$E$23,\"по запросу\")","v":280445.45759999997},{"$f":"IFERROR(G143*(1-Оглавление!$D$32),\"по запросу\")","v":280445.45759999997},2797.74,"шт",null,0,0]
[null,"ITRIC315280","Тройник переходной ХПВХ 90° клеевой 315x280 IPS",10,"Фитинги","RUB",{"$f":"IFERROR(I144*Оглавление!$E$23,\"по запросу\")","v":340392.98719999997},{"$f":"IFERROR(G144*(1-Оглавление!$D$32),\"по запросу\")","v":340392.98719999997},3395.78,"шт",null,0,0]
[null,"ITRIC355160","Тройник переходной ХПВХ 90° клеевой 355x160 IPS",10,"Фитинги","RUB",{"$f":"IFERROR(I145*Оглавление!$E$23,\"по запросу\")","v":560059.92559999996},{"$f":"IFERROR(G145*(1-Оглавление!$D$32),\"по запросу\")","v":560059.92559999996},5587.19,"шт",null,0,0]
[null,"ITRIC355225","Тройник переходной ХПВХ 90° клеевой 355x225 IPS",10,"Фитинги","RUB",{"$f":"IFERROR(I146*Оглавление!$E$23,\"по запросу\")","v":577911.66719999991},{"$f":"IFERROR(G146*(1-Оглавление!$D$32),\"по запросу\")","v":577911.66719999991},5765.28,"шт",null,0,0]
[null,"ITRIC355280","Тройник переходной ХПВХ 90° клеевой 355x280 IPS",10,"Фитинги","RUB",{"$f":"IFERROR(I147*Оглавление!$E$23,\"по запросу\")","v":665194.64480000001},{"$f":"IFERROR(G147*(1-Оглавление!$D$32),\"по запросу\")","v":665194.64480000001},6636.02,"шт",null,0,0]
[null,"ITRIC355315","Тройник переходной ХПВХ 90° клеевой 355x315 IPS",10,"Фитинги","RUB",{"$f":"IFERROR(I148*Оглавление!$E$23,\"по запросу\")","v":700428.0024},{"$f":"IFERROR(G148*(1-Оглавление!$D$32),\"по запросу\")","v":700428.0024},6987.51,"шт",null,0,0]
[null,"ITRIC400315","Тройник переходной ХПВХ 90° клеевой 400x315 IPS",10,"Фитинги","RUB",{"$f":"IFERROR(I149*Оглавление!$E$23,\"по запросу\")","v":730009.8287999999},{"$f":"IFERROR(G149*(1-Оглавление!$D$32),\"по запросу\")","v":730009.8287999999},7282.62,"шт",null,0,0]
[null,"ITRIC400355","Тройник переходной ХПВХ 90° клеевой 400x355 IPS",10,"Фитинги","RUB",{"$f":"IFERROR(I150*Оглавление!$E$23,\"по запросу\")","v":764490.38399999996},{"$f":"IFERROR(G150*(1-Оглавление!$D$32),\"по запросу\")","v":764490.38399999996},7626.6,"шт",null,0,0]
[null,"ITRIC450315","Тройник переходной ХПВХ 90° клеевой 450x315 IPS",10,"Фитинги","RUB",{"$f":"IFERROR(I151*Оглавление!$E$23,\"по запросу\")","v":997791.96720000007},{"$f":"IFERROR(G151*(1-Оглавление!$D$32),\"по запросу\")","v":997791.96720000007},9954.0300000000007,"шт",null,0,0]
[null,"ITRIC450355","Тройник переходной ХПВХ 90° клеевой 450x355 IPS",10,"Фитинги","RUB",{"$f":"IFERROR(I152*Оглавление!$E$23,\"по запросу\")","v":1011064.7456},{"$f":"IFERROR(G152*(1-Оглавление!$D$32),\"по запросу\")","v":1011064.7456},10086.44,"шт",null,0,0]
[null,"ITRIC450400","Тройник переходной ХПВХ 90° клеевой 450x400 IPS",10,"Фитинги","RUB",{"$f":"IFERROR(I153*Оглавление!$E$23,\"по запросу\")","v":1051213.8727999998},{"$f":"IFERROR(G153*(1-Оглавление!$D$32),\"по запросу\")","v":1051213.8727999998},10486.97,"шт",null,0,0]
[null,"ITRIC500315","Тройник переходной ХПВХ 90° клеевой 500x315 IPS",10,"Фитинги","RUB",{"$f":"IFERROR(I154*Оглавление!$E$23,\"по запросу\")","v":1194515.9743999999},{"$f":"IFERROR(G154*(1-Оглавление!$D$32),\"по запросу\")","v":1194515.9743999999},11916.56,"шт",null,0,0]
[null,"ITRIC500355","Тройник переходной ХПВХ 90° клеевой 500x355 IPS",10,"Фитинги","RUB",{"$f":"IFERROR(I155*Оглавление!$E$23,\"по запросу\")","v":1223957.4648},{"$f":"IFERROR(G155*(1-Оглавление!$D$32),\"по запросу\")","v":1223957.4648},12210.27,"шт",null,0,0]
[null,"ITRIC500400","Тройник переходной ХПВХ 90° клеевой 500x400 IPS",10,"Фитинги","RUB",{"$f":"IFERROR(I156*Оглавление!$E$23,\"по запросу\")","v":1263830.9319999998},{"$f":"IFERROR(G156*(1-Оглавление!$D$32),\"по запросу\")","v":1263830.9319999998},12608.05,"шт",null,0,0]
[null,"ITRIC500450","Тройник переходной ХПВХ 90° клеевой 500x450 IPS",10,"Фитинги","RUB",{"$f":"IFERROR(I157*Оглавление!$E$23,\"по запросу\")","v":1290125.8888000001},{"$f":"IFERROR(G157*(1-Оглавление!$D$32),\"по запросу\")","v":1290125.8888000001},12870.37,"шт",null,0,0]
[null,"IMIC020","Муфта ХПВХ клеевая 20 IPS",16,"Фитинги","RUB",{"$f":"IFERROR(I158*Оглавление!$E$23,\"по запросу\")","v":310.74399999999997},{"$f":"IFERROR(G158*(1-Оглавление!$D$32),\"по запросу\")","v":310.74399999999997},3.1,"шт",null,{"$f":"IFERROR(K158*G158,\"0 ₽\")","v":0},{"$f":"IFERROR(K158*H158,\"0 ₽\")","v":0}]
[null,"IMIC025","Муфта ХПВХ клеевая 25 IPS",16,"Фитинги","RUB",{"$f":"IFERROR(I159*Оглавление!$E$23,\"по запросу\")","v":346.8304},{"$f":"IFERROR(G159*(1-Оглавление!$D$32),\"по запросу\")","v":346.8304},3.46,"шт",null,0,0]
[null,"IMIC032","Муфта ХПВХ клеевая 32 IPS",16,"Фитинги","RUB",{"$f":"IFERROR(I160*Оглавление!$E$23,\"по запросу\")","v":423.01279999999997},{"$f":"IFERROR(G160*(1-Оглавление!$D$32),\"по запросу\")","v":423.01279999999997},4.22,"шт",null,0,0]
[null,"IMIC040","Муфта ХПВХ клеевая 40 IPS",16,"Фитинги","RUB",{"$f":"IFERROR(I161*Оглавление!$E$23,\"по запросу\")","v":462.10640000000001},{"$f":"IFERROR(G161*(1-Оглавление!$D$32),\"по запросу\")","v":462.10640000000001},4.6100000000000003,"шт",null,0,0]
[null,"IMIC050","Муфта ХПВХ клеевая 50 IPS",16,"Фитинги","RUB",{"$f":"IFERROR(I162*Оглавление!$E$23,\"по запросу\")","v":769.84319999999991},{"$f":"IFERROR(G162*(1-Оглавление!$D$32),\"по запросу\")","v":769.84319999999991},7.68,"шт",null,0,0]
[null,"IMIC063","Муфта ХПВХ клеевая 63 IPS",16,"Фитинги","RUB",{"$f":"IFERROR(I163*Оглавление!$E$23,\"по запросу\")","v":1186.8416},{"$f":"IFERROR(G163*(1-Оглавление!$D$32),\"по запросу\")","v":1186.8416},11.84,"шт",null,0,0]
[null,"IMIC075","Муфта ХПВХ клеевая 75 IPS",16,"Фитинги","RUB",{"$f":"IFERROR(I164*Оглавление!$E$23,\"по запросу\")","v":1766.2288000000001},{"$f":"IFERROR(G164*(1-Оглавление!$D$32),\"по запросу\")","v":1766.2288000000001},17.62,"шт",null,0,0]
[null,"IMIC090","Муфта ХПВХ клеевая 90 IPS",16,"Фитинги","RUB",{"$f":"IFERROR(I165*Оглавление!$E$23,\"по запросу\")","v":2991.1615999999999},{"$f":"IFERROR(G165*(1-Оглавление!$D$32),\"по запросу\")","v":2991.1615999999999},29.84,"шт",null,0,0]
[null,"IMIC110","Муфта ХПВХ клеевая 110 IPS",16,"Фитинги","RUB",{"$f":"IFERROR(I166*Оглавление!$E$23,\"по запросу\")","v":5439.0223999999998},{"$f":"IFERROR(G166*(1-Оглавление!$D$32),\"по запросу\")","v":5439.0223999999998},54.26,"шт",null,0,0]
[null,"IMIC140","Муфта ХПВХ клеевая 140 IPS",16,"Фитинги","RUB",{"$f":"IFERROR(I167*Оглавление!$E$23,\"по запросу\")","v":12228.277599999999},{"$f":"IFERROR(G167*(1-Оглавление!$D$32),\"по запросу\")","v":12228.277599999999},121.99,"шт",null,0,0]
[null,"IMIC160","Муфта ХПВХ клеевая 160 IPS",16,"Фитинги","RUB",{"$f":"IFERROR(I168*Оглавление!$E$23,\"по запросу\")","v":12717.4488},{"$f":"IFERROR(G168*(1-Оглавление!$D$32),\"по запросу\")","v":12717.4488},126.87,"шт",null,0,0]
[null,"IMIC225","Муфта ХПВХ клеевая 225 IPS",16,"Фитинги","RUB",{"$f":"IFERROR(I169*Оглавление!$E$23,\"по запросу\")","v":40388.700799999999},{"$f":"IFERROR(G169*(1-Оглавление!$D$32),\"по запросу\")","v":40388.700799999999},402.92,"шт",null,0,0]
[null,"IMIC280","Муфта ХПВХ клеевая 280 IPS",10,"Фитинги","RUB",{"$f":"IFERROR(I170*Оглавление!$E$23,\"по запросу\")","v":58735.628000000004},{"$f":"IFERROR(G170*(1-Оглавление!$D$32),\"по запросу\")","v":58735.628000000004},585.95000000000005,"шт",null,0,0]
[null,"IMIC315","Муфта ХПВХ клеевая 315 IPS",10,"Фитинги","RUB",{"$f":"IFERROR(I171*Оглавление!$E$23,\"по запросу\")","v":100865.4976},{"$f":"IFERROR(G171*(1-Оглавление!$D$32),\"по запросу\")","v":100865.4976},1006.24,"шт",null,0,{"$f":"IFERROR(K171*H171,\"0 ₽\")","v":0}]
[null,"IMIC355","Муфта ХПВХ клеевая 355 IPS",10,"Фитинги","RUB",{"$f":"IFERROR(I172*Оглавление!$E$23,\"по запросу\")","v":293019.56319999998},{"$f":"IFERROR(G172*(1-Оглавление!$D$32),\"по запросу\")","v":293019.56319999998},2923.18,"шт",null,{"$f":"IFERROR(K172*G172,\"0 ₽\")","v":0},0]
[null,"IMIC400","Муфта ХПВХ клеевая 400 IPS",10,"Фитинги","RUB",{"$f":"IFERROR(I173*Оглавление!$E$23,\"по запросу\")","v":357884.86719999998},{"$f":"IFERROR(G173*(1-Оглавление!$D$32),\"по запросу\")","v":357884.86719999998},3570.28,"шт",null,0,0]
[null,"IMIC450","Муфта ХПВХ клеевая 450 IPS",10,"Фитинги","RUB",{"$f":"IFERROR(I174*Оглавление!$E$23,\"по запросу\")","v":677722.64},{"$f":"IFERROR(G174*(1-Оглавление!$D$32),\"по запросу\")","v":677722.64},6761,"шт",null,0,0]
[null,"IMIC500","Муфта ХПВХ клеевая 500 IPS",10,"Фитинги","RUB",{"$f":"IFERROR(I175*Оглавление!$E$23,\"по запросу\")","v":772841.37839999993},{"$f":"IFERROR(G175*(1-Оглавление!$D$32),\"по запросу\")","v":772841.37839999993},7709.91,"шт",null,0,0]
[null,"IMIC630","Муфта ХПВХ клеевая 630 IPS",10,"Фитинги","RUB",{"$f":"IFERROR(I176*Оглавление!$E$23,\"по запросу\")","v":879849.58319999999},{"$f":"IFERROR(G176*(1-Оглавление!$D$32),\"по запросу\")","v":879849.58319999999},8777.43,"шт",null,0,0]
[null,"IMRIC025020","Муфта ХПВХ переходная клеевая 25x20 IPS",16,"Фитинги","RUB",{"$f":"IFERROR(I177*Оглавление!$E$23,\"по запросу\")","v":241.57839999999999},{"$f":"IFERROR(G177*(1-Оглавление!$D$32),\"по запросу\")","v":241.57839999999999},2.41,"шт",null,{"$f":"IFERROR(K177*G177,\"0 ₽\")","v":0},{"$f":"IFERROR(K177*H177,\"0 ₽\")","v":0}]
[null,"IMRIC032020","Муфта ХПВХ переходная клеевая 32x20 IPS",16,"Фитинги","RUB",{"$f":"IFERROR(I178*Оглавление!$E$23,\"по запросу\")","v":334.80159999999995},{"$f":"IFERROR(G178*(1-Оглавление!$D$32),\"по запросу\")","v":334.80159999999995},3.34,"шт",null,0,0]
[null,"IMRIC032025","Муфта ХПВХ переходная клеевая 32x25 IPS",16,"Фитинги","RUB",{"$f":"IFERROR(I179*Оглавление!$E$23,\"по запросу\")","v":362.86879999999996},{"$f":"IFERROR(G179*(1-Оглавление!$D$32),\"по запросу\")","v":362.86879999999996},3.62,"шт",null,0,0]
[null,"IMRIC040020","Муфта ХПВХ переходная клеевая 40x20 IPS",16,"Фитинги","RUB",{"$f":"IFERROR(I180*Оглавление!$E$23,\"по запросу\")","v":502.20239999999995},{"$f":"IFERROR(G180*(1-Оглавление!$D$32),\"по запросу\")","v":502.20239999999995},5.01,"шт",null,0,0]
[null,"IMRIC040025","Муфта ХПВХ переходная клеевая 40x25 IPS",16,"Фитинги","RUB",{"$f":"IFERROR(I181*Оглавление!$E$23,\"по запросу\")","v":548.31279999999992},{"$f":"IFERROR(G181*(1-Оглавление!$D$32),\"по запросу\")","v":548.31279999999992},5.47,"шт",null,0,0]
[null,"IMRIC040032","Муфта ХПВХ переходная клеевая 40x32 IPS",16,"Фитинги","RUB",{"$f":"IFERROR(I182*Оглавление!$E$23,\"по запросу\")","v":576.38},{"$f":"IFERROR(G182*(1-Оглавление!$D$32),\"по запросу\")","v":576.38},5.75,"шт",null,0,0]
[null,"IMRIC050020","Муфта ХПВХ переходная клеевая 50x20 IPS",16,"Фитинги","RUB",{"$f":"IFERROR(I183*Оглавление!$E$23,\"по запросу\")","v":883.11440000000005},{"$f":"IFERROR(G183*(1-Оглавление!$D$32),\"по запросу\")","v":883.11440000000005},8.81,"шт",null,0,0]
[null,"IMRIC050025","Муфта ХПВХ переходная клеевая 50x25 IPS",16,"Фитинги","RUB",{"$f":"IFERROR(I184*Оглавление!$E$23,\"по запросу\")","v":892.13599999999997},{"$f":"IFERROR(G184*(1-Оглавление!$D$32),\"по запросу\")","v":892.13599999999997},8.9,"шт",null,0,0]
[null,"IMRIC050032","Муфта ХПВХ переходная клеевая 50x32 IPS",16,"Фитинги","RUB",{"$f":"IFERROR(I185*Оглавление!$E$23,\"по запросу\")","v":911.18159999999989},{"$f":"IFERROR(G185*(1-Оглавление!$D$32),\"по запросу\")","v":911.18159999999989},9.09,"шт",null,0,0]
[null,"IMRIC050040","Муфта ХПВХ переходная клеевая 50x40 IPS",16,"Фитинги","RUB",{"$f":"IFERROR(I186*Оглавление!$E$23,\"по запросу\")","v":939.24879999999985},{"$f":"IFERROR(G186*(1-Оглавление!$D$32),\"по запросу\")","v":939.24879999999985},9.3699999999999992,"шт",null,0,0]
[null,"IMRIC063020","Муфта ХПВХ переходная клеевая 63x20 IPS",16,"Фитинги","RUB",{"$f":"IFERROR(I187*Оглавление!$E$23,\"по запросу\")","v":1357.2495999999999},{"$f":"IFERROR(G187*(1-Оглавление!$D$32),\"по запросу\")","v":1357.2495999999999},13.54,"шт",null,0,0]
[null,"IMRIC063025","Муфта ХПВХ переходная клеевая 63x25 IPS",16,"Фитинги","RUB",{"$f":"IFERROR(I188*Оглавление!$E$23,\"по запросу\")","v":1338.204},{"$f":"IFERROR(G188*(1-Оглавление!$D$32),\"по запросу\")","v":1338.204},13.35,"шт",null,0,0]
[null,"IMRIC063032","Муфта ХПВХ переходная клеевая 63x32 IPS",16,"Фитинги","RUB",{"$f":"IFERROR(I189*Оглавление!$E$23,\"по запросу\")","v":1338.204},{"$f":"IFERROR(G189*(1-Оглавление!$D$32),\"по запросу\")","v":1338.204},13.35,"шт",null,0,0]
[null,"IMRIC063040","Муфта ХПВХ переходная клеевая 63x40 IPS",16,"Фитинги","RUB",{"$f":"IFERROR(I190*Оглавление!$E$23,\"по запросу\")","v":1496.5831999999998},{"$f":"IFERROR(G190*(1-Оглавление!$D$32),\"по запросу\")","v":1496.5831999999998},14.93,"шт",null,0,0]
[null,"IMRIC063050","Муфта ХПВХ переходная клеевая 63x50 IPS",16,"Фитинги","RUB",{"$f":"IFERROR(I191*Оглавление!$E$23,\"по запросу\")","v":1589.8063999999999},{"$f":"IFERROR(G191*(1-Оглавление!$D$32),\"по запросу\")","v":1589.8063999999999},15.86,"шт",null,0,0]
[null,"IMRIC075032","Муфта ХПВХ переходная клеевая 75x32 IPS",16,"Фитинги","RUB",{"$f":"IFERROR(I192*Оглавление!$E$23,\"по запросу\")","v":4912.7623999999996},{"$f":"IFERROR(G192*(1-Оглавление!$D$32),\"по запросу\")","v":4912.7623999999996},49.01,"шт",null,0,0]
[null,"IMRIC075040","Муфта ХПВХ переходная клеевая 75x40 IPS",16,"Фитинги","RUB",{"$f":"IFERROR(I193*Оглавление!$E$23,\"по запросу\")","v":4366.4543999999996},{"$f":"IFERROR(G193*(1-Оглавление!$D$32),\"по запросу\")","v":4366.4543999999996},43.56,"шт",null,0,0]
[null,"IMRIC075050","Муфта ХПВХ переходная клеевая 75x50 IPS",16,"Фитинги","RUB",{"$f":"IFERROR(I194*Оглавление!$E$23,\"по запросу\")","v":2007.8072},{"$f":"IFERROR(G194*(1-Оглавление!$D$32),\"по запросу\")","v":2007.8072},20.03,"шт",null,0,0]
[null,"IMRIC075063","Муфта ХПВХ переходная клеевая 75x63 IPS",16,"Фитинги","RUB",{"$f":"IFERROR(I195*Оглавление!$E$23,\"по запросу\")","v":2333.5871999999999},{"$f":"IFERROR(G195*(1-Оглавление!$D$32),\"по запросу\")","v":2333.5871999999999},23.28,"шт",null,0,0]
[null,"IMRIC090032","Муфта ХПВХ переходная клеевая 90x32 IPS",16,"Фитинги","RUB",{"$f":"IFERROR(I196*Оглавление!$E$23,\"по запросу\")","v":7581.1511999999993},{"$f":"IFERROR(G196*(1-Оглавление!$D$32),\"по запросу\")","v":7581.1511999999993},75.63,"шт",null,0,0]
[null,"IMRIC090040","Муфта ХПВХ переходная клеевая 90x40 IPS",16,"Фитинги","RUB",{"$f":"IFERROR(I197*Оглавление!$E$23,\"по запросу\")","v":7581.1511999999993},{"$f":"IFERROR(G197*(1-Оглавление!$D$32),\"по запросу\")","v":7581.1511999999993},75.63,"шт",null,0,0]
[null,"IMRIC090050","Муфта ХПВХ переходная клеевая 90x50 IPS",16,"Фитинги","RUB",{"$f":"IFERROR(I198*Оглавление!$E$23,\"по запросу\")","v":3262.8119999999994},{"$f":"IFERROR(G198*(1-Оглавление!$D$32),\"по запросу\")","v":3262.8119999999994},32.549999999999997,"шт",null,0,0]
[null,"IMRIC090063","Муфта ХПВХ переходная клеевая 90x63 IPS",16,"Фитинги","RUB",{"$f":"IFERROR(I199*Оглавление!$E$23,\"по запросу\")","v":3346.0111999999999},{"$f":"IFERROR(G199*(1-Оглавление!$D$32),\"по запросу\")","v":3346.0111999999999},33.380000000000003,"шт",null,0,0]
[null,"IMRIC090075","Муфта ХПВХ переходная клеевая 90x75 IPS",16,"Фитинги","RUB",{"$f":"IFERROR(I200*Оглавление!$E$23,\"по запросу\")","v":3504.3903999999998},{"$f":"IFERROR(G200*(1-Оглавление!$D$32),\"по запросу\")","v":3504.3903999999998},34.96,"шт",null,0,0]
[null,"IMRIC110050","Муфта ХПВХ переходная клеевая 110x50 IPS",16,"Фитинги","RUB",{"$f":"IFERROR(I201*Оглавление!$E$23,\"по запросу\")","v":5066.1295999999993},{"$f":"IFERROR(G201*(1-Оглавление!$D$32),\"по запросу\")","v":5066.1295999999993},50.54,"шт",null,0,0]
[null,"IMRIC110063","Муфта ХПВХ переходная клеевая 110x63 IPS",16,"Фитинги","RUB",{"$f":"IFERROR(I202*Оглавление!$E$23,\"по запросу\")","v":5019.0167999999994},{"$f":"IFERROR(G202*(1-Оглавление!$D$32),\"по запросу\")","v":5019.0167999999994},50.07,"шт",null,0,0]
[null,"IMRIC110075","Муфта ХПВХ переходная клеевая 110x75 IPS",16,"Фитинги","RUB",{"$f":"IFERROR(I203*Оглавление!$E$23,\"по запросу\")","v":5605.4207999999999},{"$f":"IFERROR(G203*(1-Оглавление!$D$32),\"по запросу\")","v":5605.4207999999999},55.92,"шт",null,0,0]
[null,"IMRIC110090","Муфта ХПВХ переходная клеевая 110x90 IPS",16,"Фитинги","RUB",{"$f":"IFERROR(I204*Оглавление!$E$23,\"по запросу\")","v":5707.6655999999994},{"$f":"IFERROR(G204*(1-Оглавление!$D$32),\"по запросу\")","v":5707.6655999999994},56.94,"шт",null,0,0]
[null,"IMRIC140063","Муфта ХПВХ переходная клеевая 140x63 IPS",16,"Фитинги","RUB",{"$f":"IFERROR(I205*Оглавление!$E$23,\"по запросу\")","v":14130.832799999998},{"$f":"IFERROR(G205*(1-Оглавление!$D$32),\"по запросу\")","v":14130.832799999998},140.97,"шт",null,0,0]
[null,"IMRIC140075","Муфта ХПВХ переходная клеевая 140x75 IPS",16,"Фитинги","RUB",{"$f":"IFERROR(I206*Оглавление!$E$23,\"по запросу\")","v":11644.880799999999},{"$f":"IFERROR(G206*(1-Оглавление!$D$32),\"по запросу\")","v":11644.880799999999},116.17,"шт",null,0,0]
[null,"IMRIC140090","Муфта ХПВХ переходная клеевая 140x90 IPS",16,"Фитинги","RUB",{"$f":"IFERROR(I207*Оглавление!$E$23,\"по запросу\")","v":11644.880799999999},{"$f":"IFERROR(G207*(1-Оглавление!$D$32),\"по запросу\")","v":11644.880799999999},116.17,"шт",null,0,0]
[null,"IMRIC140110","Муфта ХПВХ переходная клеевая 140x110 IPS",16,"Фитинги","RUB",{"$f":"IFERROR(I208*Оглавление!$E$23,\"по запросу\")","v":11644.880799999999},{"$f":"IFERROR(G208*(1-Оглавление!$D$32),\"по запросу\")","v":11644.880799999999},116.17,"шт",null,0,0]
[null,"IMRIC160075","Муфта ХПВХ переходная клеевая 160x75 IPS",16,"Фитинги","RUB",{"$f":"IFERROR(I209*Оглавление!$E$23,\"по запросу\")","v":23167.468799999999},{"$f":"IFERROR(G209*(1-Оглавление!$D$32),\"по запросу\")","v":23167.468799999999},231.12,"шт",null,0,0]
[null,"IMRIC160090","Муфта ХПВХ переходная клеевая 160x90 IPS",16,"Фитинги","RUB",{"$f":"IFERROR(I210*Оглавление!$E$23,\"по запросу\")","v":18922.304800000002},{"$f":"IFERROR(G210*(1-Оглавление!$D$32),\"по запросу\")","v":18922.304800000002},188.77,"шт",null,0,0]
[null,"IMRIC160110","Муфта ХПВХ переходная клеевая 160x110 IPS",16,"Фитинги","RUB",{"$f":"IFERROR(I211*Оглавление!$E$23,\"по запросу\")","v":18922.304800000002},{"$f":"IFERROR(G211*(1-Оглавление!$D$32),\"по запросу\")","v":18922.304800000002},188.77,"шт",null,0,0]
[null,"IMRIC160140","Муфта ХПВХ переходная клеевая 160x140 IPS",16,"Фитинги","RUB",{"$f":"IFERROR(I212*Оглавление!$E$23,\"по запросу\")","v":18922.304800000002},{"$f":"IFERROR(G212*(1-Оглавление!$D$32),\"по запросу\")","v":18922.304800000002},188.77,"шт",null,0,0]
[null,"IMRIC225090","Муфта ХПВХ переходная клеевая 225x90 IPS",16,"Фитинги","RUB",{"$f":"IFERROR(I213*Оглавление!$E$23,\"по запросу\")","v":27764.475200000001},{"$f":"IFERROR(G213*(1-Оглавление!$D$32),\"по запросу\")","v":27764.475200000001},276.98,"шт",null,0,0]
[null,"IMRIC225110","Муфта ХПВХ переходная клеевая 225x110 IPS",16,"Фитинги","RUB",{"$f":"IFERROR(I214*Оглавление!$E$23,\"по запросу\")","v":27764.475200000001},{"$f":"IFERROR(G214*(1-Оглавление!$D$32),\"по запросу\")","v":27764.475200000001},276.98,"шт",null,0,0]
[null,"IMRIC225140","Муфта ХПВХ переходная клеевая 225x140 IPS",16,"Фитинги","RUB",{"$f":"IFERROR(I215*Оглавление!$E$23,\"по запросу\")","v":27764.475200000001},{"$f":"IFERROR(G215*(1-Оглавление!$D$32),\"по запросу\")","v":27764.475200000001},276.98,"шт",null,0,0]
[null,"IMRIC225160","Муфта ХПВХ переходная клеевая 225x160 IPS",16,"Фитинги","RUB",{"$f":"IFERROR(I216*Оглавление!$E$23,\"по запросу\")","v":27764.475200000001},{"$f":"IFERROR(G216*(1-Оглавление!$D$32),\"по запросу\")","v":27764.475200000001},276.98,"шт",null,0,0]
[null,"IMRIC280110","Муфта ХПВХ переходная клеевая 280x110 IPS",10,"Фитинги","RUB",{"$f":"IFERROR(I217*Оглавление!$E$23,\"по запросу\")","v":59447.331999999995},{"$f":"IFERROR(G217*(1-Оглавление!$D$32),\"по запросу\")","v":59447.331999999995},593.04999999999995,"шт",null,0,0]
[null,"IMRIC280140","Муфта ХПВХ переходная клеевая 280x140 IPS",10,"Фитинги","RUB",{"$f":"IFERROR(I218*Оглавление!$E$23,\"по запросу\")","v":59447.331999999995},{"$f":"IFERROR(G218*(1-Оглавление!$D$32),\"по запросу\")","v":59447.331999999995},593.04999999999995,"шт",null,0,0]
[null,"IMRIC280160","Муфта ХПВХ переходная клеевая 280x160 IPS",10,"Фитинги","RUB",{"$f":"IFERROR(I219*Оглавление!$E$23,\"по запросу\")","v":59447.331999999995},{"$f":"IFERROR(G219*(1-Оглавление!$D$32),\"по запросу\")","v":59447.331999999995},593.04999999999995,"шт",null,0,0]
[null,"IMRIC280225","Муфта ХПВХ переходная клеевая 280x225 IPS",10,"Фитинги","RUB",{"$f":"IFERROR(I220*Оглавление!$E$23,\"по запросу\")","v":59447.331999999995},{"$f":"IFERROR(G220*(1-Оглавление!$D$32),\"по запросу\")","v":59447.331999999995},593.04999999999995,"шт",null,0,0]
[null,"IMRIC315110","Муфта ХПВХ переходная клеевая 315x110 IPS",10,"Фитинги","RUB",{"$f":"IFERROR(I221*Оглавление!$E$23,\"по запросу\")","v":120245.89919999999},{"$f":"IFERROR(G221*(1-Оглавление!$D$32),\"по запросу\")","v":120245.89919999999},1199.58,"шт",null,0,0]
[null,"IMRIC315140","Муфта ХПВХ переходная клеевая 315x140 IPS",10,"Фитинги","RUB",{"$f":"IFERROR(I222*Оглавление!$E$23,\"по запросу\")","v":120245.89919999999},{"$f":"IFERROR(G222*(1-Оглавление!$D$32),\"по запросу\")","v":120245.89919999999},1199.58,"шт",null,0,0]
[null,"IMRIC315160","Муфта ХПВХ переходная клеевая 315x160 IPS",10,"Фитинги","RUB",{"$f":"IFERROR(I223*Оглавление!$E$23,\"по запросу\")","v":120245.89919999999},{"$f":"IFERROR(G223*(1-Оглавление!$D$32),\"по запросу\")","v":120245.89919999999},1199.58,"шт",null,0,0]
[null,"IMRIC315225","Муфта ХПВХ переходная клеевая 315x225 IPS",10,"Фитинги","RUB",{"$f":"IFERROR(I224*Оглавление!$E$23,\"по запросу\")","v":120245.89919999999},{"$f":"IFERROR(G224*(1-Оглавление!$D$32),\"по запросу\")","v":120245.89919999999},1199.58,"шт",null,0,0]
[null,"IMRIC315285","Муфта ХПВХ переходная клеевая 315x280 IPS",10,"Фитинги","RUB",{"$f":"IFERROR(I225*Оглавление!$E$23,\"по запросу\")","v":"по запросу"},{"$f":"IFERROR(G225*(1-Оглавление!$D$32),\"по запросу\")","v":"по запросу"},"по запросу","шт",null,"0 ₽","0 ₽"]
[null,"IMRIC355160","Муфта ХПВХ переходная клеевая 355x160 IPS",10,"Фитинги","RUB",{"$f":"IFERROR(I226*Оглавление!$E$23,\"по запросу\")","v":"по запросу"},{"$f":"IFERROR(G226*(1-Оглавление!$D$32),\"по запросу\")","v":"по запросу"},"по запросу","шт",null,"0 ₽","0 ₽"]
[null,"IMRIC355225","Муфта ХПВХ переходная клеевая 355x225 IPS",10,"Фитинги","RUB",{"$f":"IFERROR(I227*Оглавление!$E$23,\"по запросу\")","v":255353.38079999998},{"$f":"IFERROR(G227*(1-Оглавление!$D$32),\"по запросу\")","v":255353.38079999998},2547.42,"шт",null,0,0]
[null,"IMRIC355280","Муфта ХПВХ переходная клеевая 355x280 IPS",10,"Фитинги","RUB",{"$f":"IFERROR(I228*Оглавление!$E$23,\"по запросу\")","v":256704.61600000001},{"$f":"IFERROR(G228*(1-Оглавление!$D$32),\"по запросу\")","v":256704.61600000001},2560.9,"шт",null,0,0]
[null,"IMRIC355315","Муфта ХПВХ переходная клеевая 355x315 IPS",10,"Фитинги","RUB",{"$f":"IFERROR(I229*Оглавление!$E$23,\"по запросу\")","v":261568.26079999999},{"$f":"IFERROR(G229*(1-Оглавление!$D$32),\"по запросу\")","v":261568.26079999999},2609.42,"шт",null,0,0]
[null,"IMRIC400225","Муфта ХПВХ переходная клеевая 400x225 IPS",10,"Фитинги","RUB",{"$f":"IFERROR(I230*Оглавление!$E$23,\"по запросу\")","v":387758.39199999999},{"$f":"IFERROR(G230*(1-Оглавление!$D$32),\"по запросу\")","v":387758.39199999999},3868.3,"шт",null,0,0]
[null,"IMRIC400280","Муфта ХПВХ переходная клеевая 400x280 IPS",10,"Фитинги","RUB",{"$f":"IFERROR(I231*Оглавление!$E$23,\"по запросу\")","v":391812.09759999998},{"$f":"IFERROR(G231*(1-Оглавление!$D$32),\"по запросу\")","v":391812.09759999998},3908.74,"шт",null,0,0]
[null,"IMRIC400315","Муфта ХПВХ переходная клеевая 400x315 IPS",10,"Фитинги","RUB",{"$f":"IFERROR(I232*Оглавление!$E$23,\"по запросу\")","v":397216.03599999996},{"$f":"IFERROR(G232*(1-Оглавление!$D$32),\"по запросу\")","v":397216.03599999996},3962.65,"шт",null,0,0]
[null,"IMRIC400355","Муфта ХПВХ переходная клеевая 400x355 IPS",10,"Фитинги","RUB",{"$f":"IFERROR(I233*Оглавление!$E$23,\"по запросу\")","v":399918.50640000001},{"$f":"IFERROR(G233*(1-Оглавление!$D$32),\"по запросу\")","v":399918.50640000001},3989.61,"шт",null,0,0]
[null,"IMRIC450315","Муфта ХПВХ переходная клеевая 450x315 IPS",10,"Фитинги","RUB",{"$f":"IFERROR(I234*Оглавление!$E$23,\"по запросу\")","v":499897.8824},{"$f":"IFERROR(G234*(1-Оглавление!$D$32),\"по запросу\")","v":499897.8824},4987.01,"шт",null,0,0]
[null,"IMRIC450355","Муфта ХПВХ переходная клеевая 450x355 IPS",10,"Фитинги","RUB",{"$f":"IFERROR(I235*Оглавление!$E$23,\"по запросу\")","v":513408.22959999996},{"$f":"IFERROR(G235*(1-Оглавление!$D$32),\"по запросу\")","v":513408.22959999996},5121.79,"шт",null,0,0]
[null,"IMRIC450400","Муфта ХПВХ переходная клеевая 450x400 IPS",10,"Фитинги","RUB",{"$f":"IFERROR(I236*Оглавление!$E$23,\"по запросу\")","v":540429.9264},{"$f":"IFERROR(G236*(1-Оглавление!$D$32),\"по запросу\")","v":540429.9264},5391.36,"шт",null,0,0]
[null,"IMRIC500315","Муфта ХПВХ переходная клеевая 500x315 IPS",10,"Фитинги","RUB",{"$f":"IFERROR(I237*Оглавление!$E$23,\"по запросу\")","v":607983.66719999991},{"$f":"IFERROR(G237*(1-Оглавление!$D$32),\"по запросу\")","v":607983.66719999991},6065.28,"шт",null,0,0]
[null,"IMRIC500355","Муфта ХПВХ переходная клеевая 500x355 IPS",10,"Фитинги","RUB",{"$f":"IFERROR(I238*Оглавление!$E$23,\"по запросу\")","v":621494.01439999999},{"$f":"IFERROR(G238*(1-Оглавление!$D$32),\"по запросу\")","v":621494.01439999999},6200.06,"шт",null,0,0]
[null,"IMRIC500400","Муфта ХПВХ переходная клеевая 500x400 IPS",10,"Фитинги","RUB",{"$f":"IFERROR(I239*Оглавление!$E$23,\"по запросу\")","v":648515.71120000002},{"$f":"IFERROR(G239*(1-Оглавление!$D$32),\"по запросу\")","v":648515.71120000002},6469.63,"шт",null,0,0]
[null,"IMRIC500450","Муфта ХПВХ переходная клеевая 500x450 IPS",10,"Фитинги","RUB",{"$f":"IFERROR(I240*Оглавление!$E$23,\"по запросу\")","v":675537.40799999994},{"$f":"IFERROR(G240*(1-Оглавление!$D$32),\"по запросу\")","v":675537.40799999994},6739.2,"шт",null,0,0]
[null,"IMRIC630315","Муфта ХПВХ переходная клеевая 630x315 IPS",10,"Фитинги","RUB",{"$f":"IFERROR(I241*Оглавление!$E$23,\"по запросу\")","v":689047.7551999999},{"$f":"IFERROR(G241*(1-Оглавление!$D$32),\"по запросу\")","v":689047.7551999999},6873.98,"шт",null,{"$f":"IFERROR(K241*G241,\"0 ₽\")","v":0},{"$f":"IFERROR(K241*H241,\"0 ₽\")","v":0}]
[null,"IMRIC630355","Муфта ХПВХ переходная клеевая 630x355 IPS",10,"Фитинги","RUB",{"$f":"IFERROR(I242*Оглавление!$E$23,\"по запросу\")","v":709314.27839999995},{"$f":"IFERROR(G242*(1-Оглавление!$D$32),\"по запросу\")","v":709314.27839999995},7076.16,"шт",null,0,0]
[null,"IMRIC630400","Муфта ХПВХ переходная клеевая 630x400 IPS",10,"Фитинги","RUB",{"$f":"IFERROR(I243*Оглавление!$E$23,\"по запросу\")","v":729580.80160000001},{"$f":"IFERROR(G243*(1-Оглавление!$D$32),\"по запросу\")","v":729580.80160000001},7278.34,"шт",null,0,0]
[null,"IMRIC630450","Муфта ХПВХ переходная клеевая 630x450 IPS",10,"Фитинги","RUB",{"$f":"IFERROR(I244*Оглавление!$E$23,\"по запросу\")","v":743091.14879999997},{"$f":"IFERROR(G244*(1-Оглавление!$D$32),\"по запросу\")","v":743091.14879999997},7413.12,"шт",null,0,0]
[null,"IMRIC630500","Муфта ХПВХ переходная клеевая 630x500 IPS",10,"Фитинги","RUB",{"$f":"IFERROR(I245*Оглавление!$E$23,\"по запросу\")","v":778219.25439999998},{"$f":"IFERROR(G245*(1-Оглавление!$D$32),\"по запросу\")","v":778219.25439999998},7763.56,"шт",null,0,0]
[null,"IKIFC020012","Муфта ХПВХ клеевая переход на НР 20x1/2\" IPS",16,"Фитинги","RUB",{"$f":"IFERROR(I246*Оглавление!$E$23,\"по запросу\")","v":273.65519999999998},{"$f":"IFERROR(G246*(1-Оглавление!$D$32),\"по запросу\")","v":273.65519999999998},2.73,"шт",null,{"$f":"IFERROR(K246*G246,\"0 ₽\")","v":0},{"$f":"IFERROR(K246*H246,\"0 ₽\")","v":0}]
[null,"IKIFC025034","Муфта ХПВХ клеевая переход на НР 25x3/4\" IPS",16,"Фитинги","RUB",{"$f":"IFERROR(I247*Оглавление!$E$23,\"по запросу\")","v":377.90479999999997},{"$f":"IFERROR(G247*(1-Оглавление!$D$32),\"по запросу\")","v":377.90479999999997},3.77,"шт",null,0,0]
[null,"IKIFC032100","Муфта ХПВХ клеевая переход на НР 32x1\" IPS",16,"Фитинги","RUB",{"$f":"IFERROR(I248*Оглавление!$E$23,\"по запросу\")","v":595.42560000000003},{"$f":"IFERROR(G248*(1-Оглавление!$D$32),\"по запросу\")","v":595.42560000000003},5.94,"шт",null,0,0]
[null,"IKIFC040114","Муфта ХПВХ клеевая переход на НР 40x1 1/4\" IPS",16,"Фитинги","RUB",{"$f":"IFERROR(I249*Оглавление!$E$23,\"по запросу\")","v":871.08559999999989},{"$f":"IFERROR(G249*(1-Оглавление!$D$32),\"по запросу\")","v":871.08559999999989},8.69,"шт",null,0,0]
[null,"IKIFC050112","Муфта ХПВХ клеевая переход на НР 50x1 1/2\" IPS",16,"Фитинги","RUB",{"$f":"IFERROR(I250*Оглавление!$E$23,\"по запросу\")","v":997.38799999999992},{"$f":"IFERROR(G250*(1-Оглавление!$D$32),\"по запросу\")","v":997.38799999999992},9.9499999999999993,"шт",null,0,0]
[null,"IKIFC063200","Муфта ХПВХ клеевая переход на НР 63x2\" IPS",16,"Фитинги","RUB",{"$f":"IFERROR(I251*Оглавление!$E$23,\"по запросу\")","v":1689.0440000000001},{"$f":"IFERROR(G251*(1-Оглавление!$D$32),\"по запросу\")","v":1689.0440000000001},16.850000000000001,"шт",null,0,0]
[null,"IMIMC020012","Муфта ХПВХ клеевая переход на ВР 20x1/2\" IPS",16,"Фитинги","RUB",{"$f":"IFERROR(I252*Оглавление!$E$23,\"по запросу\")","v":297.71280000000002},{"$f":"IFERROR(G252*(1-Оглавление!$D$32),\"по запросу\")","v":297.71280000000002},2.97,"шт",null,0,0]
[null,"IMIMC025034","Муфта ХПВХ клеевая переход на ВР 25x3/4\" IPS",16,"Фитинги","RUB",{"$f":"IFERROR(I253*Оглавление!$E$23,\"по запросу\")","v":387.92879999999997},{"$f":"IFERROR(G253*(1-Оглавление!$D$32),\"по запросу\")","v":387.92879999999997},3.87,"шт",null,0,0]
[null,"IMIMC032100","Муфта ХПВХ клеевая переход на ВР 32x1\" IPS",16,"Фитинги","RUB",{"$f":"IFERROR(I254*Оглавление!$E$23,\"по запросу\")","v":599.43520000000001},{"$f":"IFERROR(G254*(1-Оглавление!$D$32),\"по запросу\")","v":599.43520000000001},5.98,"шт",null,0,0]
[null,"IMIMC040114","Муфта ХПВХ клеевая переход на ВР 40x1 1/4\" IPS",16,"Фитинги","RUB",{"$f":"IFERROR(I255*Оглавление!$E$23,\"по запросу\")","v":873.09040000000005},{"$f":"IFERROR(G255*(1-Оглавление!$D$32),\"по запросу\")","v":873.09040000000005},8.7100000000000009,"шт",null,0,0]
[null,"IMIMC050112","Муфта ХПВХ клеевая переход на ВР 50x1 1/2\" IPS",16,"Фитинги","RUB",{"$f":"IFERROR(I256*Оглавление!$E$23,\"по запросу\")","v":1127.7},{"$f":"IFERROR(G256*(1-Оглавление!$D$32),\"по запросу\")","v":1127.7},11.25,"шт",null,0,0]
[null,"IMIMC063200","Муфта ХПВХ клеевая переход на ВР 63x2\" IPS",16,"Фитинги","RUB",{"$f":"IFERROR(I257*Оглавление!$E$23,\"по запросу\")","v":1731.1447999999998},{"$f":"IFERROR(G257*(1-Оглавление!$D$32),\"по запросу\")","v":1731.1447999999998},17.27,"шт",null,0,0]
[null,"IDFC020014","Адаптер муфтовый ХПВХ клеевой переход на ВР переход на ВР 20x1/4\" IPS",16,"Фитинги","RUB",{"$f":"IFERROR(I258*Оглавление!$E$23,\"по запросу\")","v":1476.5352},{"$f":"IFERROR(G258*(1-Оглавление!$D$32),\"по запросу\")","v":1476.5352},14.73,"шт",null,0,0]
[null,"IDFC025012","Адаптер муфтовый ХПВХ клеевой переход на ВР переход на ВР 25x1/2\" IPS",16,"Фитинги","RUB",{"$f":"IFERROR(I259*Оглавление!$E$23,\"по запросу\")","v":1829.3799999999999},{"$f":"IFERROR(G259*(1-Оглавление!$D$32),\"по запросу\")","v":1829.3799999999999},18.25,"шт",null,0,0]
[null,"IDFC032012","Адаптер муфтовый ХПВХ клеевой переход на ВР переход на ВР 32x1/2\" IPS",16,"Фитинги","RUB",{"$f":"IFERROR(I260*Оглавление!$E$23,\"по запросу\")","v":2201.2703999999999},{"$f":"IFERROR(G260*(1-Оглавление!$D$32),\"по запросу\")","v":2201.2703999999999},21.96,"шт",null,0,0]
[null,"IDFC032034","Адаптер муфтовый ХПВХ клеевой переход на ВР переход на ВР 32x3/4\" IPS",16,"Фитинги","RUB",{"$f":"IFERROR(I261*Оглавление!$E$23,\"по запросу\")","v":2572.1583999999998},{"$f":"IFERROR(G261*(1-Оглавление!$D$32),\"по запросу\")","v":2572.1583999999998},25.66,"шт",null,0,0]
[null,"ICIC020","Заглушка ХПВХ клеевая 20 IPS",16,"Фитинги","RUB",{"$f":"IFERROR(I262*Оглавление!$E$23,\"по запросу\")","v":299.7176},{"$f":"IFERROR(G262*(1-Оглавление!$D$32),\"по запросу\")","v":299.7176},2.99,"шт",null,0,0]
[null,"ICIC025","Заглушка ХПВХ клеевая 25 IPS",16,"Фитинги","RUB",{"$f":"IFERROR(I263*Оглавление!$E$23,\"по запросу\")","v":505.20959999999997},{"$f":"IFERROR(G263*(1-Оглавление!$D$32),\"по запросу\")","v":505.20959999999997},5.04,"шт",null,0,0]
[null,"ICIC032","Заглушка ХПВХ клеевая 32 IPS",16,"Фитинги","RUB",{"$f":"IFERROR(I264*Оглавление!$E$23,\"по запросу\")","v":656.572},{"$f":"IFERROR(G264*(1-Оглавление!$D$32),\"по запросу\")","v":656.572},6.55,"шт",null,0,0]
[null,"ICIC040","Заглушка ХПВХ клеевая 40 IPS",16,"Фитинги","RUB",{"$f":"IFERROR(I265*Оглавление!$E$23,\"по запросу\")","v":874.09280000000001},{"$f":"IFERROR(G265*(1-Оглавление!$D$32),\"по запросу\")","v":874.09280000000001},8.7200000000000006,"шт",null,0,0]
[null,"ICIC050","Заглушка ХПВХ клеевая 50 IPS",16,"Фитинги","RUB",{"$f":"IFERROR(I266*Оглавление!$E$23,\"по запросу\")","v":1397.3455999999999},{"$f":"IFERROR(G266*(1-Оглавление!$D$32),\"по запросу\")","v":1397.3455999999999},13.94,"шт",null,0,0]
[null,"ICIC063","Заглушка ХПВХ клеевая 63 IPS",16,"Фитинги","RUB",{"$f":"IFERROR(I267*Оглавление!$E$23,\"по запросу\")","v":1614.8663999999999},{"$f":"IFERROR(G267*(1-Оглавление!$D$32),\"по запросу\")","v":1614.8663999999999},16.11,"шт",null,0,0]
[null,"ICIC075","Заглушка ХПВХ клеевая 75 IPS",16,"Фитинги","RUB",{"$f":"IFERROR(I268*Оглавление!$E$23,\"по запросу\")","v":2949.0608000000002},{"$f":"IFERROR(G268*(1-Оглавление!$D$32),\"по запросу\")","v":2949.0608000000002},29.42,"шт",null,0,0]
[null,"ICIC090","Заглушка ХПВХ клеевая 90 IPS",16,"Фитинги","RUB",{"$f":"IFERROR(I269*Оглавление!$E$23,\"по запросу\")","v":4045.6863999999996},{"$f":"IFERROR(G269*(1-Оглавление!$D$32),\"по запросу\")","v":4045.6863999999996},40.36,"шт",null,0,0]
[null,"ICIC110","Заглушка ХПВХ клеевая 110 IPS",16,"Фитинги","RUB",{"$f":"IFERROR(I270*Оглавление!$E$23,\"по запросу\")","v":6735.1255999999994},{"$f":"IFERROR(G270*(1-Оглавление!$D$32),\"по запросу\")","v":6735.1255999999994},67.19,"шт",null,0,0]
[null,"ICIC140","Заглушка ХПВХ клеевая 140 IPS",16,"Фитинги","RUB",{"$f":"IFERROR(I271*Оглавление!$E$23,\"по запросу\")","v":13477.267999999998},{"$f":"IFERROR(G271*(1-Оглавление!$D$32),\"по запросу\")","v":13477.267999999998},134.44999999999999,"шт",null,0,0]
[null,"ICIC160","Заглушка ХПВХ клеевая 160 IPS",16,"Фитинги","RUB",{"$f":"IFERROR(I272*Оглавление!$E$23,\"по запросу\")","v":19559.831199999997},{"$f":"IFERROR(G272*(1-Оглавление!$D$32),\"по запросу\")","v":19559.831199999997},195.13,"шт",null,0,0]
[null,"ICIC225","Заглушка ХПВХ клеевая 225 IPS",16,"Фитинги","RUB",{"$f":"IFERROR(I273*Оглавление!$E$23,\"по запросу\")","v":74242.755999999994},{"$f":"IFERROR(G273*(1-Оглавление!$D$32),\"по запросу\")","v":74242.755999999994},740.65,"шт",null,0,0]
[null,"ICIC280","Заглушка ХПВХ клеевая 280 IPS",10,"Фитинги","RUB",{"$f":"IFERROR(I274*Оглавление!$E$23,\"по запросу\")","v":111824.73679999998},{"$f":"IFERROR(G274*(1-Оглавление!$D$32),\"по запросу\")","v":111824.73679999998},1115.57,"шт",null,0,0]
[null,"ICIC315","Заглушка ХПВХ клеевая 315 IPS",10,"Фитинги","RUB",{"$f":"IFERROR(I275*Оглавление!$E$23,\"по запросу\")","v":166386.37119999999},{"$f":"IFERROR(G275*(1-Оглавление!$D$32),\"по запросу\")","v":166386.37119999999},1659.88,"шт",null,0,0]
[null,"IDIC025020","Переходное кольцо ХПВХ клеевое 25x20 IPS",16,"Фитинги","RUB",{"$f":"IFERROR(I276*Оглавление!$E$23,\"по запросу\")","v":369.88559999999995},{"$f":"IFERROR(G276*(1-Оглавление!$D$32),\"по запросу\")","v":369.88559999999995},3.69,"шт",null,0,0]
[null,"IDIC032020","Переходное кольцо ХПВХ клеевое 32x20 IPS",16,"Фитинги","RUB",{"$f":"IFERROR(I277*Оглавление!$E$23,\"по запросу\")","v":428.02479999999991},{"$f":"IFERROR(G277*(1-Оглавление!$D$32),\"по запросу\")","v":428.02479999999991},4.2699999999999996,"шт",null,0,0]
[null,"IDIC032025","Переходное кольцо ХПВХ клеевое 32x25 IPS",16,"Фитинги","RUB",{"$f":"IFERROR(I278*Оглавление!$E$23,\"по запросу\")","v":428.02479999999991},{"$f":"IFERROR(G278*(1-Оглавление!$D$32),\"по запросу\")","v":428.02479999999991},4.2699999999999996,"шт",null,0,0]
[null,"IDIC040020","Переходное кольцо ХПВХ клеевое 40x20 IPS",16,"Фитинги","RUB",{"$f":"IFERROR(I279*Оглавление!$E$23,\"по запросу\")","v":659.94847379857208},{"$f":"IFERROR(G279*(1-Оглавление!$D$32),\"по запросу\")","v":659.94847379857208},6.5836838966337998,"шт",null,0,0]
[null,"IDIC040025","Переходное кольцо ХПВХ клеевое 40x25 IPS",16,"Фитинги","RUB",{"$f":"IFERROR(I280*Оглавление!$E$23,\"по запросу\")","v":673.14744327454343},{"$f":"IFERROR(G280*(1-Оглавление!$D$32),\"по запросу\")","v":673.14744327454343},6.7153575745664753,"шт",null,0,0]
[null,"IDIC040032","Переходное кольцо ХПВХ клеевое 40x32 IPS",16,"Фитинги","RUB",{"$f":"IFERROR(I281*Оглавление!$E$23,\"по запросу\")","v":681.63199999999995},{"$f":"IFERROR(G281*(1-Оглавление!$D$32),\"по запросу\")","v":681.63199999999995},6.8,"шт",null,0,0]
[null,"IDIC050020","Переходное кольцо ХПВХ клеевое 50x20 IPS",16,"Фитинги","RUB",{"$f":"IFERROR(I282*Оглавление!$E$23,\"по запросу\")","v":688.82062476475653},{"$f":"IFERROR(G282*(1-Оглавление!$D$32),\"по запросу\")","v":688.82062476475653},6.8717141337266217,"шт",null,0,0]
[null,"IDIC050025","Переходное кольцо ХПВХ клеевое 50x25 IPS",16,"Фитинги","RUB",{"$f":"IFERROR(I283*Оглавление!$E$23,\"по запросу\")","v":688.82062476475653},{"$f":"IFERROR(G283*(1-Оглавление!$D$32),\"по запросу\")","v":688.82062476475653},6.8717141337266217,"шт",null,0,0]
[null,"IDIC050032","Переходное кольцо ХПВХ клеевое 50x32 IPS",16,"Фитинги","RUB",{"$f":"IFERROR(I284*Оглавление!$E$23,\"по запросу\")","v":716.71600000000001},{"$f":"IFERROR(G284*(1-Оглавление!$D$32),\"по запросу\")","v":716.71600000000001},7.15,"шт",null,0,0]
[null,"IDIC050040","Переходное кольцо ХПВХ клеевое 50x40 IPS",16,"Фитинги","RUB",{"$f":"IFERROR(I285*Оглавление!$E$23,\"по запросу\")","v":716.71600000000001},{"$f":"IFERROR(G285*(1-Оглавление!$D$32),\"по запросу\")","v":716.71600000000001},7.15,"шт",null,0,{"$f":"IFERROR(K285*H285,\"0 ₽\")","v":0}]
[null,"IDIC063020","Переходное кольцо ХПВХ клеевое 63x20 IPS",16,"Фитинги","RUB",{"$f":"IFERROR(I286*Оглавление!$E$23,\"по запросу\")","v":1054.7237407349492},{"$f":"IFERROR(G286*(1-Оглавление!$D$32),\"по запросу\")","v":1054.7237407349492},10.521984644203403,"шт",null,{"$f":"IFERROR(K286*G286,\"0 ₽\")","v":0},0]
[null,"IDIC063025","Переходное кольцо ХПВХ клеевое 63x25 IPS",16,"Фитинги","RUB",{"$f":"IFERROR(I287*Оглавление!$E$23,\"по запросу\")","v":1054.7237407349492},{"$f":"IFERROR(G287*(1-Оглавление!$D$32),\"по запросу\")","v":1054.7237407349492},10.521984644203403,"шт",null,0,{"$f":"IFERROR(K287*H287,\"0 ₽\")","v":0}]
[null,"IDIC063032","Переходное кольцо ХПВХ клеевое 63x32 IPS",16,"Фитинги","RUB",{"$f":"IFERROR(I288*Оглавление!$E$23,\"по запросу\")","v":1135.7192},{"$f":"IFERROR(G288*(1-Оглавление!$D$32),\"по запросу\")","v":1135.7192},11.33,"шт",null,0,0]
[null,"IDIC063040","Переходное кольцо ХПВХ клеевое 63x40 IPS",16,"Фитинги","RUB",{"$f":"IFERROR(I289*Оглавление!$E$23,\"по запросу\")","v":1069.3530185706466},{"$f":"IFERROR(G289*(1-Оглавление!$D$32),\"по запросу\")","v":1069.3530185706466},10.667927160521215,"шт",null,0,0]
[null,"IDIC063050","Переходное кольцо ХПВХ клеевое 63x50 IPS",16,"Фитинги","RUB",{"$f":"IFERROR(I290*Оглавление!$E$23,\"по запросу\")","v":1135.7192},{"$f":"IFERROR(G290*(1-Оглавление!$D$32),\"по запросу\")","v":1135.7192},11.33,"шт",null,0,0]
[null,"IDIC075032","Переходное кольцо ХПВХ клеевое 75x32 IPS",16,"Фитинги","RUB",{"$f":"IFERROR(I291*Оглавление!$E$23,\"по запросу\")","v":"по запросу"},{"$f":"IFERROR(G291*(1-Оглавление!$D$32),\"по запросу\")","v":"по запросу"},"по запросу","шт",null,"0 ₽","0 ₽"]
[null,"IDIC075040","Переходное кольцо ХПВХ клеевое 75x40 IPS",16,"Фитинги","RUB",{"$f":"IFERROR(I292*Оглавление!$E$23,\"по запросу\")","v":1793.0303592494183},{"$f":"IFERROR(G292*(1-Оглавление!$D$32),\"по запросу\")","v":1793.0303592494183},17.887373895145835,"шт",null,0,0]
[null,"IDIC075050","Переходное кольцо ХПВХ клеевое 75x50 IPS",16,"Фитинги","RUB",{"$f":"IFERROR(I293*Оглавление!$E$23,\"по запросу\")","v":1805.3224},{"$f":"IFERROR(G293*(1-Оглавление!$D$32),\"по запросу\")","v":1805.3224},18.010000000000002,"шт",null,0,0]
[null,"IDIC075063","Переходное кольцо ХПВХ клеевое 75x63 IPS",16,"Фитинги","RUB",{"$f":"IFERROR(I294*Оглавление!$E$23,\"по запросу\")","v":1805.3224},{"$f":"IFERROR(G294*(1-Оглавление!$D$32),\"по запросу\")","v":1805.3224},18.010000000000002,"шт",null,0,0]
[null,"IDIC090032","Переходное кольцо ХПВХ клеевое 90x32 IPS",16,"Фитинги","RUB",{"$f":"IFERROR(I295*Оглавление!$E$23,\"по запросу\")","v":2461.0220617148884},{"$f":"IFERROR(G295*(1-Оглавление!$D$32),\"по запросу\")","v":2461.0220617148884},24.551297503141345,"шт",null,0,0]
[null,"IDIC090040","Переходное кольцо ХПВХ клеевое 90x40 IPS",16,"Фитинги","RUB",{"$f":"IFERROR(I296*Оглавление!$E$23,\"по запросу\")","v":2489.1480281344861},{"$f":"IFERROR(G296*(1-Оглавление!$D$32),\"по запросу\")","v":2489.1480281344861},24.831883760320093,"шт",null,0,0]
[null,"IDIC090050","Переходное кольцо ХПВХ клеевое 90x50 IPS",16,"Фитинги","RUB",{"$f":"IFERROR(I297*Оглавление!$E$23,\"по запросу\")","v":2525.0455999999999},{"$f":"IFERROR(G297*(1-Оглавление!$D$32),\"по запросу\")","v":2525.0455999999999},25.19,"шт",null,0,0]
[null,"IDIC090063","Переходное кольцо ХПВХ клеевое 90x63 IPS",16,"Фитинги","RUB",{"$f":"IFERROR(I298*Оглавление!$E$23,\"по запросу\")","v":2525.0455999999999},{"$f":"IFERROR(G298*(1-Оглавление!$D$32),\"по запросу\")","v":2525.0455999999999},25.19,"шт",null,0,0]
[null,"IDIC090075","Переходное кольцо ХПВХ клеевое 90x75 IPS",16,"Фитинги","RUB",{"$f":"IFERROR(I299*Оглавление!$E$23,\"по запросу\")","v":2525.0455999999999},{"$f":"IFERROR(G299*(1-Оглавление!$D$32),\"по запросу\")","v":2525.0455999999999},25.19,"шт",null,{"$f":"IFERROR(K299*G299,\"0 ₽\")","v":0},0]
[null,"IDIC110032","Переходное кольцо ХПВХ клеевое 110x32 IPS",16,"Фитинги","RUB",{"$f":"IFERROR(I300*Оглавление!$E$23,\"по запросу\")","v":3588.9905066675415},{"$f":"IFERROR(G300*(1-Оглавление!$D$32),\"по запросу\")","v":3588.9905066675415},35.803975525414423,"шт",null,0,0]
[null,"IDIC110050","Переходное кольцо ХПВХ клеевое 110x50 IPS",16,"Фитинги","RUB",{"$f":"IFERROR(I301*Оглавление!$E$23,\"по запросу\")","v":4424.7940799999997},{"$f":"IFERROR(G301*(1-Оглавление!$D$32),\"по запросу\")","v":4424.7940799999997},44.142000000000003,"шт",null,0,0]
[null,"IDIC110063","Переходное кольцо ХПВХ клеевое 110x63 IPS",16,"Фитинги","RUB",{"$f":"IFERROR(I302*Оглавление!$E$23,\"по запросу\")","v":4360.4399999999996},{"$f":"IFERROR(G302*(1-Оглавление!$D$32),\"по запросу\")","v":4360.4399999999996},43.5,"шт",null,0,0]
[null,"IDIC110075","Переходное кольцо ХПВХ клеевое 110x75 IPS",16,"Фитинги","RUB",{"$f":"IFERROR(I303*Оглавление!$E$23,\"по запросу\")","v":4422.808219481899},{"$f":"IFERROR(G303*(1-Оглавление!$D$32),\"по запросу\")","v":4422.808219481899},44.122188941359731,"шт",null,0,0]
[null,"IDIC110090","Переходное кольцо ХПВХ клеевое 110x90 IPS",16,"Фитинги","RUB",{"$f":"IFERROR(I304*Оглавление!$E$23,\"по запросу\")","v":4596.0039999999999},{"$f":"IFERROR(G304*(1-Оглавление!$D$32),\"по запросу\")","v":4596.0039999999999},45.85,"шт",null,0,0]
[null,"IDIC140090","Переходное кольцо ХПВХ клеевое 140x90 IPS",16,"Фитинги","RUB",{"$f":"IFERROR(I305*Оглавление!$E$23,\"по запросу\")","v":12939.6943497845},{"$f":"IFERROR(G305*(1-Оглавление!$D$32),\"по запросу\")","v":12939.6943497845},129.08713437534419,"шт",null,0,0]
[null,"IDIC140110","Переходное кольцо ХПВХ клеевое 140x110 IPS",16,"Фитинги","RUB",{"$f":"IFERROR(I306*Оглавление!$E$23,\"по запросу\")","v":12939.6943497845},{"$f":"IFERROR(G306*(1-Оглавление!$D$32),\"по запросу\")","v":12939.6943497845},129.08713437534419,"шт",null,0,0]
[null,"IDIC160110","Переходное кольцо ХПВХ клеевое 160x110 IPS",16,"Фитинги","RUB",{"$f":"IFERROR(I307*Оглавление!$E$23,\"по запросу\")","v":13069.141080486461},{"$f":"IFERROR(G307*(1-Оглавление!$D$32),\"по запросу\")","v":13069.141080486461},130.37850239910676,"шт",null,0,0]
[null,"IDIC160140","Переходное кольцо ХПВХ клеевое 160x140 IPS",16,"Фитинги","RUB",{"$f":"IFERROR(I308*Оглавление!$E$23,\"по запросу\")","v":13069.141080486461},{"$f":"IFERROR(G308*(1-Оглавление!$D$32),\"по запросу\")","v":13069.141080486461},130.37850239910676,"шт",null,0,0]
[null,"IDIC225160","Переходное кольцо ХПВХ клеевое 225x160 IPS",16,"Фитинги","RUB",{"$f":"IFERROR(I309*Оглавление!$E$23,\"по запросу\")","v":32349.23587446125},{"$f":"IFERROR(G309*(1-Оглавление!$D$32),\"по запросу\")","v":32349.23587446125},322.71783593836045,"шт",null,0,0]
[null,"IDIC280225","Переходное кольцо ХПВХ клеевое 280x225 IPS",10,"Фитинги","RUB",{"$f":"IFERROR(I310*Оглавление!$E$23,\"по запросу\")","v":41245.275739938093},{"$f":"IFERROR(G310*(1-Оглавление!$D$32),\"по запросу\")","v":41245.275739938093},411.46524082140957,"шт",null,0,0]
[null,"IDIC315280","Переходное кольцо ХПВХ клеевое 315x280 IPS",10,"Фитинги","RUB",{"$f":"IFERROR(I311*Оглавление!$E$23,\"по запросу\")","v":46502.026569538051},{"$f":"IFERROR(G311*(1-Оглавление!$D$32),\"по запросу\")","v":46502.026569538051},463.90688916139317,"шт",null,0,0]
[null,"IDIC355315","Переходное кольцо ХПВХ клеевое 355x315 IPS",10,"Фитинги","RUB",{"$f":"IFERROR(I312*Оглавление!$E$23,\"по запросу\")","v":134788.4828102552},{"$f":"IFERROR(G312*(1-Оглавление!$D$32),\"по запросу\")","v":134788.4828102552},1344.6576497431686,"шт",null,0,0]
[null,"IDIC400280","Переходное кольцо ХПВХ клеевое 400x280 IPS",10,"Фитинги","RUB",{"$f":"IFERROR(I313*Оглавление!$E$23,\"по запросу\")","v":188703.87593435729},{"$f":"IFERROR(G313*(1-Оглавление!$D$32),\"по запросу\")","v":188703.87593435729},1882.5207096404361,"шт",null,0,0]
[null,"IDIC400355","Переходное кольцо ХПВХ клеевое 400x355 IPS",10,"Фитинги","RUB",{"$f":"IFERROR(I314*Оглавление!$E$23,\"по запросу\")","v":188703.87593435729},{"$f":"IFERROR(G314*(1-Оглавление!$D$32),\"по запросу\")","v":188703.87593435729},1882.5207096404361,"шт",null,0,0]
[null,"IFDC020","Жесткий фланец ХПВХ клеевой 20 IPS",16,"Фитинги","RUB",{"$f":"IFERROR(I315*Оглавление!$E$23,\"по запросу\")","v":"по запросу"},{"$f":"IFERROR(G315*(1-Оглавление!$D$32),\"по запросу\")","v":"по запросу"},"по запросу","шт",null,"0 ₽","0 ₽"]
[null,"IFDC025","Жесткий фланец ХПВХ клеевой 25 IPS",16,"Фитинги","RUB",{"$f":"IFERROR(I316*Оглавление!$E$23,\"по запросу\")","v":"по запросу"},{"$f":"IFERROR(G316*(1-Оглавление!$D$32),\"по запросу\")","v":"по запросу"},"по запросу","шт",null,"0 ₽",{"$f":"IFERROR(K316*H316,\"0 ₽\")","v":"0 ₽"}]
[null,"IFDC032","Жесткий фланец ХПВХ клеевой 32 IPS",16,"Фитинги","RUB",{"$f":"IFERROR(I317*Оглавление!$E$23,\"по запросу\")","v":3182.62},{"$f":"IFERROR(G317*(1-Оглавление!$D$32),\"по запросу\")","v":3182.62},31.75,"шт",null,{"$f":"IFERROR(K317*G317,\"0 ₽\")","v":0},0]
[null,"IFDC040","Жесткий фланец ХПВХ клеевой 40 IPS",16,"Фитинги","RUB",{"$f":"IFERROR(I318*Оглавление!$E$23,\"по запросу\")","v":3506.3951999999995},{"$f":"IFERROR(G318*(1-Оглавление!$D$32),\"по запросу\")","v":3506.3951999999995},34.979999999999997,"шт",null,0,0]
[null,"IFDC050","Жесткий фланец ХПВХ клеевой 50 IPS",16,"Фитинги","RUB",{"$f":"IFERROR(I319*Оглавление!$E$23,\"по запросу\")","v":4363.4471999999996},{"$f":"IFERROR(G319*(1-Оглавление!$D$32),\"по запросу\")","v":4363.4471999999996},43.53,"шт",null,0,0]
[null,"IFDC063","Жесткий фланец ХПВХ клеевой 63 IPS",16,"Фитинги","RUB",{"$f":"IFERROR(I320*Оглавление!$E$23,\"по запросу\")","v":6221.8967999999995},{"$f":"IFERROR(G320*(1-Оглавление!$D$32),\"по запросу\")","v":6221.8967999999995},62.07,"шт",null,0,0]
[null,"IFDC075","Жесткий фланец ХПВХ клеевой 75 IPS",16,"Фитинги","RUB",{"$f":"IFERROR(I321*Оглавление!$E$23,\"по запросу\")","v":7478.9063999999998},{"$f":"IFERROR(G321*(1-Оглавление!$D$32),\"по запросу\")","v":7478.9063999999998},74.61,"шт",null,0,0]
[null,"IFDC090","Жесткий фланец ХПВХ клеевой 90 IPS",16,"Фитинги","RUB",{"$f":"IFERROR(I322*Оглавление!$E$23,\"по запросу\")","v":8584.5535999999993},{"$f":"IFERROR(G322*(1-Оглавление!$D$32),\"по запросу\")","v":8584.5535999999993},85.64,"шт",null,0,0]
[null,"IFDC110","Жесткий фланец ХПВХ клеевой 110 IPS",16,"Фитинги","RUB",{"$f":"IFERROR(I323*Оглавление!$E$23,\"по запросу\")","v":11928.56},{"$f":"IFERROR(G323*(1-Оглавление!$D$32),\"по запросу\")","v":11928.56},119,"шт",null,0,0]
[null,"IFDC140","Жесткий фланец ХПВХ клеевой 140 IPS",16,"Фитинги","RUB",{"$f":"IFERROR(I324*Оглавление!$E$23,\"по запросу\")","v":18769.939999999999},{"$f":"IFERROR(G324*(1-Оглавление!$D$32),\"по запросу\")","v":18769.939999999999},187.25,"шт",null,0,0]
[null,"IFDC160","Жесткий фланец ХПВХ клеевой 160 IPS",16,"Фитинги","RUB",{"$f":"IFERROR(I325*Оглавление!$E$23,\"по запросу\")","v":26544.554399999997},{"$f":"IFERROR(G325*(1-Оглавление!$D$32),\"по запросу\")","v":26544.554399999997},264.81,"шт",null,0,0]
[null,"IFDC225","Жесткий фланец ХПВХ клеевой 225 IPS",16,"Фитинги","RUB",{"$f":"IFERROR(I326*Оглавление!$E$23,\"по запросу\")","v":"по запросу"},{"$f":"IFERROR(G326*(1-Оглавление!$D$32),\"по запросу\")","v":"по запросу"},"по запросу","шт",null,"0 ₽","0 ₽"]
[null,"IFDC280","Жесткий фланец ХПВХ клеевой 280 IPS",10,"Фитинги","RUB",{"$f":"IFERROR(I327*Оглавление!$E$23,\"по запросу\")","v":"по запросу"},{"$f":"IFERROR(G327*(1-Оглавление!$D$32),\"по запросу\")","v":"по запросу"},"по запросу","шт",null,"0 ₽","0 ₽"]
[null,"IFDC315","Жесткий фланец ХПВХ клеевой 315 IPS",10,"Фитинги","RUB",{"$f":"IFERROR(I328*Оглавление!$E$23,\"по запросу\")","v":"по запросу"},{"$f":"IFERROR(G328*(1-Оглавление!$D$32),\"по запросу\")","v":"по запросу"},"по запросу","шт",null,{"$f":"IFERROR(K328*G328,\"0 ₽\")","v":"0 ₽"},{"$f":"IFERROR(K328*H328,\"0 ₽\")","v":"0 ₽"}]
[null,"IFDC355","Жесткий фланец ХПВХ клеевой 355 IPS",10,"Фитинги","RUB",{"$f":"IFERROR(I329*Оглавление!$E$23,\"по запросу\")","v":"по запросу"},{"$f":"IFERROR(G329*(1-Оглавление!$D$32),\"по запросу\")","v":"по запросу"},"по запросу","шт",null,"0 ₽","0 ₽"]
[null,"IFDC400","Жесткий фланец ХПВХ клеевой 400 IPS",10,"Фитинги","RUB",{"$f":"IFERROR(I330*Оглавление!$E$23,\"по запросу\")","v":"по запросу"},{"$f":"IFERROR(G330*(1-Оглавление!$D$32),\"по запросу\")","v":"по запросу"},"по запросу","шт",null,"0 ₽","0 ₽"]
[null,"IFDC450","Жесткий фланец ХПВХ клеевой 450 IPS",10,"Фитинги","RUB",{"$f":"IFERROR(I331*Оглавление!$E$23,\"по запросу\")","v":"по запросу"},{"$f":"IFERROR(G331*(1-Оглавление!$D$32),\"по запросу\")","v":"по запросу"},"по запросу","шт",null,"0 ₽","0 ₽"]
[null,"IFDC500","Жесткий фланец ХПВХ клеевой 500 IPS",10,"Фитинги","RUB",{"$f":"IFERROR(I332*Оглавление!$E$23,\"по запросу\")","v":"по запросу"},{"$f":"IFERROR(G332*(1-Оглавление!$D$32),\"по запросу\")","v":"по запросу"},"по запросу","шт",null,"0 ₽","0 ₽"]
[null,"IFDC630","Жесткий фланец ХПВХ клеевой 630 IPS",10,"Фитинги","RUB",{"$f":"IFERROR(I333*Оглавление!$E$23,\"по запросу\")","v":"по запросу"},{"$f":"IFERROR(G333*(1-Оглавление!$D$32),\"по запросу\")","v":"по запросу"},"по запросу","шт",null,"0 ₽","0 ₽"]
[null,"IODCQRC020","Свободный фланец с буртом (комплект) ХПВХ 20 IPS",16,"Фитинги","RUB",{"$f":"IFERROR(I334*Оглавление!$E$23,\"по запросу\")","v":1281.0672},{"$f":"IFERROR(G334*(1-Оглавление!$D$32),\"по запросу\")","v":1281.0672},12.78,"шт",null,{"$f":"IFERROR(K334*G334,\"0 ₽\")","v":0},{"$f":"IFERROR(K334*H334,\"0 ₽\")","v":0}]
[null,"IODCQRC025","Свободный фланец с буртом (комплект) ХПВХ 25 IPS",16,"Фитинги","RUB",{"$f":"IFERROR(I335*Оглавление!$E$23,\"по запросу\")","v":1765.2263999999998},{"$f":"IFERROR(G335*(1-Оглавление!$D$32),\"по запросу\")","v":1765.2263999999998},17.61,"шт",null,0,0]
[null,"IODCQRC032","Свободный фланец с буртом (комплект) ХПВХ 32 IPS",16,"Фитинги","RUB",{"$f":"IFERROR(I336*Оглавление!$E$23,\"по запросу\")","v":2277.4527999999996},{"$f":"IFERROR(G336*(1-Оглавление!$D$32),\"по запросу\")","v":2277.4527999999996},22.72,"шт",null,0,0]
[null,"IODCQRC040","Свободный фланец с буртом (комплект) ХПВХ 40 IPS",16,"Фитинги","RUB",{"$f":"IFERROR(I337*Оглавление!$E$23,\"по запросу\")","v":3777.0431999999996},{"$f":"IFERROR(G337*(1-Оглавление!$D$32),\"по запросу\")","v":3777.0431999999996},37.68,"шт",null,0,0]
[null,"IODCQRC050","Свободный фланец с буртом (комплект) ХПВХ 50 IPS",16,"Фитинги","RUB",{"$f":"IFERROR(I338*Оглавление!$E$23,\"по запросу\")","v":4536.8624},{"$f":"IFERROR(G338*(1-Оглавление!$D$32),\"по запросу\")","v":4536.8624},45.26,"шт",null,0,0]
[null,"IODCQRC063","Свободный фланец с буртом (комплект) ХПВХ 63 IPS",16,"Фитинги","RUB",{"$f":"IFERROR(I339*Оглавление!$E$23,\"по запросу\")","v":5811.9151999999995},{"$f":"IFERROR(G339*(1-Оглавление!$D$32),\"по запросу\")","v":5811.9151999999995},57.98,"шт",null,0,0]
[null,"IODCQRC075","Свободный фланец с буртом (комплект) ХПВХ 75 IPS",16,"Фитинги","RUB",{"$f":"IFERROR(I340*Оглавление!$E$23,\"по запросу\")","v":8135.4783999999991},{"$f":"IFERROR(G340*(1-Оглавление!$D$32),\"по запросу\")","v":8135.4783999999991},81.16,"шт",null,0,0]
[null,"IODCQRC090","Свободный фланец с буртом (комплект) ХПВХ 90 IPS",16,"Фитинги","RUB",{"$f":"IFERROR(I341*Оглавление!$E$23,\"по запросу\")","v":10954.227199999999},{"$f":"IFERROR(G341*(1-Оглавление!$D$32),\"по запросу\")","v":10954.227199999999},109.28,"шт",null,0,0]
[null,"IODCQRC110","Свободный фланец с буртом (комплект) ХПВХ 110 IPS",16,"Фитинги","RUB",{"$f":"IFERROR(I342*Оглавление!$E$23,\"по запросу\")","v":13768.966400000001},{"$f":"IFERROR(G342*(1-Оглавление!$D$32),\"по запросу\")","v":13768.966400000001},137.36000000000001,"шт",null,0,0]
[null,"IODCQRC140","Свободный фланец с буртом (комплект) ХПВХ 140 IPS",16,"Фитинги","RUB",{"$f":"IFERROR(I343*Оглавление!$E$23,\"по запросу\")","v":19313.240799999996},{"$f":"IFERROR(G343*(1-Оглавление!$D$32),\"по запросу\")","v":19313.240799999996},192.67,"шт",null,0,0]
[null,"IODCQRC160","Свободный фланец с буртом (комплект) ХПВХ 160 IPS",16,"Фитинги","RUB",{"$f":"IFERROR(I344*Оглавление!$E$23,\"по запросу\")","v":30058.968799999999},{"$f":"IFERROR(G344*(1-Оглавление!$D$32),\"по запросу\")","v":30058.968799999999},299.87,"шт",null,0,0]
[null,"IODCQRC225","Свободный фланец с буртом (комплект) ХПВХ 225 IPS",16,"Фитинги","RUB",{"$f":"IFERROR(I345*Оглавление!$E$23,\"по запросу\")","v":43441.008799999996},{"$f":"IFERROR(G345*(1-Оглавление!$D$32),\"по запросу\")","v":43441.008799999996},433.37,"шт",null,0,0]
[null,"IODCQRC280","Свободный фланец с буртом (комплект) ХПВХ 280 IPS",10,"Фитинги","RUB",{"$f":"IFERROR(I346*Оглавление!$E$23,\"по запросу\")","v":81940.185599999997},{"$f":"IFERROR(G346*(1-Оглавление!$D$32),\"по запросу\")","v":81940.185599999997},817.44,"шт",null,0,0]
[null,"IODCQRC315","Свободный фланец с буртом (комплект) ХПВХ 315 IPS",10,"Фитинги","RUB",{"$f":"IFERROR(I347*Оглавление!$E$23,\"по запросу\")","v":131662.2328},{"$f":"IFERROR(G347*(1-Оглавление!$D$32),\"по запросу\")","v":131662.2328},1313.47,"шт",null,0,0]
[null,"IODCQRC355","Свободный фланец с буртом (комплект) ХПВХ 355 IPS",10,"Фитинги","RUB",{"$f":"IFERROR(I348*Оглавление!$E$23,\"по запросу\")","v":266393.81439999997},{"$f":"IFERROR(G348*(1-Оглавление!$D$32),\"по запросу\")","v":266393.81439999997},2657.56,"шт",null,0,0]
[null,"IODCQRC400","Свободный фланец с буртом (комплект) ХПВХ 400 IPS",10,"Фитинги","RUB",{"$f":"IFERROR(I349*Оглавление!$E$23,\"по запросу\")","v":382360.46799999994},{"$f":"IFERROR(G349*(1-Оглавление!$D$32),\"по запросу\")","v":382360.46799999994},3814.45,"шт",null,0,0]
[null,"IODCQRC450","Свободный фланец с буртом (комплект) ХПВХ 450 IPS",10,"Фитинги","RUB",{"$f":"IFERROR(I350*Оглавление!$E$23,\"по запросу\")","v":476691.31999999995},{"$f":"IFERROR(G350*(1-Оглавление!$D$32),\"по запросу\")","v":476691.31999999995},4755.5,"шт",null,0,0]
[null,"IODCQRC500","Свободный фланец с буртом (комплект) ХПВХ 500 IPS",10,"Фитинги","RUB",{"$f":"IFERROR(I351*Оглавление!$E$23,\"по запросу\")","v":651480.81039999996},{"$f":"IFERROR(G351*(1-Оглавление!$D$32),\"по запросу\")","v":651480.81039999996},6499.21,"шт",null,0,0]
[null,"IBIC020E","Муфта разборная ХПВХ клеевая уплотнение EPDM 20 IPS",16,"Фитинги","RUB",{"$f":"IFERROR(I352*Оглавление!$E$23,\"по запросу\")","v":1536.6792},{"$f":"IFERROR(G352*(1-Оглавление!$D$32),\"по запросу\")","v":1536.6792},15.33,"шт",null,{"$f":"IFERROR(K352*G352,\"0 ₽\")","v":0},{"$f":"IFERROR(K352*H352,\"0 ₽\")","v":0}]
[null,"IBIC025E","Муфта разборная ХПВХ клеевая уплотнение EPDM 25 IPS",16,"Фитинги","RUB",{"$f":"IFERROR(I353*Оглавление!$E$23,\"по запросу\")","v":1653.9599999999998},{"$f":"IFERROR(G353*(1-Оглавление!$D$32),\"по запросу\")","v":1653.9599999999998},16.5,"шт",null,0,0]
[null,"IBIC032E","Муфта разборная ХПВХ клеевая уплотнение EPDM 32 IPS",16,"Фитинги","RUB",{"$f":"IFERROR(I354*Оглавление!$E$23,\"по запросу\")","v":1992.7711999999999},{"$f":"IFERROR(G354*(1-Оглавление!$D$32),\"по запросу\")","v":1992.7711999999999},19.88,"шт",null,0,0]
[null,"IBIC040E","Муфта разборная ХПВХ клеевая уплотнение EPDM 40 IPS",16,"Фитинги","RUB",{"$f":"IFERROR(I355*Оглавление!$E$23,\"по запросу\")","v":2687.4343999999996},{"$f":"IFERROR(G355*(1-Оглавление!$D$32),\"по запросу\")","v":2687.4343999999996},26.81,"шт",null,0,0]
[null,"IBIC050E","Муфта разборная ХПВХ клеевая уплотнение EPDM 50 IPS",16,"Фитинги","RUB",{"$f":"IFERROR(I356*Оглавление!$E$23,\"по запросу\")","v":3722.9135999999999},{"$f":"IFERROR(G356*(1-Оглавление!$D$32),\"по запросу\")","v":3722.9135999999999},37.14,"шт",null,0,0]
[null,"IBIC063E","Муфта разборная ХПВХ клеевая уплотнение EPDM 63 IPS",16,"Фитинги","RUB",{"$f":"IFERROR(I357*Оглавление!$E$23,\"по запросу\")","v":5288.6623999999993},{"$f":"IFERROR(G357*(1-Оглавление!$D$32),\"по запросу\")","v":5288.6623999999993},52.76,"шт",null,0,0]
[null,"IBIC075E","Муфта разборная ХПВХ клеевая уплотнение EPDM 75 IPS",16,"Фитинги","RUB",{"$f":"IFERROR(I358*Оглавление!$E$23,\"по запросу\")","v":11284.016799999999},{"$f":"IFERROR(G358*(1-Оглавление!$D$32),\"по запросу\")","v":11284.016799999999},112.57,"шт",null,0,0]
[null,"IBIC090E","Муфта разборная ХПВХ клеевая уплотнение EPDM 90 IPS",16,"Фитинги","RUB",{"$f":"IFERROR(I359*Оглавление!$E$23,\"по запросу\")","v":13916.3192},{"$f":"IFERROR(G359*(1-Оглавление!$D$32),\"по запросу\")","v":13916.3192},138.83000000000001,"шт",null,0,0]
[null,"IBIC110E","Муфта разборная ХПВХ клеевая уплотнение EPDM 110 IPS",16,"Фитинги","RUB",{"$f":"IFERROR(I360*Оглавление!$E$23,\"по запросу\")","v":25069.0216},{"$f":"IFERROR(G360*(1-Оглавление!$D$32),\"по запросу\")","v":25069.0216},250.09,"шт",null,0,0]
[null,"IBIC020F","Муфта разборная ХПВХ клеевая уплотнение FKM 20 IPS",16,"Фитинги","RUB",{"$f":"IFERROR(I361*Оглавление!$E$23,\"по запросу\")","v":1528.6599999999999},{"$f":"IFERROR(G361*(1-Оглавление!$D$32),\"по запросу\")","v":1528.6599999999999},15.25,"шт",null,0,0]
[null,"IBIC025F","Муфта разборная ХПВХ клеевая уплотнение FKM 25 IPS",16,"Фитинги","RUB",{"$f":"IFERROR(I362*Оглавление!$E$23,\"по запросу\")","v":1629.9024000000002},{"$f":"IFERROR(G362*(1-Оглавление!$D$32),\"по запросу\")","v":1629.9024000000002},16.260000000000002,"шт",null,0,0]
[null,"IBIC032F","Муфта разборная ХПВХ клеевая уплотнение FKM 32 IPS",16,"Фитинги","RUB",{"$f":"IFERROR(I363*Оглавление!$E$23,\"по запросу\")","v":2010.8143999999998},{"$f":"IFERROR(G363*(1-Оглавление!$D$32),\"по запросу\")","v":2010.8143999999998},20.059999999999999,"шт",null,0,0]
[null,"IBIC040F","Муфта разборная ХПВХ клеевая уплотнение FKM 40 IPS",16,"Фитинги","RUB",{"$f":"IFERROR(I364*Оглавление!$E$23,\"по запросу\")","v":2569.1511999999998},{"$f":"IFERROR(G364*(1-Оглавление!$D$32),\"по запросу\")","v":2569.1511999999998},25.63,"шт",null,0,0]
[null,"IBIC050F","Муфта разборная ХПВХ клеевая уплотнение FKM 50 IPS",16,"Фитинги","RUB",{"$f":"IFERROR(I365*Оглавление!$E$23,\"по запросу\")","v":3608.64},{"$f":"IFERROR(G365*(1-Оглавление!$D$32),\"по запросу\")","v":3608.64},36,"шт",null,0,0]
[null,"IBIC063F","Муфта разборная ХПВХ клеевая уплотнение FKM 63 IPS",16,"Фитинги","RUB",{"$f":"IFERROR(I366*Оглавление!$E$23,\"по запросу\")","v":5172.384},{"$f":"IFERROR(G366*(1-Оглавление!$D$32),\"по запросу\")","v":5172.384},51.6,"шт",null,0,0]
[null,"IBIC075F","Муфта разборная ХПВХ клеевая уплотнение FKM 75 IPS",16,"Фитинги","RUB",{"$f":"IFERROR(I367*Оглавление!$E$23,\"по запросу\")","v":12315.4864},{"$f":"IFERROR(G367*(1-Оглавление!$D$32),\"по запросу\")","v":12315.4864},122.86,"шт",null,0,0]
[null,"IBIC090F","Муфта разборная ХПВХ клеевая уплотнение FKM 90 IPS",16,"Фитинги","RUB",{"$f":"IFERROR(I368*Оглавление!$E$23,\"по запросу\")","v":15156.287999999999},{"$f":"IFERROR(G368*(1-Оглавление!$D$32),\"по запросу\")","v":15156.287999999999},151.19999999999999,"шт",null,0,0]
[null,"IBIC110F","Муфта разборная ХПВХ клеевая уплотнение FKM 110 IPS",16,"Фитинги","RUB",{"$f":"IFERROR(I369*Оглавление!$E$23,\"по запросу\")","v":26550.568800000001},{"$f":"IFERROR(G369*(1-Оглавление!$D$32),\"по запросу\")","v":26550.568800000001},264.87,"шт",null,0,0]
[null,"ISXEIC020E","Обратный клапан ХПВХ шаровой с муфтовыми окончаниями EPDM 20 IPS",16,"Арматура","RUB",{"$f":"IFERROR(I370*Оглавление!$E$23,\"по запросу\")","v":9624.0424000000003},{"$f":"IFERROR(G370*(1-Оглавление!$D$33),\"по запросу\")","v":9624.0424000000003},96.01,"шт",null,{"$f":"IFERROR(K370*G370,\"0 ₽\")","v":0},{"$f":"IFERROR(K370*H370,\"0 ₽\")","v":0}]
[null,"ISXEIC025E","Обратный клапан ХПВХ шаровой с муфтовыми окончаниями EPDM 25 IPS",16,"Арматура","RUB",{"$f":"IFERROR(I371*Оглавление!$E$23,\"по запросу\")","v":10425.9624},{"$f":"IFERROR(G371*(1-Оглавление!$D$33),\"по запросу\")","v":10425.9624},104.01,"шт",null,0,0]
[null,"ISXEIC032E","Обратный клапан ХПВХ шаровой с муфтовыми окончаниями EPDM 32 IPS",16,"Арматура","RUB",{"$f":"IFERROR(I372*Оглавление!$E$23,\"по запросу\")","v":13232.682399999998},{"$f":"IFERROR(G372*(1-Оглавление!$D$33),\"по запросу\")","v":13232.682399999998},132.01,"шт",null,0,0]
[null,"ISXEIC040E","Обратный клапан ХПВХ шаровой с муфтовыми окончаниями EPDM 40 IPS",16,"Арматура","RUB",{"$f":"IFERROR(I373*Оглавление!$E$23,\"по запросу\")","v":20448.96},{"$f":"IFERROR(G373*(1-Оглавление!$D$33),\"по запросу\")","v":20448.96},204,"шт",null,0,0]
[null,"ISXEIC050E","Обратный клапан ХПВХ шаровой с муфтовыми окончаниями EPDM 50 IPS",16,"Арматура","RUB",{"$f":"IFERROR(I374*Оглавление!$E$23,\"по запросу\")","v":25661.439999999999},{"$f":"IFERROR(G374*(1-Оглавление!$D$33),\"по запросу\")","v":25661.439999999999},256,"шт",null,0,0]
[null,"ISXEIC063E","Обратный клапан ХПВХ шаровой с муфтовыми окончаниями EPDM 63 IPS",16,"Арматура","RUB",{"$f":"IFERROR(I375*Оглавление!$E$23,\"по запросу\")","v":30874.922399999996},{"$f":"IFERROR(G375*(1-Оглавление!$D$33),\"по запросу\")","v":30874.922399999996},308.01,"шт",null,0,0]
[null,"ISXEIC020F","Обратный клапан ХПВХ шаровой с муфтовыми окончаниями FKM 20 IPS",16,"Арматура","RUB",{"$f":"IFERROR(I376*Оглавление!$E$23,\"по запросу\")","v":11869.418399999999},{"$f":"IFERROR(G376*(1-Оглавление!$D$33),\"по запросу\")","v":11869.418399999999},118.41,"шт",null,0,0]
[null,"ISXEIC025F","Обратный клапан ХПВХ шаровой с муфтовыми окончаниями FKM 25 IPS",16,"Арматура","RUB",{"$f":"IFERROR(I377*Оглавление!$E$23,\"по запросу\")","v":13030.1976},{"$f":"IFERROR(G377*(1-Оглавление!$D$33),\"по запросу\")","v":13030.1976},129.99,"шт",null,{"$f":"IFERROR(K377*G377,\"0 ₽\")","v":0},{"$f":"IFERROR(K377*H377,\"0 ₽\")","v":0}]
[null,"ISXEIC032F","Обратный клапан ХПВХ шаровой с муфтовыми окончаниями FKM 32 IPS",16,"Арматура","RUB",{"$f":"IFERROR(I378*Оглавление!$E$23,\"по запросу\")","v":16697.979200000002},{"$f":"IFERROR(G378*(1-Оглавление!$D$33),\"по запросу\")","v":16697.979200000002},166.58,"шт",null,0,0]
[null,"ISXEIC040F","Обратный клапан ХПВХ шаровой с муфтовыми окончаниями FKM 40 IPS",16,"Арматура","RUB",{"$f":"IFERROR(I379*Оглавление!$E$23,\"по запросу\")","v":26499.446400000001},{"$f":"IFERROR(G379*(1-Оглавление!$D$33),\"по запросу\")","v":26499.446400000001},264.36,"шт",null,0,0]
[null,"ISXEIC050F","Обратный клапан ХПВХ шаровой с муфтовыми окончаниями FKM 50 IPS",16,"Арматура","RUB",{"$f":"IFERROR(I380*Оглавление!$E$23,\"по запросу\")","v":32819.578399999999},{"$f":"IFERROR(G380*(1-Оглавление!$D$33),\"по запросу\")","v":32819.578399999999},327.41000000000003,"шт",null,0,0]
[null,"ISXEIC063F","Обратный клапан ХПВХ шаровой с муфтовыми окончаниями FKM 63 IPS",16,"Арматура","RUB",{"$f":"IFERROR(I381*Оглавление!$E$23,\"по запросу\")","v":38609.440799999997},{"$f":"IFERROR(G381*(1-Оглавление!$D$33),\"по запросу\")","v":38609.440799999997},385.17,"шт",null,0,0]
[null,"IVKDIC020E","Кран шаровой ХПВХ муфтовый промышленный EPDM 20 IPS",16,"Арматура","RUB",{"$f":"IFERROR(I382*Оглавление!$E$23,\"по запросу\")","v":7088.9727999999996},{"$f":"IFERROR(G382*(1-Оглавление!$D$33),\"по запросу\")","v":7088.9727999999996},70.72,"шт",null,{"$f":"IFERROR(K382*G382,\"0 ₽\")","v":0},{"$f":"IFERROR(K382*H382,\"0 ₽\")","v":0}]
[null,"IVKDIC025E","Кран шаровой ХПВХ муфтовый промышленный EPDM 25 IPS",16,"Арматура","RUB",{"$f":"IFERROR(I383*Оглавление!$E$23,\"по запросу\")","v":8332.9511999999995},{"$f":"IFERROR(G383*(1-Оглавление!$D$33),\"по запросу\")","v":8332.9511999999995},83.13,"шт",null,0,0]
[null,"IVKDIC032E","Кран шаровой ХПВХ муфтовый промышленный EPDM 32 IPS",16,"Арматура","RUB",{"$f":"IFERROR(I384*Оглавление!$E$23,\"по запросу\")","v":10392.8832},{"$f":"IFERROR(G384*(1-Оглавление!$D$33),\"по запросу\")","v":10392.8832},103.68,"шт",null,0,0]
[null,"IVKDIC040E","Кран шаровой ХПВХ муфтовый промышленный EPDM 40 IPS",16,"Арматура","RUB",{"$f":"IFERROR(I385*Оглавление!$E$23,\"по запросу\")","v":11675.9552},{"$f":"IFERROR(G385*(1-Оглавление!$D$33),\"по запросу\")","v":11675.9552},116.48,"шт",null,0,0]
[null,"IVKDIC050E","Кран шаровой ХПВХ муфтовый промышленный EPDM 50 IPS",16,"Арматура","RUB",{"$f":"IFERROR(I386*Оглавление!$E$23,\"по запросу\")","v":13957.417600000001},{"$f":"IFERROR(G386*(1-Оглавление!$D$33),\"по запросу\")","v":13957.417600000001},139.24,"шт",null,0,0]
[null,"IVKDIC063E","Кран шаровой ХПВХ муфтовый промышленный EPDM 63 IPS",16,"Арматура","RUB",{"$f":"IFERROR(I387*Оглавление!$E$23,\"по запросу\")","v":18698.7696},{"$f":"IFERROR(G387*(1-Оглавление!$D$33),\"по запросу\")","v":18698.7696},186.54,"шт",null,0,0]
[null,"IVKDIC075E","Кран шаровой ХПВХ муфтовый промышленный EPDM 75 IPS",10,"Арматура","RUB",{"$f":"IFERROR(I388*Оглавление!$E$23,\"по запросу\")","v":51257.724000000002},{"$f":"IFERROR(G388*(1-Оглавление!$D$33),\"по запросу\")","v":51257.724000000002},511.35,"шт",null,0,0]
[null,"IVKDIC090E","Кран шаровой ХПВХ муфтовый промышленный EPDM 90 IPS",10,"Арматура","RUB",{"$f":"IFERROR(I389*Оглавление!$E$23,\"по запросу\")","v":86801.825599999996},{"$f":"IFERROR(G389*(1-Оглавление!$D$33),\"по запросу\")","v":86801.825599999996},865.94,"шт",null,0,0]
[null,"IVKDIC110E","Кран шаровой ХПВХ муфтовый промышленный EPDM 110 IPS",10,"Арматура","RUB",{"$f":"IFERROR(I390*Оглавление!$E$23,\"по запросу\")","v":137009.03439999997},{"$f":"IFERROR(G390*(1-Оглавление!$D$33),\"по запросу\")","v":137009.03439999997},1366.81,"шт",null,0,0]
[null,"IVKDIC020F","Кран шаровой ХПВХ муфтовый промышленный FKM 20 IPS",16,"Арматура","RUB",{"$f":"IFERROR(I391*Оглавление!$E$23,\"по запросу\")","v":9565.9032000000007},{"$f":"IFERROR(G391*(1-Оглавление!$D$33),\"по запросу\")","v":9565.9032000000007},95.43,"шт",null,0,0]
[null,"IVKDIC025F","Кран шаровой ХПВХ муфтовый промышленный FKM 25 IPS",16,"Арматура","RUB",{"$f":"IFERROR(I392*Оглавление!$E$23,\"по запросу\")","v":11248.932799999999},{"$f":"IFERROR(G392*(1-Оглавление!$D$33),\"по запросу\")","v":11248.932799999999},112.22,"шт",null,0,0]
[null,"IVKDIC032F","Кран шаровой ХПВХ муфтовый промышленный FKM 32 IPS",16,"Арматура","RUB",{"$f":"IFERROR(I393*Оглавление!$E$23,\"по запросу\")","v":14032.597600000001},{"$f":"IFERROR(G393*(1-Оглавление!$D$33),\"по запросу\")","v":14032.597600000001},139.99,"шт",null,0,0]
[null,"IVKDIC040F","Кран шаровой ХПВХ муфтовый промышленный FKM 40 IPS",16,"Арматура","RUB",{"$f":"IFERROR(I394*Оглавление!$E$23,\"по запросу\")","v":15764.7448},{"$f":"IFERROR(G394*(1-Оглавление!$D$33),\"по запросу\")","v":15764.7448},157.27000000000001,"шт",null,0,0]
[null,"IVKDIC050F","Кран шаровой ХПВХ муфтовый промышленный FKM 50 IPS",16,"Арматура","RUB",{"$f":"IFERROR(I395*Оглавление!$E$23,\"по запросу\")","v":18840.107999999997},{"$f":"IFERROR(G395*(1-Оглавление!$D$33),\"по запросу\")","v":18840.107999999997},187.95,"шт",null,0,0]
[null,"IVKDIC063F","Кран шаровой ХПВХ муфтовый промышленный FKM 63 IPS",16,"Арматура","RUB",{"$f":"IFERROR(I396*Оглавление!$E$23,\"по запросу\")","v":25243.439200000001},{"$f":"IFERROR(G396*(1-Оглавление!$D$33),\"по запросу\")","v":25243.439200000001},251.83,"шт",null,0,0]
[null,"IVKDIC075F","Кран шаровой ХПВХ муфтовый промышленный FKM 75 IPS",10,"Арматура","RUB",{"$f":"IFERROR(I397*Оглавление!$E$23,\"по запросу\")","v":52449.577599999997},{"$f":"IFERROR(G397*(1-Оглавление!$D$33),\"по запросу\")","v":52449.577599999997},523.24,"шт",null,0,0]
[null,"IVKDIC090F","Кран шаровой ХПВХ муфтовый промышленный FKM 90 IPS",10,"Арматура","RUB",{"$f":"IFERROR(I398*Оглавление!$E$23,\"по запросу\")","v":90892.62},{"$f":"IFERROR(G398*(1-Оглавление!$D$33),\"по запросу\")","v":90892.62},906.75,"шт",null,0,0]
[null,"IVKDIC110F","Кран шаровой ХПВХ муфтовый промышленный FKM 110 IPS",10,"Арматура","RUB",{"$f":"IFERROR(I399*Оглавление!$E$23,\"по запросу\")","v":139798.71360000002},{"$f":"IFERROR(G399*(1-Оглавление!$D$33),\"по запросу\")","v":139798.71360000002},1394.64,"шт",null,0,0]
[null,"IVKDOC020E","Кран шаровой ХПВХ фланцевый промышленный EPDM 20 IPS",16,"Арматура","RUB",{"$f":"IFERROR(I400*Оглавление!$E$23,\"по запросу\")","v":10519.185599999999},{"$f":"IFERROR(G400*(1-Оглавление!$D$33),\"по запросу\")","v":10519.185599999999},104.94,"шт",null,0,0]
[null,"IVKDOC025E","Кран шаровой ХПВХ фланцевый промышленный EPDM 25 IPS",16,"Арматура","RUB",{"$f":"IFERROR(I401*Оглавление!$E$23,\"по запросу\")","v":12577.112799999999},{"$f":"IFERROR(G401*(1-Оглавление!$D$33),\"по запросу\")","v":12577.112799999999},125.47,"шт",null,0,0]
[null,"IVKDOC032E","Кран шаровой ХПВХ фланцевый промышленный EPDM 32 IPS",16,"Арматура","RUB",{"$f":"IFERROR(I402*Оглавление!$E$23,\"по запросу\")","v":14840.532000000001},{"$f":"IFERROR(G402*(1-Оглавление!$D$33),\"по запросу\")","v":14840.532000000001},148.05000000000001,"шт",null,0,0]
[null,"IVKDOC040E","Кран шаровой ХПВХ фланцевый промышленный EPDM 40 IPS",16,"Арматура","RUB",{"$f":"IFERROR(I403*Оглавление!$E$23,\"по запросу\")","v":17376.603999999999},{"$f":"IFERROR(G403*(1-Оглавление!$D$33),\"по запросу\")","v":17376.603999999999},173.35,"шт",null,0,0]
[null,"IVKDOC050E","Кран шаровой ХПВХ фланцевый промышленный EPDM 50 IPS",16,"Арматура","RUB",{"$f":"IFERROR(I404*Оглавление!$E$23,\"по запросу\")","v":19938.738399999998},{"$f":"IFERROR(G404*(1-Оглавление!$D$33),\"по запросу\")","v":19938.738399999998},198.91,"шт",null,0,0]
[null,"IVKDOC063E","Кран шаровой ХПВХ фланцевый промышленный EPDM 63 IPS",16,"Арматура","RUB",{"$f":"IFERROR(I405*Оглавление!$E$23,\"по запросу\")","v":25653.420799999996},{"$f":"IFERROR(G405*(1-Оглавление!$D$33),\"по запросу\")","v":25653.420799999996},255.92,"шт",null,0,0]
[null,"IVKDOC075E","Кран шаровой ХПВХ фланцевый промышленный EPDM 75 IPS",10,"Арматура","RUB",{"$f":"IFERROR(I406*Оглавление!$E$23,\"по запросу\")","v":64634.751999999993},{"$f":"IFERROR(G406*(1-Оглавление!$D$33),\"по запросу\")","v":64634.751999999993},644.79999999999995,"шт",null,0,0]
[null,"IVKDOC090E","Кран шаровой ХПВХ фланцевый промышленный EPDM 90 IPS",10,"Арматура","RUB",{"$f":"IFERROR(I407*Оглавление!$E$23,\"по запросу\")","v":103414.6008},{"$f":"IFERROR(G407*(1-Оглавление!$D$33),\"по запросу\")","v":103414.6008},1031.67,"шт",null,0,0]
[null,"IVKDOC110E","Кран шаровой ХПВХ фланцевый промышленный EPDM 110 IPS",10,"Арматура","RUB",{"$f":"IFERROR(I408*Оглавление!$E$23,\"по запросу\")","v":156314.25599999999},{"$f":"IFERROR(G408*(1-Оглавление!$D$33),\"по запросу\")","v":156314.25599999999},1559.4,"шт",null,0,0]
[null,"IVKDOC020F","Кран шаровой ХПВХ фланцевый промышленный FKM 20 IPS",16,"Арматура","RUB",{"$f":"IFERROR(I409*Оглавление!$E$23,\"по запросу\")","v":13450.2032},{"$f":"IFERROR(G409*(1-Оглавление!$D$33),\"по запросу\")","v":13450.2032},134.18,"шт",null,0,0]
[null,"IVKDOC025F","Кран шаровой ХПВХ фланцевый промышленный FKM 25 IPS",16,"Арматура","RUB",{"$f":"IFERROR(I410*Оглавление!$E$23,\"по запросу\")","v":15997.301599999999},{"$f":"IFERROR(G410*(1-Оглавление!$D$33),\"по запросу\")","v":15997.301599999999},159.59,"шт",null,0,0]
[null,"IVKDOC032F","Кран шаровой ХПВХ фланцевый промышленный FKM 32 IPS",16,"Арматура","RUB",{"$f":"IFERROR(I411*Оглавление!$E$23,\"по запросу\")","v":19043.5952},{"$f":"IFERROR(G411*(1-Оглавление!$D$33),\"по запросу\")","v":19043.5952},189.98,"шт",null,0,0]
[null,"IVKDOC040F","Кран шаровой ХПВХ фланцевый промышленный FKM 40 IPS",16,"Арматура","RUB",{"$f":"IFERROR(I412*Оглавление!$E$23,\"по запросу\")","v":22502.8776},{"$f":"IFERROR(G412*(1-Оглавление!$D$33),\"по запросу\")","v":22502.8776},224.49,"шт",null,0,0]
[null,"IVKDOC050F","Кран шаровой ХПВХ фланцевый промышленный FKM 50 IPS",16,"Арматура","RUB",{"$f":"IFERROR(I413*Оглавление!$E$23,\"по запросу\")","v":25720.581599999998},{"$f":"IFERROR(G413*(1-Оглавление!$D$33),\"по запросу\")","v":25720.581599999998},256.58999999999997,"шт",null,0,0]
[null,"IVKDOC063F","Кран шаровой ХПВХ фланцевый промышленный FKM 63 IPS",16,"Арматура","RUB",{"$f":"IFERROR(I414*Оглавление!$E$23,\"по запросу\")","v":33119.295999999995},{"$f":"IFERROR(G414*(1-Оглавление!$D$33),\"по запросу\")","v":33119.295999999995},330.4,"шт",null,0,0]
[null,"IVKDOC075F","Кран шаровой ХПВХ фланцевый промышленный FKM 75 IPS",10,"Арматура","RUB",{"$f":"IFERROR(I415*Оглавление!$E$23,\"по запросу\")","v":71414.9856},{"$f":"IFERROR(G415*(1-Оглавление!$D$33),\"по запросу\")","v":71414.9856},712.44,"шт",null,0,0]
[null,"IVKDOC090F","Кран шаровой ХПВХ фланцевый промышленный FKM 90 IPS",10,"Арматура","RUB",{"$f":"IFERROR(I416*Оглавление!$E$23,\"по запросу\")","v":111121.052},{"$f":"IFERROR(G416*(1-Оглавление!$D$33),\"по запросу\")","v":111121.052},1108.55,"шт",null,0,0]
[null,"IVKDOC110F","Кран шаровой ХПВХ фланцевый промышленный FKM 110 IPS",10,"Арматура","RUB",{"$f":"IFERROR(I417*Оглавление!$E$23,\"по запросу\")","v":165012.0808},{"$f":"IFERROR(G417*(1-Оглавление!$D$33),\"по запросу\")","v":165012.0808},1646.17,"шт",null,0,0]
[null,"IFKOCLM063E","Затвор дисковый ХПВХ с рукояткой промышленный 63 (DN50) EPDM IPS",10,"Арматура","RUB",{"$f":"IFERROR(I418*Оглавление!$E$23,\"по запросу\")","v":34712.109600000003},{"$f":"IFERROR(G418*(1-Оглавление!$D$33),\"по запросу\")","v":34712.109600000003},346.29,"шт",null,0,0]
[null,"IFKOCLM075E","Затвор дисковый ХПВХ с рукояткой промышленный 75 (DN65) EPDM IPS",10,"Арматура","RUB",{"$f":"IFERROR(I419*Оглавление!$E$23,\"по запросу\")","v":34712.109600000003},{"$f":"IFERROR(G419*(1-Оглавление!$D$33),\"по запросу\")","v":34712.109600000003},346.29,"шт",null,0,0]
[null,"IFKOCLM090E","Затвор дисковый ХПВХ с рукояткой промышленный 90 (DN80) EPDM IPS",10,"Арматура","RUB",{"$f":"IFERROR(I420*Оглавление!$E$23,\"по запросу\")","v":37734.345600000001},{"$f":"IFERROR(G420*(1-Оглавление!$D$33),\"по запросу\")","v":37734.345600000001},376.44,"шт",null,0,0]
[null,"IFKOCLM110E","Затвор дисковый ХПВХ с рукояткой промышленный 110 (DN100) EPDM IPS",10,"Арматура","RUB",{"$f":"IFERROR(I421*Оглавление!$E$23,\"по запросу\")","v":41003.171999999999},{"$f":"IFERROR(G421*(1-Оглавление!$D$33),\"по запросу\")","v":41003.171999999999},409.05,"шт",null,0,0]
[null,"IFKOCLM140E","Затвор дисковый ХПВХ с рукояткой промышленный 140 (DN125) EPDM IPS",10,"Арматура","RUB",{"$f":"IFERROR(I422*Оглавление!$E$23,\"по запросу\")","v":63142.178399999997},{"$f":"IFERROR(G422*(1-Оглавление!$D$33),\"по запросу\")","v":63142.178399999997},629.91,"шт",null,0,0]
[null,"IFKOCLM160E","Затвор дисковый ХПВХ с рукояткой промышленный 160 (DN150) EPDM IPS",10,"Арматура","RUB",{"$f":"IFERROR(I423*Оглавление!$E$23,\"по запросу\")","v":60122.949599999993},{"$f":"IFERROR(G423*(1-Оглавление!$D$33),\"по запросу\")","v":60122.949599999993},599.79,"шт",null,0,0]
[null,"IFKOCLM225E","Затвор дисковый ХПВХ с рукояткой промышленный 225 (DN150) EPDM IPS",10,"Арматура","RUB",{"$f":"IFERROR(I424*Оглавление!$E$23,\"по запросу\")","v":107310.92959999999},{"$f":"IFERROR(G424*(1-Оглавление!$D$33),\"по запросу\")","v":107310.92959999999},1070.54,"шт",null,0,0]
[null,"IFKOCLM063F","Затвор дисковый ХПВХ с рукояткой промышленный 63 (DN50) FKM IPS",10,"Арматура","RUB",{"$f":"IFERROR(I425*Оглавление!$E$23,\"по запросу\")","v":43228.5},{"$f":"IFERROR(G425*(1-Оглавление!$D$33),\"по запросу\")","v":43228.5},431.25,"шт",null,0,0]
[null,"IFKOCLM075F","Затвор дисковый ХПВХ с рукояткой промышленный 75 (DN65) FKM IPS",10,"Арматура","RUB",{"$f":"IFERROR(I426*Оглавление!$E$23,\"по запросу\")","v":42506.771999999997},{"$f":"IFERROR(G426*(1-Оглавление!$D$33),\"по запросу\")","v":42506.771999999997},424.05,"шт",null,0,0]
[null,"IFKOCLM090F","Затвор дисковый ХПВХ с рукояткой промышленный 90 (DN80) FKM IPS",10,"Арматура","RUB",{"$f":"IFERROR(I427*Оглавление!$E$23,\"по запросу\")","v":48868.002399999998},{"$f":"IFERROR(G427*(1-Оглавление!$D$33),\"по запросу\")","v":48868.002399999998},487.51,"шт",null,0,0]
[null,"IFKOCLM110F","Затвор дисковый ХПВХ с рукояткой промышленный 110 (DN100) FKM IPS",10,"Арматура","RUB",{"$f":"IFERROR(I428*Оглавление!$E$23,\"по запросу\")","v":55478.830399999999},{"$f":"IFERROR(G428*(1-Оглавление!$D$33),\"по запросу\")","v":55478.830399999999},553.46,"шт",null,0,0]
[null,"IFKOCLM140F","Затвор дисковый ХПВХ с рукояткой промышленный 140 (DN125) FKM IPS",10,"Арматура","RUB",{"$f":"IFERROR(I429*Оглавление!$E$23,\"по запросу\")","v":86312.654399999985},{"$f":"IFERROR(G429*(1-Оглавление!$D$33),\"по запросу\")","v":86312.654399999985},861.06,"шт",null,0,0]
[null,"IFKOCLM160F","Затвор дисковый ХПВХ с рукояткой промышленный 160 (DN150) FKM IPS",10,"Арматура","RUB",{"$f":"IFERROR(I430*Оглавление!$E$23,\"по запросу\")","v":93807.599199999997},{"$f":"IFERROR(G430*(1-Оглавление!$D$33),\"по запросу\")","v":93807.599199999997},935.83,"шт",null,0,0]
[null,"IFKOCLM225F","Затвор дисковый ХПВХ с рукояткой промышленный 225 (DN150) FKM IPS",10,"Арматура","RUB",{"$f":"IFERROR(I431*Оглавление!$E$23,\"по запросу\")","v":160679.70799999998},{"$f":"IFERROR(G431*(1-Оглавление!$D$33),\"по запросу\")","v":160679.70799999998},1602.95,"шт",null,0,{"$f":"IFERROR(K431*H431,\"0 ₽\")","v":0}]
[null,"IFKOCRM225E","Затвор дисковый ХПВХ с редуктором промышленный 8\" (DN200) EPDM IPS",10,"Арматура","RUB",{"$f":"IFERROR(I432*Оглавление!$E$23,\"по запросу\")","v":126166.0736},{"$f":"IFERROR(G432*(1-Оглавление!$D$33),\"по запросу\")","v":126166.0736},1258.6400000000001,"шт",null,{"$f":"IFERROR(K432*G432,\"0 ₽\")","v":0},0]
[null,"IFKOCRM280E","Затвор дисковый ХПВХ с редуктором промышленный 10\" (DN250) EPDM IPS",10,"Арматура","RUB",{"$f":"IFERROR(I433*Оглавление!$E$23,\"по запросу\")","v":196599.70959999997},{"$f":"IFERROR(G433*(1-Оглавление!$D$33),\"по запросу\")","v":196599.70959999997},1961.29,"шт",null,0,0]
[null,"IFKOCRM315E","Затвор дисковый ХПВХ с редуктором промышленный 12\"(DN300) EPDM IPS",10,"Арматура","RUB",{"$f":"IFERROR(I434*Оглавление!$E$23,\"по запросу\")","v":299939.13039999997},{"$f":"IFERROR(G434*(1-Оглавление!$D$33),\"по запросу\")","v":299939.13039999997},2992.21,"шт",null,0,0]
[null,"IFKOCRM225F","Затвор дисковый ХПВХ с редуктором промышленный 8\" (200) FKM IPS",10,"Арматура","RUB",{"$f":"IFERROR(I435*Оглавление!$E$23,\"по запросу\")","v":191507.51759999999},{"$f":"IFERROR(G435*(1-Оглавление!$D$33),\"по запросу\")","v":191507.51759999999},1910.49,"шт",null,{"$f":"IFERROR(K435*G435,\"0 ₽\")","v":0},{"$f":"IFERROR(K435*H435,\"0 ₽\")","v":0}]
[null,"IFKOCRM280F","Затвор дисковый ХПВХ с редуктором промышленный 10\" (250) FKM IPS",10,"Арматура","RUB",{"$f":"IFERROR(I436*Оглавление!$E$23,\"по запросу\")","v":291988.09359999996},{"$f":"IFERROR(G436*(1-Оглавление!$D$33),\"по запросу\")","v":291988.09359999996},2912.89,"шт",null,{"$f":"IFERROR(K436*G436,\"0 ₽\")","v":0},{"$f":"IFERROR(K436*H436,\"0 ₽\")","v":0}]
[null,"IFKOCRM315F","Затвор дисковый ХПВХ с редуктором промышленный 12\"(300) FKM IPS",10,"Арматура","RUB",{"$f":"IFERROR(I437*Оглавление!$E$23,\"по запросу\")","v":442098.49599999993},{"$f":"IFERROR(G437*(1-Оглавление!$D$33),\"по запросу\")","v":442098.49599999993},4410.3999999999996,"шт",null,{"$f":"IFERROR(K437*G437,\"0 ₽\")","v":0},{"$f":"IFERROR(K437*H437,\"0 ₽\")","v":0}]
[null,"IFKOCRM814E","Затвор дисковый ХПВХ с редуктором промышленный 14\"(DN350) EPDM IPS",null,"Арматура","RUB",{"$f":"IFERROR(I438*Оглавление!$E$23,\"по запросу\")","v":327591.33679999999},{"$f":"IFERROR(G438*(1-Оглавление!$D$33),\"по запросу\")","v":327591.33679999999},3268.07,"шт",null,0,0]
[null,"IFKOCRM816E","Затвор дисковый ХПВХ с редуктором промышленный 16\"(DN400) EPDM IPS",null,"Арматура","RUB",{"$f":"IFERROR(I439*Оглавление!$E$23,\"по запросу\")","v":491331.37199999997},{"$f":"IFERROR(G439*(1-Оглавление!$D$33),\"по запросу\")","v":491331.37199999997},4901.55,"шт",null,0,0]
[null,"IFKOCRM818E","Затвор дисковый ХПВХ с редуктором промышленный 18\"(DN450) EPDM IPS",null,"Арматура","RUB",{"$f":"IFERROR(I440*Оглавление!$E$23,\"по запросу\")","v":1002950.3176},{"$f":"IFERROR(G440*(1-Оглавление!$D$33),\"по запросу\")","v":1002950.3176},10005.49,"шт",null,0,0]
[null,"IFKOCRM820E","Затвор дисковый ХПВХ с редуктором промышленный 20\"(DN500) EPDM IPS",null,"Арматура","RUB",{"$f":"IFERROR(I441*Оглавление!$E$23,\"по запросу\")","v":1230559.2711999998},{"$f":"IFERROR(G441*(1-Оглавление!$D$33),\"по запросу\")","v":1230559.2711999998},12276.13,"шт",null,0,0]
[null,"IFKOCRM824E","Затвор дисковый ХПВХ с редуктором промышленный 24\"(DN600) EPDM IPS",null,"Арматура","RUB",{"$f":"IFERROR(I442*Оглавление!$E$23,\"по запросу\")","v":1549345.5264000001},{"$f":"IFERROR(G442*(1-Оглавление!$D$33),\"по запросу\")","v":1549345.5264000001},15456.36,"шт",null,0,0]
[null,"IFKOCRM828E","Затвор дисковый ХПВХ с редуктором промышленный 28\"(DN700) EPDM IPS",null,"Арматура","RUB",{"$f":"IFERROR(I443*Оглавление!$E$23,\"по запросу\")","v":"по запросу"},{"$f":"IFERROR(G443*(1-Оглавление!$D$33),\"по запросу\")","v":"по запросу"},"по запросу","шт",null,"0 ₽","0 ₽"]
[null,"IFKOCRM832E","Затвор дисковый ХПВХ с редуктором промышленный 32\"(DN800) EPDM IPS",null,"Арматура","RUB",{"$f":"IFERROR(I444*Оглавление!$E$23,\"по запросу\")","v":"по запросу"},{"$f":"IFERROR(G444*(1-Оглавление!$D$33),\"по запросу\")","v":"по запросу"},"по запросу","шт",null,"0 ₽","0 ₽"]
[null,"IFKOCRM840E","Затвор дисковый ХПВХ с редуктором промышленный 40\"(DN1000) EPDM IPS",null,"Арматура","RUB",{"$f":"IFERROR(I445*Оглавление!$E$23,\"по запросу\")","v":"по запросу"},{"$f":"IFERROR(G445*(1-Оглавление!$D$33),\"по запросу\")","v":"по запросу"},"по запросу","шт",null,"0 ₽","0 ₽"]
[null,"IFKOCRM814F","Затвор дисковый ХПВХ с редуктором промышленный 14\"(DN350) FKM IPS",null,"Арматура","RUB",{"$f":"IFERROR(I446*Оглавление!$E$23,\"по запросу\")","v":498687.98559999996},{"$f":"IFERROR(G446*(1-Оглавление!$D$33),\"по запросу\")","v":498687.98559999996},4974.9399999999996,"шт",null,0,0]
[null,"IFKOCRM816F","Затвор дисковый ХПВХ с редуктором промышленный 16\"(DN400) FKM IPS",null,"Арматура","RUB",{"$f":"IFERROR(I447*Оглавление!$E$23,\"по запросу\")","v":709911.70879999991},{"$f":"IFERROR(G447*(1-Оглавление!$D$33),\"по запросу\")","v":709911.70879999991},7082.12,"шт",null,0,0]
[null,"IFKOCRM818F","Затвор дисковый ХПВХ с редуктором промышленный 18\"(DN450) FKM IPS",null,"Арматура","RUB",{"$f":"IFERROR(I448*Оглавление!$E$23,\"по запросу\")","v":1238584.4856},{"$f":"IFERROR(G448*(1-Оглавление!$D$33),\"по запросу\")","v":1238584.4856},12356.19,"шт",null,0,0]
[null,"IFKOCRM820F","Затвор дисковый ХПВХ с редуктором промышленный 20\"(DN500) FKM IPS",null,"Арматура","RUB",{"$f":"IFERROR(I449*Оглавление!$E$23,\"по запросу\")","v":1495396.3583999998},{"$f":"IFERROR(G449*(1-Оглавление!$D$33),\"по запросу\")","v":1495396.3583999998},14918.16,"шт",null,0,0]
[null,"IFKOCRM824F","Затвор дисковый ХПВХ с редуктором промышленный 24\"(DN600) FKM IPS",null,"Арматура","RUB",{"$f":"IFERROR(I450*Оглавление!$E$23,\"по запросу\")","v":1897557.2335999999},{"$f":"IFERROR(G450*(1-Оглавление!$D$33),\"по запросу\")","v":1897557.2335999999},18930.14,"шт",null,0,0]
[null,"IFKOCRM828F","Затвор дисковый ХПВХ с редуктором промышленный 28\"(DN700) FKM IPS",null,"Арматура","RUB",{"$f":"IFERROR(I451*Оглавление!$E$23,\"по запросу\")","v":"по запросу"},{"$f":"IFERROR(G451*(1-Оглавление!$D$33),\"по запросу\")","v":"по запросу"},"по запросу","шт",null,"0 ₽","0 ₽"]
[null,"IFKOCRM832F","Затвор дисковый ХПВХ с редуктором промышленный 32\"(DN800) FKM IPS",null,"Арматура","RUB",{"$f":"IFERROR(I452*Оглавление!$E$23,\"по запросу\")","v":"по запросу"},{"$f":"IFERROR(G452*(1-Оглавление!$D$33),\"по запросу\")","v":"по запросу"},"по запросу","шт",null,"0 ₽","0 ₽"]
[null,"IFKOCRM840F","Затвор дисковый ХПВХ с редуктором промышленный 40\"(DN1000) FKM IPS",null,"Арматура","RUB",{"$f":"IFERROR(I453*Оглавление!$E$23,\"по запросу\")","v":"по запросу"},{"$f":"IFERROR(G453*(1-Оглавление!$D$33),\"по запросу\")","v":"по запросу"},"по запросу","шт",null,"0 ₽","0 ₽"]
[null,"IDKUIC020E","Мембранный клапан ХПВХ с разборными муфтовыми окончаниями EPDM 20 IPS",10,"Арматура","RUB",{"$f":"IFERROR(I454*Оглавление!$E$23,\"по запросу\")","v":15184.355199999998},{"$f":"IFERROR(G454*(1-Оглавление!$D$33),\"по запросу\")","v":15184.355199999998},151.47999999999999,"шт",null,0,0]
[null,"IDKUIC025E","Мембранный клапан ХПВХ с разборными муфтовыми окончаниями EPDM 25 IPS",10,"Арматура","RUB",{"$f":"IFERROR(I455*Оглавление!$E$23,\"по запросу\")","v":18105.3488},{"$f":"IFERROR(G455*(1-Оглавление!$D$33),\"по запросу\")","v":18105.3488},180.62,"шт",null,0,0]
[null,"IDKUIC032E","Мембранный клапан ХПВХ с разборными муфтовыми окончаниями EPDM 32 IPS",10,"Арматура","RUB",{"$f":"IFERROR(I456*Оглавление!$E$23,\"по запросу\")","v":21959.576799999999},{"$f":"IFERROR(G456*(1-Оглавление!$D$33),\"по запросу\")","v":21959.576799999999},219.07,"шт",null,0,0]
[null,"IDKUIC040E","Мембранный клапан ХПВХ с разборными муфтовыми окончаниями EPDM 40 IPS",10,"Арматура","RUB",{"$f":"IFERROR(I457*Оглавление!$E$23,\"по запросу\")","v":26029.320800000001},{"$f":"IFERROR(G457*(1-Оглавление!$D$33),\"по запросу\")","v":26029.320800000001},259.67,"шт",null,0,0]
[null,"IDKUIC050E","Мембранный клапан ХПВХ с разборными муфтовыми окончаниями EPDM 50 IPS",10,"Арматура","RUB",{"$f":"IFERROR(I458*Оглавление!$E$23,\"по запросу\")","v":41120.452799999999},{"$f":"IFERROR(G458*(1-Оглавление!$D$33),\"по запросу\")","v":41120.452799999999},410.22,"шт",null,0,0]
[null,"IDKUIC063E","Мембранный клапан ХПВХ с разборными муфтовыми окончаниями EPDM 63 IPS",10,"Арматура","RUB",{"$f":"IFERROR(I459*Оглавление!$E$23,\"по запросу\")","v":47246.119199999994},{"$f":"IFERROR(G459*(1-Оглавление!$D$33),\"по запросу\")","v":47246.119199999994},471.33,"шт",null,0,0]
[null,"IDKUIC075E","Мембранный клапан ХПВХ с разборными муфтовыми окончаниями EPDM 75 IPS",10,"Арматура","RUB",{"$f":"IFERROR(I460*Оглавление!$E$23,\"по запросу\")","v":90184.925600000002},{"$f":"IFERROR(G460*(1-Оглавление!$D$33),\"по запросу\")","v":90184.925600000002},899.69,"шт",null,0,0]
[null,"IDKUIC090E","Мембранный клапан ХПВХ с разборными муфтовыми окончаниями EPDM 90 IPS",10,"Арматура","RUB",{"$f":"IFERROR(I461*Оглавление!$E$23,\"по запросу\")","v":126258.29439999998},{"$f":"IFERROR(G461*(1-Оглавление!$D$33),\"по запросу\")","v":126258.29439999998},1259.56,"шт",null,0,0]
[null,"IDKUIC110E","Мембранный клапан ХПВХ с разборными муфтовыми окончаниями EPDM 110 IPS",10,"Арматура","RUB",{"$f":"IFERROR(I462*Оглавление!$E$23,\"по запросу\")","v":157822.86799999999},{"$f":"IFERROR(G462*(1-Оглавление!$D$33),\"по запросу\")","v":157822.86799999999},1574.45,"шт",null,0,0]
[null,"IDKUIC020F","Мембранный клапан ХПВХ с разборными муфтовыми окончаниями FKM 20 IPS",10,"Арматура","RUB",{"$f":"IFERROR(I463*Оглавление!$E$23,\"по запросу\")","v":18368.98},{"$f":"IFERROR(G463*(1-Оглавление!$D$33),\"по запросу\")","v":18368.98},183.25,"шт",null,0,0]
[null,"IDKUIC025F","Мембранный клапан ХПВХ с разборными муфтовыми окончаниями FKM 25 IPS",10,"Арматура","RUB",{"$f":"IFERROR(I464*Оглавление!$E$23,\"по запросу\")","v":21727.02},{"$f":"IFERROR(G464*(1-Оглавление!$D$33),\"по запросу\")","v":21727.02},216.75,"шт",null,0,0]
[null,"IDKUIC032F","Мембранный клапан ХПВХ с разборными муфтовыми окончаниями FKM 32 IPS",10,"Арматура","RUB",{"$f":"IFERROR(I465*Оглавление!$E$23,\"по запросу\")","v":26500.448799999998},{"$f":"IFERROR(G465*(1-Оглавление!$D$33),\"по запросу\")","v":26500.448799999998},264.37,"шт",null,0,0]
[null,"IDKUIC040F","Мембранный клапан ХПВХ с разборными муфтовыми окончаниями FKM 40 IPS",10,"Арматура","RUB",{"$f":"IFERROR(I466*Оглавление!$E$23,\"по запросу\")","v":31235.786400000001},{"$f":"IFERROR(G466*(1-Оглавление!$D$33),\"по запросу\")","v":31235.786400000001},311.61,"шт",null,0,0]
[null,"IDKUIC050F","Мембранный клапан ХПВХ с разборными муфтовыми окончаниями FKM 50 IPS",10,"Арматура","RUB",{"$f":"IFERROR(I467*Оглавление!$E$23,\"по запросу\")","v":49345.144799999995},{"$f":"IFERROR(G467*(1-Оглавление!$D$33),\"по запросу\")","v":49345.144799999995},492.27,"шт",null,0,0]
[null,"IDKUIC063F","Мембранный клапан ХПВХ с разборными муфтовыми окончаниями FKM 63 IPS",10,"Арматура","RUB",{"$f":"IFERROR(I468*Оглавление!$E$23,\"по запросу\")","v":56695.743999999999},{"$f":"IFERROR(G468*(1-Оглавление!$D$33),\"по запросу\")","v":56695.743999999999},565.6,"шт",null,0,0]
[null,"IDKUIC075F","Мембранный клапан ХПВХ с разборными муфтовыми окончаниями FKM 75 IPS",10,"Арматура","RUB",{"$f":"IFERROR(I469*Оглавление!$E$23,\"по запросу\")","v":108222.1112},{"$f":"IFERROR(G469*(1-Оглавление!$D$33),\"по запросу\")","v":108222.1112},1079.6300000000001,"шт",null,0,0]
[null,"IDKUIC090F","Мембранный клапан ХПВХ с разборными муфтовыми окончаниями FKM 90 IPS",10,"Арматура","RUB",{"$f":"IFERROR(I470*Оглавление!$E$23,\"по запросу\")","v":151510.75519999999},{"$f":"IFERROR(G470*(1-Оглавление!$D$33),\"по запросу\")","v":151510.75519999999},1511.48,"шт",null,0,0]
[null,"IDKUIC110F","Мембранный клапан ХПВХ с разборными муфтовыми окончаниями FKM 110 IPS",10,"Арматура","RUB",{"$f":"IFERROR(I471*Оглавление!$E$23,\"по запросу\")","v":189388.44399999999},{"$f":"IFERROR(G471*(1-Оглавление!$D$33),\"по запросу\")","v":189388.44399999999},1889.35,"шт",null,0,0]
[null,"IDKUIC020P","Мембранный клапан ХПВХ с разборными муфтовыми окончаниями PTFE 20 IPS",10,"Арматура","RUB",{"$f":"IFERROR(I472*Оглавление!$E$23,\"по запросу\")","v":18368.98},{"$f":"IFERROR(G472*(1-Оглавление!$D$33),\"по запросу\")","v":18368.98},183.25,"шт",null,{"$f":"IFERROR(K472*G472,\"0 ₽\")","v":0},{"$f":"IFERROR(K472*H472,\"0 ₽\")","v":0}]
[null,"IDKUIC025P","Мембранный клапан ХПВХ с разборными муфтовыми окончаниями PTFE 25 IPS",10,"Арматура","RUB",{"$f":"IFERROR(I473*Оглавление!$E$23,\"по запросу\")","v":21727.02},{"$f":"IFERROR(G473*(1-Оглавление!$D$33),\"по запросу\")","v":21727.02},216.75,"шт",null,0,0]
[null,"IDKUIC032P","Мембранный клапан ХПВХ с разборными муфтовыми окончаниями PTFE 32 IPS",10,"Арматура","RUB",{"$f":"IFERROR(I474*Оглавление!$E$23,\"по запросу\")","v":26500.448799999998},{"$f":"IFERROR(G474*(1-Оглавление!$D$33),\"по запросу\")","v":26500.448799999998},264.37,"шт",null,0,0]
[null,"IDKUIC040P","Мембранный клапан ХПВХ с разборными муфтовыми окончаниями PTFE 40 IPS",10,"Арматура","RUB",{"$f":"IFERROR(I475*Оглавление!$E$23,\"по запросу\")","v":31235.786400000001},{"$f":"IFERROR(G475*(1-Оглавление!$D$33),\"по запросу\")","v":31235.786400000001},311.61,"шт",null,0,0]
[null,"IDKUIC050P","Мембранный клапан ХПВХ с разборными муфтовыми окончаниями PTFE 50 IPS",10,"Арматура","RUB",{"$f":"IFERROR(I476*Оглавление!$E$23,\"по запросу\")","v":49345.144799999995},{"$f":"IFERROR(G476*(1-Оглавление!$D$33),\"по запросу\")","v":49345.144799999995},492.27,"шт",null,0,0]
[null,"IDKUIC063P","Мембранный клапан ХПВХ с разборными муфтовыми окончаниями PTFE 63 IPS",10,"Арматура","RUB",{"$f":"IFERROR(I477*Оглавление!$E$23,\"по запросу\")","v":56695.743999999999},{"$f":"IFERROR(G477*(1-Оглавление!$D$33),\"по запросу\")","v":56695.743999999999},565.6,"шт",null,0,0]
[null,"IDKUIC075P","Мембранный клапан ХПВХ с разборными муфтовыми окончаниями PTFE 75 IPS",10,"Арматура","RUB",{"$f":"IFERROR(I478*Оглавление!$E$23,\"по запросу\")","v":108222.1112},{"$f":"IFERROR(G478*(1-Оглавление!$D$33),\"по запросу\")","v":108222.1112},1079.6300000000001,"шт",null,0,0]
[null,"IDKUIC090P","Мембранный клапан ХПВХ с разборными муфтовыми окончаниями PTFE 90 IPS",10,"Арматура","RUB",{"$f":"IFERROR(I479*Оглавление!$E$23,\"по запросу\")","v":151510.75519999999},{"$f":"IFERROR(G479*(1-Оглавление!$D$33),\"по запросу\")","v":151510.75519999999},1511.48,"шт",null,0,0]
[null,"IDKUIC110P","Мембранный клапан ХПВХ с разборными муфтовыми окончаниями PTFE 110 IPS",10,"Арматура","RUB",{"$f":"IFERROR(I480*Оглавление!$E$23,\"по запросу\")","v":189388.44399999999},{"$f":"IFERROR(G480*(1-Оглавление!$D$33),\"по запросу\")","v":189388.44399999999},1889.35,"шт",null,0,0]
[null,"IDKDC020E","Мембранный клапан ХПВХ с втулочными окончаниями EPDM 20 IPS",10,"Арматура","RUB",{"$f":"IFERROR(I481*Оглавление!$E$23,\"по запросу\")","v":15258.532799999999},{"$f":"IFERROR(G481*(1-Оглавление!$D$33),\"по запросу\")","v":15258.532799999999},152.22,"шт",null,0,0]
[null,"IDKDC025E","Мембранный клапан ХПВХ с втулочными окончаниями EPDM 25 IPS",10,"Арматура","RUB",{"$f":"IFERROR(I482*Оглавление!$E$23,\"по запросу\")","v":18105.3488},{"$f":"IFERROR(G482*(1-Оглавление!$D$33),\"по запросу\")","v":18105.3488},180.62,"шт",null,0,0]
[null,"IDKDC032E","Мембранный клапан ХПВХ с втулочными окончаниями EPDM 32 IPS",10,"Арматура","RUB",{"$f":"IFERROR(I483*Оглавление!$E$23,\"по запросу\")","v":22033.754399999998},{"$f":"IFERROR(G483*(1-Оглавление!$D$33),\"по запросу\")","v":22033.754399999998},219.81,"шт",null,0,0]
[null,"IDKDC040E","Мембранный клапан ХПВХ с втулочными окончаниями EPDM 40 IPS",10,"Арматура","RUB",{"$f":"IFERROR(I484*Оглавление!$E$23,\"по запросу\")","v":26029.320800000001},{"$f":"IFERROR(G484*(1-Оглавление!$D$33),\"по запросу\")","v":26029.320800000001},259.67,"шт",null,0,0]
[null,"IDKDC050E","Мембранный клапан ХПВХ с втулочными окончаниями EPDM 50 IPS",10,"Арматура","RUB",{"$f":"IFERROR(I485*Оглавление!$E$23,\"по запросу\")","v":41120.452799999999},{"$f":"IFERROR(G485*(1-Оглавление!$D$33),\"по запросу\")","v":41120.452799999999},410.22,"шт",null,0,0]
[null,"IDKDC063E","Мембранный клапан ХПВХ с втулочными окончаниями EPDM 63 IPS",10,"Арматура","RUB",{"$f":"IFERROR(I486*Оглавление!$E$23,\"по запросу\")","v":47246.119199999994},{"$f":"IFERROR(G486*(1-Оглавление!$D$33),\"по запросу\")","v":47246.119199999994},471.33,"шт",null,0,0]
[null,"IDKDC075E","Мембранный клапан ХПВХ с втулочными окончаниями EPDM 75 IPS",10,"Арматура","RUB",{"$f":"IFERROR(I487*Оглавление!$E$23,\"по запросу\")","v":90184.925600000002},{"$f":"IFERROR(G487*(1-Оглавление!$D$33),\"по запросу\")","v":90184.925600000002},899.69,"шт",null,0,0]
[null,"IDKDC090E","Мембранный клапан ХПВХ с втулочными окончаниями EPDM 90 IPS",10,"Арматура","RUB",{"$f":"IFERROR(I488*Оглавление!$E$23,\"по запросу\")","v":126258.29439999998},{"$f":"IFERROR(G488*(1-Оглавление!$D$33),\"по запросу\")","v":126258.29439999998},1259.56,"шт",null,0,0]
[null,"IDKDC110E","Мембранный клапан ХПВХ с втулочными окончаниями EPDM 110 IPS",10,"Арматура","RUB",{"$f":"IFERROR(I489*Оглавление!$E$23,\"по запросу\")","v":157822.86799999999},{"$f":"IFERROR(G489*(1-Оглавление!$D$33),\"по запросу\")","v":157822.86799999999},1574.45,"шт",null,0,0]
[null,"IDKDC020F","Мембранный клапан ХПВХ с втулочными окончаниями FKM 20 IPS",10,"Арматура","RUB",{"$f":"IFERROR(I490*Оглавление!$E$23,\"по запросу\")","v":18368.98},{"$f":"IFERROR(G490*(1-Оглавление!$D$33),\"по запросу\")","v":18368.98},183.25,"шт",null,0,0]
[null,"IDKDC025F","Мембранный клапан ХПВХ с втулочными окончаниями FKM 25 IPS",10,"Арматура","RUB",{"$f":"IFERROR(I491*Оглавление!$E$23,\"по запросу\")","v":21727.02},{"$f":"IFERROR(G491*(1-Оглавление!$D$33),\"по запросу\")","v":21727.02},216.75,"шт",null,0,0]
[null,"IDKDC032F","Мембранный клапан ХПВХ с втулочными окончаниями FKM 32 IPS",10,"Арматура","RUB",{"$f":"IFERROR(I492*Оглавление!$E$23,\"по запросу\")","v":26500.448799999998},{"$f":"IFERROR(G492*(1-Оглавление!$D$33),\"по запросу\")","v":26500.448799999998},264.37,"шт",null,0,0]
[null,"IDKDC040F","Мембранный клапан ХПВХ с втулочными окончаниями FKM 40 IPS",10,"Арматура","RUB",{"$f":"IFERROR(I493*Оглавление!$E$23,\"по запросу\")","v":31235.786400000001},{"$f":"IFERROR(G493*(1-Оглавление!$D$33),\"по запросу\")","v":31235.786400000001},311.61,"шт",null,0,0]
[null,"IDKDC050F","Мембранный клапан ХПВХ с втулочными окончаниями FKM 50 IPS",10,"Арматура","RUB",{"$f":"IFERROR(I494*Оглавление!$E$23,\"по запросу\")","v":49345.144799999995},{"$f":"IFERROR(G494*(1-Оглавление!$D$33),\"по запросу\")","v":49345.144799999995},492.27,"шт",null,0,0]
[null,"IDKDC063F","Мембранный клапан ХПВХ с втулочными окончаниями FKM 63 IPS",10,"Арматура","RUB",{"$f":"IFERROR(I495*Оглавление!$E$23,\"по запросу\")","v":56695.743999999999},{"$f":"IFERROR(G495*(1-Оглавление!$D$33),\"по запросу\")","v":56695.743999999999},565.6,"шт",null,0,0]
[null,"IDKDC075F","Мембранный клапан ХПВХ с втулочными окончаниями FKM 75 IPS",10,"Арматура","RUB",{"$f":"IFERROR(I496*Оглавление!$E$23,\"по запросу\")","v":108222.1112},{"$f":"IFERROR(G496*(1-Оглавление!$D$33),\"по запросу\")","v":108222.1112},1079.6300000000001,"шт",null,0,0]
[null,"IDKDC090F","Мембранный клапан ХПВХ с втулочными окончаниями FKM 90 IPS",10,"Арматура","RUB",{"$f":"IFERROR(I497*Оглавление!$E$23,\"по запросу\")","v":151510.75519999999},{"$f":"IFERROR(G497*(1-Оглавление!$D$33),\"по запросу\")","v":151510.75519999999},1511.48,"шт",null,0,0]
[null,"IDKDC110F","Мембранный клапан ХПВХ с втулочными окончаниями FKM 110 IPS",10,"Арматура","RUB",{"$f":"IFERROR(I498*Оглавление!$E$23,\"по запросу\")","v":189388.44399999999},{"$f":"IFERROR(G498*(1-Оглавление!$D$33),\"по запросу\")","v":189388.44399999999},1889.35,"шт",null,0,0]
[null,"IDKDC020P","Мембранный клапан ХПВХ с втулочными окончаниями PTFE 20 IPS",10,"Арматура","RUB",{"$f":"IFERROR(I499*Оглавление!$E$23,\"по запросу\")","v":18368.98},{"$f":"IFERROR(G499*(1-Оглавление!$D$33),\"по запросу\")","v":18368.98},183.25,"шт",null,{"$f":"IFERROR(K499*G499,\"0 ₽\")","v":0},{"$f":"IFERROR(K499*H499,\"0 ₽\")","v":0}]
[null,"IDKDC025P","Мембранный клапан ХПВХ с втулочными окончаниями PTFE 25 IPS",10,"Арматура","RUB",{"$f":"IFERROR(I500*Оглавление!$E$23,\"по запросу\")","v":21727.02},{"$f":"IFERROR(G500*(1-Оглавление!$D$33),\"по запросу\")","v":21727.02},216.75,"шт",null,0,0]
[null,"IDKDC032P","Мембранный клапан ХПВХ с втулочными окончаниями PTFE 32 IPS",10,"Арматура","RUB",{"$f":"IFERROR(I501*Оглавление!$E$23,\"по запросу\")","v":26500.448799999998},{"$f":"IFERROR(G501*(1-Оглавление!$D$33),\"по запросу\")","v":26500.448799999998},264.37,"шт",null,0,0]
[null,"IDKDC040P","Мембранный клапан ХПВХ с втулочными окончаниями PTFE 40 IPS",10,"Арматура","RUB",{"$f":"IFERROR(I502*Оглавление!$E$23,\"по запросу\")","v":31235.786400000001},{"$f":"IFERROR(G502*(1-Оглавление!$D$33),\"по запросу\")","v":31235.786400000001},311.61,"шт",null,0,0]
[null,"IDKDC050P","Мембранный клапан ХПВХ с втулочными окончаниями PTFE 50 IPS",10,"Арматура","RUB",{"$f":"IFERROR(I503*Оглавление!$E$23,\"по запросу\")","v":49345.144799999995},{"$f":"IFERROR(G503*(1-Оглавление!$D$33),\"по запросу\")","v":49345.144799999995},492.27,"шт",null,0,0]
[null,"IDKDC063P","Мембранный клапан ХПВХ с втулочными окончаниями PTFE 63 IPS",10,"Арматура","RUB",{"$f":"IFERROR(I504*Оглавление!$E$23,\"по запросу\")","v":56695.743999999999},{"$f":"IFERROR(G504*(1-Оглавление!$D$33),\"по запросу\")","v":56695.743999999999},565.6,"шт",null,0,0]
[null,"IDKDC075P","Мембранный клапан ХПВХ с втулочными окончаниями PTFE 75 IPS",10,"Арматура","RUB",{"$f":"IFERROR(I505*Оглавление!$E$23,\"по запросу\")","v":108222.1112},{"$f":"IFERROR(G505*(1-Оглавление!$D$33),\"по запросу\")","v":108222.1112},1079.6300000000001,"шт",null,0,0]
[null,"IDKDC090P","Мембранный клапан ХПВХ с втулочными окончаниями PTFE 90 IPS",10,"Арматура","RUB",{"$f":"IFERROR(I506*Оглавление!$E$23,\"по запросу\")","v":151510.75519999999},{"$f":"IFERROR(G506*(1-Оглавление!$D$33),\"по запросу\")","v":151510.75519999999},1511.48,"шт",null,0,0]
[null,"IDKDC110P","Мембранный клапан ХПВХ с втулочными окончаниями PTFE 110 IPS",10,"Арматура","RUB",{"$f":"IFERROR(I507*Оглавление!$E$23,\"по запросу\")","v":189388.44399999999},{"$f":"IFERROR(G507*(1-Оглавление!$D$33),\"по запросу\")","v":189388.44399999999},1889.35,"шт",null,0,0]
[null,"IDKOC020E","Мембранный клапан ХПВХ с фланцевыми окончаниями EPDM 20 IPS",10,"Арматура","RUB",{"$f":"IFERROR(I508*Оглавление!$E$23,\"по запросу\")","v":15554.240799999998},{"$f":"IFERROR(G508*(1-Оглавление!$D$33),\"по запросу\")","v":15554.240799999998},155.16999999999999,"шт",null,0,0]
[null,"IDKOC025E","Мембранный клапан ХПВХ с фланцевыми окончаниями EPDM 25 IPS",10,"Арматура","RUB",{"$f":"IFERROR(I509*Оглавление!$E$23,\"по запросу\")","v":18830.083999999999},{"$f":"IFERROR(G509*(1-Оглавление!$D$33),\"по запросу\")","v":18830.083999999999},187.85,"шт",null,0,0]
[null,"IDKOC032E","Мембранный клапан ХПВХ с фланцевыми окончаниями EPDM 32 IPS",10,"Арматура","RUB",{"$f":"IFERROR(I510*Оглавление!$E$23,\"по запросу\")","v":22778.5376},{"$f":"IFERROR(G510*(1-Оглавление!$D$33),\"по запросу\")","v":22778.5376},227.24,"шт",null,0,0]
[null,"IDKOC040E","Мембранный клапан ХПВХ с фланцевыми окончаниями EPDM 40 IPS",10,"Арматура","RUB",{"$f":"IFERROR(I511*Оглавление!$E$23,\"по запросу\")","v":26773.101599999995},{"$f":"IFERROR(G511*(1-Оглавление!$D$33),\"по запросу\")","v":26773.101599999995},267.08999999999997,"шт",null,0,0]
[null,"IDKOC050E","Мембранный клапан ХПВХ с фланцевыми окончаниями EPDM 50 IPS",10,"Арматура","RUB",{"$f":"IFERROR(I512*Оглавление!$E$23,\"по запросу\")","v":41927.384799999993},{"$f":"IFERROR(G512*(1-Оглавление!$D$33),\"по запросу\")","v":41927.384799999993},418.27,"шт",null,0,0]
[null,"IDKOC063E","Мембранный клапан ХПВХ с фланцевыми окончаниями EPDM 63 IPS",10,"Арматура","RUB",{"$f":"IFERROR(I513*Оглавление!$E$23,\"по запросу\")","v":50996.097600000001},{"$f":"IFERROR(G513*(1-Оглавление!$D$33),\"по запросу\")","v":50996.097600000001},508.74,"шт",null,0,{"$f":"IFERROR(K513*H513,\"0 ₽\")","v":0}]
[null,"IDKOC075E","Мембранный клапан ХПВХ с фланцевыми окончаниями EPDM 75 IPS",10,"Арматура","RUB",{"$f":"IFERROR(I514*Оглавление!$E$23,\"по запросу\")","v":92439.323199999984},{"$f":"IFERROR(G514*(1-Оглавление!$D$33),\"по запросу\")","v":92439.323199999984},922.18,"шт",null,{"$f":"IFERROR(K514*G514,\"0 ₽\")","v":0},0]
[null,"IDKOC090E","Мембранный клапан ХПВХ с фланцевыми окончаниями EPDM 90 IPS",10,"Арматура","RUB",{"$f":"IFERROR(I515*Оглавление!$E$23,\"по запросу\")","v":129264.49199999998},{"$f":"IFERROR(G515*(1-Оглавление!$D$33),\"по запросу\")","v":129264.49199999998},1289.55,"шт",null,0,0]
[null,"IDKOC110E","Мембранный клапан ХПВХ с фланцевыми окончаниями EPDM 110 IPS",10,"Арматура","RUB",{"$f":"IFERROR(I516*Оглавление!$E$23,\"по запросу\")","v":157822.86799999999},{"$f":"IFERROR(G516*(1-Оглавление!$D$33),\"по запросу\")","v":157822.86799999999},1574.45,"шт",null,0,0]
[null,"IDKOC020F","Мембранный клапан ХПВХ с фланцевыми окончаниями FKM 20 IPS",10,"Арматура","RUB",{"$f":"IFERROR(I517*Оглавление!$E$23,\"по запросу\")","v":18665.690399999999},{"$f":"IFERROR(G517*(1-Оглавление!$D$33),\"по запросу\")","v":18665.690399999999},186.21,"шт",null,0,0]
[null,"IDKOC025F","Мембранный клапан ХПВХ с фланцевыми окончаниями FKM 25 IPS",10,"Арматура","RUB",{"$f":"IFERROR(I518*Оглавление!$E$23,\"по запросу\")","v":22596.100799999997},{"$f":"IFERROR(G518*(1-Оглавление!$D$33),\"по запросу\")","v":22596.100799999997},225.42,"шт",null,0,0]
[null,"IDKOC032F","Мембранный клапан ХПВХ с фланцевыми окончаниями FKM 32 IPS",10,"Арматура","RUB",{"$f":"IFERROR(I519*Оглавление!$E$23,\"по запросу\")","v":27393.587199999994},{"$f":"IFERROR(G519*(1-Оглавление!$D$33),\"по запросу\")","v":27393.587199999994},273.27999999999997,"шт",null,0,0]
[null,"IDKOC040F","Мембранный клапан ХПВХ с фланцевыми окончаниями FKM 40 IPS",10,"Арматура","RUB",{"$f":"IFERROR(I520*Оглавление!$E$23,\"по запросу\")","v":32127.922399999996},{"$f":"IFERROR(G520*(1-Оглавление!$D$33),\"по запросу\")","v":32127.922399999996},320.51,"шт",null,0,0]
[null,"IDKOC050F","Мембранный клапан ХПВХ с фланцевыми окончаниями FKM 50 IPS",10,"Арматура","RUB",{"$f":"IFERROR(I521*Оглавление!$E$23,\"по запросу\")","v":50312.460800000001},{"$f":"IFERROR(G521*(1-Оглавление!$D$33),\"по запросу\")","v":50312.460800000001},501.92,"шт",null,0,0]
[null,"IDKOC063F","Мембранный клапан ХПВХ с фланцевыми окончаниями FKM 63 IPS",10,"Арматура","RUB",{"$f":"IFERROR(I522*Оглавление!$E$23,\"по запросу\")","v":61195.517599999999},{"$f":"IFERROR(G522*(1-Оглавление!$D$33),\"по запросу\")","v":61195.517599999999},610.49,"шт",null,0,0]
[null,"IDKOC075F","Мембранный клапан ХПВХ с фланцевыми окончаниями FKM 75 IPS",10,"Арматура","RUB",{"$f":"IFERROR(I523*Оглавление!$E$23,\"по запросу\")","v":110927.58879999998},{"$f":"IFERROR(G523*(1-Оглавление!$D$33),\"по запросу\")","v":110927.58879999998},1106.6199999999999,"шт",null,0,0]
[null,"IDKOC090F","Мембранный клапан ХПВХ с фланцевыми окончаниями FKM 90 IPS",10,"Арматура","RUB",{"$f":"IFERROR(I524*Оглавление!$E$23,\"по запросу\")","v":155117.3904},{"$f":"IFERROR(G524*(1-Оглавление!$D$33),\"по запросу\")","v":155117.3904},1547.46,"шт",null,0,0]
[null,"IDKOC110F","Мембранный клапан ХПВХ с фланцевыми окончаниями FKM 110 IPS",10,"Арматура","RUB",{"$f":"IFERROR(I525*Оглавление!$E$23,\"по запросу\")","v":189388.44399999999},{"$f":"IFERROR(G525*(1-Оглавление!$D$33),\"по запросу\")","v":189388.44399999999},1889.35,"шт",null,0,0]
[null,"IDKOC020P","Мембранный клапан ХПВХ с фланцевыми окончаниями PTPE 20 IPS",10,"Арматура","RUB",{"$f":"IFERROR(I526*Оглавление!$E$23,\"по запросу\")","v":18665.690399999999},{"$f":"IFERROR(G526*(1-Оглавление!$D$33),\"по запросу\")","v":18665.690399999999},186.21,"шт",null,{"$f":"IFERROR(K526*G526,\"0 ₽\")","v":0},{"$f":"IFERROR(K526*H526,\"0 ₽\")","v":0}]
[null,"IDKOC025P","Мембранный клапан ХПВХ с фланцевыми окончаниями PTPE 25 IPS",10,"Арматура","RUB",{"$f":"IFERROR(I527*Оглавление!$E$23,\"по запросу\")","v":22596.100799999997},{"$f":"IFERROR(G527*(1-Оглавление!$D$33),\"по запросу\")","v":22596.100799999997},225.42,"шт",null,0,0]
[null,"IDKOC032P","Мембранный клапан ХПВХ с фланцевыми окончаниями PTPE 32 IPS",10,"Арматура","RUB",{"$f":"IFERROR(I528*Оглавление!$E$23,\"по запросу\")","v":27393.587199999994},{"$f":"IFERROR(G528*(1-Оглавление!$D$33),\"по запросу\")","v":27393.587199999994},273.27999999999997,"шт",null,0,0]
[null,"IDKOC040P","Мембранный клапан ХПВХ с фланцевыми окончаниями PTPE 40 IPS",10,"Арматура","RUB",{"$f":"IFERROR(I529*Оглавление!$E$23,\"по запросу\")","v":32127.922399999996},{"$f":"IFERROR(G529*(1-Оглавление!$D$33),\"по запросу\")","v":32127.922399999996},320.51,"шт",null,0,0]
[null,"IDKOC050P","Мембранный клапан ХПВХ с фланцевыми окончаниями PTPE 50 IPS",10,"Арматура","RUB",{"$f":"IFERROR(I530*Оглавление!$E$23,\"по запросу\")","v":50312.460800000001},{"$f":"IFERROR(G530*(1-Оглавление!$D$33),\"по запросу\")","v":50312.460800000001},501.92,"шт",null,0,0]
[null,"IDKOC063P","Мембранный клапан ХПВХ с фланцевыми окончаниями PTPE 63 IPS",10,"Арматура","RUB",{"$f":"IFERROR(I531*Оглавление!$E$23,\"по запросу\")","v":61195.517599999999},{"$f":"IFERROR(G531*(1-Оглавление!$D$33),\"по запросу\")","v":61195.517599999999},610.49,"шт",null,0,0]
[null,"IDKOC075P","Мембранный клапан ХПВХ с фланцевыми окончаниями PTPE 75 IPS",10,"Арматура","RUB",{"$f":"IFERROR(I532*Оглавление!$E$23,\"по запросу\")","v":110927.58879999998},{"$f":"IFERROR(G532*(1-Оглавление!$D$33),\"по запросу\")","v":110927.58879999998},1106.6199999999999,"шт",null,0,0]
[null,"IDKOC090P","Мембранный клапан ХПВХ с фланцевыми окончаниями PTPE 90 IPS",10,"Арматура","RUB",{"$f":"IFERROR(I533*Оглавление!$E$23,\"по запросу\")","v":155117.3904},{"$f":"IFERROR(G533*(1-Оглавление!$D$33),\"по запросу\")","v":155117.3904},1547.46,"шт",null,0,0]
[null,"IDKOC110P","Мембранный клапан ХПВХ с фланцевыми окончаниями PTPE 110 IPS",10,"Арматура","RUB",{"$f":"IFERROR(I534*Оглавление!$E$23,\"по запросу\")","v":189388.44399999999},{"$f":"IFERROR(G534*(1-Оглавление!$D$33),\"по запросу\")","v":189388.44399999999},1889.35,"шт",null,0,0]
[null,"IRVUIС020E","Фильтр сетчатый ХПВХ муфтовый EPDM D20 (DN15) IPS",10,"Арматура","RUB",{"$f":"IFERROR(I535*Оглавление!$E$23,\"по запросу\")","v":10620.428},{"$f":"IFERROR(G535*(1-Оглавление!$D$33),\"по запросу\")","v":10620.428},105.95,"шт",null,{"$f":"IFERROR(K535*G535,\"0 ₽\")","v":0},{"$f":"IFERROR(K535*H535,\"0 ₽\")","v":0}]
[null,"IRVUIС025E","Фильтр сетчатый ХПВХ муфтовый EPDM D25 (DN20) IPS",10,"Арматура","RUB",{"$f":"IFERROR(I536*Оглавление!$E$23,\"по запросу\")","v":13090.3416},{"$f":"IFERROR(G536*(1-Оглавление!$D$33),\"по запросу\")","v":13090.3416},130.59,"шт",null,0,0]
[null,"IRVUIС032E","Фильтр сетчатый ХПВХ муфтовый EPDM D32 (DN25) IPS",10,"Арматура","RUB",{"$f":"IFERROR(I537*Оглавление!$E$23,\"по запросу\")","v":16054.438399999999},{"$f":"IFERROR(G537*(1-Оглавление!$D$33),\"по запросу\")","v":16054.438399999999},160.16,"шт",null,0,0]
[null,"IRVUIС040E","Фильтр сетчатый ХПВХ муфтовый EPDM D40 (DN32) IPS",10,"Арматура","RUB",{"$f":"IFERROR(I538*Оглавление!$E$23,\"по запросу\")","v":39848.407199999994},{"$f":"IFERROR(G538*(1-Оглавление!$D$33),\"по запросу\")","v":39848.407199999994},397.53,"шт",null,0,0]
[null,"IRVUIС050E","Фильтр сетчатый ХПВХ муфтовый EPDM D50 (DN40) IPS",10,"Арматура","RUB",{"$f":"IFERROR(I539*Оглавление!$E$23,\"по запросу\")","v":44870.431199999999},{"$f":"IFERROR(G539*(1-Оглавление!$D$33),\"по запросу\")","v":44870.431199999999},447.63,"шт",null,0,0]
[null,"IRVUIС063E","Фильтр сетчатый ХПВХ муфтовый EPDM D63 (DN50) IPS",10,"Арматура","RUB",{"$f":"IFERROR(I540*Оглавление!$E$23,\"по запросу\")","v":61583.446400000001},{"$f":"IFERROR(G540*(1-Оглавление!$D$33),\"по запросу\")","v":61583.446400000001},614.36,"шт",null,0,0]
[null,"IRVUIС075E","Фильтр сетчатый ХПВХ муфтовый EPDM D75 (DN65) IPS",10,"Арматура","RUB",{"$f":"IFERROR(I541*Оглавление!$E$23,\"по запросу\")","v":147125.25519999999},{"$f":"IFERROR(G541*(1-Оглавление!$D$33),\"по запросу\")","v":147125.25519999999},1467.73,"шт",null,0,0]
[null,"IRVUIС090E","Фильтр сетчатый ХПВХ муфтовый EPDM D90 (DN80) IPS",10,"Арматура","RUB",{"$f":"IFERROR(I542*Оглавление!$E$23,\"по запросу\")","v":181128.66800000001},{"$f":"IFERROR(G542*(1-Оглавление!$D$33),\"по запросу\")","v":181128.66800000001},1806.95,"шт",null,0,0]
[null,"IRVUIС110E","Фильтр сетчатый ХПВХ муфтовый EPDM D110 (DN100) IPS",10,"Арматура","RUB",{"$f":"IFERROR(I543*Оглавление!$E$23,\"по запросу\")","v":235466.7672},{"$f":"IFERROR(G543*(1-Оглавление!$D$33),\"по запросу\")","v":235466.7672},2349.0300000000002,"шт",null,0,0]
[null,"IRVUIС020F","Фильтр сетчатый ХПВХ муфтовый FKM D20 (DN15) IPS",10,"Арматура","RUB",{"$f":"IFERROR(I544*Оглавление!$E$23,\"по запросу\")","v":10620.428},{"$f":"IFERROR(G544*(1-Оглавление!$D$33),\"по запросу\")","v":10620.428},105.95,"шт",null,0,0]
[null,"IRVUIС025F","Фильтр сетчатый ХПВХ муфтовый FKM D25 (DN20) IPS",10,"Арматура","RUB",{"$f":"IFERROR(I545*Оглавление!$E$23,\"по запросу\")","v":13090.3416},{"$f":"IFERROR(G545*(1-Оглавление!$D$33),\"по запросу\")","v":13090.3416},130.59,"шт",null,0,0]
[null,"IRVUIС032F","Фильтр сетчатый ХПВХ муфтовый FKM D32 (DN25) IPS",10,"Арматура","RUB",{"$f":"IFERROR(I546*Оглавление!$E$23,\"по запросу\")","v":16054.438399999999},{"$f":"IFERROR(G546*(1-Оглавление!$D$33),\"по запросу\")","v":16054.438399999999},160.16,"шт",null,0,0]
[null,"IRVUIС040F","Фильтр сетчатый ХПВХ муфтовый FKM D40 (DN32) IPS",10,"Арматура","RUB",{"$f":"IFERROR(I547*Оглавление!$E$23,\"по запросу\")","v":39848.407199999994},{"$f":"IFERROR(G547*(1-Оглавление!$D$33),\"по запросу\")","v":39848.407199999994},397.53,"шт",null,0,0]
[null,"IRVUIС050F","Фильтр сетчатый ХПВХ муфтовый FKM D50 (DN40) IPS",10,"Арматура","RUB",{"$f":"IFERROR(I548*Оглавление!$E$23,\"по запросу\")","v":44870.431199999999},{"$f":"IFERROR(G548*(1-Оглавление!$D$33),\"по запросу\")","v":44870.431199999999},447.63,"шт",null,0,0]
[null,"IRVUIС063F","Фильтр сетчатый ХПВХ муфтовый FKM D63 (DN50) IPS",10,"Арматура","RUB",{"$f":"IFERROR(I549*Оглавление!$E$23,\"по запросу\")","v":61583.446400000001},{"$f":"IFERROR(G549*(1-Оглавление!$D$33),\"по запросу\")","v":61583.446400000001},614.36,"шт",null,0,0]
[null,"IRVUIС075F","Фильтр сетчатый ХПВХ муфтовый FKM D75 (DN65) IPS",10,"Арматура","RUB",{"$f":"IFERROR(I550*Оглавление!$E$23,\"по запросу\")","v":147125.25519999999},{"$f":"IFERROR(G550*(1-Оглавление!$D$33),\"по запросу\")","v":147125.25519999999},1467.73,"шт",null,0,0]
[null,"IRVUIС090F","Фильтр сетчатый ХПВХ муфтовый FKM D90 (DN80) IPS",10,"Арматура","RUB",{"$f":"IFERROR(I551*Оглавление!$E$23,\"по запросу\")","v":181128.66800000001},{"$f":"IFERROR(G551*(1-Оглавление!$D$33),\"по запросу\")","v":181128.66800000001},1806.95,"шт",null,0,0]
[null,"IRVUIС110F","Фильтр сетчатый ХПВХ муфтовый FKM D110 (DN100) IPS",10,"Арматура","RUB",{"$f":"IFERROR(I552*Оглавление!$E$23,\"по запросу\")","v":235466.7672},{"$f":"IFERROR(G552*(1-Оглавление!$D$33),\"по запросу\")","v":235466.7672},2349.0300000000002,"шт",null,0,0]

{"sheet":"ХПВХ FIP","index":5,"n_rows":237,"n_cols":13,"rows_kept":237,"cut":false,"hidden":false,"merged":[[195,0,215,0],[216,0,236,0],[165,0,176,0],[145,0,164,0],[125,0,144,0],[59,0,72,0],[41,0,58,0],[29,0,40,0],[9,0,28,0],[177,0,194,0],[105,0,124,0],[89,0,104,0],[73,0,88,0]]}
[null,null,null,null,null,null,null,null,null,{"$f":"COUNT(K10:K237)","v":0},"Товаров в заказе"]
[null,null,null,null,null,null,null,null,null,{"$f":"SUM(M10:M237)","v":0},"Сумма заказа со скидкой с НДС"]
[]
[]
[]
[]
[]
[]
["Фото","Код","Наименование","PN","Категория","Валюта\nпродажи","Цена\nПРОДАЖИ с НДС ","Цена с НДС\nсо скидкой","Цена\nEUR","Ед. измерения","Заказ (метры/штуки)","Сумма рубли","Сумма со скидкой"]
[null,"VKDIC016E","Кран шаровой ХПВХ муфтовый промышленный EPDM 16 FIP",16,"Арматура","RUB",{"$f":"IFERROR(I10*Оглавление!$E$23,\"по запросу\")","v":9512.7759999999998},{"$f":"IFERROR(G10*(1-Оглавление!$D$34),\"по запросу\")","v":9512.7759999999998},94.9,"шт",null,{"$f":"IFERROR(K10*G10,\"0 ₽\")","v":0},{"$f":"IFERROR(K10*H10,\"0 ₽\")","v":0}]
[null,"VKDIC020E","Кран шаровой ХПВХ муфтовый промышленный EPDM 20 FIP",16,"Арматура","RUB",{"$f":"IFERROR(I11*Оглавление!$E$23,\"по запросу\")","v":9512.7759999999998},{"$f":"IFERROR(G11*(1-Оглавление!$D$34),\"по запросу\")","v":9512.7759999999998},94.9,"шт",null,0,0]
[null,"VKDIC025E","Кран шаровой ХПВХ муфтовый промышленный EPDM 25 FIP",16,"Арматура","RUB",{"$f":"IFERROR(I12*Оглавление!$E$23,\"по запросу\")","v":10318.705599999999},{"$f":"IFERROR(G12*(1-Оглавление!$D$34),\"по запросу\")","v":10318.705599999999},102.94,"шт",null,0,0]
[null,"VKDIC032E","Кран шаровой ХПВХ муфтовый промышленный EPDM 32 FIP",16,"Арматура","RUB",{"$f":"IFERROR(I13*Оглавление!$E$23,\"по запросу\")","v":12357.5872},{"$f":"IFERROR(G13*(1-Оглавление!$D$34),\"по запросу\")","v":12357.5872},123.28,"шт",null,0,0]
[null,"VKDIC040E","Кран шаровой ХПВХ муфтовый промышленный EPDM 40 FIP",16,"Арматура","RUB",{"$f":"IFERROR(I14*Оглавление!$E$23,\"по запросу\")","v":14398.473599999998},{"$f":"IFERROR(G14*(1-Оглавление!$D$34),\"по запросу\")","v":14398.473599999998},143.63999999999999,"шт",null,0,0]
[null,"VKDIC050E","Кран шаровой ХПВХ муфтовый промышленный EPDM 50 FIP",16,"Арматура","RUB",{"$f":"IFERROR(I15*Оглавление!$E$23,\"по запросу\")","v":17455.793599999997},{"$f":"IFERROR(G15*(1-Оглавление!$D$34),\"по запросу\")","v":17455.793599999997},174.14,"шт",null,0,0]
[null,"VKDIC063E","Кран шаровой ХПВХ муфтовый промышленный EPDM 63 FIP",16,"Арматура","RUB",{"$f":"IFERROR(I16*Оглавление!$E$23,\"по запросу\")","v":22070.843199999999},{"$f":"IFERROR(G16*(1-Оглавление!$D$34),\"по запросу\")","v":22070.843199999999},220.18,"шт",null,0,0]
[null,"VKDIC075E","Кран шаровой ХПВХ муфтовый промышленный EPDM 75 FIP",16,"Арматура","RUB",{"$f":"IFERROR(I17*Оглавление!$E$23,\"по запросу\")","v":103930.83679999999},{"$f":"IFERROR(G17*(1-Оглавление!$D$34),\"по запросу\")","v":103930.83679999999},1036.82,"шт",null,0,0]
[null,"VKDIC090E","Кран шаровой ХПВХ муфтовый промышленный EPDM 90 FIP",16,"Арматура","RUB",{"$f":"IFERROR(I18*Оглавление!$E$23,\"по запросу\")","v":136354.46719999998},{"$f":"IFERROR(G18*(1-Оглавление!$D$34),\"по запросу\")","v":136354.46719999998},1360.28,"шт",null,0,0]
[null,"VKDIC110E","Кран шаровой ХПВХ муфтовый промышленный EPDM 110 FIP",16,"Арматура","RUB",{"$f":"IFERROR(I19*Оглавление!$E$23,\"по запросу\")","v":164517.8976},{"$f":"IFERROR(G19*(1-Оглавление!$D$34),\"по запросу\")","v":164517.8976},1641.24,"шт",null,0,0]
[null,"VKDIC016F","Кран шаровой ХПВХ муфтовый промышленный FKM 16 FIP",16,"Арматура","RUB",{"$f":"IFERROR(I20*Оглавление!$E$23,\"по запросу\")","v":12357.5872},{"$f":"IFERROR(G20*(1-Оглавление!$D$34),\"по запросу\")","v":12357.5872},123.28,"шт",null,0,0]
[null,"VKDIC020F","Кран шаровой ХПВХ муфтовый промышленный FKM 20 FIP",16,"Арматура","RUB",{"$f":"IFERROR(I21*Оглавление!$E$23,\"по запросу\")","v":12357.5872},{"$f":"IFERROR(G21*(1-Оглавление!$D$34),\"по запросу\")","v":12357.5872},123.28,"шт",null,0,0]
[null,"VKDIC025F","Кран шаровой ХПВХ муфтовый промышленный FKM 25 FIP",16,"Арматура","RUB",{"$f":"IFERROR(I22*Оглавление!$E$23,\"по запросу\")","v":13345.953599999997},{"$f":"IFERROR(G22*(1-Оглавление!$D$34),\"по запросу\")","v":13345.953599999997},133.13999999999999,"шт",null,0,0]
[null,"VKDIC032F","Кран шаровой ХПВХ муфтовый промышленный FKM 32 FIP",16,"Арматура","RUB",{"$f":"IFERROR(I23*Оглавление!$E$23,\"по запросу\")","v":15027.980799999998},{"$f":"IFERROR(G23*(1-Оглавление!$D$34),\"по запросу\")","v":15027.980799999998},149.91999999999999,"шт",null,0,0]
[null,"VKDIC040F","Кран шаровой ХПВХ муфтовый промышленный FKM 40 FIP",16,"Арматура","RUB",{"$f":"IFERROR(I24*Оглавление!$E$23,\"по запросу\")","v":16972.6368},{"$f":"IFERROR(G24*(1-Оглавление!$D$34),\"по запросу\")","v":16972.6368},169.32,"шт",null,0,0]
[null,"VKDIC050F","Кран шаровой ХПВХ муфтовый промышленный FKM 50 FIP",16,"Арматура","RUB",{"$f":"IFERROR(I25*Оглавление!$E$23,\"по запросу\")","v":21427.302399999997},{"$f":"IFERROR(G25*(1-Оглавление!$D$34),\"по запросу\")","v":21427.302399999997},213.76,"шт",null,0,0]
[null,"VKDIC063F","Кран шаровой ХПВХ муфтовый промышленный FKM 63 FIP",16,"Арматура","RUB",{"$f":"IFERROR(I26*Оглавление!$E$23,\"по запросу\")","v":27730.393599999996},{"$f":"IFERROR(G26*(1-Оглавление!$D$34),\"по запросу\")","v":27730.393599999996},276.64,"шт",null,0,0]
[null,"VKDIC075F","Кран шаровой ХПВХ муфтовый промышленный FKM 75 FIP",16,"Арматура","RUB",{"$f":"IFERROR(I27*Оглавление!$E$23,\"по запросу\")","v":134421.84},{"$f":"IFERROR(G27*(1-Оглавление!$D$34),\"по запросу\")","v":134421.84},1341,"шт",null,0,0]
[null,"VKDIC090F","Кран шаровой ХПВХ муфтовый промышленный FKM 90 FIP",16,"Арматура","RUB",{"$f":"IFERROR(I28*Оглавление!$E$23,\"по запросу\")","v":172410.79519999999},{"$f":"IFERROR(G28*(1-Оглавление!$D$34),\"по запросу\")","v":172410.79519999999},1719.98,"шт",null,0,0]
[null,"VKDIC110F","Кран шаровой ХПВХ муфтовый промышленный FKM 110 FIP",16,"Арматура","RUB",{"$f":"IFERROR(I29*Оглавление!$E$23,\"по запросу\")","v":200584.24959999998},{"$f":"IFERROR(G29*(1-Оглавление!$D$34),\"по запросу\")","v":200584.24959999998},2001.04,"шт",null,0,0]
[null,"VKDDC020E","Кран шаровой ХПВХ втулочный промышленный EPDM D20 (DN15) FIP",16,"Арматура","RUB",{"$f":"IFERROR(I30*Оглавление!$E$23,\"по запросу\")","v":10932.1744},{"$f":"IFERROR(G30*(1-Оглавление!$D$34),\"по запросу\")","v":10932.1744},109.06,"шт",null,{"$f":"IFERROR(K30*G30,\"0 ₽\")","v":0},{"$f":"IFERROR(K30*H30,\"0 ₽\")","v":0}]
[null,"VKDDC025E","Кран шаровой ХПВХ втулочный промышленный EPDM D25 (DN20) FIP",16,"Арматура","RUB",{"$f":"IFERROR(I31*Оглавление!$E$23,\"по запросу\")","v":11826.315199999999},{"$f":"IFERROR(G31*(1-Оглавление!$D$34),\"по запросу\")","v":11826.315199999999},117.98,"шт",null,0,0]
[null,"VKDDC032E","Кран шаровой ХПВХ втулочный промышленный EPDM D32 (DN25) FIP",16,"Арматура","RUB",{"$f":"IFERROR(I32*Оглавление!$E$23,\"по запросу\")","v":14228.0656},{"$f":"IFERROR(G32*(1-Оглавление!$D$34),\"по запросу\")","v":14228.0656},141.94,"шт",null,0,0]
[null,"VKDDC040E","Кран шаровой ХПВХ втулочный промышленный EPDM D40 (DN32) FIP",16,"Арматура","RUB",{"$f":"IFERROR(I33*Оглавление!$E$23,\"по запросу\")","v":16535.590400000001},{"$f":"IFERROR(G33*(1-Оглавление!$D$34),\"по запросу\")","v":16535.590400000001},164.96,"шт",null,0,0]
[null,"VKDDC050E","Кран шаровой ХПВХ втулочный промышленный EPDM D50 (DN40) FIP",16,"Арматура","RUB",{"$f":"IFERROR(I34*Оглавление!$E$23,\"по запросу\")","v":19113.763200000001},{"$f":"IFERROR(G34*(1-Оглавление!$D$34),\"по запросу\")","v":19113.763200000001},190.68,"шт",null,0,0]
[null,"VKDDC063E","Кран шаровой ХПВХ втулочный промышленный EPDM D63 (DN50) FIP",16,"Арматура","RUB",{"$f":"IFERROR(I35*Оглавление!$E$23,\"по запросу\")","v":24829.447999999997},{"$f":"IFERROR(G35*(1-Оглавление!$D$34),\"по запросу\")","v":24829.447999999997},247.7,"шт",null,0,0]
[null,"VKDDC020F","Кран шаровой ХПВХ втулочный промышленный FKM D20 (DN15) FIP",16,"Арматура","RUB",{"$f":"IFERROR(I36*Оглавление!$E$23,\"по запросу\")","v":13783},{"$f":"IFERROR(G36*(1-Оглавление!$D$34),\"по запросу\")","v":13783},137.5,"шт",null,0,0]
[null,"VKDDC025F","Кран шаровой ХПВХ втулочный промышленный FKM D25 (DN20) FIP",16,"Арматура","RUB",{"$f":"IFERROR(I37*Оглавление!$E$23,\"по запросу\")","v":14053.647999999997},{"$f":"IFERROR(G37*(1-Оглавление!$D$34),\"по запросу\")","v":14053.647999999997},140.19999999999999,"шт",null,0,0]
[null,"VKDDC032F","Кран шаровой ХПВХ втулочный промышленный FKM D32 (DN25) FIP",16,"Арматура","RUB",{"$f":"IFERROR(I38*Оглавление!$E$23,\"по запросу\")","v":17056.838400000001},{"$f":"IFERROR(G38*(1-Оглавление!$D$34),\"по запросу\")","v":17056.838400000001},170.16,"шт",null,0,0]
[null,"VKDDC040F","Кран шаровой ХПВХ втулочный промышленный FKM D40 (DN32) FIP",16,"Арматура","RUB",{"$f":"IFERROR(I39*Оглавление!$E$23,\"по запросу\")","v":19113.763200000001},{"$f":"IFERROR(G39*(1-Оглавление!$D$34),\"по запросу\")","v":19113.763200000001},190.68,"шт",null,0,0]
[null,"VKDDC050F","Кран шаровой ХПВХ втулочный промышленный FKM D50 (DN40) FIP",16,"Арматура","RUB",{"$f":"IFERROR(I40*Оглавление!$E$23,\"по запросу\")","v":23915.2592},{"$f":"IFERROR(G40*(1-Оглавление!$D$34),\"по запросу\")","v":23915.2592},238.58,"шт",null,0,0]
[null,"VKDDC063F","Кран шаровой ХПВХ втулочный промышленный FKM D63 (DN50) FIP",16,"Арматура","RUB",{"$f":"IFERROR(I41*Оглавление!$E$23,\"по запросу\")","v":30851.867199999997},{"$f":"IFERROR(G41*(1-Оглавление!$D$34),\"по запросу\")","v":30851.867199999997},307.77999999999997,"шт",null,0,0]
[null,"VKDOC020E","Кран шаровой ХПВХ фланцевый промышленный EPDM 20 FIP",16,"Арматура","RUB",{"$f":"IFERROR(I42*Оглавление!$E$23,\"по запросу\")","v":20176.307199999999},{"$f":"IFERROR(G42*(1-Оглавление!$D$34),\"по запросу\")","v":20176.307199999999},201.28,"шт",null,0,0]
[null,"VKDOC025E","Кран шаровой ХПВХ фланцевый промышленный EPDM 25 FIP",16,"Арматура","RUB",{"$f":"IFERROR(I43*Оглавление!$E$23,\"по запросу\")","v":21327.062399999999},{"$f":"IFERROR(G43*(1-Оглавление!$D$34),\"по запросу\")","v":21327.062399999999},212.76,"шт",null,0,0]
[null,"VKDOC032E","Кран шаровой ХПВХ фланцевый промышленный EPDM 32 FIP",16,"Арматура","RUB",{"$f":"IFERROR(I44*Оглавление!$E$23,\"по запросу\")","v":24159.844799999999},{"$f":"IFERROR(G44*(1-Оглавление!$D$34),\"по запросу\")","v":24159.844799999999},241.02,"шт",null,0,0]
[null,"VKDOC040E","Кран шаровой ХПВХ фланцевый промышленный EPDM 40 FIP",16,"Арматура","RUB",{"$f":"IFERROR(I45*Оглавление!$E$23,\"по запросу\")","v":33127.315199999997},{"$f":"IFERROR(G45*(1-Оглавление!$D$34),\"по запросу\")","v":33127.315199999997},330.48,"шт",null,0,0]
[null,"VKDOC050E","Кран шаровой ХПВХ фланцевый промышленный EPDM 50 FIP",16,"Арматура","RUB",{"$f":"IFERROR(I46*Оглавление!$E$23,\"по запросу\")","v":38432.015999999996},{"$f":"IFERROR(G46*(1-Оглавление!$D$34),\"по запросу\")","v":38432.015999999996},383.4,"шт",null,0,0]
[null,"VKDOC063E","Кран шаровой ХПВХ фланцевый промышленный EPDM 63 FIP",16,"Арматура","RUB",{"$f":"IFERROR(I47*Оглавление!$E$23,\"по запросу\")","v":45256.355199999998},{"$f":"IFERROR(G47*(1-Оглавление!$D$34),\"по запросу\")","v":45256.355199999998},451.48,"шт",null,0,0]
[null,"VKDOC075E","Кран шаровой ХПВХ фланцевый промышленный EPDM 75 FIP",16,"Арматура","RUB",{"$f":"IFERROR(I48*Оглавление!$E$23,\"по запросу\")","v":155885.22879999998},{"$f":"IFERROR(G48*(1-Оглавление!$D$34),\"по запросу\")","v":155885.22879999998},1555.12,"шт",null,0,0]
[null,"VKDOC090E","Кран шаровой ХПВХ фланцевый промышленный EPDM 90 FIP",16,"Арматура","RUB",{"$f":"IFERROR(I49*Оглавление!$E$23,\"по запросу\")","v":204537.71519999998},{"$f":"IFERROR(G49*(1-Оглавление!$D$34),\"по запросу\")","v":204537.71519999998},2040.48,"шт",null,0,0]
[null,"VKDOC110E","Кран шаровой ХПВХ фланцевый промышленный EPDM 110 FIP",16,"Арматура","RUB",{"$f":"IFERROR(I50*Оглавление!$E$23,\"по запросу\")","v":246780.856},{"$f":"IFERROR(G50*(1-Оглавление!$D$34),\"по запросу\")","v":246780.856},2461.9,"шт",null,0,0]
[null,"VKDOC020F","Кран шаровой ХПВХ фланцевый промышленный FKM 20 FIP",16,"Арматура","RUB",{"$f":"IFERROR(I51*Оглавление!$E$23,\"по запросу\")","v":24811.4048},{"$f":"IFERROR(G51*(1-Оглавление!$D$34),\"по запросу\")","v":24811.4048},247.52,"шт",null,0,0]
[null,"VKDOC025F","Кран шаровой ХПВХ фланцевый промышленный FKM 25 FIP",16,"Арматура","RUB",{"$f":"IFERROR(I52*Оглавление!$E$23,\"по запросу\")","v":25723.588799999998},{"$f":"IFERROR(G52*(1-Оглавление!$D$34),\"по запросу\")","v":25723.588799999998},256.62,"шт",null,0,0]
[null,"VKDOC032F","Кран шаровой ХПВХ фланцевый промышленный FKM 32 FIP",16,"Арматура","RUB",{"$f":"IFERROR(I53*Оглавление!$E$23,\"по запросу\")","v":28075.219199999996},{"$f":"IFERROR(G53*(1-Оглавление!$D$34),\"по запросу\")","v":28075.219199999996},280.08,"шт",null,{"$f":"IFERROR(K53*G53,\"0 ₽\")","v":0},{"$f":"IFERROR(K53*H53,\"0 ₽\")","v":0}]
[null,"VKDOC040F","Кран шаровой ХПВХ фланцевый промышленный FKM 40 FIP",16,"Арматура","RUB",{"$f":"IFERROR(I54*Оглавление!$E$23,\"по запросу\")","v":36880.300799999997},{"$f":"IFERROR(G54*(1-Оглавление!$D$34),\"по запросу\")","v":36880.300799999997},367.92,"шт",null,0,0]
[null,"VKDOC050F","Кран шаровой ХПВХ фланцевый промышленный FKM 50 FIP",16,"Арматура","RUB",{"$f":"IFERROR(I55*Оглавление!$E$23,\"по запросу\")","v":43724.687999999995},{"$f":"IFERROR(G55*(1-Оглавление!$D$34),\"по запросу\")","v":43724.687999999995},436.2,"шт",null,0,0]
[null,"VKDOC063F","Кран шаровой ХПВХ фланцевый промышленный FKM 63 FIP",16,"Арматура","RUB",{"$f":"IFERROR(I56*Оглавление!$E$23,\"по запросу\")","v":53393.838399999993},{"$f":"IFERROR(G56*(1-Оглавление!$D$34),\"по запросу\")","v":53393.838399999993},532.66,"шт",null,0,0]
[null,"VKDOC075F","Кран шаровой ХПВХ фланцевый промышленный FKM 75 FIP",16,"Арматура","RUB",{"$f":"IFERROR(I57*Оглавление!$E$23,\"по запросу\")","v":186382.24639999997},{"$f":"IFERROR(G57*(1-Оглавление!$D$34),\"по запросу\")","v":186382.24639999997},1859.36,"шт",null,0,0]
[null,"VKDOC090F","Кран шаровой ХПВХ фланцевый промышленный FKM 90 FIP",16,"Арматура","RUB",{"$f":"IFERROR(I58*Оглавление!$E$23,\"по запросу\")","v":240594.04319999999},{"$f":"IFERROR(G58*(1-Оглавление!$D$34),\"по запросу\")","v":240594.04319999999},2400.1799999999998,"шт",null,0,0]
[null,"VKDOC110F","Кран шаровой ХПВХ фланцевый промышленный FKM 110 FIP",16,"Арматура","RUB",{"$f":"IFERROR(I59*Оглавление!$E$23,\"по запросу\")","v":282827.15999999997},{"$f":"IFERROR(G59*(1-Оглавление!$D$34),\"по запросу\")","v":282827.15999999997},2821.5,"шт",null,0,0]
[null,"TKDIC016E","Кран трехходовой ХПВХ T-шар муфтовый EPDM D16 (DN10) FIP",16,"Арматура","RUB",{"$f":"IFERROR(I60*Оглавление!$E$23,\"по запросу\")","v":22590.0864},{"$f":"IFERROR(G60*(1-Оглавление!$D$34),\"по запросу\")","v":22590.0864},225.36,"шт",null,0,0]
[null,"TKDIC020E","Кран трехходовой ХПВХ T-шар муфтовый EPDM D20 (DN15) FIP",16,"Арматура","RUB",{"$f":"IFERROR(I61*Оглавление!$E$23,\"по запросу\")","v":22590.0864},{"$f":"IFERROR(G61*(1-Оглавление!$D$34),\"по запросу\")","v":22590.0864},225.36,"шт",null,0,0]
[null,"TKDIC025E","Кран трехходовой ХПВХ T-шар муфтовый EPDM D25 (DN20) FIP",16,"Арматура","RUB",{"$f":"IFERROR(I62*Оглавление!$E$23,\"по запросу\")","v":24504.670399999999},{"$f":"IFERROR(G62*(1-Оглавление!$D$34),\"по запросу\")","v":24504.670399999999},244.46,"шт",null,0,0]
[null,"TKDIC032E","Кран трехходовой ХПВХ T-шар муфтовый EPDM D32 (DN25) FIP",16,"Арматура","RUB",{"$f":"IFERROR(I63*Оглавление!$E$23,\"по запросу\")","v":29332.228800000001},{"$f":"IFERROR(G63*(1-Оглавление!$D$34),\"по запросу\")","v":29332.228800000001},292.62,"шт",null,0,0]
[null,"TKDIC040E","Кран трехходовой ХПВХ T-шар муфтовый EPDM D40 (DN32) FIP",16,"Арматура","RUB",{"$f":"IFERROR(I64*Оглавление!$E$23,\"по запросу\")","v":36316.951999999997},{"$f":"IFERROR(G64*(1-Оглавление!$D$34),\"по запросу\")","v":36316.951999999997},362.3,"шт",null,0,0]
[null,"TKDIC050E","Кран трехходовой ХПВХ T-шар муфтовый EPDM D50 (DN40) FIP",16,"Арматура","RUB",{"$f":"IFERROR(I65*Оглавление!$E$23,\"по запросу\")","v":40376.671999999999},{"$f":"IFERROR(G65*(1-Оглавление!$D$34),\"по запросу\")","v":40376.671999999999},402.8,"шт",null,0,0]
[null,"TKDIC063E","Кран трехходовой ХПВХ T-шар муфтовый EPDM D63 (DN50) FIP",16,"Арматура","RUB",{"$f":"IFERROR(I66*Оглавление!$E$23,\"по запросу\")","v":51352.95199999999},{"$f":"IFERROR(G66*(1-Оглавление!$D$34),\"по запросу\")","v":51352.95199999999},512.29999999999995,"шт",null,0,0]
[null,"TKDIC016F","Кран трехходовой ХПВХ T-шар муфтовый FKM D16 (DN10) FIP",16,"Арматура","RUB",{"$f":"IFERROR(I67*Оглавление!$E$23,\"по запросу\")","v":24440.516799999998},{"$f":"IFERROR(G67*(1-Оглавление!$D$34),\"по запросу\")","v":24440.516799999998},243.82,"шт",null,0,0]
[null,"TKDIC020F","Кран трехходовой ХПВХ T-шар муфтовый FKM D20 (DN15) FIP",16,"Арматура","RUB",{"$f":"IFERROR(I68*Оглавление!$E$23,\"по запросу\")","v":24440.516799999998},{"$f":"IFERROR(G68*(1-Оглавление!$D$34),\"по запросу\")","v":24440.516799999998},243.82,"шт",null,0,0]
[null,"TKDIC025F","Кран трехходовой ХПВХ T-шар муфтовый FKM D25 (DN20) FIP",16,"Арматура","RUB",{"$f":"IFERROR(I69*Оглавление!$E$23,\"по запросу\")","v":26980.598400000003},{"$f":"IFERROR(G69*(1-Оглавление!$D$34),\"по запросу\")","v":26980.598400000003},269.16000000000003,"шт",null,0,0]
[null,"TKDIC032F","Кран трехходовой ХПВХ T-шар муфтовый FKM D32 (DN25) FIP",16,"Арматура","RUB",{"$f":"IFERROR(I70*Оглавление!$E$23,\"по запросу\")","v":32409.596799999999},{"$f":"IFERROR(G70*(1-Оглавление!$D$34),\"по запросу\")","v":32409.596799999999},323.32,"шт",null,0,0]
[null,"TKDIC040F","Кран трехходовой ХПВХ T-шар муфтовый FKM D40 (DN32) FIP",16,"Арматура","RUB",{"$f":"IFERROR(I71*Оглавление!$E$23,\"по запросу\")","v":40753.574399999998},{"$f":"IFERROR(G71*(1-Оглавление!$D$34),\"по запросу\")","v":40753.574399999998},406.56,"шт",null,0,0]
[null,"TKDIC050F","Кран трехходовой ХПВХ T-шар муфтовый FKM D50 (DN40) FIP",16,"Арматура","RUB",{"$f":"IFERROR(I72*Оглавление!$E$23,\"по запросу\")","v":47838.537599999996},{"$f":"IFERROR(G72*(1-Оглавление!$D$34),\"по запросу\")","v":47838.537599999996},477.24,"шт",null,0,0]
[null,"TKDIC063F","Кран трехходовой ХПВХ T-шар муфтовый FKM D63 (DN50) FIP",16,"Арматура","RUB",{"$f":"IFERROR(I73*Оглавление!$E$23,\"по запросу\")","v":60777.516800000005},{"$f":"IFERROR(G73*(1-Оглавление!$D$34),\"по запросу\")","v":60777.516800000005},606.32000000000005,"шт",null,0,0]
[null,"FKOCLM050E","Затвор дисковый ХПВХ с рукояткой EPDM D50 (DN40) FIP",16,"Арматура","RUB",{"$f":"IFERROR(I74*Оглавление!$E$23,\"по запросу\")","v":43179.382399999995},{"$f":"IFERROR(G74*(1-Оглавление!$D$34),\"по запросу\")","v":43179.382399999995},430.76,"шт",null,0,0]
[null,"FKOCLM063E","Затвор дисковый ХПВХ с рукояткой EPDM D63 (DN50) FIP",16,"Арматура","RUB",{"$f":"IFERROR(I75*Оглавление!$E$23,\"по запросу\")","v":45719.464},{"$f":"IFERROR(G75*(1-Оглавление!$D$34),\"по запросу\")","v":45719.464},456.1,"шт",null,0,0]
[null,"FKOCLM075E","Затвор дисковый ХПВХ с рукояткой EPDM D75 (DN65) FIP",10,"Арматура","RUB",{"$f":"IFERROR(I76*Оглавление!$E$23,\"по запросу\")","v":50795.617599999998},{"$f":"IFERROR(G76*(1-Оглавление!$D$34),\"по запросу\")","v":50795.617599999998},506.74,"шт",null,0,0]
[null,"FKOCLM090E","Затвор дисковый ХПВХ с рукояткой EPDM D90 (DN80) FIP",10,"Арматура","RUB",{"$f":"IFERROR(I77*Оглавление!$E$23,\"по запросу\")","v":53459.996800000001},{"$f":"IFERROR(G77*(1-Оглавление!$D$34),\"по запросу\")","v":53459.996800000001},533.32000000000005,"шт",null,0,0]
[null,"FKOCLM110E","Затвор дисковый ХПВХ с рукояткой EPDM D110 (DN90) FIP",10,"Арматура","RUB",{"$f":"IFERROR(I78*Оглавление!$E$23,\"по запросу\")","v":58014.902399999999},{"$f":"IFERROR(G78*(1-Оглавление!$D$34),\"по запросу\")","v":58014.902399999999},578.76,"шт",null,0,0]
[null,"FKOCLM140E","Затвор дисковый ХПВХ с рукояткой EPDM D140 (DN125) FIP",10,"Арматура","RUB",{"$f":"IFERROR(I79*Оглавление!$E$23,\"по запросу\")","v":77134.679999999993},{"$f":"IFERROR(G79*(1-Оглавление!$D$34),\"по запросу\")","v":77134.679999999993},769.5,"шт",null,0,0]
[null,"FKOCLM160E","Затвор дисковый ХПВХ с рукояткой EPDM D160 (DN150) FIP",10,"Арматура","RUB",{"$f":"IFERROR(I80*Оглавление!$E$23,\"по запросу\")","v":83251.324799999988},{"$f":"IFERROR(G80*(1-Оглавление!$D$34),\"по запросу\")","v":83251.324799999988},830.52,"шт",null,0,0]
[null,"FKOCLM225E","Затвор дисковый ХПВХ с рукояткой EPDM D225 (DN200) FIP",10,"Арматура","RUB",{"$f":"IFERROR(I81*Оглавление!$E$23,\"по запросу\")","v":107703.8704},{"$f":"IFERROR(G81*(1-Оглавление!$D$34),\"по запросу\")","v":107703.8704},1074.46,"шт",null,0,0]
[null,"FKOCLM050F","Затвор дисковый ХПВХ с рукояткой FKM D50 (DN40) FIP",16,"Арматура","RUB",{"$f":"IFERROR(I82*Оглавление!$E$23,\"по запросу\")","v":60502.859199999999},{"$f":"IFERROR(G82*(1-Оглавление!$D$34),\"по запросу\")","v":60502.859199999999},603.58000000000004,"шт",null,0,0]
[null,"FKOCLM063F","Затвор дисковый ХПВХ с рукояткой FKM D63 (DN50) FIP",16,"Арматура","RUB",{"$f":"IFERROR(I83*Оглавление!$E$23,\"по запросу\")","v":64063.383999999998},{"$f":"IFERROR(G83*(1-Оглавление!$D$34),\"по запросу\")","v":64063.383999999998},639.1,"шт",null,0,0]
[null,"FKOCLM075F","Затвор дисковый ХПВХ с рукояткой FKM D75 (DN65) FIP",10,"Арматура","RUB",{"$f":"IFERROR(I84*Оглавление!$E$23,\"по запросу\")","v":71180.423999999999},{"$f":"IFERROR(G84*(1-Оглавление!$D$34),\"по запросу\")","v":71180.423999999999},710.1,"шт",null,0,0]
[null,"FKOCLM090F","Затвор дисковый ХПВХ с рукояткой FKM D90 (DN80) FIP",10,"Арматура","RUB",{"$f":"IFERROR(I85*Оглавление!$E$23,\"по запросу\")","v":74781.044799999989},{"$f":"IFERROR(G85*(1-Оглавление!$D$34),\"по запросу\")","v":74781.044799999989},746.02,"шт",null,0,0]
[null,"FKOCLM110F","Затвор дисковый ХПВХ с рукояткой FKM D110 (DN90) FIP",10,"Арматура","RUB",{"$f":"IFERROR(I86*Оглавление!$E$23,\"по запросу\")","v":79953.428799999994},{"$f":"IFERROR(G86*(1-Оглавление!$D$34),\"по запросу\")","v":79953.428799999994},797.62,"шт",null,0,0]
[null,"FKOCLM140F","Затвор дисковый ХПВХ с рукояткой FKM D140 (DN125) FIP",10,"Арматура","RUB",{"$f":"IFERROR(I87*Оглавление!$E$23,\"по запросу\")","v":107240.76159999998},{"$f":"IFERROR(G87*(1-Оглавление!$D$34),\"по запросу\")","v":107240.76159999998},1069.8399999999999,"шт",null,{"$f":"IFERROR(K87*G87,\"0 ₽\")","v":0},{"$f":"IFERROR(K87*H87,\"0 ₽\")","v":0}]
[null,"FKOCLM160F","Затвор дисковый ХПВХ с рукояткой FKM D160 (DN150) FIP",10,"Арматура","RUB",{"$f":"IFERROR(I88*Оглавление!$E$23,\"по запросу\")","v":111156.136},{"$f":"IFERROR(G88*(1-Оглавление!$D$34),\"по запросу\")","v":111156.136},1108.9000000000001,"шт",null,0,0]
[null,"FKOCLM225F","Затвор дисковый ХПВХ с рукояткой FKM D225 (DN200) FIP",10,"Арматура","RUB",{"$f":"IFERROR(I89*Оглавление!$E$23,\"по запросу\")","v":144078.96159999998},{"$f":"IFERROR(G89*(1-Оглавление!$D$34),\"по запросу\")","v":144078.96159999998},1437.34,"шт",null,0,0]
[null,"FKOCRM075E","Затвор дисковый ХПВХ с редуктором EPDM D75 (DN65) FIP",10,"Арматура","RUB",{"$f":"IFERROR(I90*Оглавление!$E$23,\"по запросу\")","v":113976.88959999999},{"$f":"IFERROR(G90*(1-Оглавление!$D$34),\"по запросу\")","v":113976.88959999999},1137.04,"шт",null,0,0]
[null,"FKOCRM090E","Затвор дисковый ХПВХ с редуктором EPDM D90 (DN80) FIP",10,"Арматура","RUB",{"$f":"IFERROR(I91*Оглавление!$E$23,\"по запросу\")","v":116328.51999999999},{"$f":"IFERROR(G91*(1-Оглавление!$D$34),\"по запросу\")","v":116328.51999999999},1160.5,"шт",null,0,0]
[null,"FKOCRM110E","Затвор дисковый ХПВХ с редуктором EPDM D110 (DN90) FIP",10,"Арматура","RUB",{"$f":"IFERROR(I92*Оглавление!$E$23,\"по запросу\")","v":121188.15519999999},{"$f":"IFERROR(G92*(1-Оглавление!$D$34),\"по запросу\")","v":121188.15519999999},1208.98,"шт",null,0,0]
[null,"FKOCRM140E","Затвор дисковый ХПВХ с редуктором EPDM D140 (DN125) FIP",10,"Арматура","RUB",{"$f":"IFERROR(I93*Оглавление!$E$23,\"по запросу\")","v":140157.57279999999},{"$f":"IFERROR(G93*(1-Оглавление!$D$34),\"по запросу\")","v":140157.57279999999},1398.22,"шт",null,0,0]
[null,"FKOCRM160E","Затвор дисковый ХПВХ с редуктором EPDM D160 (DN150) FIP",10,"Арматура","RUB",{"$f":"IFERROR(I94*Оглавление!$E$23,\"по запросу\")","v":146274.2176},{"$f":"IFERROR(G94*(1-Оглавление!$D$34),\"по запросу\")","v":146274.2176},1459.24,"шт",null,0,0]
[null,"FKOCRM225E","Затвор дисковый ХПВХ с редуктором EPDM D225 (DN200) FIP",10,"Арматура","RUB",{"$f":"IFERROR(I95*Оглавление!$E$23,\"по запросу\")","v":185157.31359999999},{"$f":"IFERROR(G95*(1-Оглавление!$D$34),\"по запросу\")","v":185157.31359999999},1847.14,"шт",null,0,0]
[null,"FKOCRM280E","Затвор дисковый ХПВХ с редуктором EPDM D280 (DN250) FIP",10,"Арматура","RUB",{"$f":"IFERROR(I96*Оглавление!$E$23,\"по запросу\")","v":354045.6752},{"$f":"IFERROR(G96*(1-Оглавление!$D$34),\"по запросу\")","v":354045.6752},3531.98,"шт",null,0,0]
[null,"FKOCRM315E","Затвор дисковый ХПВХ с редуктором EPDM D315 (DN300) FIP",8,"Арматура","RUB",{"$f":"IFERROR(I97*Оглавление!$E$23,\"по запросу\")","v":381946.4768},{"$f":"IFERROR(G97*(1-Оглавление!$D$34),\"по запросу\")","v":381946.4768},3810.32,"шт",null,0,0]
[null,"FKOCRM075F","Затвор дисковый ХПВХ с редуктором FKM D75 (DN65) FIP",10,"Арматура","RUB",{"$f":"IFERROR(I98*Оглавление!$E$23,\"по запросу\")","v":134351.67199999999},{"$f":"IFERROR(G98*(1-Оглавление!$D$34),\"по запросу\")","v":134351.67199999999},1340.3,"шт",null,0,0]
[null,"FKOCRM090F","Затвор дисковый ХПВХ с редуктором FKM D90 (DN80) FIP",10,"Арматура","RUB",{"$f":"IFERROR(I99*Оглавление!$E$23,\"по запросу\")","v":137647.5632},{"$f":"IFERROR(G99*(1-Оглавление!$D$34),\"по запросу\")","v":137647.5632},1373.18,"шт",null,0,0]
[null,"FKOCRM110F","Затвор дисковый ХПВХ с редуктором FKM D110 (DN90) FIP",10,"Арматура","RUB",{"$f":"IFERROR(I100*Оглавление!$E$23,\"по запросу\")","v":142978.32639999999},{"$f":"IFERROR(G100*(1-Оглавление!$D$34),\"по запросу\")","v":142978.32639999999},1426.36,"шт",null,0,0]
[null,"FKOCRM140F","Затвор дисковый ХПВХ с редуктором FKM D140 (DN125) FIP",10,"Арматура","RUB",{"$f":"IFERROR(I101*Оглавление!$E$23,\"по запросу\")","v":"по запросу"},{"$f":"IFERROR(G101*(1-Оглавление!$D$34),\"по запросу\")","v":"по запросу"},"по запросу","шт",null,"0 ₽","0 ₽"]
[null,"FKOCRM160F","Затвор дисковый ХПВХ с редуктором FKM D160 (DN150) FIP",10,"Арматура","RUB",{"$f":"IFERROR(I102*Оглавление!$E$23,\"по запросу\")","v":174175.01919999998},{"$f":"IFERROR(G102*(1-Оглавление!$D$34),\"по запросу\")","v":174175.01919999998},1737.58,"шт",null,0,0]
[null,"FKOCRM225F","Затвор дисковый ХПВХ с редуктором FKM D225 (DN200) FIP",10,"Арматура","RUB",{"$f":"IFERROR(I103*Оглавление!$E$23,\"по запросу\")","v":221368.01120000001},{"$f":"IFERROR(G103*(1-Оглавление!$D$34),\"по запросу\")","v":221368.01120000001},2208.38,"шт",null,0,0]
[null,"FKOCRM280F","Затвор дисковый ХПВХ с редуктором FKM D280 (DN250) FIP",10,"Арматура","RUB",{"$f":"IFERROR(I104*Оглавление!$E$23,\"по запросу\")","v":536863.3872},{"$f":"IFERROR(G104*(1-Оглавление!$D$34),\"по запросу\")","v":536863.3872},5355.78,"шт",null,0,0]
[null,"FKOCRM315F","Затвор дисковый ХПВХ с редуктором FKM D315 (DN300) FIP",8,"Арматура","RUB",{"$f":"IFERROR(I105*Оглавление!$E$23,\"по запросу\")","v":581385.9855999999},{"$f":"IFERROR(G105*(1-Оглавление!$D$34),\"по запросу\")","v":581385.9855999999},5799.94,"шт",null,0,0]
[null,"FKOCFM050E","Затвор дисковый ХПВХ под привод промышленный 50 (DN40) EPDM FIP",16,"Арматура","RUB",{"$f":"IFERROR(I106*Оглавление!$E$23,\"по запросу\")","v":36780.060799999999},{"$f":"IFERROR(G106*(1-Оглавление!$D$34),\"по запросу\")","v":36780.060799999999},366.92,"шт",null,0,0]
[null,"FKOCFM063E","Затвор дисковый ХПВХ под привод промышленный 63 (DN50) EPDM FIP",16,"Арматура","RUB",{"$f":"IFERROR(I107*Оглавление!$E$23,\"по запросу\")","v":38945.244799999993},{"$f":"IFERROR(G107*(1-Оглавление!$D$34),\"по запросу\")","v":38945.244799999993},388.52,"шт",null,0,0]
[null,"FKOCFM075E","Затвор дисковый ХПВХ под привод промышленный 75 (DN65) EPDM FIP",10,"Арматура","RUB",{"$f":"IFERROR(I108*Оглавление!$E$23,\"по запросу\")","v":43273.608},{"$f":"IFERROR(G108*(1-Оглавление!$D$34),\"по запросу\")","v":43273.608},431.7,"шт",null,0,0]
[null,"FKOCFM090E","Затвор дисковый ХПВХ под привод промышленный 90 (DN80) EPDM FIP",10,"Арматура","RUB",{"$f":"IFERROR(I109*Оглавление!$E$23,\"по запросу\")","v":47038.6224},{"$f":"IFERROR(G109*(1-Оглавление!$D$34),\"по запросу\")","v":47038.6224},469.26,"шт",null,0,0]
[null,"FKOCFM110E","Затвор дисковый ХПВХ под привод промышленный 110 (DN100) EPDM FIP",10,"Арматура","RUB",{"$f":"IFERROR(I110*Оглавление!$E$23,\"по запросу\")","v":51104.356799999994},{"$f":"IFERROR(G110*(1-Оглавление!$D$34),\"по запросу\")","v":51104.356799999994},509.82,"шт",null,0,0]
[null,"FKOCFM140E","Затвор дисковый ХПВХ под привод промышленный 140 (DN125) EPDM FIP",10,"Арматура","RUB",{"$f":"IFERROR(I111*Оглавление!$E$23,\"по запросу\")","v":67890.547200000001},{"$f":"IFERROR(G111*(1-Оглавление!$D$34),\"по запросу\")","v":67890.547200000001},677.28,"шт",null,0,0]
[null,"FKOCFM160E","Затвор дисковый ХПВХ под привод промышленный 160 (DN150) EPDM FIP",10,"Арматура","RUB",{"$f":"IFERROR(I112*Оглавление!$E$23,\"по запросу\")","v":74939.423999999999},{"$f":"IFERROR(G112*(1-Оглавление!$D$34),\"по запросу\")","v":74939.423999999999},747.6,"шт",null,0,0]
[null,"FKOCFM225E","Затвор дисковый ХПВХ под привод промышленный 225 (DN200) EPDM FIP",10,"Арматура","RUB",{"$f":"IFERROR(I113*Оглавление!$E$23,\"по запросу\")","v":97046.353599999988},{"$f":"IFERROR(G113*(1-Оглавление!$D$34),\"по запросу\")","v":97046.353599999988},968.14,"шт",null,0,0]
[null,"FKOCFM280E","Затвор дисковый ХПВХ под привод промышленный 280 (DN250) EPDM FIP",10,"Арматура","RUB",{"$f":"IFERROR(I114*Оглавление!$E$23,\"по запросу\")","v":309196.29439999996},{"$f":"IFERROR(G114*(1-Оглавление!$D$34),\"по запросу\")","v":309196.29439999996},3084.56,"шт",null,0,0]
[null,"FKOCFM315E","Затвор дисковый ХПВХ под привод промышленный 315 (DN300) EPDM FIP",8,"Арматура","RUB",{"$f":"IFERROR(I115*Оглавление!$E$23,\"по запросу\")","v":337109.12479999999},{"$f":"IFERROR(G115*(1-Оглавление!$D$34),\"по запросу\")","v":337109.12479999999},3363.02,"шт",null,0,0]
[null,"FKOCFM050F","Затвор дисковый ХПВХ под привод промышленный 50 (DN40) FKM FIP",16,"Арматура","RUB",{"$f":"IFERROR(I116*Оглавление!$E$23,\"по запросу\")","v":54512.516800000005},{"$f":"IFERROR(G116*(1-Оглавление!$D$34),\"по запросу\")","v":54512.516800000005},543.82000000000005,"шт",null,0,0]
[null,"FKOCFM063F","Затвор дисковый ХПВХ под привод промышленный 63 (DN50) FKM FIP",16,"Арматура","RUB",{"$f":"IFERROR(I117*Оглавление!$E$23,\"по запросу\")","v":57706.163199999995},{"$f":"IFERROR(G117*(1-Оглавление!$D$34),\"по запросу\")","v":57706.163199999995},575.67999999999995,"шт",null,0,0]
[null,"FKOCFM075F","Затвор дисковый ХПВХ под привод промышленный 75 (DN65) FKM FIP",10,"Арматура","RUB",{"$f":"IFERROR(I118*Оглавление!$E$23,\"по запросу\")","v":64125.532800000001},{"$f":"IFERROR(G118*(1-Оглавление!$D$34),\"по запросу\")","v":64125.532800000001},639.72,"шт",null,0,0]
[null,"FKOCFM090F","Затвор дисковый ХПВХ под привод промышленный 90 (DN80) FKM FIP",10,"Арматура","RUB",{"$f":"IFERROR(I119*Оглавление!$E$23,\"по запросу\")","v":68826.788799999995},{"$f":"IFERROR(G119*(1-Оглавление!$D$34),\"по запросу\")","v":68826.788799999995},686.62,"шт",null,0,0]
[null,"FKOCFM110F","Затвор дисковый ХПВХ под привод промышленный 110 (DN100) FKM FIP",10,"Арматура","RUB",{"$f":"IFERROR(I120*Оглавление!$E$23,\"по запросу\")","v":73688.428799999994},{"$f":"IFERROR(G120*(1-Оглавление!$D$34),\"по запросу\")","v":73688.428799999994},735.12,"шт",null,0,0]
[null,"FKOCFM140F","Затвор дисковый ХПВХ под привод промышленный 140 (DN125) FKM FIP",10,"Арматура","RUB",{"$f":"IFERROR(I121*Оглавление!$E$23,\"по запросу\")","v":98610.097599999994},{"$f":"IFERROR(G121*(1-Оглавление!$D$34),\"по запросу\")","v":98610.097599999994},983.74,"шт",null,0,0]
[null,"FKOCFM160F","Затвор дисковый ХПВХ под привод промышленный 160 (DN150) FKM FIP",10,"Арматура","RUB",{"$f":"IFERROR(I122*Оглавление!$E$23,\"по запросу\")","v":105514.62879999998},{"$f":"IFERROR(G122*(1-Оглавление!$D$34),\"по запросу\")","v":105514.62879999998},1052.6199999999999,"шт",null,0,0]
[null,"FKOCFM225F","Затвор дисковый ХПВХ под привод промышленный 225 (DN200) FKM FIP",10,"Арматура","RUB",{"$f":"IFERROR(I123*Оглавление!$E$23,\"по запросу\")","v":136867.696},{"$f":"IFERROR(G123*(1-Оглавление!$D$34),\"по запросу\")","v":136867.696},1365.4,"шт",null,0,0]
[null,"FKOCFM280F","Затвор дисковый ХПВХ под привод промышленный 280 (DN250) FKM FIP",10,"Арматура","RUB",{"$f":"IFERROR(I124*Оглавление!$E$23,\"по запросу\")","v":492014.00639999995},{"$f":"IFERROR(G124*(1-Оглавление!$D$34),\"по запросу\")","v":492014.00639999995},4908.3599999999997,"шт",null,0,0]
[null,"FKOCFM315F","Затвор дисковый ХПВХ под привод промышленный 315 (DN300) FKM FIP",8,"Арматура","RUB",{"$f":"IFERROR(I125*Оглавление!$E$23,\"по запросу\")","v":536550.63839999994},{"$f":"IFERROR(G125*(1-Оглавление!$D$34),\"по запросу\")","v":536550.63839999994},5352.66,"шт",null,0,0]
[null,"SSEIC016E","Обратный клапан ХПВХ пружинный с муфтовыми окончаниями EPDM 16 FIP",16,"Арматура","RUB",{"$f":"IFERROR(I126*Оглавление!$E$23,\"по запросу\")","v":18221.88207047688},{"$f":"IFERROR(G126*(1-Оглавление!$D$34),\"по запросу\")","v":18221.88207047688},181.78254260252277,"шт",null,0,0]
[null,"SSEIC020E","Обратный клапан ХПВХ пружинный с муфтовыми окончаниями EPDM 20 FIP",16,"Арматура","RUB",{"$f":"IFERROR(I127*Оглавление!$E$23,\"по запросу\")","v":18275.756799999999},{"$f":"IFERROR(G127*(1-Оглавление!$D$34),\"по запросу\")","v":18275.756799999999},182.32,"шт",null,0,0]
[null,"SSEIC025E","Обратный клапан ХПВХ пружинный с муфтовыми окончаниями EPDM 25 FIP",16,"Арматура","RUB",{"$f":"IFERROR(I128*Оглавление!$E$23,\"по запросу\")","v":20088.095999999998},{"$f":"IFERROR(G128*(1-Оглавление!$D$34),\"по запросу\")","v":20088.095999999998},200.4,"шт",null,0,0]
[null,"SSEIC032E","Обратный клапан ХПВХ пружинный с муфтовыми окончаниями EPDM 32 FIP",16,"Арматура","RUB",{"$f":"IFERROR(I129*Оглавление!$E$23,\"по запросу\")","v":20920.087999999996},{"$f":"IFERROR(G129*(1-Оглавление!$D$34),\"по запросу\")","v":20920.087999999996},208.7,"шт",null,{"$f":"IFERROR(K129*G129,\"0 ₽\")","v":0},{"$f":"IFERROR(K129*H129,\"0 ₽\")","v":0}]
[null,"SSEIC040E","Обратный клапан ХПВХ пружинный с муфтовыми окончаниями EPDM 40 FIP",16,"Арматура","RUB",{"$f":"IFERROR(I130*Оглавление!$E$23,\"по запросу\")","v":24410.444800000001},{"$f":"IFERROR(G130*(1-Оглавление!$D$34),\"по запросу\")","v":24410.444800000001},243.52,"шт",null,0,0]
[null,"SSEIC050E","Обратный клапан ХПВХ пружинный с муфтовыми окончаниями EPDM 50 FIP",16,"Арматура","RUB",{"$f":"IFERROR(I131*Оглавление!$E$23,\"по запросу\")","v":31357.076799999999},{"$f":"IFERROR(G131*(1-Оглавление!$D$34),\"по запросу\")","v":31357.076799999999},312.82,"шт",null,0,0]
[null,"SSEIC063E","Обратный клапан ХПВХ пружинный с муфтовыми окончаниями EPDM 63 FIP",16,"Арматура","RUB",{"$f":"IFERROR(I132*Оглавление!$E$23,\"по запросу\")","v":40414.763200000001},{"$f":"IFERROR(G132*(1-Оглавление!$D$34),\"по запросу\")","v":40414.763200000001},403.18,"шт",null,0,0]
[null,"SSEIC075E","Обратный клапан ХПВХ пружинный с муфтовыми окончаниями EPDM 75 FIP",16,"Арматура","RUB",{"$f":"IFERROR(I133*Оглавление!$E$23,\"по запросу\")","v":92986.633600000001},{"$f":"IFERROR(G133*(1-Оглавление!$D$34),\"по запросу\")","v":92986.633600000001},927.64,"шт",null,0,0]
[null,"SSEIC090E","Обратный клапан ХПВХ пружинный с муфтовыми окончаниями EPDM 90 FIP",16,"Арматура","RUB",{"$f":"IFERROR(I134*Оглавление!$E$23,\"по запросу\")","v":117537.41439999999},{"$f":"IFERROR(G134*(1-Оглавление!$D$34),\"по запросу\")","v":117537.41439999999},1172.56,"шт",null,0,0]
[null,"SSEIC110E","Обратный клапан ХПВХ пружинный с муфтовыми окончаниями EPDM 110 FIP",16,"Арматура","RUB",{"$f":"IFERROR(I135*Оглавление!$E$23,\"по запросу\")","v":161177.9008},{"$f":"IFERROR(G135*(1-Оглавление!$D$34),\"по запросу\")","v":161177.9008},1607.92,"шт",null,0,0]
[null,"SSEIC016F","Обратный клапан ХПВХ пружинный с муфтовыми окончаниями FKM 16 FIP",16,"Арматура","RUB",{"$f":"IFERROR(I136*Оглавление!$E$23,\"по запросу\")","v":19845.62841493214},{"$f":"IFERROR(G136*(1-Оглавление!$D$34),\"по запросу\")","v":19845.62841493214},197.9811294386686,"шт",null,0,0]
[null,"SSEIC020F","Обратный клапан ХПВХ пружинный с муфтовыми окончаниями FKM 20 FIP",16,"Арматура","RUB",{"$f":"IFERROR(I137*Оглавление!$E$23,\"по запросу\")","v":19934.362093141637},{"$f":"IFERROR(G137*(1-Оглавление!$D$34),\"по запросу\")","v":19934.362093141637},198.86634171130925,"шт",null,0,0]
[null,"SSEIC025F","Обратный клапан ХПВХ пружинный с муфтовыми окончаниями FKM 25 FIP",16,"Арматура","RUB",{"$f":"IFERROR(I138*Оглавление!$E$23,\"по запросу\")","v":21442.834622703118},{"$f":"IFERROR(G138*(1-Оглавление!$D$34),\"по запросу\")","v":21442.834622703118},213.9149503462003,"шт",null,0,0]
[null,"SSEIC032F","Обратный клапан ХПВХ пружинный с муфтовыми окончаниями FKM 32 FIP",16,"Арматура","RUB",{"$f":"IFERROR(I139*Оглавление!$E$23,\"по запросу\")","v":22691.931785190678},{"$f":"IFERROR(G139*(1-Оглавление!$D$34),\"по запросу\")","v":22691.931785190678},226.376015414911,"шт",null,0,0]
[null,"SSEIC040F","Обратный клапан ХПВХ пружинный с муфтовыми окончаниями FKM 40 FIP",16,"Арматура","RUB",{"$f":"IFERROR(I140*Оглавление!$E$23,\"по запросу\")","v":28087.247999999996},{"$f":"IFERROR(G140*(1-Оглавление!$D$34),\"по запросу\")","v":28087.247999999996},280.2,"шт",null,0,0]
[null,"SSEIC050F","Обратный клапан ХПВХ пружинный с муфтовыми окончаниями FKM 50 FIP",16,"Арматура","RUB",{"$f":"IFERROR(I141*Оглавление!$E$23,\"по запросу\")","v":34492.584000000003},{"$f":"IFERROR(G141*(1-Оглавление!$D$34),\"по запросу\")","v":34492.584000000003},344.1,"шт",null,0,0]
[null,"SSEIC063F","Обратный клапан ХПВХ пружинный с муфтовыми окончаниями FKM 63 FIP",16,"Арматура","RUB",{"$f":"IFERROR(I142*Оглавление!$E$23,\"по запросу\")","v":41553.489600000001},{"$f":"IFERROR(G142*(1-Оглавление!$D$34),\"по запросу\")","v":41553.489600000001},414.54,"шт",null,0,0]
[null,"SSEIC075F","Обратный клапан ХПВХ пружинный с муфтовыми окончаниями FKM 75 FIP",16,"Арматура","RUB",{"$f":"IFERROR(I143*Оглавление!$E$23,\"по запросу\")","v":102342.74654173307},{"$f":"IFERROR(G143*(1-Оглавление!$D$34),\"по запросу\")","v":102342.74654173307},1020.9771203285422,"шт",null,0,0]
[null,"SSEIC090F","Обратный клапан ХПВХ пружинный с муфтовыми окончаниями FKM 90 FIP",16,"Арматура","RUB",{"$f":"IFERROR(I144*Оглавление!$E$23,\"по запросу\")","v":128660.52545800412},{"$f":"IFERROR(G144*(1-Оглавление!$D$34),\"по запросу\")","v":128660.52545800412},1283.5247950718688,"шт",null,0,0]
[null,"SSEIC110F","Обратный клапан ХПВХ пружинный с муфтовыми окончаниями FKM 110 FIP",16,"Арматура","RUB",{"$f":"IFERROR(I145*Оглавление!$E$23,\"по запросу\")","v":178252.7824},{"$f":"IFERROR(G145*(1-Оглавление!$D$34),\"по запросу\")","v":178252.7824},1778.26,"шт",null,0,0]
[null,"SXEIC016E","Обратный клапан ХПВХ шаровой с муфтовыми окончаниями EPDM 16 FIP",16,"Арматура","RUB",{"$f":"IFERROR(I146*Оглавление!$E$23,\"по запросу\")","v":10026.004799999999},{"$f":"IFERROR(G146*(1-Оглавление!$D$34),\"по запросу\")","v":10026.004799999999},100.02,"шт",null,0,0]
[null,"SXEIC020E","Обратный клапан ХПВХ шаровой с муфтовыми окончаниями EPDM 20 FIP",16,"Арматура","RUB",{"$f":"IFERROR(I147*Оглавление!$E$23,\"по запросу\")","v":10026.004799999999},{"$f":"IFERROR(G147*(1-Оглавление!$D$34),\"по запросу\")","v":10026.004799999999},100.02,"шт",null,0,0]
[null,"SXEIC025E","Обратный клапан ХПВХ шаровой с муфтовыми окончаниями EPDM 25 FIP",16,"Арматура","RUB",{"$f":"IFERROR(I148*Оглавление!$E$23,\"по запросу\")","v":10849.977599999998},{"$f":"IFERROR(G148*(1-Оглавление!$D$34),\"по запросу\")","v":10849.977599999998},108.24,"шт",null,0,0]
[null,"SXEIC032E","Обратный клапан ХПВХ шаровой с муфтовыми окончаниями EPDM 32 FIP",16,"Арматура","RUB",{"$f":"IFERROR(I149*Оглавление!$E$23,\"по запросу\")","v":13065.2816},{"$f":"IFERROR(G149*(1-Оглавление!$D$34),\"по запросу\")","v":13065.2816},130.34,"шт",null,0,0]
[null,"SXEIC040E","Обратный клапан ХПВХ шаровой с муфтовыми окончаниями EPDM 40 FIP",16,"Арматура","RUB",{"$f":"IFERROR(I150*Оглавление!$E$23,\"по запросу\")","v":14921.726400000001},{"$f":"IFERROR(G150*(1-Оглавление!$D$34),\"по запросу\")","v":14921.726400000001},148.86000000000001,"шт",null,0,0]
[null,"SXEIC050E","Обратный клапан ХПВХ шаровой с муфтовыми окончаниями EPDM 50 FIP",16,"Арматура","RUB",{"$f":"IFERROR(I151*Оглавление!$E$23,\"по запросу\")","v":20320.6528},{"$f":"IFERROR(G151*(1-Оглавление!$D$34),\"по запросу\")","v":20320.6528},202.72,"шт",null,0,0]
[null,"SXEIC063E","Обратный клапан ХПВХ шаровой с муфтовыми окончаниями EPDM 63 FIP",16,"Арматура","RUB",{"$f":"IFERROR(I152*Оглавление!$E$23,\"по запросу\")","v":24466.5792},{"$f":"IFERROR(G152*(1-Оглавление!$D$34),\"по запросу\")","v":24466.5792},244.08,"шт",null,0,0]
[null,"SXEIC075E","Обратный клапан ХПВХ шаровой с муфтовыми окончаниями EPDM 75 FIP",16,"Арматура","RUB",{"$f":"IFERROR(I153*Оглавление!$E$23,\"по запросу\")","v":79191.604800000001},{"$f":"IFERROR(G153*(1-Оглавление!$D$34),\"по запросу\")","v":79191.604800000001},790.02,"шт",null,0,0]
[null,"SXEIC090E","Обратный клапан ХПВХ шаровой с муфтовыми окончаниями EPDM 90 FIP",16,"Арматура","RUB",{"$f":"IFERROR(I154*Оглавление!$E$23,\"по запросу\")","v":102298.92959999999},{"$f":"IFERROR(G154*(1-Оглавление!$D$34),\"по запросу\")","v":102298.92959999999},1020.54,"шт",null,0,0]
[null,"SXEIC110E","Обратный клапан ХПВХ шаровой с муфтовыми окончаниями EPDM 110 FIP",16,"Арматура","RUB",{"$f":"IFERROR(I155*Оглавление!$E$23,\"по запросу\")","v":192047.8112},{"$f":"IFERROR(G155*(1-Оглавление!$D$34),\"по запросу\")","v":192047.8112},1915.88,"шт",null,0,0]
[null,"SXEIC016F","Обратный клапан ХПВХ шаровой с муфтовыми окончаниями FKM 16 FIP",16,"Арматура","RUB",{"$f":"IFERROR(I156*Оглавление!$E$23,\"по запросу\")","v":10286.6288},{"$f":"IFERROR(G156*(1-Оглавление!$D$34),\"по запросу\")","v":10286.6288},102.62,"шт",null,0,0]
[null,"SXEIC020F","Обратный клапан ХПВХ шаровой с муфтовыми окончаниями FKM 20 FIP",16,"Арматура","RUB",{"$f":"IFERROR(I157*Оглавление!$E$23,\"по запросу\")","v":10286.6288},{"$f":"IFERROR(G157*(1-Оглавление!$D$34),\"по запросу\")","v":10286.6288},102.62,"шт",null,0,0]
[null,"SXEIC025F","Обратный клапан ХПВХ шаровой с муфтовыми окончаниями FKM 25 FIP",16,"Арматура","RUB",{"$f":"IFERROR(I158*Оглавление!$E$23,\"по запросу\")","v":11100.577599999999},{"$f":"IFERROR(G158*(1-Оглавление!$D$34),\"по запросу\")","v":11100.577599999999},110.74,"шт",null,0,0]
[null,"SXEIC032F","Обратный клапан ХПВХ шаровой с муфтовыми окончаниями FKM 32 FIP",16,"Арматура","RUB",{"$f":"IFERROR(I159*Оглавление!$E$23,\"по запросу\")","v":13289.8192},{"$f":"IFERROR(G159*(1-Оглавление!$D$34),\"по запросу\")","v":13289.8192},132.58000000000001,"шт",null,0,0]
[null,"SXEIC040F","Обратный клапан ХПВХ шаровой с муфтовыми окончаниями FKM 40 FIP",16,"Арматура","RUB",{"$f":"IFERROR(I160*Оглавление!$E$23,\"по запросу\")","v":16128.616},{"$f":"IFERROR(G160*(1-Оглавление!$D$34),\"по запросу\")","v":16128.616},160.9,"шт",null,0,0]
[null,"SXEIC050F","Обратный клапан ХПВХ шаровой с муфтовыми окончаниями FKM 50 FIP",16,"Арматура","RUB",{"$f":"IFERROR(I161*Оглавление!$E$23,\"по запросу\")","v":21589.691199999997},{"$f":"IFERROR(G161*(1-Оглавление!$D$34),\"по запросу\")","v":21589.691199999997},215.38,"шт",null,0,0]
[null,"SXEIC063F","Обратный клапан ХПВХ шаровой с муфтовыми окончаниями FKM 63 FIP",16,"Арматура","RUB",{"$f":"IFERROR(I162*Оглавление!$E$23,\"по запросу\")","v":25198.331199999997},{"$f":"IFERROR(G162*(1-Оглавление!$D$34),\"по запросу\")","v":25198.331199999997},251.38,"шт",null,0,0]
[null,"SXEIC075F","Обратный клапан ХПВХ шаровой с муфтовыми окончаниями FKM 75 FIP",16,"Арматура","RUB",{"$f":"IFERROR(I163*Оглавление!$E$23,\"по запросу\")","v":83086.931199999992},{"$f":"IFERROR(G163*(1-Оглавление!$D$34),\"по запросу\")","v":83086.931199999992},828.88,"шт",null,0,0]
[null,"SXEIC090F","Обратный клапан ХПВХ шаровой с муфтовыми окончаниями FKM 90 FIP",16,"Арматура","RUB",{"$f":"IFERROR(I164*Оглавление!$E$23,\"по запросу\")","v":106773.64320000001},{"$f":"IFERROR(G164*(1-Оглавление!$D$34),\"по запросу\")","v":106773.64320000001},1065.18,"шт",null,0,0]
[null,"SXEIC110F","Обратный клапан ХПВХ шаровой с муфтовыми окончаниями FKM 110 FIP",16,"Арматура","RUB",{"$f":"IFERROR(I165*Оглавление!$E$23,\"по запросу\")","v":201492.42399999997},{"$f":"IFERROR(G165*(1-Оглавление!$D$34),\"по запросу\")","v":201492.42399999997},2010.1,"шт",null,0,0]
[null,"RVUIC020E","Фильтр сетчатый ХПВХ муфтовый EPDM D20 (DN15) FIP",16,"Арматура","RUB",{"$f":"IFERROR(I166*Оглавление!$E$23,\"по запросу\")","v":12469.856},{"$f":"IFERROR(G166*(1-Оглавление!$D$34),\"по запросу\")","v":12469.856},124.4,"шт",null,{"$f":"IFERROR(K166*G166,\"0 ₽\")","v":0},{"$f":"IFERROR(K166*H166,\"0 ₽\")","v":0}]
[null,"RVUIC025E","Фильтр сетчатый ХПВХ муфтовый EPDM D25 (DN20) FIP",16,"Арматура","RUB",{"$f":"IFERROR(I167*Оглавление!$E$23,\"по запросу\")","v":13464.236799999999},{"$f":"IFERROR(G167*(1-Оглавление!$D$34),\"по запросу\")","v":13464.236799999999},134.32,"шт",null,0,0]
[null,"RVUIC032E","Фильтр сетчатый ХПВХ муфтовый EPDM D32 (DN25) FIP",16,"Арматура","RUB",{"$f":"IFERROR(I168*Оглавление!$E$23,\"по запросу\")","v":17712.407999999999},{"$f":"IFERROR(G168*(1-Оглавление!$D$34),\"по запросу\")","v":17712.407999999999},176.7,"шт",null,0,0]
[null,"RVUIC040E","Фильтр сетчатый ХПВХ муфтовый EPDM D40 (DN32) FIP",16,"Арматура","RUB",{"$f":"IFERROR(I169*Оглавление!$E$23,\"по запросу\")","v":20262.513599999998},{"$f":"IFERROR(G169*(1-Оглавление!$D$34),\"по запросу\")","v":20262.513599999998},202.14,"шт",null,0,0]
[null,"RVUIC050E","Фильтр сетчатый ХПВХ муфтовый EPDM D50 (DN40) FIP",16,"Арматура","RUB",{"$f":"IFERROR(I170*Оглавление!$E$23,\"по запросу\")","v":25661.439999999999},{"$f":"IFERROR(G170*(1-Оглавление!$D$34),\"по запросу\")","v":25661.439999999999},256,"шт",null,0,0]
[null,"RVUIC063E","Фильтр сетчатый ХПВХ муфтовый EPDM D63 (DN50) FIP",16,"Арматура","RUB",{"$f":"IFERROR(I171*Оглавление!$E$23,\"по запросу\")","v":33472.140800000001},{"$f":"IFERROR(G171*(1-Оглавление!$D$34),\"по запросу\")","v":33472.140800000001},333.92,"шт",null,0,0]
[null,"RVUIC020F","Фильтр сетчатый ХПВХ муфтовый FKM D20 (DN15) FIP",16,"Арматура","RUB",{"$f":"IFERROR(I172*Оглавление!$E$23,\"по запросу\")","v":14340.3344},{"$f":"IFERROR(G172*(1-Оглавление!$D$34),\"по запросу\")","v":14340.3344},143.06,"шт",null,{"$f":"IFERROR(K172*G172,\"0 ₽\")","v":0},{"$f":"IFERROR(K172*H172,\"0 ₽\")","v":0}]
[null,"RVUIC025F","Фильтр сетчатый ХПВХ муфтовый FKM D25 (DN20) FIP",16,"Арматура","RUB",{"$f":"IFERROR(I173*Оглавление!$E$23,\"по запросу\")","v":15785.795199999999},{"$f":"IFERROR(G173*(1-Оглавление!$D$34),\"по запросу\")","v":15785.795199999999},157.47999999999999,"шт",null,0,0]
[null,"RVUIC032F","Фильтр сетчатый ХПВХ муфтовый FKM D32 (DN25) FIP",16,"Арматура","RUB",{"$f":"IFERROR(I174*Оглавление!$E$23,\"по запросу\")","v":20400.844799999999},{"$f":"IFERROR(G174*(1-Оглавление!$D$34),\"по запросу\")","v":20400.844799999999},203.52,"шт",null,0,0]
[null,"RVUIC040F","Фильтр сетчатый ХПВХ муфтовый FKM D32 (DN25) FIP",16,"Арматура","RUB",{"$f":"IFERROR(I175*Оглавление!$E$23,\"по запросу\")","v":25274.513599999998},{"$f":"IFERROR(G175*(1-Оглавление!$D$34),\"по запросу\")","v":25274.513599999998},252.14,"шт",null,{"$f":"IFERROR(K175*G175,\"0 ₽\")","v":0},{"$f":"IFERROR(K175*H175,\"0 ₽\")","v":0}]
[null,"RVUIC050F","Фильтр сетчатый ХПВХ муфтовый FKM D32 (DN25) FIP",16,"Арматура","RUB",{"$f":"IFERROR(I176*Оглавление!$E$23,\"по запросу\")","v":29809.371199999998},{"$f":"IFERROR(G176*(1-Оглавление!$D$34),\"по запросу\")","v":29809.371199999998},297.38,"шт",null,0,0]
[null,"RVUIC063F","Фильтр сетчатый ХПВХ муфтовый FKM D32 (DN25) FIP",16,"Арматура","RUB",{"$f":"IFERROR(I177*Оглавление!$E$23,\"по запросу\")","v":37555.918400000002},{"$f":"IFERROR(G177*(1-Оглавление!$D$34),\"по запросу\")","v":37555.918400000002},374.66,"шт",null,0,0]
[null,"DKUIC020E","Мембранный клапан ХПВХ с разборными муфтовыми окончаниями EPDM D20 (DN15) FIP",10,"Арматура","RUB",{"$f":"IFERROR(I178*Оглавление!$E$23,\"по запросу\")","v":26993.849572376192},{"$f":"IFERROR(G178*(1-Оглавление!$D$34),\"по запросу\")","v":26993.849572376192},269.29219445706497,"шт",null,0,0]
[null,"DKUIC025E","Мембранный клапан ХПВХ с разборными муфтовыми окончаниями EPDM D25 (DN20) FIP",10,"Арматура","RUB",{"$f":"IFERROR(I179*Оглавление!$E$23,\"по запросу\")","v":30164.220799999999},{"$f":"IFERROR(G179*(1-Оглавление!$D$34),\"по запросу\")","v":30164.220799999999},300.92,"шт",null,0,0]
[null,"DKUIC032E","Мембранный клапан ХПВХ с разборными муфтовыми окончаниями EPDM D32 (DN25) FIP",10,"Арматура","RUB",{"$f":"IFERROR(I180*Оглавление!$E$23,\"по запросу\")","v":34943.663999999997},{"$f":"IFERROR(G180*(1-Оглавление!$D$34),\"по запросу\")","v":34943.663999999997},348.6,"шт",null,0,0]
[null,"DKUIC040E","Мембранный клапан ХПВХ с разборными муфтовыми окончаниями EPDM D40 (DN32) FIP",10,"Арматура","RUB",{"$f":"IFERROR(I181*Оглавление!$E$23,\"по запросу\")","v":43179.382399999995},{"$f":"IFERROR(G181*(1-Оглавление!$D$34),\"по запросу\")","v":43179.382399999995},430.76,"шт",null,0,0]
[null,"DKUIC050E","Мембранный клапан ХПВХ с разборными муфтовыми окончаниями EPDM D50 (DN40) FIP",10,"Арматура","RUB",{"$f":"IFERROR(I182*Оглавление!$E$23,\"по запросу\")","v":53997.262919086374},{"$f":"IFERROR(G182*(1-Оглавление!$D$34),\"по запросу\")","v":53997.262919086374},538.67979767644033,"шт",null,0,0]
[null,"DKUIC063E","Мембранный клапан ХПВХ с разборными муфтовыми окончаниями EPDM D63 (DN50) FIP",10,"Арматура","RUB",{"$f":"IFERROR(I183*Оглавление!$E$23,\"по запросу\")","v":66683.657599999991},{"$f":"IFERROR(G183*(1-Оглавление!$D$34),\"по запросу\")","v":66683.657599999991},665.24,"шт",null,0,0]
[null,"DKUIC020F","Мембранный клапан ХПВХ с разборными муфтовыми окончаниями FKM D20 (DN15) FIP",10,"Арматура","RUB",{"$f":"IFERROR(I184*Оглавление!$E$23,\"по запросу\")","v":48269.569600000003},{"$f":"IFERROR(G184*(1-Оглавление!$D$34),\"по запросу\")","v":48269.569600000003},481.54,"шт",null,0,0]
[null,"DKUIC025F","Мембранный клапан ХПВХ с разборными муфтовыми окончаниями FKM D25 (DN20) FIP",10,"Арматура","RUB",{"$f":"IFERROR(I185*Оглавление!$E$23,\"по запросу\")","v":52710.2016},{"$f":"IFERROR(G185*(1-Оглавление!$D$34),\"по запросу\")","v":52710.2016},525.84,"шт",null,0,0]
[null,"DKUIC032F","Мембранный клапан ХПВХ с разборными муфтовыми окончаниями FKM D32 (DN25) FIP",10,"Арматура","RUB",{"$f":"IFERROR(I186*Оглавление!$E$23,\"по запросу\")","v":56519.321600000003},{"$f":"IFERROR(G186*(1-Оглавление!$D$34),\"по запросу\")","v":56519.321600000003},563.84,"шт",null,0,0]
[null,"DKUIC040F","Мембранный клапан ХПВХ с разборными муфтовыми окончаниями FKM D40 (DN32) FIP",10,"Арматура","RUB",{"$f":"IFERROR(I187*Оглавление!$E$23,\"по запросу\")","v":75881.679999999993},{"$f":"IFERROR(G187*(1-Оглавление!$D$34),\"по запросу\")","v":75881.679999999993},757,"шт",null,0,0]
[null,"DKUIC050F","Мембранный клапан ХПВХ с разборными муфтовыми окончаниями FKM D50 (DN40) FIP",10,"Арматура","RUB",{"$f":"IFERROR(I188*Оглавление!$E$23,\"по запросу\")","v":86358.76479999999},{"$f":"IFERROR(G188*(1-Оглавление!$D$34),\"по запросу\")","v":86358.76479999999},861.52,"шт",null,0,0]
[null,"DKUIC063F","Мембранный клапан ХПВХ с разборными муфтовыми окончаниями FKM D63 (DN50) FIP",10,"Арматура","RUB",{"$f":"IFERROR(I189*Оглавление!$E$23,\"по запросу\")","v":120330.1008},{"$f":"IFERROR(G189*(1-Оглавление!$D$34),\"по запросу\")","v":120330.1008},1200.42,"шт",null,{"$f":"IFERROR(K189*G189,\"0 ₽\")","v":0},{"$f":"IFERROR(K189*H189,\"0 ₽\")","v":0}]
[null,"DKUIC020P","Мембранный клапан ХПВХ с разборными муфтовыми окончаниями PTFE D20 (DN15) FIP",10,"Арматура","RUB",{"$f":"IFERROR(I190*Оглавление!$E$23,\"по запросу\")","v":48271.978885672965},{"$f":"IFERROR(G190*(1-Оглавление!$D$34),\"по запросу\")","v":48271.978885672965},481.5640351723161,"шт",null,0,0]
[null,"DKUIC025P","Мембранный клапан ХПВХ с разборными муфтовыми окончаниями PTFE D25 (DN20) FIP",10,"Арматура","RUB",{"$f":"IFERROR(I191*Оглавление!$E$23,\"по запросу\")","v":52710.2016},{"$f":"IFERROR(G191*(1-Оглавление!$D$34),\"по запросу\")","v":52710.2016},525.84,"шт",null,0,0]
[null,"DKUIC032P","Мембранный клапан ХПВХ с разборными муфтовыми окончаниями PTFE D32 (DN25) FIP",10,"Арматура","RUB",{"$f":"IFERROR(I192*Оглавление!$E$23,\"по запросу\")","v":56511.779004013973},{"$f":"IFERROR(G192*(1-Оглавление!$D$34),\"по запросу\")","v":56511.779004013973},563.76475462903011,"шт",null,0,0]
[null,"DKUIC040P","Мембранный клапан ХПВХ с разборными муфтовыми окончаниями PTFE D40 (DN32) FIP",10,"Арматура","RUB",{"$f":"IFERROR(I193*Оглавление!$E$23,\"по запросу\")","v":75871.158369338344},{"$f":"IFERROR(G193*(1-Оглавление!$D$34),\"по запросу\")","v":75871.158369338344},756.89503560792446,"шт",null,0,0]
[null,"DKUIC050P","Мембранный клапан ХПВХ с разборными муфтовыми окончаниями PTFE D50 (DN40) FIP",10,"Арматура","RUB",{"$f":"IFERROR(I194*Оглавление!$E$23,\"по запросу\")","v":86344.265239103974},{"$f":"IFERROR(G194*(1-Оглавление!$D$34),\"по запросу\")","v":86344.265239103974},861.3753515473262,"шт",null,0,0]
[null,"DKUIC063P","Мембранный клапан ХПВХ с разборными муфтовыми окончаниями PTFE D63 (DN50) FIP",10,"Арматура","RUB",{"$f":"IFERROR(I195*Оглавление!$E$23,\"по запросу\")","v":111132.0784},{"$f":"IFERROR(G195*(1-Оглавление!$D$34),\"по запросу\")","v":111132.0784},1108.6600000000001,"шт",null,{"$f":"IFERROR(K195*G195,\"0 ₽\")","v":0},{"$f":"IFERROR(K195*H195,\"0 ₽\")","v":0}]
[null,"DKDC020E","Мембранный клапан ХПВХ с втулочными окончаниями EPDM D20 (DN15) FIP",10,"Арматура","RUB",{"$f":"IFERROR(I196*Оглавление!$E$23,\"по запросу\")","v":23805.97177113725},{"$f":"IFERROR(G196*(1-Оглавление!$D$34),\"по запросу\")","v":23805.97177113725},237.48974232978105,"шт",null,0,0]
[null,"DKDC025E","Мембранный клапан ХПВХ с втулочными окончаниями EPDM D25 (DN20) FIP",10,"Арматура","RUB",{"$f":"IFERROR(I197*Оглавление!$E$23,\"по запросу\")","v":26689.992724056388},{"$f":"IFERROR(G197*(1-Оглавление!$D$34),\"по запросу\")","v":26689.992724056388},266.26090107797677,"шт",null,0,0]
[null,"DKDC032E","Мембранный клапан ХПВХ с втулочными окончаниями EPDM D32 (DN25) FIP",10,"Арматура","RUB",{"$f":"IFERROR(I198*Оглавление!$E$23,\"по запросу\")","v":31130.361078787504},{"$f":"IFERROR(G198*(1-Оглавление!$D$34),\"по запросу\")","v":31130.361078787504},310.55827093762474,"шт",null,0,0]
[null,"DKDC040E","Мембранный клапан ХПВХ с втулочными окончаниями EPDM D40 (DN32) FIP",10,"Арматура","RUB",{"$f":"IFERROR(I199*Оглавление!$E$23,\"по запросу\")","v":37168.033345904616},{"$f":"IFERROR(G199*(1-Оглавление!$D$34),\"по запросу\")","v":37168.033345904616},370.79043641165816,"шт",null,0,0]
[null,"DKDC050E","Мембранный клапан ХПВХ с втулочными окончаниями EPDM D50 (DN40) FIP",10,"Арматура","RUB",{"$f":"IFERROR(I200*Оглавление!$E$23,\"по запросу\")","v":47649.487010300669},{"$f":"IFERROR(G200*(1-Оглавление!$D$34),\"по запросу\")","v":47649.487010300669},475.35402045391731,"шт",null,0,0]
[null,"DKDC063E","Мембранный клапан ХПВХ с втулочными окончаниями EPDM D63 (DN50) FIP",10,"Арматура","RUB",{"$f":"IFERROR(I201*Оглавление!$E$23,\"по запросу\")","v":56840.810591615736},{"$f":"IFERROR(G201*(1-Оглавление!$D$34),\"по запросу\")","v":56840.810591615736},567.04719265378833,"шт",null,0,0]
[null,"DKDC075E","Мембранный клапан ХПВХ с втулочными окончаниями EPDM D75 (DN65) FIP",10,"Арматура","RUB",{"$f":"IFERROR(I202*Оглавление!$E$23,\"по запросу\")","v":68206.242275900615},{"$f":"IFERROR(G202*(1-Оглавление!$D$34),\"по запросу\")","v":68206.242275900615},680.42939221768381,"шт",null,0,0]
[null,"DKDC020F","Мембранный клапан ХПВХ с втулочными окончаниями FKM D20 (DN15) FIP",10,"Арматура","RUB",{"$f":"IFERROR(I203*Оглавление!$E$23,\"по запросу\")","v":45079.4659717822},{"$f":"IFERROR(G203*(1-Оглавление!$D$34),\"по запросу\")","v":45079.4659717822},449.71534289487431,"шт",null,0,0]
[null,"DKDC025F","Мембранный клапан ХПВХ с втулочными окончаниями FKM D25 (DN20) FIP",10,"Арматура","RUB",{"$f":"IFERROR(I204*Оглавление!$E$23,\"по запросу\")","v":49216.073539756144},{"$f":"IFERROR(G204*(1-Оглавление!$D$34),\"по запросу\")","v":49216.073539756144},490.98237769110284,"шт",null,0,0]
[null,"DKDC032F","Мембранный клапан ХПВХ с втулочными окончаниями FKM D32 (DN25) FIP",10,"Арматура","RUB",{"$f":"IFERROR(I205*Оглавление!$E$23,\"по запросу\")","v":52707.616066189606},{"$f":"IFERROR(G205*(1-Оглавление!$D$34),\"по запросу\")","v":52707.616066189606},525.81420656613739,"шт",null,0,0]
[null,"DKDC040F","Мембранный клапан ХПВХ с втулочными окончаниями FKM D40 (DN32) FIP",10,"Арматура","RUB",{"$f":"IFERROR(I206*Оглавление!$E$23,\"по запросу\")","v":69854.741826504091},{"$f":"IFERROR(G206*(1-Оглавление!$D$34),\"по запросу\")","v":69854.741826504091},696.87491846073522,"шт",null,{"$f":"IFERROR(K206*G206,\"0 ₽\")","v":0},{"$f":"IFERROR(K206*H206,\"0 ₽\")","v":0}]
[null,"DKDC050F","Мембранный клапан ХПВХ с втулочными окончаниями FKM D50 (DN40) FIP",10,"Арматура","RUB",{"$f":"IFERROR(I207*Оглавление!$E$23,\"по запросу\")","v":80005.130363760327},{"$f":"IFERROR(G207*(1-Оглавление!$D$34),\"по запросу\")","v":80005.130363760327},798.13577777095304,"шт",null,0,0]
[null,"DKDC063F","Мембранный клапан ХПВХ с втулочными окончаниями FKM D63 (DN50) FIP",10,"Арматура","RUB",{"$f":"IFERROR(I208*Оглавление!$E$23,\"по запросу\")","v":110487.01335845952},{"$f":"IFERROR(G208*(1-Оглавление!$D$34),\"по запросу\")","v":110487.01335845952},1102.2247940788061,"шт",null,0,0]
[null,"DKDC075F","Мембранный клапан ХПВХ с втулочными окончаниями FKM D75 (DN65) FIP",10,"Арматура","RUB",{"$f":"IFERROR(I209*Оглавление!$E$23,\"по запросу\")","v":132583.05081313229},{"$f":"IFERROR(G209*(1-Оглавление!$D$34),\"по запросу\")","v":132583.05081313229},1322.6561334111361,"шт",null,0,0]
[null,"DKDC020P","Мембранный клапан ХПВХ с втулочными окончаниями PTFE D20 (DN15) FIP",10,"Арматура","RUB",{"$f":"IFERROR(I210*Оглавление!$E$23,\"по запросу\")","v":45079.4659717822},{"$f":"IFERROR(G210*(1-Оглавление!$D$34),\"по запросу\")","v":45079.4659717822},449.71534289487431,"шт",null,0,0]
[null,"DKDC025P","Мембранный клапан ХПВХ с втулочными окончаниями PTFE D25 (DN20) FIP",10,"Арматура","RUB",{"$f":"IFERROR(I211*Оглавление!$E$23,\"по запросу\")","v":49219.486582303987},{"$f":"IFERROR(G211*(1-Оглавление!$D$34),\"по запросу\")","v":49219.486582303987},491.01642639968065,"шт",null,0,0]
[null,"DKDC032P","Мембранный клапан ХПВХ с втулочными окончаниями PTFE D32 (DN25) FIP",10,"Арматура","RUB",{"$f":"IFERROR(I212*Оглавление!$E$23,\"по запросу\")","v":52717.855193833122},{"$f":"IFERROR(G212*(1-Оглавление!$D$34),\"по запросу\")","v":52717.855193833122},525.91635269187077,"шт",null,0,0]
[null,"DKDC040P","Мембранный клапан ХПВХ с втулочными окончаниями PTFE D40 (DN32) FIP",10,"Арматура","RUB",{"$f":"IFERROR(I213*Оглавление!$E$23,\"по запросу\")","v":69854.741826504091},{"$f":"IFERROR(G213*(1-Оглавление!$D$34),\"по запросу\")","v":69854.741826504091},696.87491846073522,"шт",null,0,0]
[null,"DKDC050P","Мембранный клапан ХПВХ с втулочными окончаниями PTFE D50 (DN40) FIP",10,"Арматура","RUB",{"$f":"IFERROR(I214*Оглавление!$E$23,\"по запросу\")","v":80011.956448856014},{"$f":"IFERROR(G214*(1-Оглавление!$D$34),\"по запросу\")","v":80011.956448856014},798.20387518810867,"шт",null,0,0]
[null,"DKDC063P","Мембранный клапан ХПВХ с втулочными окончаниями PTFE D63 (DN50) FIP",10,"Арматура","RUB",{"$f":"IFERROR(I215*Оглавление!$E$23,\"по запросу\")","v":101292.27673459658},{"$f":"IFERROR(G215*(1-Оглавление!$D$34),\"по запросу\")","v":101292.27673459658},1010.4975731703571,"шт",null,0,0]
[null,"DKDC075P","Мембранный клапан ХПВХ с втулочными окончаниями PTFE D75 (DN65) FIP",10,"Арматура","RUB",{"$f":"IFERROR(I216*Оглавление!$E$23,\"по запросу\")","v":121552.09729853505},{"$f":"IFERROR(G216*(1-Оглавление!$D$34),\"по запросу\")","v":121552.09729853505},1212.6107072878597,"шт",null,0,0]
[null,"DKOC020E","Мембранный клапан ХПВХ с фланцевыми окончаниями EPDM D20 (DN15) FIP",10,"Арматура","RUB",{"$f":"IFERROR(I217*Оглавление!$E$23,\"по запросу\")","v":40683.4064},{"$f":"IFERROR(G217*(1-Оглавление!$D$34),\"по запросу\")","v":40683.4064},405.86,"шт",null,0,0]
[null,"DKOC025E","Мембранный клапан ХПВХ с фланцевыми окончаниями EPDM D25 (DN20) FIP",10,"Арматура","RUB",{"$f":"IFERROR(I218*Оглавление!$E$23,\"по запросу\")","v":44348.180800000002},{"$f":"IFERROR(G218*(1-Оглавление!$D$34),\"по запросу\")","v":44348.180800000002},442.42,"шт",null,0,0]
[null,"DKOC032E","Мембранный клапан ХПВХ с фланцевыми окончаниями EPDM D32 (DN25) FIP",10,"Арматура","RUB",{"$f":"IFERROR(I219*Оглавление!$E$23,\"по запросу\")","v":49520.564799999993},{"$f":"IFERROR(G219*(1-Оглавление!$D$34),\"по запросу\")","v":49520.564799999993},494.02,"шт",null,0,0]
[null,"DKOC040E","Мембранный клапан ХПВХ с фланцевыми окончаниями EPDM D40 (DN32) FIP",10,"Арматура","RUB",{"$f":"IFERROR(I220*Оглавление!$E$23,\"по запросу\")","v":61304.779200000004},{"$f":"IFERROR(G220*(1-Оглавление!$D$34),\"по запросу\")","v":61304.779200000004},611.58000000000004,"шт",null,0,0]
[null,"DKOC050E","Мембранный клапан ХПВХ с фланцевыми окончаниями EPDM D50 (DN40) FIP",10,"Арматура","RUB",{"$f":"IFERROR(I221*Оглавление!$E$23,\"по запросу\")","v":72933.306204649736},{"$f":"IFERROR(G221*(1-Оглавление!$D$34),\"по запросу\")","v":72933.306204649736},727.5868535978625,"шт",null,0,0]
[null,"DKOC063E","Мембранный клапан ХПВХ с фланцевыми окончаниями EPDM D63 (DN50) FIP",10,"Арматура","RUB",{"$f":"IFERROR(I222*Оглавление!$E$23,\"по запросу\")","v":91755.686399999991},{"$f":"IFERROR(G222*(1-Оглавление!$D$34),\"по запросу\")","v":91755.686399999991},915.36,"шт",null,0,0]
[null,"DKOC075E","Мембранный клапан ХПВХ с фланцевыми окончаниями EPDM D75 (DN65) FIP",10,"Арматура","RUB",{"$f":"IFERROR(I223*Оглавление!$E$23,\"по запросу\")","v":119275.576},{"$f":"IFERROR(G223*(1-Оглавление!$D$34),\"по запросу\")","v":119275.576},1189.9000000000001,"шт",null,0,0]
[null,"DKOC020F","Мембранный клапан ХПВХ с фланцевыми окончаниями FKM D20 (DN15) FIP",10,"Арматура","RUB",{"$f":"IFERROR(I224*Оглавление!$E$23,\"по запросу\")","v":61956.961370817851},{"$f":"IFERROR(G224*(1-Оглавление!$D$34),\"по запросу\")","v":61956.961370817851},618.08620681183015,"шт",null,0,0]
[null,"DKOC025F","Мембранный клапан ХПВХ с фланцевыми окончаниями FKM D25 (DN20) FIP",10,"Арматура","RUB",{"$f":"IFERROR(I225*Оглавление!$E$23,\"по запросу\")","v":66876.118399999992},{"$f":"IFERROR(G225*(1-Оглавление!$D$34),\"по запросу\")","v":66876.118399999992},667.16,"шт",null,0,0]
[null,"DKOC032F","Мембранный клапан ХПВХ с фланцевыми окончаниями FKM D32 (DN25) FIP",10,"Арматура","RUB",{"$f":"IFERROR(I226*Оглавление!$E$23,\"по запросу\")","v":71096.222399999999},{"$f":"IFERROR(G226*(1-Оглавление!$D$34),\"по запросу\")","v":71096.222399999999},709.26,"шт",null,0,0]
[null,"DKOC040F","Мембранный клапан ХПВХ с фланцевыми окончаниями FKM D40 (DN32) FIP",10,"Арматура","RUB",{"$f":"IFERROR(I227*Оглавление!$E$23,\"по запросу\")","v":93989.033599999995},{"$f":"IFERROR(G227*(1-Оглавление!$D$34),\"по запросу\")","v":93989.033599999995},937.64,"шт",null,0,0]
[null,"DKOC050F","Мембранный клапан ХПВХ с фланцевыми окончаниями FKM D50 (DN40) FIP",10,"Арматура","RUB",{"$f":"IFERROR(I228*Оглавление!$E$23,\"по запросу\")","v":105308.1344},{"$f":"IFERROR(G228*(1-Оглавление!$D$34),\"по запросу\")","v":105308.1344},1050.56,"шт",null,{"$f":"IFERROR(K228*G228,\"0 ₽\")","v":0},{"$f":"IFERROR(K228*H228,\"0 ₽\")","v":0}]
[null,"DKOC063F","Мембранный клапан ХПВХ с фланцевыми окончаниями FKM D63 (DN50) FIP",10,"Арматура","RUB",{"$f":"IFERROR(I229*Оглавление!$E$23,\"по запросу\")","v":145392.10560000001},{"$f":"IFERROR(G229*(1-Оглавление!$D$34),\"по запросу\")","v":145392.10560000001},1450.44,"шт",null,0,0]
[null,"DKOC075F","Мембранный клапан ХПВХ с фланцевыми окончаниями FKM D75 (DN65) FIP",10,"Арматура","RUB",{"$f":"IFERROR(I230*Оглавление!$E$23,\"по запросу\")","v":189014.29629900801},{"$f":"IFERROR(G230*(1-Оглавление!$D$34),\"по запросу\")","v":189014.29629900801},1885.6174810355947,"шт",null,0,0]
[null,"DKOC020P","Мембранный клапан ХПВХ с фланцевыми окончаниями PTFE D20 (DN15) FIP",10,"Арматура","RUB",{"$f":"IFERROR(I231*Оглавление!$E$23,\"по запросу\")","v":61954.334399999992},{"$f":"IFERROR(G231*(1-Оглавление!$D$34),\"по запросу\")","v":61954.334399999992},618.05999999999995,"шт",null,0,0]
[null,"DKOC025P","Мембранный клапан ХПВХ с фланцевыми окончаниями PTFE D25 (DN20) FIP",10,"Арматура","RUB",{"$f":"IFERROR(I232*Оглавление!$E$23,\"по запросу\")","v":66876.118399999992},{"$f":"IFERROR(G232*(1-Оглавление!$D$34),\"по запросу\")","v":66876.118399999992},667.16,"шт",null,0,0]
[null,"DKOC032P","Мембранный клапан ХПВХ с фланцевыми окончаниями PTFE D32 (DN25) FIP",10,"Арматура","RUB",{"$f":"IFERROR(I233*Оглавление!$E$23,\"по запросу\")","v":71096.222399999999},{"$f":"IFERROR(G233*(1-Оглавление!$D$34),\"по запросу\")","v":71096.222399999999},709.26,"шт",null,0,0]
[null,"DKOC040P","Мембранный клапан ХПВХ с фланцевыми окончаниями PTFE D40 (DN32) FIP",10,"Арматура","RUB",{"$f":"IFERROR(I234*Оглавление!$E$23,\"по запросу\")","v":93989.033599999995},{"$f":"IFERROR(G234*(1-Оглавление!$D$34),\"по запросу\")","v":93989.033599999995},937.64,"шт",null,0,0]
[null,"DKOC050P","Мембранный клапан ХПВХ с фланцевыми окончаниями PTFE D50 (DN40) FIP",10,"Арматура","RUB",{"$f":"IFERROR(I235*Оглавление!$E$23,\"по запросу\")","v":105308.1344},{"$f":"IFERROR(G235*(1-Оглавление!$D$34),\"по запросу\")","v":105308.1344},1050.56,"шт",null,0,0]
[null,"DKOC063P","Мембранный клапан ХПВХ с фланцевыми окончаниями PTFE D63 (DN50) FIP",10,"Арматура","RUB",{"$f":"IFERROR(I236*Оглавление!$E$23,\"по запросу\")","v":136198.09279999998},{"$f":"IFERROR(G236*(1-Оглавление!$D$34),\"по запросу\")","v":136198.09279999998},1358.72,"шт",null,0,0]
[null,"DKOC075P","Мембранный клапан ХПВХ с фланцевыми окончаниями PTFE D75 (DN65) FIP",10,"Арматура","RUB",{"$f":"IFERROR(I237*Оглавление!$E$23,\"по запросу\")","v":177057.92159999997},{"$f":"IFERROR(G237*(1-Оглавление!$D$34),\"по запросу\")","v":177057.92159999997},1766.34,"шт",null,0,0]

{"sheet":"ПП (PP-H) IPS","index":6,"n_rows":560,"n_cols":13,"rows_kept":560,"cut":false,"hidden":false,"merged":[[439,0,444,0],[445,0,460,0],[373,0,388,0],[316,0,322,0],[323,0,342,0],[407,0,424,0],[425,0,438,0],[515,0,541,0],[542,0,559,0],[42,0,53,0],[54,0,61,0],[62,0,69,0],[227,0,242,0],[243,0,249,0],[172,0,180,0],[209,0,226,0],[361,0,372,0],[389,0,406,0],[250,0,265,0],[266,0,280,0],[121,0,129,0],[151,0,156,0],[157,0,162,0],[163,0,171,0],[9,0,25,0],[26,0,41,0],[70,0,78,0],[79,0,87,0],[88,0,96,0]]}
[null,null,null,null,null,null,null,null,null,{"$f":"COUNT(K10:K560)","v":0},"Товаров в заказе"]
[null,null,null,null,null,null,null,null,null,{"$f":"SUM(M10:M70)","v":0},"Сумма заказа со скидкой с НДС (трубы)"]
[null,null,null,null,null,null,null,null,null,{"$f":"SUM(M71:M361)","v":0},"Сумма заказа со скидкой с НДС (фитинги)"]
[null,null,null,null,null,null,null,null,null,{"$f":"SUM(M362:M560)","v":0},"Сумма заказа со скидкой с НДС (арматура)"]
[null,null,null,null,null,null,null,null,null,{"$f":"SUM(M10:M560)","v":0},"Сумма заказа со скидкой с НДС"]
[]
[]
[]
["Фото","Код","Наименование","PN","Категория","Валюта\nпродажи","Цена\nПРОДАЖИ с НДС ","Цена с НДС\nсо скидкой","Цена\nEUR","Ед. измерения","Заказ (метры/штуки)","Сумма рубли","Сумма со скидкой"]
[null,"IPIPEM11020","Труба ПП (PP-H) напорная PN10 20x2.0x5 м IPS",10,"Трубы","RUB",{"$f":"IFERROR(I10*Оглавление!$E$23,\"по запросу\")","v":123.29519999999999},{"$f":"IFERROR(G10*(1-Оглавление!$D$35),\"по запросу\")","v":123.29519999999999},1.23,"м",null,{"$f":"IFERROR(K10*G10,\"0 ₽\")","v":0},{"$f":"IFERROR(K10*H10,\"0 ₽\")","v":0}]
[null,"IPIPEM11025","Труба ПП (PP-H) напорная PN10 25x2.3x5 м IPS",10,"Трубы","RUB",{"$f":"IFERROR(I11*Оглавление!$E$23,\"по запросу\")","v":197.47279999999998},{"$f":"IFERROR(G11*(1-Оглавление!$D$35),\"по запросу\")","v":197.47279999999998},1.97,"м",null,0,0]
[null,"IPIPEM11032","Труба ПП (PP-H) напорная PN10 32x2.9x5 м IPS",10,"Трубы","RUB",{"$f":"IFERROR(I12*Оглавление!$E$23,\"по запросу\")","v":320.76800000000003},{"$f":"IFERROR(G12*(1-Оглавление!$D$35),\"по запросу\")","v":320.76800000000003},3.2,"м",null,0,0]
[null,"IPIPEM11040","Труба ПП (PP-H) напорная PN10 40x3.7x5 м IPS",10,"Трубы","RUB",{"$f":"IFERROR(I13*Оглавление!$E$23,\"по запросу\")","v":493.18079999999998},{"$f":"IFERROR(G13*(1-Оглавление!$D$35),\"по запросу\")","v":493.18079999999998},4.92,"м",null,0,0]
[null,"IPIPEM11050","Труба ПП (PP-H) напорная PN10 50x4.6x5 м IPS",10,"Трубы","RUB",{"$f":"IFERROR(I14*Оглавление!$E$23,\"по запросу\")","v":776.86},{"$f":"IFERROR(G14*(1-Оглавление!$D$35),\"по запросу\")","v":776.86},7.75,"м",null,0,0]
[null,"IPIPEM11063","Труба ПП (PP-H) напорная PN10 63x5.8x5 м IPS",10,"Трубы","RUB",{"$f":"IFERROR(I15*Оглавление!$E$23,\"по запросу\")","v":1232.952},{"$f":"IFERROR(G15*(1-Оглавление!$D$35),\"по запросу\")","v":1232.952},12.3,"м",null,0,0]
[null,"IPIPEM11075","Труба ПП (PP-H) напорная PN10 75x6.8x5 м IPS",10,"Трубы","RUB",{"$f":"IFERROR(I16*Оглавление!$E$23,\"по запросу\")","v":1726.1327999999999},{"$f":"IFERROR(G16*(1-Оглавление!$D$35),\"по запросу\")","v":1726.1327999999999},17.22,"м",null,0,0]
[null,"IPIPEM11090","Труба ПП (PP-H) напорная PN10 90x8.2x5 м IPS",10,"Трубы","RUB",{"$f":"IFERROR(I17*Оглавление!$E$23,\"по запросу\")","v":2490.9639999999999},{"$f":"IFERROR(G17*(1-Оглавление!$D$35),\"по запросу\")","v":2490.9639999999999},24.85,"м",null,0,0]
[null,"IPIPEM11110","Труба ПП (PP-H) напорная PN10 110x10.0x5 м IPS",10,"Трубы","RUB",{"$f":"IFERROR(I18*Оглавление!$E$23,\"по запросу\")","v":3723.9159999999997},{"$f":"IFERROR(G18*(1-Оглавление!$D$35),\"по запросу\")","v":3723.9159999999997},37.15,"м",null,0,0]
[null,"IPIPEM11140","Труба ПП (PP-H) напорная PN10 140x12.7x5 м IPS",10,"Трубы","RUB",{"$f":"IFERROR(I19*Оглавление!$E$23,\"по запросу\")","v":6104.616},{"$f":"IFERROR(G19*(1-Оглавление!$D$35),\"по запросу\")","v":6104.616},60.9,"м",null,0,0]
[null,"IPIPEM11160","Труба ПП (PP-H) напорная PN10 160x14.6x5 м IPS",10,"Трубы","RUB",{"$f":"IFERROR(I20*Оглавление!$E$23,\"по запросу\")","v":7892.8975999999993},{"$f":"IFERROR(G20*(1-Оглавление!$D$35),\"по запросу\")","v":7892.8975999999993},78.739999999999995,"м",null,0,0]
[null,"IPIPEM11225","Труба ПП (PP-H) напорная PN10 225x20.5x5 м IPS",10,"Трубы","RUB",{"$f":"IFERROR(I21*Оглавление!$E$23,\"по запросу\")","v":15587.32},{"$f":"IFERROR(G21*(1-Оглавление!$D$35),\"по запросу\")","v":15587.32},155.5,"м",null,0,0]
[null,"IPIPEM11280","Труба ПП (PP-H) напорная PN10 280x25.4x5 м IPS",10,"Трубы","RUB",{"$f":"IFERROR(I22*Оглавление!$E$23,\"по запросу\")","v":24429.490399999999},{"$f":"IFERROR(G22*(1-Оглавление!$D$35),\"по запросу\")","v":24429.490399999999},243.71,"м",null,0,0]
[null,"IPIPEM11315","Труба ПП (PP-H) напорная PN10 315x28.6x5 м IPS",10,"Трубы","RUB",{"$f":"IFERROR(I23*Оглавление!$E$23,\"по запросу\")","v":30947.0952},{"$f":"IFERROR(G23*(1-Оглавление!$D$35),\"по запросу\")","v":30947.0952},308.73,"м",null,0,0]
[null,"IPIPEM11355","Труба ПП (PP-H) напорная PN10 355x32.2x5 м IPS",10,"Трубы","RUB",{"$f":"IFERROR(I24*Оглавление!$E$23,\"по запросу\")","v":44923.558400000002},{"$f":"IFERROR(G24*(1-Оглавление!$D$35),\"по запросу\")","v":44923.558400000002},448.16,"м",null,0,0]
[null,"IPIPEM11400","Труба ПП (PP-H) напорная PN10 400x36.3x5 м IPS",10,"Трубы","RUB",{"$f":"IFERROR(I25*Оглавление!$E$23,\"по запросу\")","v":56154.448000000004},{"$f":"IFERROR(G25*(1-Оглавление!$D$35),\"по запросу\")","v":56154.448000000004},560.20000000000005,"м",null,0,0]
[null,"IPIPEM11450","Труба ПП (PP-H) напорная PN10 450x40.9x5 м IPS",10,"Трубы","RUB",{"$f":"IFERROR(I26*Оглавление!$E$23,\"по запросу\")","v":"по запросу"},{"$f":"IFERROR(G26*(1-Оглавление!$D$35),\"по запросу\")","v":"по запросу"},"по запросу","м",null,"0 ₽","0 ₽"]
[null,"IPIPEM17040","Труба ПП (PP-H) напорная PN6 40x2.3x5 м IPS",6,"Трубы","RUB",{"$f":"IFERROR(I27*Оглавление!$E$23,\"по запросу\")","v":325.77999999999997},{"$f":"IFERROR(G27*(1-Оглавление!$D$35),\"по запросу\")","v":325.77999999999997},3.25,"м",null,0,0]
[null,"IPIPEM17050","Труба ПП (PP-H) напорная PN6 50x2.9x5 м IPS",6,"Трубы","RUB",{"$f":"IFERROR(I28*Оглавление!$E$23,\"по запросу\")","v":514.23119999999994},{"$f":"IFERROR(G28*(1-Оглавление!$D$35),\"по запросу\")","v":514.23119999999994},5.13,"м",null,0,0]
[null,"IPIPEM17063","Труба ПП (PP-H) напорная PN6 63x3.6x5 м IPS",6,"Трубы","RUB",{"$f":"IFERROR(I29*Оглавление!$E$23,\"по запросу\")","v":801.92},{"$f":"IFERROR(G29*(1-Оглавление!$D$35),\"по запросу\")","v":801.92},8,"м",null,0,0]
[null,"IPIPEM17075","Труба ПП (PP-H) напорная PN6 75x4.3x5 м IPS",6,"Трубы","RUB",{"$f":"IFERROR(I30*Оглавление!$E$23,\"по запросу\")","v":1152.76},{"$f":"IFERROR(G30*(1-Оглавление!$D$35),\"по запросу\")","v":1152.76},11.5,"м",null,0,0]
[null,"IPIPEM17090","Труба ПП (PP-H) напорная PN6 90x5.1x5 м IPS",6,"Трубы","RUB",{"$f":"IFERROR(I31*Оглавление!$E$23,\"по запросу\")","v":1641.9311999999998},{"$f":"IFERROR(G31*(1-Оглавление!$D$35),\"по запросу\")","v":1641.9311999999998},16.38,"м",null,0,0]
[null,"IPIPEM17110","Труба ПП (PP-H) напорная PN6 110x6.3x5 м IPS",6,"Трубы","RUB",{"$f":"IFERROR(I32*Оглавление!$E$23,\"по запросу\")","v":2468.9111999999996},{"$f":"IFERROR(G32*(1-Оглавление!$D$35),\"по запросу\")","v":2468.9111999999996},24.63,"м",null,0,0]
[null,"IPIPEM17140","Труба ПП (PP-H) напорная PN6 140x8.3x5 м IPS",6,"Трубы","RUB",{"$f":"IFERROR(I33*Оглавление!$E$23,\"по запросу\")","v":3985.5423999999998},{"$f":"IFERROR(G33*(1-Оглавление!$D$35),\"по запросу\")","v":3985.5423999999998},39.76,"м",null,0,0]
[null,"IPIPEM17160","Труба ПП (PP-H) напорная PN6 160x9.1x5 м IPS",6,"Трубы","RUB",{"$f":"IFERROR(I34*Оглавление!$E$23,\"по запросу\")","v":5189.4247999999998},{"$f":"IFERROR(G34*(1-Оглавление!$D$35),\"по запросу\")","v":5189.4247999999998},51.77,"м",null,0,0]
[null,"IPIPEM17225","Труба ПП (PP-H) напорная PN6 225x12.8x5 м IPS",6,"Трубы","RUB",{"$f":"IFERROR(I35*Оглавление!$E$23,\"по запросу\")","v":10265.578399999999},{"$f":"IFERROR(G35*(1-Оглавление!$D$35),\"по запросу\")","v":10265.578399999999},102.41,"м",null,0,0]
[null,"IPIPEM17280","Труба ПП (PP-H) напорная PN6 280x15.9x5 м IPS",6,"Трубы","RUB",{"$f":"IFERROR(I36*Оглавление!$E$23,\"по запросу\")","v":15868.9944},{"$f":"IFERROR(G36*(1-Оглавление!$D$35),\"по запросу\")","v":15868.9944},158.31,"м",null,0,0]
[null,"IPIPEM17315","Труба ПП (PP-H) напорная PN6 315x17.9x5 м IPS",6,"Трубы","RUB",{"$f":"IFERROR(I37*Оглавление!$E$23,\"по запросу\")","v":20093.107999999997},{"$f":"IFERROR(G37*(1-Оглавление!$D$35),\"по запросу\")","v":20093.107999999997},200.45,"м",null,0,0]
[null,"IPIPEM17355","Труба ПП (PP-H) напорная PN6 355x20.1x5 м IPS",6,"Трубы","RUB",{"$f":"IFERROR(I38*Оглавление!$E$23,\"по запросу\")","v":28778.904000000002},{"$f":"IFERROR(G38*(1-Оглавление!$D$35),\"по запросу\")","v":28778.904000000002},287.10000000000002,"м",null,0,0]
[null,"IPIPEM17400","Труба ПП (PP-H) напорная PN6 400x22.7x5 м IPS",6,"Трубы","RUB",{"$f":"IFERROR(I39*Оглавление!$E$23,\"по запросу\")","v":36500.391199999998},{"$f":"IFERROR(G39*(1-Оглавление!$D$35),\"по запросу\")","v":36500.391199999998},364.13,"м",null,0,0]
[null,"IPIPEM17450","Труба ПП (PP-H) напорная PN6 450x25.5x5 м IPS",6,"Трубы","RUB",{"$f":"IFERROR(I40*Оглавление!$E$23,\"по запросу\")","v":45775.598400000003},{"$f":"IFERROR(G40*(1-Оглавление!$D$35),\"по запросу\")","v":45775.598400000003},456.66,"м",null,0,0]
[null,"IPIPEM17500","Труба ПП (PP-H) напорная PN6 500x28.4x5 м IPS",6,"Трубы","RUB",{"$f":"IFERROR(I41*Оглавление!$E$23,\"по запросу\")","v":56455.168000000005},{"$f":"IFERROR(G41*(1-Оглавление!$D$35),\"по запросу\")","v":56455.168000000005},563.20000000000005,"м",null,0,0]
[null,"IPIPEM17630","Труба ПП (PP-H) напорная PN6 630x35.7x5 м IPS",6,"Трубы","RUB",{"$f":"IFERROR(I42*Оглавление!$E$23,\"по запросу\")","v":"по запросу"},{"$f":"IFERROR(G42*(1-Оглавление!$D$35),\"по запросу\")","v":"по запросу"},"по запросу","м",null,"0 ₽","0 ₽"]
[null,"IPIPEM26090","Труба ПП (PP-H) напорная PN4 90x3.5x5 м IPS",4,"Трубы","RUB",{"$f":"IFERROR(I43*Оглавление!$E$23,\"по запросу\")","v":"по запросу"},{"$f":"IFERROR(G43*(1-Оглавление!$D$35),\"по запросу\")","v":"по запросу"},"по запросу","м",null,{"$f":"IFERROR(K43*G43,\"0 ₽\")","v":"0 ₽"},{"$f":"IFERROR(K43*H43,\"0 ₽\")","v":"0 ₽"}]
[null,"IPIPEM26110","Труба ПП (PP-H) напорная PN4 110x4.2x5 м IPS",4,"Трубы","RUB",{"$f":"IFERROR(I44*Оглавление!$E$23,\"по запросу\")","v":"по запросу"},{"$f":"IFERROR(G44*(1-Оглавление!$D$35),\"по запросу\")","v":"по запросу"},"по запросу","м",null,"0 ₽","0 ₽"]
[null,"IPIPEM26140","Труба ПП (PP-H) напорная PN4 140x5.4x5 м IPS",4,"Трубы","RUB",{"$f":"IFERROR(I45*Оглавление!$E$23,\"по запросу\")","v":"по запросу"},{"$f":"IFERROR(G45*(1-Оглавление!$D$35),\"по запросу\")","v":"по запросу"},"по запросу","м",null,"0 ₽","0 ₽"]
[null,"IPIPEM26160","Труба ПП (PP-H) напорная PN4 160x6.2x5 м IPS",4,"Трубы","RUB",{"$f":"IFERROR(I46*Оглавление!$E$23,\"по запросу\")","v":"по запросу"},{"$f":"IFERROR(G46*(1-Оглавление!$D$35),\"по запросу\")","v":"по запросу"},"по запросу","м",null,"0 ₽","0 ₽"]
[null,"IPIPEM26225","Труба ПП (PP-H) напорная PN4 225x8.6x5 м IPS",4,"Трубы","RUB",{"$f":"IFERROR(I47*Оглавление!$E$23,\"по запросу\")","v":"по запросу"},{"$f":"IFERROR(G47*(1-Оглавление!$D$35),\"по запросу\")","v":"по запросу"},"по запросу","м",null,"0 ₽","0 ₽"]
[null,"IPIPEM26280","Труба ПП (PP-H) напорная PN4 280x10.7x5 м IPS",4,"Трубы","RUB",{"$f":"IFERROR(I48*Оглавление!$E$23,\"по запросу\")","v":"по запросу"},{"$f":"IFERROR(G48*(1-Оглавление!$D$35),\"по запросу\")","v":"по запросу"},"по запросу","м",null,"0 ₽","0 ₽"]
[null,"IPIPEM26315","Труба ПП (PP-H) напорная PN4 315x12.1x5 м IPS",4,"Трубы","RUB",{"$f":"IFERROR(I49*Оглавление!$E$23,\"по запросу\")","v":"по запросу"},{"$f":"IFERROR(G49*(1-Оглавление!$D$35),\"по запросу\")","v":"по запросу"},"по запросу","м",null,"0 ₽","0 ₽"]
[null,"IPIPEM26355","Труба ПП (PP-H) напорная PN4 355x13.6x5 м IPS",4,"Трубы","RUB",{"$f":"IFERROR(I50*Оглавление!$E$23,\"по запросу\")","v":"по запросу"},{"$f":"IFERROR(G50*(1-Оглавление!$D$35),\"по запросу\")","v":"по запросу"},"по запросу","м",null,"0 ₽","0 ₽"]
[null,"IPIPEM26400","Труба ПП (PP-H) напорная PN4 400x15.3x5 м IPS",4,"Трубы","RUB",{"$f":"IFERROR(I51*Оглавление!$E$23,\"по запросу\")","v":"по запросу"},{"$f":"IFERROR(G51*(1-Оглавление!$D$35),\"по запросу\")","v":"по запросу"},"по запросу","м",null,"0 ₽","0 ₽"]
[null,"IPIPEM26450","Труба ПП (PP-H) напорная PN4 450x17.2x5 м IPS",4,"Трубы","RUB",{"$f":"IFERROR(I52*Оглавление!$E$23,\"по запросу\")","v":"по запросу"},{"$f":"IFERROR(G52*(1-Оглавление!$D$35),\"по запросу\")","v":"по запросу"},"по запросу","м",null,"0 ₽","0 ₽"]
[null,"IPIPEM26500","Труба ПП (PP-H) напорная PN4 500x19.1x5 м IPS",4,"Трубы","RUB",{"$f":"IFERROR(I53*Оглавление!$E$23,\"по запросу\")","v":"по запросу"},{"$f":"IFERROR(G53*(1-Оглавление!$D$35),\"по запросу\")","v":"по запросу"},"по запросу","м",null,"0 ₽","0 ₽"]
[null,"IPIPEM26630","Труба ПП (PP-H) напорная PN4 630x24.1x5 м IPS",4,"Трубы","RUB",{"$f":"IFERROR(I54*Оглавление!$E$23,\"по запросу\")","v":"по запросу"},{"$f":"IFERROR(G54*(1-Оглавление!$D$35),\"по запросу\")","v":"по запросу"},"по запросу","м",null,"0 ₽","0 ₽"]
[null,"IPIPEM33160","Труба ПП (PP-H) напорная PN3,2 160x4.9x5 м IPS",3.2,"Трубы","RUB",{"$f":"IFERROR(I55*Оглавление!$E$23,\"по запросу\")","v":"по запросу"},{"$f":"IFERROR(G55*(1-Оглавление!$D$35),\"по запросу\")","v":"по запросу"},"по запросу","м",null,"0 ₽","0 ₽"]
[null,"IPIPEM33225","Труба ПП (PP-H) напорная PN3,2 225x6.9x5 м IPS",3.2,"Трубы","RUB",{"$f":"IFERROR(I56*Оглавление!$E$23,\"по запросу\")","v":"по запросу"},{"$f":"IFERROR(G56*(1-Оглавление!$D$35),\"по запросу\")","v":"по запросу"},"по запросу","м",null,"0 ₽","0 ₽"]
[null,"IPIPEM33280","Труба ПП (PP-H) напорная PN3,2 280x8.6x5 м IPS",3.2,"Трубы","RUB",{"$f":"IFERROR(I57*Оглавление!$E$23,\"по запросу\")","v":"по запросу"},{"$f":"IFERROR(G57*(1-Оглавление!$D$35),\"по запросу\")","v":"по запросу"},"по запросу","м",null,"0 ₽","0 ₽"]
[null,"IPIPEM33315","Труба ПП (PP-H) напорная PN3,2 315x9.7x5 м IPS",3.2,"Трубы","RUB",{"$f":"IFERROR(I58*Оглавление!$E$23,\"по запросу\")","v":"по запросу"},{"$f":"IFERROR(G58*(1-Оглавление!$D$35),\"по запросу\")","v":"по запросу"},"по запросу","м",null,"0 ₽","0 ₽"]
[null,"IPIPEM33355","Труба ПП (PP-H) напорная PN3,2 355x11.3x5 м IPS",3.2,"Трубы","RUB",{"$f":"IFERROR(I59*Оглавление!$E$23,\"по запросу\")","v":"по запросу"},{"$f":"IFERROR(G59*(1-Оглавление!$D$35),\"по запросу\")","v":"по запросу"},"по запросу","м",null,"0 ₽","0 ₽"]
[null,"IPIPEM33400","Труба ПП (PP-H) напорная PN3,2 400x12.3x5 м IPS",3.2,"Трубы","RUB",{"$f":"IFERROR(I60*Оглавление!$E$23,\"по запросу\")","v":"по запросу"},{"$f":"IFERROR(G60*(1-Оглавление!$D$35),\"по запросу\")","v":"по запросу"},"по запросу","м",null,"0 ₽","0 ₽"]
[null,"IPIPEM33450","Труба ПП (PP-H) напорная PN3,2 450x13.8x5 м IPS",3.2,"Трубы","RUB",{"$f":"IFERROR(I61*Оглавление!$E$23,\"по запросу\")","v":"по запросу"},{"$f":"IFERROR(G61*(1-Оглавление!$D$35),\"по запросу\")","v":"по запросу"},"по запросу","м",null,"0 ₽","0 ₽"]
[null,"IPIPEM33500","Труба ПП (PP-H) напорная PN3,2 500x15.3x5 м IPS",3.2,"Трубы","RUB",{"$f":"IFERROR(I62*Оглавление!$E$23,\"по запросу\")","v":"по запросу"},{"$f":"IFERROR(G62*(1-Оглавление!$D$35),\"по запросу\")","v":"по запросу"},"по запросу","м",null,"0 ₽","0 ₽"]
[null,"IPIPEM33630","Труба ПП (PP-H) напорная PN3,2 630x19.3x5 м IPS",3.2,"Трубы","RUB",{"$f":"IFERROR(I63*Оглавление!$E$23,\"по запросу\")","v":"по запросу"},{"$f":"IFERROR(G63*(1-Оглавление!$D$35),\"по запросу\")","v":"по запросу"},"по запросу","м",null,"0 ₽","0 ₽"]
[null,"IPIPEM41280","Труба ПП (PP-H) напорная PN2,5 280x8.6x5 м IPS",2.5,"Трубы","RUB",{"$f":"IFERROR(I64*Оглавление!$E$23,\"по запросу\")","v":"по запросу"},{"$f":"IFERROR(G64*(1-Оглавление!$D$35),\"по запросу\")","v":"по запросу"},"по запросу","м",null,"0 ₽","0 ₽"]
[null,"IPIPEM41315","Труба ПП (PP-H) напорная PN2,5 315x9.7x5 м IPS",2.5,"Трубы","RUB",{"$f":"IFERROR(I65*Оглавление!$E$23,\"по запросу\")","v":"по запросу"},{"$f":"IFERROR(G65*(1-Оглавление!$D$35),\"по запросу\")","v":"по запросу"},"по запросу","м",null,"0 ₽","0 ₽"]
[null,"IPIPEM41355","Труба ПП (PP-H) напорная PN2,5 355x11.3x5 м IPS",2.5,"Трубы","RUB",{"$f":"IFERROR(I66*Оглавление!$E$23,\"по запросу\")","v":"по запросу"},{"$f":"IFERROR(G66*(1-Оглавление!$D$35),\"по запросу\")","v":"по запросу"},"по запросу","м",null,"0 ₽","0 ₽"]
[null,"IPIPEM41400","Труба ПП (PP-H) напорная PN2,5 400x12.3x5 м IPS",2.5,"Трубы","RUB",{"$f":"IFERROR(I67*Оглавление!$E$23,\"по запросу\")","v":"по запросу"},{"$f":"IFERROR(G67*(1-Оглавление!$D$35),\"по запросу\")","v":"по запросу"},"по запросу","м",null,"0 ₽","0 ₽"]
[null,"IPIPEM41450","Труба ПП (PP-H) напорная PN2,5 450x13.8x5 м IPS",2.5,"Трубы","RUB",{"$f":"IFERROR(I68*Оглавление!$E$23,\"по запросу\")","v":"по запросу"},{"$f":"IFERROR(G68*(1-Оглавление!$D$35),\"по запросу\")","v":"по запросу"},"по запросу","м",null,"0 ₽","0 ₽"]
[null,"IPIPEM41500","Труба ПП (PP-H) напорная PN2,5 500x15.3x5 м IPS",2.5,"Трубы","RUB",{"$f":"IFERROR(I69*Оглавление!$E$23,\"по запросу\")","v":"по запросу"},{"$f":"IFERROR(G69*(1-Оглавление!$D$35),\"по запросу\")","v":"по запросу"},"по запросу","м",null,"0 ₽","0 ₽"]
[null,"IPIPEM41630","Труба ПП (PP-H) напорная PN2,5 630x19.3x5 м IPS",2.5,"Трубы","RUB",{"$f":"IFERROR(I70*Оглавление!$E$23,\"по запросу\")","v":"по запросу"},{"$f":"IFERROR(G70*(1-Оглавление!$D$35),\"по запросу\")","v":"по запросу"},"по запросу","м",null,"0 ₽","0 ₽"]
[null,"IGIM020","Отвод ПП (PP-H) 90° для раструбной сварки 20 IPS",10,"Фитинги","RUB",{"$f":"IFERROR(I71*Оглавление!$E$23,\"по запросу\")","v":62.148799999999994},{"$f":"IFERROR(G71*(1-Оглавление!$D$36),\"по запросу\")","v":62.148799999999994},0.62,"шт",null,{"$f":"IFERROR(K71*G71,\"0 ₽\")","v":0},0]
[null,"IGIM025","Отвод ПП (PP-H) 90° для раструбной сварки 25 IPS",10,"Фитинги","RUB",{"$f":"IFERROR(I72*Оглавление!$E$23,\"по запросу\")","v":78.187200000000004},{"$f":"IFERROR(G72*(1-Оглавление!$D$36),\"по запросу\")","v":78.187200000000004},0.78,"шт",null,{"$f":"IFERROR(K72*G72,\"0 ₽\")","v":0},0]
[null,"IGIM032","Отвод ПП (PP-H) 90° для раструбной сварки 32 IPS",10,"Фитинги","RUB",{"$f":"IFERROR(I73*Оглавление!$E$23,\"по запросу\")","v":140.33599999999998},{"$f":"IFERROR(G73*(1-Оглавление!$D$36),\"по запросу\")","v":140.33599999999998},1.4,"шт",null,0,0]
[null,"IGIM040","Отвод ПП (PP-H) 90° для раструбной сварки 40 IPS",10,"Фитинги","RUB",{"$f":"IFERROR(I74*Оглавление!$E$23,\"по запросу\")","v":194.46559999999999},{"$f":"IFERROR(G74*(1-Оглавление!$D$36),\"по запросу\")","v":194.46559999999999},1.94,"шт",null,0,0]
[null,"IGIM050","Отвод ПП (PP-H) 90° для раструбной сварки 50 IPS",10,"Фитинги","RUB",{"$f":"IFERROR(I75*Оглавление!$E$23,\"по запросу\")","v":388.93119999999999},{"$f":"IFERROR(G75*(1-Оглавление!$D$36),\"по запросу\")","v":388.93119999999999},3.88,"шт",null,0,0]
[null,"IGIM063","Отвод ПП (PP-H) 90° для раструбной сварки 63 IPS",10,"Фитинги","RUB",{"$f":"IFERROR(I76*Оглавление!$E$23,\"по запросу\")","v":778.86479999999995},{"$f":"IFERROR(G76*(1-Оглавление!$D$36),\"по запросу\")","v":778.86479999999995},7.77,"шт",null,0,0]
[null,"IGIM075","Отвод ПП (PP-H) 90° для раструбной сварки 75 IPS",10,"Фитинги","RUB",{"$f":"IFERROR(I77*Оглавление!$E$23,\"по запросу\")","v":1012.4239999999999},{"$f":"IFERROR(G77*(1-Оглавление!$D$36),\"по запросу\")","v":1012.4239999999999},10.1,"шт",null,0,0]
[null,"IGIM090","Отвод ПП (PP-H) 90° для раструбной сварки 90 IPS",10,"Фитинги","RUB",{"$f":"IFERROR(I78*Оглавление!$E$23,\"по запросу\")","v":1635.9168},{"$f":"IFERROR(G78*(1-Оглавление!$D$36),\"по запросу\")","v":1635.9168},16.32,"шт",null,0,0]
[null,"IGIM110","Отвод ПП (PP-H) 90° для раструбной сварки 110 IPS",10,"Фитинги","RUB",{"$f":"IFERROR(I79*Оглавление!$E$23,\"по запросу\")","v":2803.7127999999998},{"$f":"IFERROR(G79*(1-Оглавление!$D$36),\"по запросу\")","v":2803.7127999999998},27.97,"шт",null,0,0]
[null,"IHIM020","Отвод ПП (PP-H) 45° для раструбной сварки 20 IPS",10,"Фитинги","RUB",{"$f":"IFERROR(I80*Оглавление!$E$23,\"по запросу\")","v":62.148799999999994},{"$f":"IFERROR(G80*(1-Оглавление!$D$36),\"по запросу\")","v":62.148799999999994},0.62,"шт",null,0,0]
[null,"IHIM025","Отвод ПП (PP-H) 45° для раструбной сварки 25 IPS",10,"Фитинги","RUB",{"$f":"IFERROR(I81*Оглавление!$E$23,\"по запросу\")","v":78.187200000000004},{"$f":"IFERROR(G81*(1-Оглавление!$D$36),\"по запросу\")","v":78.187200000000004},0.78,"шт",null,0,0]
[null,"IHIM032","Отвод ПП (PP-H) 45° для раструбной сварки 32 IPS",10,"Фитинги","RUB",{"$f":"IFERROR(I82*Оглавление!$E$23,\"по запросу\")","v":140.33599999999998},{"$f":"IFERROR(G82*(1-Оглавление!$D$36),\"по запросу\")","v":140.33599999999998},1.4,"шт",null,0,0]
[null,"IHIM040","Отвод ПП (PP-H) 45° для раструбной сварки 40 IPS",10,"Фитинги","RUB",{"$f":"IFERROR(I83*Оглавление!$E$23,\"по запросу\")","v":194.46559999999999},{"$f":"IFERROR(G83*(1-Оглавление!$D$36),\"по запросу\")","v":194.46559999999999},1.94,"шт",null,0,0]
[null,"IHIM050","Отвод ПП (PP-H) 45° для раструбной сварки 50 IPS",10,"Фитинги","RUB",{"$f":"IFERROR(I84*Оглавление!$E$23,\"по запросу\")","v":388.93119999999999},{"$f":"IFERROR(G84*(1-Оглавление!$D$36),\"по запросу\")","v":388.93119999999999},3.88,"шт",null,0,0]
[null,"IHIM063","Отвод ПП (PP-H) 45° для раструбной сварки 63 IPS",10,"Фитинги","RUB",{"$f":"IFERROR(I85*Оглавление!$E$23,\"по запросу\")","v":778.86479999999995},{"$f":"IFERROR(G85*(1-Оглавление!$D$36),\"по запросу\")","v":778.86479999999995},7.77,"шт",null,0,0]
[null,"IHIM075","Отвод ПП (PP-H) 45° для раструбной сварки 75 IPS",10,"Фитинги","RUB",{"$f":"IFERROR(I86*Оглавление!$E$23,\"по запросу\")","v":1029.4648},{"$f":"IFERROR(G86*(1-Оглавление!$D$36),\"по запросу\")","v":1029.4648},10.27,"шт",null,0,0]
[null,"IHIM090","Отвод ПП (PP-H) 45° для раструбной сварки 90 IPS",10,"Фитинги","RUB",{"$f":"IFERROR(I87*Оглавление!$E$23,\"по запросу\")","v":1661.9791999999998},{"$f":"IFERROR(G87*(1-Оглавление!$D$36),\"по запросу\")","v":1661.9791999999998},16.579999999999998,"шт",null,0,0]
[null,"IHIM110","Отвод ПП (PP-H) 45° для раструбной сварки 110 IPS",10,"Фитинги","RUB",{"$f":"IFERROR(I88*Оглавление!$E$23,\"по запросу\")","v":2849.8231999999998},{"$f":"IFERROR(G88*(1-Оглавление!$D$36),\"по запросу\")","v":2849.8231999999998},28.43,"шт",null,0,0]
[null,"ITIM020","Тройник ПП (PP-H) 90° для раструбной сварки 20 IPS",10,"Фитинги","RUB",{"$f":"IFERROR(I89*Оглавление!$E$23,\"по запросу\")","v":78.187200000000004},{"$f":"IFERROR(G89*(1-Оглавление!$D$36),\"по запросу\")","v":78.187200000000004},0.78,"шт",null,0,{"$f":"IFERROR(K89*H89,\"0 ₽\")","v":0}]
[null,"ITIM025","Тройник ПП (PP-H) 90° для раструбной сварки 25 IPS",10,"Фитинги","RUB",{"$f":"IFERROR(I90*Оглавление!$E$23,\"по запросу\")","v":117.28079999999999},{"$f":"IFERROR(G90*(1-Оглавление!$D$36),\"по запросу\")","v":117.28079999999999},1.17,"шт",null,0,0]
[null,"ITIM032","Тройник ПП (PP-H) 90° для раструбной сварки 32 IPS",10,"Фитинги","RUB",{"$f":"IFERROR(I91*Оглавление!$E$23,\"по запросу\")","v":155.37199999999999},{"$f":"IFERROR(G91*(1-Оглавление!$D$36),\"по запросу\")","v":155.37199999999999},1.55,"шт",null,0,0]
[null,"ITIM040","Тройник ПП (PP-H) 90° для раструбной сварки 40 IPS",10,"Фитинги","RUB",{"$f":"IFERROR(I92*Оглавление!$E$23,\"по запросу\")","v":311.74639999999999},{"$f":"IFERROR(G92*(1-Оглавление!$D$36),\"по запросу\")","v":311.74639999999999},3.11,"шт",null,0,0]
[null,"ITIM050","Тройник ПП (PP-H) 90° для раструбной сварки 50 IPS",10,"Фитинги","RUB",{"$f":"IFERROR(I93*Оглавление!$E$23,\"по запросу\")","v":467.11840000000001},{"$f":"IFERROR(G93*(1-Оглавление!$D$36),\"по запросу\")","v":467.11840000000001},4.66,"шт",null,0,0]
[null,"ITIM063","Тройник ПП (PP-H) 90° для раструбной сварки 63 IPS",10,"Фитинги","RUB",{"$f":"IFERROR(I94*Оглавление!$E$23,\"по запросу\")","v":857.05200000000002},{"$f":"IFERROR(G94*(1-Оглавление!$D$36),\"по запросу\")","v":857.05200000000002},8.5500000000000007,"шт",null,0,0]
[null,"ITIM075","Тройник ПП (PP-H) 90° для раструбной сварки 75 IPS",10,"Фитинги","RUB",{"$f":"IFERROR(I95*Оглавление!$E$23,\"по запросу\")","v":1324.1704},{"$f":"IFERROR(G95*(1-Оглавление!$D$36),\"по запросу\")","v":1324.1704},13.21,"шт",null,0,0]
[null,"ITIM090","Тройник ПП (PP-H) 90° для раструбной сварки 90 IPS",10,"Фитинги","RUB",{"$f":"IFERROR(I96*Оглавление!$E$23,\"по запросу\")","v":2414.7815999999998},{"$f":"IFERROR(G96*(1-Оглавление!$D$36),\"по запросу\")","v":2414.7815999999998},24.09,"шт",null,0,0]
[null,"ITIM110","Тройник ПП (PP-H) 90° для раструбной сварки 110 IPS",10,"Фитинги","RUB",{"$f":"IFERROR(I97*Оглавление!$E$23,\"по запросу\")","v":3816.1367999999998},{"$f":"IFERROR(G97*(1-Оглавление!$D$36),\"по запросу\")","v":3816.1367999999998},38.07,"шт",null,0,0]
[null,"ITRIM025020","Тройник переходной ПП (PP-H) 90° для раструбной сварки 25x20 IPS",10,"Фитинги","RUB",{"$f":"IFERROR(I98*Оглавление!$E$23,\"по запросу\")","v":117.28079999999999},{"$f":"IFERROR(G98*(1-Оглавление!$D$36),\"по запросу\")","v":117.28079999999999},1.17,"шт",null,{"$f":"IFERROR(K98*G98,\"0 ₽\")","v":0},{"$f":"IFERROR(K98*H98,\"0 ₽\")","v":0}]
[null,"ITRIM032020","Тройник переходной ПП (PP-H) 90° для раструбной сварки 32x20 IPS",10,"Фитинги","RUB",{"$f":"IFERROR(I99*Оглавление!$E$23,\"по запросу\")","v":155.37199999999999},{"$f":"IFERROR(G99*(1-Оглавление!$D$36),\"по запросу\")","v":155.37199999999999},1.55,"шт",null,0,0]
[null,"ITRIM032025","Тройник переходной ПП (PP-H) 90° для раструбной сварки 32x25 IPS",10,"Фитинги","RUB",{"$f":"IFERROR(I100*Оглавление!$E$23,\"по запросу\")","v":155.37199999999999},{"$f":"IFERROR(G100*(1-Оглавление!$D$36),\"по запросу\")","v":155.37199999999999},1.55,"шт",null,0,0]
[null,"ITRIM040020","Тройник переходной ПП (PP-H) 90° для раструбной сварки 40x20 IPS",10,"Фитинги","RUB",{"$f":"IFERROR(I101*Оглавление!$E$23,\"по запросу\")","v":233.5592},{"$f":"IFERROR(G101*(1-Оглавление!$D$36),\"по запросу\")","v":233.5592},2.33,"шт",null,0,0]
[null,"ITRIM040025","Тройник переходной ПП (PP-H) 90° для раструбной сварки 40x25 IPS",10,"Фитинги","RUB",{"$f":"IFERROR(I102*Оглавление!$E$23,\"по запросу\")","v":233.5592},{"$f":"IFERROR(G102*(1-Оглавление!$D$36),\"по запросу\")","v":233.5592},2.33,"шт",null,0,0]
[null,"ITRIM040032","Тройник переходной ПП (PP-H) 90° для раструбной сварки 40x32 IPS",10,"Фитинги","RUB",{"$f":"IFERROR(I103*Оглавление!$E$23,\"по запросу\")","v":233.5592},{"$f":"IFERROR(G103*(1-Оглавление!$D$36),\"по запросу\")","v":233.5592},2.33,"шт",null,0,0]
[null,"ITRIM050020","Тройник переходной ПП (PP-H) 90° для раструбной сварки 50x20 IPS",10,"Фитинги","RUB",{"$f":"IFERROR(I104*Оглавление!$E$23,\"по запросу\")","v":435.04159999999996},{"$f":"IFERROR(G104*(1-Оглавление!$D$36),\"по запросу\")","v":435.04159999999996},4.34,"шт",null,0,0]
[null,"ITRIM050025","Тройник переходной ПП (PP-H) 90° для раструбной сварки 50x25 IPS",10,"Фитинги","RUB",{"$f":"IFERROR(I105*Оглавление!$E$23,\"по запросу\")","v":428.02479999999991},{"$f":"IFERROR(G105*(1-Оглавление!$D$36),\"по запросу\")","v":428.02479999999991},4.2699999999999996,"шт",null,0,0]
[null,"ITRIM050032","Тройник переходной ПП (PP-H) 90° для раструбной сварки 50x32 IPS",10,"Фитинги","RUB",{"$f":"IFERROR(I106*Оглавление!$E$23,\"по запросу\")","v":428.02479999999991},{"$f":"IFERROR(G106*(1-Оглавление!$D$36),\"по запросу\")","v":428.02479999999991},4.2699999999999996,"шт",null,0,0]
[null,"ITRIM050040","Тройник переходной ПП (PP-H) 90° для раструбной сварки 50x40 IPS",10,"Фитинги","RUB",{"$f":"IFERROR(I107*Оглавление!$E$23,\"по запросу\")","v":428.02479999999991},{"$f":"IFERROR(G107*(1-Оглавление!$D$36),\"по запросу\")","v":428.02479999999991},4.2699999999999996,"шт",null,0,0]
[null,"ITRIM063032","Тройник переходной ПП (PP-H) 90° для раструбной сварки 63x32 IPS",10,"Фитинги","RUB",{"$f":"IFERROR(I108*Оглавление!$E$23,\"по запросу\")","v":1012.4239999999999},{"$f":"IFERROR(G108*(1-Оглавление!$D$36),\"по запросу\")","v":1012.4239999999999},10.1,"шт",null,0,0]
[null,"ITRIM063040","Тройник переходной ПП (PP-H) 90° для раструбной сварки 63x40 IPS",10,"Фитинги","RUB",{"$f":"IFERROR(I109*Оглавление!$E$23,\"по запросу\")","v":1012.4239999999999},{"$f":"IFERROR(G109*(1-Оглавление!$D$36),\"по запросу\")","v":1012.4239999999999},10.1,"шт",null,0,0]
[null,"ITRIM063050","Тройник переходной ПП (PP-H) 90° для раструбной сварки 63x50 IPS",10,"Фитинги","RUB",{"$f":"IFERROR(I110*Оглавление!$E$23,\"по запросу\")","v":1012.4239999999999},{"$f":"IFERROR(G110*(1-Оглавление!$D$36),\"по запросу\")","v":1012.4239999999999},10.1,"шт",null,0,0]
[null,"ITRIM075032","Тройник переходной ПП (PP-H) 90° для раструбной сварки 75x32 IPS",10,"Фитинги","RUB",{"$f":"IFERROR(I111*Оглавление!$E$23,\"по запросу\")","v":1187.8439999999998},{"$f":"IFERROR(G111*(1-Оглавление!$D$36),\"по запросу\")","v":1187.8439999999998},11.85,"шт",null,0,0]
[null,"ITRIM075040","Тройник переходной ПП (PP-H) 90° для раструбной сварки 75x40 IPS",10,"Фитинги","RUB",{"$f":"IFERROR(I112*Оглавление!$E$23,\"по запросу\")","v":1187.8439999999998},{"$f":"IFERROR(G112*(1-Оглавление!$D$36),\"по запросу\")","v":1187.8439999999998},11.85,"шт",null,0,0]
[null,"ITRIM075050","Тройник переходной ПП (PP-H) 90° для раструбной сварки 75x50 IPS",10,"Фитинги","RUB",{"$f":"IFERROR(I113*Оглавление!$E$23,\"по запросу\")","v":1167.796},{"$f":"IFERROR(G113*(1-Оглавление!$D$36),\"по запросу\")","v":1167.796},11.65,"шт",null,0,0]
[null,"ITRIM075063","Тройник переходной ПП (PP-H) 90° для раструбной сварки 75x63 IPS",10,"Фитинги","RUB",{"$f":"IFERROR(I114*Оглавление!$E$23,\"по запросу\")","v":1167.796},{"$f":"IFERROR(G114*(1-Оглавление!$D$36),\"по запросу\")","v":1167.796},11.65,"шт",null,0,0]
[null,"ITRIM090050","Тройник переходной ПП (PP-H) 90° для раструбной сварки 90x50 IPS",10,"Фитинги","RUB",{"$f":"IFERROR(I115*Оглавление!$E$23,\"по запросу\")","v":2725.5255999999999},{"$f":"IFERROR(G115*(1-Оглавление!$D$36),\"по запросу\")","v":2725.5255999999999},27.19,"шт",null,0,0]
[null,"ITRIM090063","Тройник переходной ПП (PP-H) 90° для раструбной сварки 90x63 IPS",10,"Фитинги","RUB",{"$f":"IFERROR(I116*Оглавление!$E$23,\"по запросу\")","v":2725.5255999999999},{"$f":"IFERROR(G116*(1-Оглавление!$D$36),\"по запросу\")","v":2725.5255999999999},27.19,"шт",null,0,0]
[null,"ITRIM090075","Тройник переходной ПП (PP-H) 90° для раструбной сварки 90x75 IPS",10,"Фитинги","RUB",{"$f":"IFERROR(I117*Оглавление!$E$23,\"по запросу\")","v":2725.5255999999999},{"$f":"IFERROR(G117*(1-Оглавление!$D$36),\"по запросу\")","v":2725.5255999999999},27.19,"шт",null,0,0]
[null,"ITRIM110050","Тройник переходной ПП (PP-H) 90° для раструбной сварки 110x50 IPS",10,"Фитинги","RUB",{"$f":"IFERROR(I118*Оглавление!$E$23,\"по запросу\")","v":4354.4255999999996},{"$f":"IFERROR(G118*(1-Оглавление!$D$36),\"по запросу\")","v":4354.4255999999996},43.44,"шт",null,0,0]
[null,"ITRIM110063","Тройник переходной ПП (PP-H) 90° для раструбной сварки 110x63 IPS",10,"Фитинги","RUB",{"$f":"IFERROR(I119*Оглавление!$E$23,\"по запросу\")","v":4283.2551999999996},{"$f":"IFERROR(G119*(1-Оглавление!$D$36),\"по запросу\")","v":4283.2551999999996},42.73,"шт",null,0,0]
[null,"ITRIM110075","Тройник переходной ПП (PP-H) 90° для раструбной сварки 110x75 IPS",10,"Фитинги","RUB",{"$f":"IFERROR(I120*Оглавление!$E$23,\"по запросу\")","v":4354.4255999999996},{"$f":"IFERROR(G120*(1-Оглавление!$D$36),\"по запросу\")","v":4354.4255999999996},43.44,"шт",null,0,0]
[null,"ITRIM110090","Тройник переходной ПП (PP-H) 90° для раструбной сварки 110x90 IPS",10,"Фитинги","RUB",{"$f":"IFERROR(I121*Оглавление!$E$23,\"по запросу\")","v":4283.2551999999996},{"$f":"IFERROR(G121*(1-Оглавление!$D$36),\"по запросу\")","v":4283.2551999999996},42.73,"шт",null,0,0]
[null,"IMIM020","Муфта ПП (PP-H) для раструбной сварки 20 IPS",10,"Фитинги","RUB",{"$f":"IFERROR(I122*Оглавление!$E$23,\"по запросу\")","v":47.112799999999993},{"$f":"IFERROR(G122*(1-Оглавление!$D$36),\"по запросу\")","v":47.112799999999993},0.47,"шт",null,{"$f":"IFERROR(K122*G122,\"0 ₽\")","v":0},{"$f":"IFERROR(K122*H122,\"0 ₽\")","v":0}]
[null,"IMIM025","Муфта ПП (PP-H) для раструбной сварки 25 IPS",10,"Фитинги","RUB",{"$f":"IFERROR(I123*Оглавление!$E$23,\"по запросу\")","v":62.148799999999994},{"$f":"IFERROR(G123*(1-Оглавление!$D$36),\"по запросу\")","v":62.148799999999994},0.62,"шт",null,0,0]
[null,"IMIM032","Муфта ПП (PP-H) для раструбной сварки 32 IPS",10,"Фитинги","RUB",{"$f":"IFERROR(I124*Оглавление!$E$23,\"по запросу\")","v":70.167999999999992},{"$f":"IFERROR(G124*(1-Оглавление!$D$36),\"по запросу\")","v":70.167999999999992},0.7,"шт",null,0,0]
[null,"IMIM040","Муфта ПП (PP-H) для раструбной сварки 40 IPS",10,"Фитинги","RUB",{"$f":"IFERROR(I125*Оглавление!$E$23,\"по запросу\")","v":155.37199999999999},{"$f":"IFERROR(G125*(1-Оглавление!$D$36),\"по запросу\")","v":155.37199999999999},1.55,"шт",null,0,0]
[null,"IMIM050","Муфта ПП (PP-H) для раструбной сварки 50 IPS",10,"Фитинги","RUB",{"$f":"IFERROR(I126*Оглавление!$E$23,\"по запросу\")","v":233.5592},{"$f":"IFERROR(G126*(1-Оглавление!$D$36),\"по запросу\")","v":233.5592},2.33,"шт",null,0,0]
[null,"IMIM063","Муфта ПП (PP-H) для раструбной сварки 63 IPS",10,"Фитинги","RUB",{"$f":"IFERROR(I127*Оглавление!$E$23,\"по запросу\")","v":388.93119999999999},{"$f":"IFERROR(G127*(1-Оглавление!$D$36),\"по запросу\")","v":388.93119999999999},3.88,"шт",null,0,0]
[null,"IMIM075","Муфта ПП (PP-H) для раструбной сварки 75 IPS",10,"Фитинги","RUB",{"$f":"IFERROR(I128*Оглавление!$E$23,\"по запросу\")","v":545.30560000000003},{"$f":"IFERROR(G128*(1-Оглавление!$D$36),\"по запросу\")","v":545.30560000000003},5.44,"шт",null,0,0]
[null,"IMIM090","Муфта ПП (PP-H) для раструбной сварки 90 IPS",10,"Фитинги","RUB",{"$f":"IFERROR(I129*Оглавление!$E$23,\"по запросу\")","v":857.05200000000002},{"$f":"IFERROR(G129*(1-Оглавление!$D$36),\"по запросу\")","v":857.05200000000002},8.5500000000000007,"шт",null,0,0]
[null,"IMIM110","Муфта ПП (PP-H) для раструбной сварки 110 IPS",10,"Фитинги","RUB",{"$f":"IFERROR(I130*Оглавление!$E$23,\"по запросу\")","v":1479.5423999999998},{"$f":"IFERROR(G130*(1-Оглавление!$D$36),\"по запросу\")","v":1479.5423999999998},14.76,"шт",null,0,0]
[null,"IRIM025020","Муфта ПП (PP-H) переходная для раструбной сварки 25x20 IPS",10,"Фитинги","RUB",{"$f":"IFERROR(I131*Оглавление!$E$23,\"по запросу\")","v":85.203999999999994},{"$f":"IFERROR(G131*(1-Оглавление!$D$36),\"по запросу\")","v":85.203999999999994},0.85,"шт",null,{"$f":"IFERROR(K131*G131,\"0 ₽\")","v":0},0]
[null,"IRIM032020","Муфта ПП (PP-H) переходная для раструбной сварки 32x20 IPS",10,"Фитинги","RUB",{"$f":"IFERROR(I132*Оглавление!$E$23,\"по запросу\")","v":155.37199999999999},{"$f":"IFERROR(G132*(1-Оглавление!$D$36),\"по запросу\")","v":155.37199999999999},1.55,"шт",null,0,0]
[null,"IRIM032025","Муфта ПП (PP-H) переходная для раструбной сварки 32x25 IPS",10,"Фитинги","RUB",{"$f":"IFERROR(I133*Оглавление!$E$23,\"по запросу\")","v":155.37199999999999},{"$f":"IFERROR(G133*(1-Оглавление!$D$36),\"по запросу\")","v":155.37199999999999},1.55,"шт",null,0,0]
[null,"IRIM040025","Муфта ПП (PP-H) переходная для раструбной сварки 40x25 IPS",10,"Фитинги","RUB",{"$f":"IFERROR(I134*Оглавление!$E$23,\"по запросу\")","v":233.5592},{"$f":"IFERROR(G134*(1-Оглавление!$D$36),\"по запросу\")","v":233.5592},2.33,"шт",null,0,0]
[null,"IRIM040032","Муфта ПП (PP-H) переходная для раструбной сварки 40x32 IPS",10,"Фитинги","RUB",{"$f":"IFERROR(I135*Оглавление!$E$23,\"по запросу\")","v":233.5592},{"$f":"IFERROR(G135*(1-Оглавление!$D$36),\"по запросу\")","v":233.5592},2.33,"шт",null,0,0]
[null,"IRIM050025","Муфта ПП (PP-H) переходная для раструбной сварки 50x25 IPS",10,"Фитинги","RUB",{"$f":"IFERROR(I136*Оглавление!$E$23,\"по запросу\")","v":395.94799999999998},{"$f":"IFERROR(G136*(1-Оглавление!$D$36),\"по запросу\")","v":395.94799999999998},3.95,"шт",null,0,0]
[null,"IRIM050032","Муфта ПП (PP-H) переходная для раструбной сварки 50x32 IPS",10,"Фитинги","RUB",{"$f":"IFERROR(I137*Оглавление!$E$23,\"по запросу\")","v":272.65280000000001},{"$f":"IFERROR(G137*(1-Оглавление!$D$36),\"по запросу\")","v":272.65280000000001},2.72,"шт",null,0,0]
[null,"IRIM050040","Муфта ПП (PP-H) переходная для раструбной сварки 50x40 IPS",10,"Фитинги","RUB",{"$f":"IFERROR(I138*Оглавление!$E$23,\"по запросу\")","v":272.65280000000001},{"$f":"IFERROR(G138*(1-Оглавление!$D$36),\"по запросу\")","v":272.65280000000001},2.72,"шт",null,0,0]
[null,"IRIM063032","Муфта ПП (PP-H) переходная для раструбной сварки 63x32 IPS",10,"Фитинги","RUB",{"$f":"IFERROR(I139*Оглавление!$E$23,\"по запросу\")","v":467.11840000000001},{"$f":"IFERROR(G139*(1-Оглавление!$D$36),\"по запросу\")","v":467.11840000000001},4.66,"шт",null,0,0]
[null,"IRIM063040","Муфта ПП (PP-H) переходная для раструбной сварки 63x40 IPS",10,"Фитинги","RUB",{"$f":"IFERROR(I140*Оглавление!$E$23,\"по запросу\")","v":467.11840000000001},{"$f":"IFERROR(G140*(1-Оглавление!$D$36),\"по запросу\")","v":467.11840000000001},4.66,"шт",null,0,0]
[null,"IRIM063050","Муфта ПП (PP-H) переходная для раструбной сварки 63x50 IPS",10,"Фитинги","RUB",{"$f":"IFERROR(I141*Оглавление!$E$23,\"по запросу\")","v":467.11840000000001},{"$f":"IFERROR(G141*(1-Оглавление!$D$36),\"по запросу\")","v":467.11840000000001},4.66,"шт",null,0,0]
[null,"IRIM075040","Муфта ПП (PP-H) переходная для раструбной сварки 75x40 IPS",10,"Фитинги","RUB",{"$f":"IFERROR(I142*Оглавление!$E$23,\"по запросу\")","v":871.08559999999989},{"$f":"IFERROR(G142*(1-Оглавление!$D$36),\"по запросу\")","v":871.08559999999989},8.69,"шт",null,0,0]
[null,"IRIM075050","Муфта ПП (PP-H) переходная для раструбной сварки 75x50 IPS",10,"Фитинги","RUB",{"$f":"IFERROR(I143*Оглавление!$E$23,\"по запросу\")","v":857.05200000000002},{"$f":"IFERROR(G143*(1-Оглавление!$D$36),\"по запросу\")","v":857.05200000000002},8.5500000000000007,"шт",null,0,0]
[null,"IRIM075063","Муфта ПП (PP-H) переходная для раструбной сварки 75x63 IPS",10,"Фитинги","RUB",{"$f":"IFERROR(I144*Оглавление!$E$23,\"по запросу\")","v":857.05200000000002},{"$f":"IFERROR(G144*(1-Оглавление!$D$36),\"по запросу\")","v":857.05200000000002},8.5500000000000007,"шт",null,0,0]
[null,"IRIM090050","Муфта ПП (PP-H) переходная для раструбной сварки 90x50 IPS",10,"Фитинги","RUB",{"$f":"IFERROR(I145*Оглавление!$E$23,\"по запросу\")","v":1425.4128000000001},{"$f":"IFERROR(G145*(1-Оглавление!$D$36),\"по запросу\")","v":1425.4128000000001},14.22,"шт",null,0,0]
[null,"IRIM090063","Муфта ПП (PP-H) переходная для раструбной сварки 90x63 IPS",10,"Фитинги","RUB",{"$f":"IFERROR(I146*Оглавление!$E$23,\"по запросу\")","v":1402.3576},{"$f":"IFERROR(G146*(1-Оглавление!$D$36),\"по запросу\")","v":1402.3576},13.99,"шт",null,0,0]
[null,"IRIM090075","Муфта ПП (PP-H) переходная для раструбной сварки 90x75 IPS",10,"Фитинги","RUB",{"$f":"IFERROR(I147*Оглавление!$E$23,\"по запросу\")","v":1402.3576},{"$f":"IFERROR(G147*(1-Оглавление!$D$36),\"по запросу\")","v":1402.3576},13.99,"шт",null,0,0]
[null,"IRIM110050","Муфта ПП (PP-H) переходная для раструбной сварки 110x50 IPS",10,"Фитинги","RUB",{"$f":"IFERROR(I148*Оглавление!$E$23,\"по запросу\")","v":2374.6855999999998},{"$f":"IFERROR(G148*(1-Оглавление!$D$36),\"по запросу\")","v":2374.6855999999998},23.69,"шт",null,0,0]
[null,"IRIM110063","Муфта ПП (PP-H) переходная для раструбной сварки 110x63 IPS",10,"Фитинги","RUB",{"$f":"IFERROR(I149*Оглавление!$E$23,\"по запросу\")","v":2336.5944},{"$f":"IFERROR(G149*(1-Оглавление!$D$36),\"по запросу\")","v":2336.5944},23.31,"шт",null,0,0]
[null,"IRIM110075","Муфта ПП (PP-H) переходная для раструбной сварки 110x75 IPS",10,"Фитинги","RUB",{"$f":"IFERROR(I150*Оглавление!$E$23,\"по запросу\")","v":2374.6855999999998},{"$f":"IFERROR(G150*(1-Оглавление!$D$36),\"по запросу\")","v":2374.6855999999998},23.69,"шт",null,0,0]
[null,"IRIM110090","Муфта ПП (PP-H) переходная для раструбной сварки 110x90 IPS",10,"Фитинги","RUB",{"$f":"IFERROR(I151*Оглавление!$E$23,\"по запросу\")","v":2336.5944},{"$f":"IFERROR(G151*(1-Оглавление!$D$36),\"по запросу\")","v":2336.5944},23.31,"шт",null,0,0]
[null,"IKBFM020012","Муфта ПП (PP-H) НР для раструбной сварки 20x1/2\" IPS",10,"Фитинги","RUB",{"$f":"IFERROR(I152*Оглавление!$E$23,\"по запросу\")","v":124.29759999999999},{"$f":"IFERROR(G152*(1-Оглавление!$D$36),\"по запросу\")","v":124.29759999999999},1.24,"шт",null,0,{"$f":"IFERROR(K152*H152,\"0 ₽\")","v":0}]
[null,"IKBFM025034","Муфта ПП (PP-H) НР для раструбной сварки 25x3/4\" IPS",10,"Фитинги","RUB",{"$f":"IFERROR(I153*Оглавление!$E$23,\"по запросу\")","v":163.39119999999997},{"$f":"IFERROR(G153*(1-Оглавление!$D$36),\"по запросу\")","v":163.39119999999997},1.63,"шт",null,0,0]
[null,"IKBFM032100","Муфта ПП (PP-H) НР для раструбной сварки 32x1\" IPS",10,"Фитинги","RUB",{"$f":"IFERROR(I154*Оглавление!$E$23,\"по запросу\")","v":202.48479999999998},{"$f":"IFERROR(G154*(1-Оглавление!$D$36),\"по запросу\")","v":202.48479999999998},2.02,"шт",null,0,0]
[null,"IKBFM040114","Муфта ПП (PP-H) НР для раструбной сварки 40x1 1/4\" IPS",10,"Фитинги","RUB",{"$f":"IFERROR(I155*Оглавление!$E$23,\"по запросу\")","v":319.76560000000001},{"$f":"IFERROR(G155*(1-Оглавление!$D$36),\"по запросу\")","v":319.76560000000001},3.19,"шт",null,0,0]
[null,"IKBFM050112","Муфта ПП (PP-H) НР для раструбной сварки 50x1 1/2\" IPS",10,"Фитинги","RUB",{"$f":"IFERROR(I156*Оглавление!$E$23,\"по запросу\")","v":483.15679999999998},{"$f":"IFERROR(G156*(1-Оглавление!$D$36),\"по запросу\")","v":483.15679999999998},4.82,"шт",null,0,0]
[null,"IKBFM063200","Муфта ПП (PP-H) НР для раструбной сварки 63x2\" IPS",10,"Фитинги","RUB",{"$f":"IFERROR(I157*Оглавление!$E$23,\"по запросу\")","v":794.90319999999997},{"$f":"IFERROR(G157*(1-Оглавление!$D$36),\"по запросу\")","v":794.90319999999997},7.93,"шт",null,0,0]
[null,"IMIMM020012","Муфта ПП (PP-H) ВР для раструбной сварки 20x1/2\" IPS",10,"Фитинги","RUB",{"$f":"IFERROR(I158*Оглавление!$E$23,\"по запросу\")","v":124.29759999999999},{"$f":"IFERROR(G158*(1-Оглавление!$D$36),\"по запросу\")","v":124.29759999999999},1.24,"шт",null,0,0]
[null,"IMIMM025034","Муфта ПП (PP-H) ВР для раструбной сварки 25x3/4\" IPS",10,"Фитинги","RUB",{"$f":"IFERROR(I159*Оглавление!$E$23,\"по запросу\")","v":163.39119999999997},{"$f":"IFERROR(G159*(1-Оглавление!$D$36),\"по запросу\")","v":163.39119999999997},1.63,"шт",null,0,0]
[null,"IMIMM032100","Муфта ПП (PP-H) ВР для раструбной сварки 32x1\" IPS",10,"Фитинги","RUB",{"$f":"IFERROR(I160*Оглавление!$E$23,\"по запросу\")","v":202.48479999999998},{"$f":"IFERROR(G160*(1-Оглавление!$D$36),\"по запросу\")","v":202.48479999999998},2.02,"шт",null,0,0]
[null,"IMIMM040114","Муфта ПП (PP-H) ВР для раструбной сварки 40x1 1/4\" IPS",10,"Фитинги","RUB",{"$f":"IFERROR(I161*Оглавление!$E$23,\"по запросу\")","v":319.76560000000001},{"$f":"IFERROR(G161*(1-Оглавление!$D$36),\"по запросу\")","v":319.76560000000001},3.19,"шт",null,0,0]
[null,"IMIMM050112","Муфта ПП (PP-H) ВР для раструбной сварки 50x1 1/2\" IPS",10,"Фитинги","RUB",{"$f":"IFERROR(I162*Оглавление!$E$23,\"по запросу\")","v":483.15679999999998},{"$f":"IFERROR(G162*(1-Оглавление!$D$36),\"по запросу\")","v":483.15679999999998},4.82,"шт",null,0,0]
[null,"IMIMM063200","Муфта ПП (PP-H) ВР для раструбной сварки 63x2\" IPS",10,"Фитинги","RUB",{"$f":"IFERROR(I163*Оглавление!$E$23,\"по запросу\")","v":794.90319999999997},{"$f":"IFERROR(G163*(1-Оглавление!$D$36),\"по запросу\")","v":794.90319999999997},7.93,"шт",null,0,0]
[null,"ICIM020","Заглушка ПП (PP-H) для раструбной сварки 20 IPS",10,"Фитинги","RUB",{"$f":"IFERROR(I164*Оглавление!$E$23,\"по запросу\")","v":78.187200000000004},{"$f":"IFERROR(G164*(1-Оглавление!$D$36),\"по запросу\")","v":78.187200000000004},0.78,"шт",null,0,0]
[null,"ICIM025","Заглушка ПП (PP-H) для раструбной сварки 25 IPS",10,"Фитинги","RUB",{"$f":"IFERROR(I165*Оглавление!$E$23,\"по запросу\")","v":93.223200000000006},{"$f":"IFERROR(G165*(1-Оглавление!$D$36),\"по запросу\")","v":93.223200000000006},0.93,"шт",null,0,0]
[null,"ICIM032","Заглушка ПП (PP-H) для раструбной сварки 32 IPS",10,"Фитинги","RUB",{"$f":"IFERROR(I166*Оглавление!$E$23,\"по запросу\")","v":117.28079999999999},{"$f":"IFERROR(G166*(1-Оглавление!$D$36),\"по запросу\")","v":117.28079999999999},1.17,"шт",null,0,0]
[null,"ICIM040","Заглушка ПП (PP-H) для раструбной сварки 40 IPS",10,"Фитинги","RUB",{"$f":"IFERROR(I167*Оглавление!$E$23,\"по запросу\")","v":155.37199999999999},{"$f":"IFERROR(G167*(1-Оглавление!$D$36),\"по запросу\")","v":155.37199999999999},1.55,"шт",null,0,0]
[null,"ICIM050","Заглушка ПП (PP-H) для раструбной сварки 50 IPS",10,"Фитинги","RUB",{"$f":"IFERROR(I168*Оглавление!$E$23,\"по запросу\")","v":233.5592},{"$f":"IFERROR(G168*(1-Оглавление!$D$36),\"по запросу\")","v":233.5592},2.33,"шт",null,0,{"$f":"IFERROR(K168*H168,\"0 ₽\")","v":0}]
[null,"ICIM063","Заглушка ПП (PP-H) для раструбной сварки 63 IPS",10,"Фитинги","RUB",{"$f":"IFERROR(I169*Оглавление!$E$23,\"по запросу\")","v":388.93119999999999},{"$f":"IFERROR(G169*(1-Оглавление!$D$36),\"по запросу\")","v":388.93119999999999},3.88,"шт",null,0,0]
[null,"ICIM075","Заглушка ПП (PP-H) для раструбной сварки 75 IPS",10,"Фитинги","RUB",{"$f":"IFERROR(I170*Оглавление!$E$23,\"по запросу\")","v":545.30560000000003},{"$f":"IFERROR(G170*(1-Оглавление!$D$36),\"по запросу\")","v":545.30560000000003},5.44,"шт",null,0,0]
[null,"ICIM090","Заглушка ПП (PP-H) для раструбной сварки 90 IPS",10,"Фитинги","RUB",{"$f":"IFERROR(I171*Оглавление!$E$23,\"по запросу\")","v":934.23680000000002},{"$f":"IFERROR(G171*(1-Оглавление!$D$36),\"по запросу\")","v":934.23680000000002},9.32,"шт",null,0,0]
[null,"ICIM110","Заглушка ПП (PP-H) для раструбной сварки 110 IPS",10,"Фитинги","RUB",{"$f":"IFERROR(I172*Оглавление!$E$23,\"по запросу\")","v":1324.1704},{"$f":"IFERROR(G172*(1-Оглавление!$D$36),\"по запросу\")","v":1324.1704},13.21,"шт",null,0,0]
[null,"IFDM020","Жесткий фланец ПП (PP-H) для раструбной сварки 20 IPS",10,"Фитинги","RUB",{"$f":"IFERROR(I173*Оглавление!$E$23,\"по запросу\")","v":316.75839999999999},{"$f":"IFERROR(G173*(1-Оглавление!$D$36),\"по запросу\")","v":316.75839999999999},3.16,"шт",null,{"$f":"IFERROR(K173*G173,\"0 ₽\")","v":0},0]
[null,"IFDM025","Жесткий фланец ПП (PP-H) для раструбной сварки 25 IPS",10,"Фитинги","RUB",{"$f":"IFERROR(I174*Оглавление!$E$23,\"по запросу\")","v":355.85199999999998},{"$f":"IFERROR(G174*(1-Оглавление!$D$36),\"по запросу\")","v":355.85199999999998},3.55,"шт",null,0,0]
[null,"IFDM032","Жесткий фланец ПП (PP-H) для раструбной сварки 32 IPS",10,"Фитинги","RUB",{"$f":"IFERROR(I175*Оглавление!$E$23,\"по запросу\")","v":475.13760000000002},{"$f":"IFERROR(G175*(1-Оглавление!$D$36),\"по запросу\")","v":475.13760000000002},4.74,"шт",null,0,0]
[null,"IFDM040","Жесткий фланец ПП (PP-H) для раструбной сварки 40 IPS",10,"Фитинги","RUB",{"$f":"IFERROR(I176*Оглавление!$E$23,\"по запросу\")","v":633.51679999999999},{"$f":"IFERROR(G176*(1-Оглавление!$D$36),\"по запросу\")","v":633.51679999999999},6.32,"шт",null,0,0]
[null,"IFDM050","Жесткий фланец ПП (PP-H) для раструбной сварки 50 IPS",10,"Фитинги","RUB",{"$f":"IFERROR(I177*Оглавление!$E$23,\"по запросу\")","v":712.70640000000003},{"$f":"IFERROR(G177*(1-Оглавление!$D$36),\"по запросу\")","v":712.70640000000003},7.11,"шт",null,0,0]
[null,"IFDM063","Жесткий фланец ПП (PP-H) для раструбной сварки 63 IPS",10,"Фитинги","RUB",{"$f":"IFERROR(I178*Оглавление!$E$23,\"по запросу\")","v":950.27520000000004},{"$f":"IFERROR(G178*(1-Оглавление!$D$36),\"по запросу\")","v":950.27520000000004},9.48,"шт",null,0,0]
[null,"IFDM075","Жесткий фланец ПП (PP-H) для раструбной сварки 75 IPS",10,"Фитинги","RUB",{"$f":"IFERROR(I179*Оглавление!$E$23,\"по запросу\")","v":1267.0336},{"$f":"IFERROR(G179*(1-Оглавление!$D$36),\"по запросу\")","v":1267.0336},12.64,"шт",null,0,0]
[null,"IFDM090","Жесткий фланец ПП (PP-H) для раструбной сварки 90 IPS",10,"Фитинги","RUB",{"$f":"IFERROR(I180*Оглавление!$E$23,\"по запросу\")","v":1504.6024},{"$f":"IFERROR(G180*(1-Оглавление!$D$36),\"по запросу\")","v":1504.6024},15.01,"шт",null,0,0]
[null,"IFDM110","Жесткий фланец ПП (PP-H) для раструбной сварки 110 IPS",10,"Фитинги","RUB",{"$f":"IFERROR(I181*Оглавление!$E$23,\"по запросу\")","v":2137.1167999999998},{"$f":"IFERROR(G181*(1-Оглавление!$D$36),\"по запросу\")","v":2137.1167999999998},21.32,"шт",null,0,0]
[null,"IQRNM020","Бурт ПП (PP-H) для раструбной сварки 20 IPS",10,"Фитинги","RUB",{"$f":"IFERROR(I182*Оглавление!$E$23,\"по запросу\")","v":109.2616},{"$f":"IFERROR(G182*(1-Оглавление!$D$36),\"по запросу\")","v":109.2616},1.0900000000000001,"шт",null,{"$f":"IFERROR(K182*G182,\"0 ₽\")","v":0},{"$f":"IFERROR(K182*H182,\"0 ₽\")","v":0}]
[null,"IQRNM025","Бурт ПП (PP-H) для раструбной сварки 25 IPS",10,"Фитинги","RUB",{"$f":"IFERROR(I183*Оглавление!$E$23,\"по запросу\")","v":171.41039999999998},{"$f":"IFERROR(G183*(1-Оглавление!$D$36),\"по запросу\")","v":171.41039999999998},1.71,"шт",null,0,0]
[null,"IQRNM032","Бурт ПП (PP-H) для раструбной сварки 32 IPS",10,"Фитинги","RUB",{"$f":"IFERROR(I184*Оглавление!$E$23,\"по запросу\")","v":272.65280000000001},{"$f":"IFERROR(G184*(1-Оглавление!$D$36),\"по запросу\")","v":272.65280000000001},2.72,"шт",null,0,0]
[null,"IQRNM040","Бурт ПП (PP-H) для раструбной сварки 40 IPS",10,"Фитинги","RUB",{"$f":"IFERROR(I185*Оглавление!$E$23,\"по запросу\")","v":326.78239999999994},{"$f":"IFERROR(G185*(1-Оглавление!$D$36),\"по запросу\")","v":326.78239999999994},3.26,"шт",null,0,0]
[null,"IQRNM050","Бурт ПП (PP-H) для раструбной сварки 50 IPS",10,"Фитинги","RUB",{"$f":"IFERROR(I186*Оглавление!$E$23,\"по запросу\")","v":381.9144},{"$f":"IFERROR(G186*(1-Оглавление!$D$36),\"по запросу\")","v":381.9144},3.81,"шт",null,0,0]
[null,"IQRNM063","Бурт ПП (PP-H) для раструбной сварки 63 IPS",10,"Фитинги","RUB",{"$f":"IFERROR(I187*Оглавление!$E$23,\"по запросу\")","v":545.30560000000003},{"$f":"IFERROR(G187*(1-Оглавление!$D$36),\"по запросу\")","v":545.30560000000003},5.44,"шт",null,0,0]
[null,"IQRNM075","Бурт ПП (PP-H) для раструбной сварки 75 IPS",10,"Фитинги","RUB",{"$f":"IFERROR(I188*Оглавление!$E$23,\"по запросу\")","v":896.14559999999994},{"$f":"IFERROR(G188*(1-Оглавление!$D$36),\"по запросу\")","v":896.14559999999994},8.94,"шт",null,0,0]
[null,"IQRNM090","Бурт ПП (PP-H) для раструбной сварки 90 IPS",10,"Фитинги","RUB",{"$f":"IFERROR(I189*Оглавление!$E$23,\"по запросу\")","v":1596.8231999999998},{"$f":"IFERROR(G189*(1-Оглавление!$D$36),\"по запросу\")","v":1596.8231999999998},15.93,"шт",null,0,0]
[null,"IQRNM110","Бурт ПП (PP-H) для раструбной сварки 110 IPS",10,"Фитинги","RUB",{"$f":"IFERROR(I190*Оглавление!$E$23,\"по запросу\")","v":1946.6608000000001},{"$f":"IFERROR(G190*(1-Оглавление!$D$36),\"по запросу\")","v":1946.6608000000001},19.420000000000002,"шт",null,0,0]
[null,"IFCM020","Фланец глухой ПП (PP-H) 20 IPS",10,"Фитинги","RUB",{"$f":"IFERROR(I191*Оглавление!$E$23,\"по запросу\")","v":316.75839999999999},{"$f":"IFERROR(G191*(1-Оглавление!$D$36),\"по запросу\")","v":316.75839999999999},3.16,"шт",null,{"$f":"IFERROR(K191*G191,\"0 ₽\")","v":0},{"$f":"IFERROR(K191*H191,\"0 ₽\")","v":0}]
[null,"IFCM025","Фланец глухой ПП (PP-H) 25 IPS",10,"Фитинги","RUB",{"$f":"IFERROR(I192*Оглавление!$E$23,\"по запросу\")","v":355.85199999999998},{"$f":"IFERROR(G192*(1-Оглавление!$D$36),\"по запросу\")","v":355.85199999999998},3.55,"шт",null,0,0]
[null,"IFCM032","Фланец глухой ПП (PP-H) 32 IPS",10,"Фитинги","RUB",{"$f":"IFERROR(I193*Оглавление!$E$23,\"по запросу\")","v":499.1952},{"$f":"IFERROR(G193*(1-Оглавление!$D$36),\"по запросу\")","v":499.1952},4.9800000000000004,"шт",null,0,0]
[null,"IFCM040","Фланец глухой ПП (PP-H) 40 IPS",10,"Фитинги","RUB",{"$f":"IFERROR(I194*Оглавление!$E$23,\"по запросу\")","v":633.51679999999999},{"$f":"IFERROR(G194*(1-Оглавление!$D$36),\"по запросу\")","v":633.51679999999999},6.32,"шт",null,0,0]
[null,"IFCM050","Фланец глухой ПП (PP-H) 50 IPS",10,"Фитинги","RUB",{"$f":"IFERROR(I195*Оглавление!$E$23,\"по запросу\")","v":871.08559999999989},{"$f":"IFERROR(G195*(1-Оглавление!$D$36),\"по запросу\")","v":871.08559999999989},8.69,"шт",null,0,0]
[null,"IFCM063","Фланец глухой ПП (PP-H) 63 IPS",10,"Фитинги","RUB",{"$f":"IFERROR(I196*Оглавление!$E$23,\"по запросу\")","v":1108.6543999999999},{"$f":"IFERROR(G196*(1-Оглавление!$D$36),\"по запросу\")","v":1108.6543999999999},11.06,"шт",null,0,0]
[null,"IFCM075","Фланец глухой ПП (PP-H) 75 IPS",10,"Фитинги","RUB",{"$f":"IFERROR(I197*Оглавление!$E$23,\"по запросу\")","v":1543.6959999999999},{"$f":"IFERROR(G197*(1-Оглавление!$D$36),\"по запросу\")","v":1543.6959999999999},15.4,"шт",null,0,0]
[null,"IFCM090","Фланец глухой ПП (PP-H) 90 IPS",10,"Фитинги","RUB",{"$f":"IFERROR(I198*Оглавление!$E$23,\"по запросу\")","v":2137.1167999999998},{"$f":"IFERROR(G198*(1-Оглавление!$D$36),\"по запросу\")","v":2137.1167999999998},21.32,"шт",null,0,0]
[null,"IFCM110","Фланец глухой ПП (PP-H) 110 IPS",10,"Фитинги","RUB",{"$f":"IFERROR(I199*Оглавление!$E$23,\"по запросу\")","v":2770.6336000000001},{"$f":"IFERROR(G199*(1-Оглавление!$D$36),\"по запросу\")","v":2770.6336000000001},27.64,"шт",null,0,0]
[null,"IFCM140","Фланец глухой ПП (PP-H) 140 IPS",10,"Фитинги","RUB",{"$f":"IFERROR(I200*Оглавление!$E$23,\"по запросу\")","v":3800.0983999999994},{"$f":"IFERROR(G200*(1-Оглавление!$D$36),\"по запросу\")","v":3800.0983999999994},37.909999999999997,"шт",null,0,0]
[null,"IFCM160","Фланец глухой ПП (PP-H) 160 IPS",10,"Фитинги","RUB",{"$f":"IFERROR(I201*Оглавление!$E$23,\"по запросу\")","v":5937.2151999999996},{"$f":"IFERROR(G201*(1-Оглавление!$D$36),\"по запросу\")","v":5937.2151999999996},59.23,"шт",null,0,0]
[null,"IFCM225","Фланец глухой ПП (PP-H) 225 IPS",10,"Фитинги","RUB",{"$f":"IFERROR(I202*Оглавление!$E$23,\"по запросу\")","v":7521.0072},{"$f":"IFERROR(G202*(1-Оглавление!$D$36),\"по запросу\")","v":7521.0072},75.03,"шт",null,0,0]
[null,"IFCM280","Фланец глухой ПП (PP-H) 280 IPS",10,"Фитинги","RUB",{"$f":"IFERROR(I203*Оглавление!$E$23,\"по запросу\")","v":15436.96},{"$f":"IFERROR(G203*(1-Оглавление!$D$36),\"по запросу\")","v":15436.96},154,"шт",null,0,0]
[null,"IFCM315","Фланец глухой ПП (PP-H) 315 IPS",10,"Фитинги","RUB",{"$f":"IFERROR(I204*Оглавление!$E$23,\"по запросу\")","v":23512.294399999999},{"$f":"IFERROR(G204*(1-Оглавление!$D$36),\"по запросу\")","v":23512.294399999999},234.56,"шт",null,0,0]
[null,"IFCM355","Фланец глухой ПП (PP-H) 355 IPS",10,"Фитинги","RUB",{"$f":"IFERROR(I205*Оглавление!$E$23,\"по запросу\")","v":"по запросу"},{"$f":"IFERROR(G205*(1-Оглавление!$D$36),\"по запросу\")","v":"по запросу"},"по запросу","шт",null,"0 ₽","0 ₽"]
[null,"IFCM400","Фланец глухой ПП (PP-H) 400 IPS",10,"Фитинги","RUB",{"$f":"IFERROR(I206*Оглавление!$E$23,\"по запросу\")","v":"по запросу"},{"$f":"IFERROR(G206*(1-Оглавление!$D$36),\"по запросу\")","v":"по запросу"},"по запросу","шт",null,"0 ₽","0 ₽"]
[null,"IFCM450","Фланец глухой ПП (PP-H) 450 IPS",10,"Фитинги","RUB",{"$f":"IFERROR(I207*Оглавление!$E$23,\"по запросу\")","v":"по запросу"},{"$f":"IFERROR(G207*(1-Оглавление!$D$36),\"по запросу\")","v":"по запросу"},"по запросу","шт",null,"0 ₽","0 ₽"]
[null,"IFCM500","Фланец глухой ПП (PP-H) 500 IPS",10,"Фитинги","RUB",{"$f":"IFERROR(I208*Оглавление!$E$23,\"по запросу\")","v":"по запросу"},{"$f":"IFERROR(G208*(1-Оглавление!$D$36),\"по запросу\")","v":"по запросу"},"по запросу","шт",null,"0 ₽","0 ₽"]
[null,"IFCM630","Фланец глухой ПП (PP-H) 630 IPS",10,"Фитинги","RUB",{"$f":"IFERROR(I209*Оглавление!$E$23,\"по запросу\")","v":"по запросу"},{"$f":"IFERROR(G209*(1-Оглавление!$D$36),\"по запросу\")","v":"по запросу"},"по запросу","шт",null,"0 ₽","0 ₽"]
[null,"IBIM020E","Муфта разборная ПП (PP-H) EPDM 20 IPS",10,"Фитинги","RUB",{"$f":"IFERROR(I210*Оглавление!$E$23,\"по запросу\")","v":236.56639999999999},{"$f":"IFERROR(G210*(1-Оглавление!$D$36),\"по запросу\")","v":236.56639999999999},2.36,"шт",null,{"$f":"IFERROR(K210*G210,\"0 ₽\")","v":0},0]
[null,"IBIM025E","Муфта разборная ПП (PP-H) EPDM 25 IPS",10,"Фитинги","RUB",{"$f":"IFERROR(I211*Оглавление!$E$23,\"по запросу\")","v":339.81360000000001},{"$f":"IFERROR(G211*(1-Оглавление!$D$36),\"по запросу\")","v":339.81360000000001},3.39,"шт",null,0,0]
[null,"IBIM032E","Муфта разборная ПП (PP-H) EPDM 32 IPS",10,"Фитинги","RUB",{"$f":"IFERROR(I212*Оглавление!$E$23,\"по запросу\")","v":437.04640000000001},{"$f":"IFERROR(G212*(1-Оглавление!$D$36),\"по запросу\")","v":437.04640000000001},4.3600000000000003,"шт",null,0,0]
[null,"IBIM040E","Муфта разборная ПП (PP-H) EPDM 40 IPS",10,"Фитинги","RUB",{"$f":"IFERROR(I213*Оглавление!$E$23,\"по запросу\")","v":709.69920000000002},{"$f":"IFERROR(G213*(1-Оглавление!$D$36),\"по запросу\")","v":709.69920000000002},7.08,"шт",null,0,0]
[null,"IBIM050E","Муфта разборная ПП (PP-H) EPDM 50 IPS",10,"Фитинги","RUB",{"$f":"IFERROR(I214*Оглавление!$E$23,\"по запросу\")","v":995.38319999999987},{"$f":"IFERROR(G214*(1-Оглавление!$D$36),\"по запросу\")","v":995.38319999999987},9.93,"шт",null,0,{"$f":"IFERROR(K214*H214,\"0 ₽\")","v":0}]
[null,"IBIM063E","Муфта разборная ПП (PP-H) EPDM 63 IPS",10,"Фитинги","RUB",{"$f":"IFERROR(I215*Оглавление!$E$23,\"по запросу\")","v":1468.5159999999998},{"$f":"IFERROR(G215*(1-Оглавление!$D$36),\"по запросу\")","v":1468.5159999999998},14.65,"шт",null,0,0]
[null,"IBIM075E","Муфта разборная ПП (PP-H) EPDM 75 IPS",10,"Фитинги","RUB",{"$f":"IFERROR(I216*Оглавление!$E$23,\"по запросу\")","v":3585.5848000000001},{"$f":"IFERROR(G216*(1-Оглавление!$D$36),\"по запросу\")","v":3585.5848000000001},35.770000000000003,"шт",null,0,0]
[null,"IBIM090E","Муфта разборная ПП (PP-H) EPDM 90 IPS",10,"Фитинги","RUB",{"$f":"IFERROR(I217*Оглавление!$E$23,\"по запросу\")","v":4434.6175999999996},{"$f":"IFERROR(G217*(1-Оглавление!$D$36),\"по запросу\")","v":4434.6175999999996},44.24,"шт",null,0,0]
[null,"IBIM110E","Муфта разборная ПП (PP-H) EPDM 110 IPS",10,"Фитинги","RUB",{"$f":"IFERROR(I218*Оглавление!$E$23,\"по запросу\")","v":7972.0871999999999},{"$f":"IFERROR(G218*(1-Оглавление!$D$36),\"по запросу\")","v":7972.0871999999999},79.53,"шт",null,0,0]
[null,"IBIM020F","Муфта разборная ПП (PP-H) FKM 20 IPS",10,"Фитинги","RUB",{"$f":"IFERROR(I219*Оглавление!$E$23,\"по запросу\")","v":375.9},{"$f":"IFERROR(G219*(1-Оглавление!$D$36),\"по запросу\")","v":375.9},3.75,"шт",null,0,0]
[null,"IBIM025F","Муфта разборная ПП (PP-H) FKM 25 IPS",10,"Фитинги","RUB",{"$f":"IFERROR(I220*Оглавление!$E$23,\"по запросу\")","v":525.25760000000002},{"$f":"IFERROR(G220*(1-Оглавление!$D$36),\"по запросу\")","v":525.25760000000002},5.24,"шт",null,0,0]
[null,"IBIM032F","Муфта разборная ПП (PP-H) FKM 32 IPS",10,"Фитинги","RUB",{"$f":"IFERROR(I221*Оглавление!$E$23,\"по запросу\")","v":709.69920000000002},{"$f":"IFERROR(G221*(1-Оглавление!$D$36),\"по запросу\")","v":709.69920000000002},7.08,"шт",null,0,0]
[null,"IBIM040F","Муфта разборная ПП (PP-H) FKM 40 IPS",10,"Фитинги","RUB",{"$f":"IFERROR(I222*Оглавление!$E$23,\"по запросу\")","v":1031.4695999999999},{"$f":"IFERROR(G222*(1-Оглавление!$D$36),\"по запросу\")","v":1031.4695999999999},10.29,"шт",null,0,0]
[null,"IBIM050F","Муфта разборная ПП (PP-H) FKM 50 IPS",10,"Фитинги","RUB",{"$f":"IFERROR(I223*Оглавление!$E$23,\"по запросу\")","v":1479.5423999999998},{"$f":"IFERROR(G223*(1-Оглавление!$D$36),\"по запросу\")","v":1479.5423999999998},14.76,"шт",null,0,0]
[null,"IBIM063F","Муфта разборная ПП (PP-H) FKM 63 IPS",10,"Фитинги","RUB",{"$f":"IFERROR(I224*Оглавление!$E$23,\"по запросу\")","v":2231.3424},{"$f":"IFERROR(G224*(1-Оглавление!$D$36),\"по запросу\")","v":2231.3424},22.26,"шт",null,0,0]
[null,"IBIM075F","Муфта разборная ПП (PP-H) FKM 75 IPS",10,"Фитинги","RUB",{"$f":"IFERROR(I225*Оглавление!$E$23,\"по запросу\")","v":5058.1103999999996},{"$f":"IFERROR(G225*(1-Оглавление!$D$36),\"по запросу\")","v":5058.1103999999996},50.46,"шт",null,0,0]
[null,"IBIM090F","Муфта разборная ПП (PP-H) FKM 90 IPS",10,"Фитинги","RUB",{"$f":"IFERROR(I226*Оглавление!$E$23,\"по запросу\")","v":6203.8535999999995},{"$f":"IFERROR(G226*(1-Оглавление!$D$36),\"по запросу\")","v":6203.8535999999995},61.89,"шт",null,0,0]
[null,"IBIM110F","Муфта разборная ПП (PP-H) FKM 110 IPS",10,"Фитинги","RUB",{"$f":"IFERROR(I227*Оглавление!$E$23,\"по запросу\")","v":10445.008},{"$f":"IFERROR(G227*(1-Оглавление!$D$36),\"по запросу\")","v":10445.008},104.2,"шт",null,0,0]
[null,"IGBM11020","Отвод ПП (PP-H) 90° для стыковой сварки 20 IPS",10,"Фитинги","RUB",{"$f":"IFERROR(I228*Оглавление!$E$23,\"по запросу\")","v":88.211199999999991},{"$f":"IFERROR(G228*(1-Оглавление!$D$36),\"по запросу\")","v":88.211199999999991},0.88,"шт",null,{"$f":"IFERROR(K228*G228,\"0 ₽\")","v":0},0]
[null,"IGBM11025","Отвод ПП (PP-H) 90° для стыковой сварки 25 IPS",10,"Фитинги","RUB",{"$f":"IFERROR(I229*Оглавление!$E$23,\"по запросу\")","v":126.30239999999999},{"$f":"IFERROR(G229*(1-Оглавление!$D$36),\"по запросу\")","v":126.30239999999999},1.26,"шт",null,{"$f":"IFERROR(K229*G229,\"0 ₽\")","v":0},0]
[null,"IGBM11032","Отвод ПП (PP-H) 90° для стыковой сварки 32 IPS",10,"Фитинги","RUB",{"$f":"IFERROR(I230*Оглавление!$E$23,\"по запросу\")","v":190.45599999999999},{"$f":"IFERROR(G230*(1-Оглавление!$D$36),\"по запросу\")","v":190.45599999999999},1.9,"шт",null,0,0]
[null,"IGBM11040","Отвод ПП (PP-H) 90° для стыковой сварки 40 IPS",10,"Фитинги","RUB",{"$f":"IFERROR(I231*Оглавление!$E$23,\"по запросу\")","v":316.75839999999999},{"$f":"IFERROR(G231*(1-Оглавление!$D$36),\"по запросу\")","v":316.75839999999999},3.16,"шт",null,0,0]
[null,"IGBM11050","Отвод ПП (PP-H) 90° для стыковой сварки 50 IPS",10,"Фитинги","RUB",{"$f":"IFERROR(I232*Оглавление!$E$23,\"по запросу\")","v":506.21199999999993},{"$f":"IFERROR(G232*(1-Оглавление!$D$36),\"по запросу\")","v":506.21199999999993},5.05,"шт",null,0,0]
[null,"IGBM11063","Отвод ПП (PP-H) 90° для стыковой сварки 63 IPS",10,"Фитинги","RUB",{"$f":"IFERROR(I233*Оглавление!$E$23,\"по запросу\")","v":822.97040000000004},{"$f":"IFERROR(G233*(1-Оглавление!$D$36),\"по запросу\")","v":822.97040000000004},8.2100000000000009,"шт",null,0,0]
[null,"IGBM11075","Отвод ПП (PP-H) 90° для стыковой сварки 75 IPS",10,"Фитинги","RUB",{"$f":"IFERROR(I234*Оглавление!$E$23,\"по запросу\")","v":1583.7919999999999},{"$f":"IFERROR(G234*(1-Оглавление!$D$36),\"по запросу\")","v":1583.7919999999999},15.8,"шт",null,0,0]
[null,"IGBM11090","Отвод ПП (PP-H) 90° для стыковой сварки 90 IPS",10,"Фитинги","RUB",{"$f":"IFERROR(I235*Оглавление!$E$23,\"по запросу\")","v":2786.672},{"$f":"IFERROR(G235*(1-Оглавление!$D$36),\"по запросу\")","v":2786.672},27.8,"шт",null,0,0]
[null,"IGBM11110","Отвод ПП (PP-H) 90° для стыковой сварки 110 IPS",10,"Фитинги","RUB",{"$f":"IFERROR(I236*Оглавление!$E$23,\"по запросу\")","v":3958.4776000000002},{"$f":"IFERROR(G236*(1-Оглавление!$D$36),\"по запросу\")","v":3958.4776000000002},39.49,"шт",null,0,0]
[null,"IGBM11140","Отвод ПП (PP-H) 90° для стыковой сварки 140 IPS",10,"Фитинги","RUB",{"$f":"IFERROR(I237*Оглавление!$E$23,\"по запросу\")","v":5303.6983999999993},{"$f":"IFERROR(G237*(1-Оглавление!$D$36),\"по запросу\")","v":5303.6983999999993},52.91,"шт",null,0,0]
[null,"IGBM11160","Отвод ПП (PP-H) 90° для стыковой сварки 160 IPS",10,"Фитинги","RUB",{"$f":"IFERROR(I238*Оглавление!$E$23,\"по запросу\")","v":7009.7832000000008},{"$f":"IFERROR(G238*(1-Оглавление!$D$36),\"по запросу\")","v":7009.7832000000008},69.930000000000007,"шт",null,0,0]
[null,"IGBM11225","Отвод ПП (PP-H) 90° для стыковой сварки 225 IPS",10,"Фитинги","RUB",{"$f":"IFERROR(I239*Оглавление!$E$23,\"по запросу\")","v":18692.7552},{"$f":"IFERROR(G239*(1-Оглавление!$D$36),\"по запросу\")","v":18692.7552},186.48,"шт",null,0,0]
[null,"IGBM11280","Отвод ПП (PP-H) 90° для стыковой сварки 280 IPS",10,"Фитинги","RUB",{"$f":"IFERROR(I240*Оглавление!$E$23,\"по запросу\")","v":25767.6944},{"$f":"IFERROR(G240*(1-Оглавление!$D$36),\"по запросу\")","v":25767.6944},257.06,"шт",null,0,0]
[null,"IGBM11315","Отвод ПП (PP-H) 90° для стыковой сварки 315 IPS",10,"Фитинги","RUB",{"$f":"IFERROR(I241*Оглавление!$E$23,\"по запросу\")","v":37207.083200000001},{"$f":"IFERROR(G241*(1-Оглавление!$D$36),\"по запросу\")","v":37207.083200000001},371.18,"шт",null,0,0]
[null,"IGBM11355","Отвод ПП (PP-H) 90° для стыковой сварки 355 IPS",10,"Фитинги","RUB",{"$f":"IFERROR(I242*Оглавление!$E$23,\"по запросу\")","v":69981.553599999999},{"$f":"IFERROR(G242*(1-Оглавление!$D$36),\"по запросу\")","v":69981.553599999999},698.14,"шт",null,0,0]
[null,"IGBM11400","Отвод ПП (PP-H) 90° для стыковой сварки 400 IPS",10,"Фитинги","RUB",{"$f":"IFERROR(I243*Оглавление!$E$23,\"по запросу\")","v":77185.8024},{"$f":"IFERROR(G243*(1-Оглавление!$D$36),\"по запросу\")","v":77185.8024},770.01,"шт",null,0,0]
[null,"IHBM11140","Отвод ПП (PP-H) 45° для стыковой сварки 140 IPS",10,"Фитинги","RUB",{"$f":"IFERROR(I244*Оглавление!$E$23,\"по запросу\")","v":5303.6983999999993},{"$f":"IFERROR(G244*(1-Оглавление!$D$36),\"по запросу\")","v":5303.6983999999993},52.91,"шт",null,0,0]
[null,"IHBM11160","Отвод ПП (PP-H) 45° для стыковой сварки 160 IPS",10,"Фитинги","RUB",{"$f":"IFERROR(I245*Оглавление!$E$23,\"по запросу\")","v":7009.7832000000008},{"$f":"IFERROR(G245*(1-Оглавление!$D$36),\"по запросу\")","v":7009.7832000000008},69.930000000000007,"шт",null,0,0]
[null,"IHBM11225","Отвод ПП (PP-H) 45° для стыковой сварки 225 IPS",10,"Фитинги","RUB",{"$f":"IFERROR(I246*Оглавление!$E$23,\"по запросу\")","v":18692.7552},{"$f":"IFERROR(G246*(1-Оглавление!$D$36),\"по запросу\")","v":18692.7552},186.48,"шт",null,0,0]
[null,"IHBM11280","Отвод ПП (PP-H) 45° для стыковой сварки 280 IPS",10,"Фитинги","RUB",{"$f":"IFERROR(I247*Оглавление!$E$23,\"по запросу\")","v":25767.6944},{"$f":"IFERROR(G247*(1-Оглавление!$D$36),\"по запросу\")","v":25767.6944},257.06,"шт",null,0,0]
[null,"IHBM11315","Отвод ПП (PP-H) 45° для стыковой сварки 315 IPS",10,"Фитинги","RUB",{"$f":"IFERROR(I248*Оглавление!$E$23,\"по запросу\")","v":37207.083200000001},{"$f":"IFERROR(G248*(1-Оглавление!$D$36),\"по запросу\")","v":37207.083200000001},371.18,"шт",null,0,0]
[null,"IHBM11355","Отвод ПП (PP-H) 45° для стыковой сварки 355 IPS",10,"Фитинги","RUB",{"$f":"IFERROR(I249*Оглавление!$E$23,\"по запросу\")","v":69981.553599999999},{"$f":"IFERROR(G249*(1-Оглавление!$D$36),\"по запросу\")","v":69981.553599999999},698.14,"шт",null,0,0]
[null,"IHBM11400","Отвод ПП (PP-H) 45° для стыковой сварки 400 IPS",10,"Фитинги","RUB",{"$f":"IFERROR(I250*Оглавление!$E$23,\"по запросу\")","v":77185.8024},{"$f":"IFERROR(G250*(1-Оглавление!$D$36),\"по запросу\")","v":77185.8024},770.01,"шт",null,0,0]
[null,"ITBM11020","Тройник ПП (PP-H) 90° для стыковой сварки 20 IPS",10,"Фитинги","RUB",{"$f":"IFERROR(I251*Оглавление!$E$23,\"по запросу\")","v":95.227999999999994},{"$f":"IFERROR(G251*(1-Оглавление!$D$36),\"по запросу\")","v":95.227999999999994},0.95,"шт",null,0,0]
[null,"ITBM11025","Тройник ПП (PP-H) 90° для стыковой сварки 25 IPS",10,"Фитинги","RUB",{"$f":"IFERROR(I252*Оглавление!$E$23,\"по запросу\")","v":158.3792},{"$f":"IFERROR(G252*(1-Оглавление!$D$36),\"по запросу\")","v":158.3792},1.58,"шт",null,0,0]
[null,"ITBM11032","Тройник ПП (PP-H) 90° для стыковой сварки 32 IPS",10,"Фитинги","RUB",{"$f":"IFERROR(I253*Оглавление!$E$23,\"по запросу\")","v":253.60719999999998},{"$f":"IFERROR(G253*(1-Оглавление!$D$36),\"по запросу\")","v":253.60719999999998},2.5299999999999998,"шт",null,0,0]
[null,"ITBM11040","Тройник ПП (PP-H) 90° для стыковой сварки 40 IPS",10,"Фитинги","RUB",{"$f":"IFERROR(I254*Оглавление!$E$23,\"по запросу\")","v":411.9864},{"$f":"IFERROR(G254*(1-Оглавление!$D$36),\"по запросу\")","v":411.9864},4.1100000000000003,"шт",null,0,0]
[null,"ITBM11050","Тройник ПП (PP-H) 90° для стыковой сварки 50 IPS",10,"Фитинги","RUB",{"$f":"IFERROR(I255*Оглавление!$E$23,\"по запросу\")","v":633.51679999999999},{"$f":"IFERROR(G255*(1-Оглавление!$D$36),\"по запросу\")","v":633.51679999999999},6.32,"шт",null,0,0]
[null,"ITBM11063","Тройник ПП (PP-H) 90° для стыковой сварки 63 IPS",10,"Фитинги","RUB",{"$f":"IFERROR(I256*Оглавление!$E$23,\"по запросу\")","v":1267.0336},{"$f":"IFERROR(G256*(1-Оглавление!$D$36),\"по запросу\")","v":1267.0336},12.64,"шт",null,0,0]
[null,"ITBM11075","Тройник ПП (PP-H) 90° для стыковой сварки 75 IPS",10,"Фитинги","RUB",{"$f":"IFERROR(I257*Оглавление!$E$23,\"по запросу\")","v":2216.3063999999999},{"$f":"IFERROR(G257*(1-Оглавление!$D$36),\"по запросу\")","v":2216.3063999999999},22.11,"шт",null,0,0]
[null,"ITBM11090","Тройник ПП (PP-H) 90° для стыковой сварки 90 IPS",10,"Фитинги","RUB",{"$f":"IFERROR(I258*Оглавление!$E$23,\"по запросу\")","v":3166.5816},{"$f":"IFERROR(G258*(1-Оглавление!$D$36),\"по запросу\")","v":3166.5816},31.59,"шт",null,0,0]
[null,"ITBM11110","Тройник ПП (PP-H) 90° для стыковой сварки 110 IPS",10,"Фитинги","RUB",{"$f":"IFERROR(I259*Оглавление!$E$23,\"по запросу\")","v":5066.1295999999993},{"$f":"IFERROR(G259*(1-Оглавление!$D$36),\"по запросу\")","v":5066.1295999999993},50.54,"шт",null,0,0]
[null,"ITBM11140","Тройник ПП (PP-H) 90° для стыковой сварки 140 IPS",10,"Фитинги","RUB",{"$f":"IFERROR(I260*Оглавление!$E$23,\"по запросу\")","v":6966.6799999999994},{"$f":"IFERROR(G260*(1-Оглавление!$D$36),\"по запросу\")","v":6966.6799999999994},69.5,"шт",null,0,0]
[null,"ITBM11160","Тройник ПП (PP-H) 90° для стыковой сварки 160 IPS",10,"Фитинги","RUB",{"$f":"IFERROR(I261*Оглавление!$E$23,\"по запросу\")","v":9346.3775999999998},{"$f":"IFERROR(G261*(1-Оглавление!$D$36),\"по запросу\")","v":9346.3775999999998},93.24,"шт",null,0,0]
[null,"ITBM11225","Тройник ПП (PP-H) 90° для стыковой сварки 225 IPS",10,"Фитинги","RUB",{"$f":"IFERROR(I262*Оглавление!$E$23,\"по запросу\")","v":20639.416000000001},{"$f":"IFERROR(G262*(1-Оглавление!$D$36),\"по запросу\")","v":20639.416000000001},205.9,"шт",null,0,0]
[null,"ITBM11280","Тройник ПП (PP-H) 90° для стыковой сварки 280 IPS",10,"Фитинги","RUB",{"$f":"IFERROR(I263*Оглавление!$E$23,\"по запросу\")","v":29291.130399999998},{"$f":"IFERROR(G263*(1-Оглавление!$D$36),\"по запросу\")","v":29291.130399999998},292.20999999999998,"шт",null,0,0]
[null,"ITBM11315","Тройник ПП (PP-H) 90° для стыковой сварки 315 IPS",10,"Фитинги","RUB",{"$f":"IFERROR(I264*Оглавление!$E$23,\"по запросу\")","v":41165.560799999999},{"$f":"IFERROR(G264*(1-Оглавление!$D$36),\"по запросу\")","v":41165.560799999999},410.67,"шт",null,0,0]
[null,"ITBM11355","Тройник ПП (PP-H) 90° для стыковой сварки 355 IPS",10,"Фитинги","RUB",{"$f":"IFERROR(I265*Оглавление!$E$23,\"по запросу\")","v":64915.423999999999},{"$f":"IFERROR(G265*(1-Оглавление!$D$36),\"по запросу\")","v":64915.423999999999},647.6,"шт",null,0,0]
[null,"ITBM11400","Тройник ПП (PP-H) 90° для стыковой сварки 400 IPS",10,"Фитинги","RUB",{"$f":"IFERROR(I266*Оглавление!$E$23,\"по запросу\")","v":69664.795199999993},{"$f":"IFERROR(G266*(1-Оглавление!$D$36),\"по запросу\")","v":69664.795199999993},694.98,"шт",null,0,0]
[null,"ITRBM11063050","Тройник переходной ПП (PP-H) 90° для стыковой сварки 63x50 IPS",10,"Фитинги","RUB",{"$f":"IFERROR(I267*Оглавление!$E$23,\"по запросу\")","v":2153.1552000000001},{"$f":"IFERROR(G267*(1-Оглавление!$D$36),\"по запросу\")","v":2153.1552000000001},21.48,"шт",null,0,0]
[null,"ITRBM11075050","Тройник переходной ПП (PP-H) 90° для стыковой сварки 75x50 IPS",10,"Фитинги","RUB",{"$f":"IFERROR(I268*Оглавление!$E$23,\"по запросу\")","v":3040.2791999999995},{"$f":"IFERROR(G268*(1-Оглавление!$D$36),\"по запросу\")","v":3040.2791999999995},30.33,"шт",null,{"$f":"IFERROR(K268*G268,\"0 ₽\")","v":0},0]
[null,"ITRBM11075063","Тройник переходной ПП (PP-H) 90° для стыковой сварки 75x63 IPS",10,"Фитинги","RUB",{"$f":"IFERROR(I269*Оглавление!$E$23,\"по запросу\")","v":3040.2791999999995},{"$f":"IFERROR(G269*(1-Оглавление!$D$36),\"по запросу\")","v":3040.2791999999995},30.33,"шт",null,0,0]
[null,"ITRBM11090050","Тройник переходной ПП (PP-H) 90° для стыковой сварки 90x50 IPS",10,"Фитинги","RUB",{"$f":"IFERROR(I270*Оглавление!$E$23,\"по запросу\")","v":4813.5248000000001},{"$f":"IFERROR(G270*(1-Оглавление!$D$36),\"по запросу\")","v":4813.5248000000001},48.02,"шт",null,0,0]
[null,"ITRBM11090063","Тройник переходной ПП (PP-H) 90° для стыковой сварки 90x63 IPS",10,"Фитинги","RUB",{"$f":"IFERROR(I271*Оглавление!$E$23,\"по запросу\")","v":4813.5248000000001},{"$f":"IFERROR(G271*(1-Оглавление!$D$36),\"по запросу\")","v":4813.5248000000001},48.02,"шт",null,0,0]
[null,"ITRBM11090075","Тройник переходной ПП (PP-H) 90° для стыковой сварки 90x75 IPS",10,"Фитинги","RUB",{"$f":"IFERROR(I272*Оглавление!$E$23,\"по запросу\")","v":4813.5248000000001},{"$f":"IFERROR(G272*(1-Оглавление!$D$36),\"по запросу\")","v":4813.5248000000001},48.02,"шт",null,0,0]
[null,"ITRBM11110063","Тройник переходной ПП (PP-H) 90° для стыковой сварки 110x63 IPS",10,"Фитинги","RUB",{"$f":"IFERROR(I273*Оглавление!$E$23,\"по запросу\")","v":8423.1671999999999},{"$f":"IFERROR(G273*(1-Оглавление!$D$36),\"по запросу\")","v":8423.1671999999999},84.03,"шт",null,0,0]
[null,"ITRBM11110075","Тройник переходной ПП (PP-H) 90° для стыковой сварки 110x75 IPS",10,"Фитинги","RUB",{"$f":"IFERROR(I274*Оглавление!$E$23,\"по запросу\")","v":8423.1671999999999},{"$f":"IFERROR(G274*(1-Оглавление!$D$36),\"по запросу\")","v":8423.1671999999999},84.03,"шт",null,0,0]
[null,"ITRBM11110090","Тройник переходной ПП (PP-H) 90° для стыковой сварки 110x90 IPS",10,"Фитинги","RUB",{"$f":"IFERROR(I275*Оглавление!$E$23,\"по запросу\")","v":8423.1671999999999},{"$f":"IFERROR(G275*(1-Оглавление!$D$36),\"по запросу\")","v":8423.1671999999999},84.03,"шт",null,0,0]
[null,"ITRBM11140063","Тройник переходной ПП (PP-H) 90° для стыковой сварки 140x63 IPS",10,"Фитинги","RUB",{"$f":"IFERROR(I276*Оглавление!$E$23,\"по запросу\")","v":6966.6799999999994},{"$f":"IFERROR(G276*(1-Оглавление!$D$36),\"по запросу\")","v":6966.6799999999994},69.5,"шт",null,0,0]
[null,"ITRBM11140075","Тройник переходной ПП (PP-H) 90° для стыковой сварки 140x75 IPS",10,"Фитинги","RUB",{"$f":"IFERROR(I277*Оглавление!$E$23,\"по запросу\")","v":6966.6799999999994},{"$f":"IFERROR(G277*(1-Оглавление!$D$36),\"по запросу\")","v":6966.6799999999994},69.5,"шт",null,0,0]
[null,"ITRBM11140090","Тройник переходной ПП (PP-H) 90° для стыковой сварки 140x90 IPS",10,"Фитинги","RUB",{"$f":"IFERROR(I278*Оглавление!$E$23,\"по запросу\")","v":6966.6799999999994},{"$f":"IFERROR(G278*(1-Оглавление!$D$36),\"по запросу\")","v":6966.6799999999994},69.5,"шт",null,0,0]
[null,"ITRBM11140110","Тройник переходной ПП (PP-H) 90° для стыковой сварки 140x110 IPS",10,"Фитинги","RUB",{"$f":"IFERROR(I279*Оглавление!$E$23,\"по запросу\")","v":6966.6799999999994},{"$f":"IFERROR(G279*(1-Оглавление!$D$36),\"по запросу\")","v":6966.6799999999994},69.5,"шт",null,0,0]
[null,"ITRBM11160090","Тройник переходной ПП (PP-H) 90° для стыковой сварки 160x90 IPS",10,"Фитинги","RUB",{"$f":"IFERROR(I280*Оглавление!$E$23,\"по запросу\")","v":9499.7447999999986},{"$f":"IFERROR(G280*(1-Оглавление!$D$36),\"по запросу\")","v":9499.7447999999986},94.77,"шт",null,0,0]
[null,"ITRBM11160110","Тройник переходной ПП (PP-H) 90° для стыковой сварки 160x110 IPS",10,"Фитинги","RUB",{"$f":"IFERROR(I281*Оглавление!$E$23,\"по запросу\")","v":9499.7447999999986},{"$f":"IFERROR(G281*(1-Оглавление!$D$36),\"по запросу\")","v":9499.7447999999986},94.77,"шт",null,0,0]
[null,"ITRBM11160140","Тройник переходной ПП (PP-H) 90° для стыковой сварки 160x140 IPS",10,"Фитинги","RUB",{"$f":"IFERROR(I282*Оглавление!$E$23,\"по запросу\")","v":9499.7447999999986},{"$f":"IFERROR(G282*(1-Оглавление!$D$36),\"по запросу\")","v":9499.7447999999986},94.77,"шт",null,0,0]
[null,"ITRBM11225110","Тройник переходной ПП (PP-H) 90° для стыковой сварки 225x110 IPS",10,"Фитинги","RUB",{"$f":"IFERROR(I283*Оглавление!$E$23,\"по запросу\")","v":23749.8632},{"$f":"IFERROR(G283*(1-Оглавление!$D$36),\"по запросу\")","v":23749.8632},236.93,"шт",null,0,0]
[null,"ITRBM11225140","Тройник переходной ПП (PP-H) 90° для стыковой сварки 225x140 IPS",10,"Фитинги","RUB",{"$f":"IFERROR(I284*Оглавление!$E$23,\"по запросу\")","v":23749.8632},{"$f":"IFERROR(G284*(1-Оглавление!$D$36),\"по запросу\")","v":23749.8632},236.93,"шт",null,0,0]
[null,"ITRBM11225160","Тройник переходной ПП (PP-H) 90° для стыковой сварки 225x160 IPS",10,"Фитинги","RUB",{"$f":"IFERROR(I285*Оглавление!$E$23,\"по запросу\")","v":23749.8632},{"$f":"IFERROR(G285*(1-Оглавление!$D$36),\"по запросу\")","v":23749.8632},236.93,"шт",null,0,0]
[null,"IRBM11140063","Муфта ПП (PP-H) переходная для стыковой сварки 140x63 IPS",10,"Фитинги","RUB",{"$f":"IFERROR(I286*Оглавление!$E$23,\"по запросу\")","v":3008.2024000000001},{"$f":"IFERROR(G286*(1-Оглавление!$D$36),\"по запросу\")","v":3008.2024000000001},30.01,"шт",null,{"$f":"IFERROR(K286*G286,\"0 ₽\")","v":0},0]
[null,"IRBM11140075","Муфта ПП (PP-H) переходная для стыковой сварки 140x75 IPS",10,"Фитинги","RUB",{"$f":"IFERROR(I287*Оглавление!$E$23,\"по запросу\")","v":3008.2024000000001},{"$f":"IFERROR(G287*(1-Оглавление!$D$36),\"по запросу\")","v":3008.2024000000001},30.01,"шт",null,0,0]
[null,"IRBM11140090","Муфта ПП (PP-H) переходная для стыковой сварки 140x90 IPS",10,"Фитинги","RUB",{"$f":"IFERROR(I288*Оглавление!$E$23,\"по запросу\")","v":3008.2024000000001},{"$f":"IFERROR(G288*(1-Оглавление!$D$36),\"по запросу\")","v":3008.2024000000001},30.01,"шт",null,0,0]
[null,"IRBM11140110","Муфта ПП (PP-H) переходная для стыковой сварки 140x110 IPS",10,"Фитинги","RUB",{"$f":"IFERROR(I289*Оглавление!$E$23,\"по запросу\")","v":3008.2024000000001},{"$f":"IFERROR(G289*(1-Оглавление!$D$36),\"по запросу\")","v":3008.2024000000001},30.01,"шт",null,0,0]
[null,"IRBM11160063","Муфта ПП (PP-H) переходная для стыковой сварки 160x63 IPS",10,"Фитинги","RUB",{"$f":"IFERROR(I290*Оглавление!$E$23,\"по запросу\")","v":3562.5295999999998},{"$f":"IFERROR(G290*(1-Оглавление!$D$36),\"по запросу\")","v":3562.5295999999998},35.54,"шт",null,0,0]
[null,"IRBM11160075","Муфта ПП (PP-H) переходная для стыковой сварки 160x75 IPS",10,"Фитинги","RUB",{"$f":"IFERROR(I291*Оглавление!$E$23,\"по запросу\")","v":3562.5295999999998},{"$f":"IFERROR(G291*(1-Оглавление!$D$36),\"по запросу\")","v":3562.5295999999998},35.54,"шт",null,0,0]
[null,"IRBM11160090","Муфта ПП (PP-H) переходная для стыковой сварки 160x90 IPS",10,"Фитинги","RUB",{"$f":"IFERROR(I292*Оглавление!$E$23,\"по запросу\")","v":3504.3903999999998},{"$f":"IFERROR(G292*(1-Оглавление!$D$36),\"по запросу\")","v":3504.3903999999998},34.96,"шт",null,0,0]
[null,"IRBM11160110","Муфта ПП (PP-H) переходная для стыковой сварки 160x110 IPS",10,"Фитинги","RUB",{"$f":"IFERROR(I293*Оглавление!$E$23,\"по запросу\")","v":3562.5295999999998},{"$f":"IFERROR(G293*(1-Оглавление!$D$36),\"по запросу\")","v":3562.5295999999998},35.54,"шт",null,0,0]
[null,"IRBM11160140","Муфта ПП (PP-H) переходная для стыковой сварки 160x140 IPS",10,"Фитинги","RUB",{"$f":"IFERROR(I294*Оглавление!$E$23,\"по запросу\")","v":3562.5295999999998},{"$f":"IFERROR(G294*(1-Оглавление!$D$36),\"по запросу\")","v":3562.5295999999998},35.54,"шт",null,0,0]
[null,"IRBM11225090","Муфта ПП (PP-H) переходная для стыковой сварки 225x90 IPS",10,"Фитинги","RUB",{"$f":"IFERROR(I295*Оглавление!$E$23,\"по запросу\")","v":7125.0591999999997},{"$f":"IFERROR(G295*(1-Оглавление!$D$36),\"по запросу\")","v":7125.0591999999997},71.08,"шт",null,0,0]
[null,"IRBM11225110","Муфта ПП (PP-H) переходная для стыковой сварки 225x110 IPS",10,"Фитинги","RUB",{"$f":"IFERROR(I296*Оглавление!$E$23,\"по запросу\")","v":7125.0591999999997},{"$f":"IFERROR(G296*(1-Оглавление!$D$36),\"по запросу\")","v":7125.0591999999997},71.08,"шт",null,0,0]
[null,"IRBM11225140","Муфта ПП (PP-H) переходная для стыковой сварки 225x140 IPS",10,"Фитинги","RUB",{"$f":"IFERROR(I297*Оглавление!$E$23,\"по запросу\")","v":7125.0591999999997},{"$f":"IFERROR(G297*(1-Оглавление!$D$36),\"по запросу\")","v":7125.0591999999997},71.08,"шт",null,0,0]
[null,"IRBM11225160","Муфта ПП (PP-H) переходная для стыковой сварки 225x160 IPS",10,"Фитинги","RUB",{"$f":"IFERROR(I298*Оглавление!$E$23,\"по запросу\")","v":7009.7832000000008},{"$f":"IFERROR(G298*(1-Оглавление!$D$36),\"по запросу\")","v":7009.7832000000008},69.930000000000007,"шт",null,0,0]
[null,"IRBM11280110","Муфта ПП (PP-H) переходная для стыковой сварки 280x110 IPS",10,"Фитинги","RUB",{"$f":"IFERROR(I299*Оглавление!$E$23,\"по запросу\")","v":16624.804},{"$f":"IFERROR(G299*(1-Оглавление!$D$36),\"по запросу\")","v":16624.804},165.85,"шт",null,0,0]
[null,"IRBM11280140","Муфта ПП (PP-H) переходная для стыковой сварки 280x140 IPS",10,"Фитинги","RUB",{"$f":"IFERROR(I300*Оглавление!$E$23,\"по запросу\")","v":16624.804},{"$f":"IFERROR(G300*(1-Оглавление!$D$36),\"по запросу\")","v":16624.804},165.85,"шт",null,0,0]
[null,"IRBM11280160","Муфта ПП (PP-H) переходная для стыковой сварки 280x160 IPS",10,"Фитинги","RUB",{"$f":"IFERROR(I301*Оглавление!$E$23,\"по запросу\")","v":16624.804},{"$f":"IFERROR(G301*(1-Оглавление!$D$36),\"по запросу\")","v":16624.804},165.85,"шт",null,0,0]
[null,"IRBM11280225","Муфта ПП (PP-H) переходная для стыковой сварки 280x225 IPS",10,"Фитинги","RUB",{"$f":"IFERROR(I302*Оглавление!$E$23,\"по запросу\")","v":16624.804},{"$f":"IFERROR(G302*(1-Оглавление!$D$36),\"по запросу\")","v":16624.804},165.85,"шт",null,0,0]
[null,"IRBM11315160","Муфта ПП (PP-H) переходная для стыковой сварки 315x160 IPS",10,"Фитинги","RUB",{"$f":"IFERROR(I303*Оглавление!$E$23,\"по запросу\")","v":31665.815999999995},{"$f":"IFERROR(G303*(1-Оглавление!$D$36),\"по запросу\")","v":31665.815999999995},315.89999999999998,"шт",null,0,0]
[null,"IRBM11315225","Муфта ПП (PP-H) переходная для стыковой сварки 315x225 IPS",10,"Фитинги","RUB",{"$f":"IFERROR(I304*Оглавление!$E$23,\"по запросу\")","v":31665.815999999995},{"$f":"IFERROR(G304*(1-Оглавление!$D$36),\"по запросу\")","v":31665.815999999995},315.89999999999998,"шт",null,0,0]
[null,"IRBM11315280","Муфта ПП (PP-H) переходная для стыковой сварки 315x280 IPS",10,"Фитинги","RUB",{"$f":"IFERROR(I305*Оглавление!$E$23,\"по запросу\")","v":31665.815999999995},{"$f":"IFERROR(G305*(1-Оглавление!$D$36),\"по запросу\")","v":31665.815999999995},315.89999999999998,"шт",null,0,0]
[null,"ICBM11020","Заглушка ПП (PP-H) для стыковой сварки 20 IPS",10,"Фитинги","RUB",{"$f":"IFERROR(I306*Оглавление!$E$23,\"по запросу\")","v":63.151199999999996},{"$f":"IFERROR(G306*(1-Оглавление!$D$36),\"по запросу\")","v":63.151199999999996},0.63,"шт",null,0,0]
[null,"ICBM11025","Заглушка ПП (PP-H) для стыковой сварки 25 IPS",10,"Фитинги","RUB",{"$f":"IFERROR(I307*Оглавление!$E$23,\"по запросу\")","v":79.189599999999999},{"$f":"IFERROR(G307*(1-Оглавление!$D$36),\"по запросу\")","v":79.189599999999999},0.79,"шт",null,0,0]
[null,"ICBM11032","Заглушка ПП (PP-H) для стыковой сварки 32 IPS",10,"Фитинги","RUB",{"$f":"IFERROR(I308*Оглавление!$E$23,\"по запросу\")","v":95.227999999999994},{"$f":"IFERROR(G308*(1-Оглавление!$D$36),\"по запросу\")","v":95.227999999999994},0.95,"шт",null,0,0]
[null,"ICBM11040","Заглушка ПП (PP-H) для стыковой сварки 40 IPS",10,"Фитинги","RUB",{"$f":"IFERROR(I309*Оглавление!$E$23,\"по запросу\")","v":158.3792},{"$f":"IFERROR(G309*(1-Оглавление!$D$36),\"по запросу\")","v":158.3792},1.58,"шт",null,0,0]
[null,"ICBM11050","Заглушка ПП (PP-H) для стыковой сварки 50 IPS",10,"Фитинги","RUB",{"$f":"IFERROR(I310*Оглавление!$E$23,\"по запросу\")","v":221.53039999999999},{"$f":"IFERROR(G310*(1-Оглавление!$D$36),\"по запросу\")","v":221.53039999999999},2.21,"шт",null,0,0]
[null,"ICBM11063","Заглушка ПП (PP-H) для стыковой сварки 63 IPS",10,"Фитинги","RUB",{"$f":"IFERROR(I311*Оглавление!$E$23,\"по запросу\")","v":316.75839999999999},{"$f":"IFERROR(G311*(1-Оглавление!$D$36),\"по запросу\")","v":316.75839999999999},3.16,"шт",null,0,0]
[null,"ICBM11075","Заглушка ПП (PP-H) для стыковой сварки 75 IPS",10,"Фитинги","RUB",{"$f":"IFERROR(I312*Оглавление!$E$23,\"по запросу\")","v":696.66800000000001},{"$f":"IFERROR(G312*(1-Оглавление!$D$36),\"по запросу\")","v":696.66800000000001},6.95,"шт",null,0,0]
[null,"ICBM11090","Заглушка ПП (PP-H) для стыковой сварки 90 IPS",10,"Фитинги","RUB",{"$f":"IFERROR(I313*Оглавление!$E$23,\"по запросу\")","v":1139.7287999999999},{"$f":"IFERROR(G313*(1-Оглавление!$D$36),\"по запросу\")","v":1139.7287999999999},11.37,"шт",null,0,0]
[null,"ICBM11110","Заглушка ПП (PP-H) для стыковой сварки 110 IPS",10,"Фитинги","RUB",{"$f":"IFERROR(I314*Оглавление!$E$23,\"по запросу\")","v":1583.7919999999999},{"$f":"IFERROR(G314*(1-Оглавление!$D$36),\"по запросу\")","v":1583.7919999999999},15.8,"шт",null,0,0]
[null,"ICBM11160","Заглушка ПП (PP-H) для стыковой сварки 160 IPS",10,"Фитинги","RUB",{"$f":"IFERROR(I315*Оглавление!$E$23,\"по запросу\")","v":5264.6048000000001},{"$f":"IFERROR(G315*(1-Оглавление!$D$36),\"по запросу\")","v":5264.6048000000001},52.52,"шт",null,0,0]
[null,"ICBM11225","Заглушка ПП (PP-H) для стыковой сварки 225 IPS",10,"Фитинги","RUB",{"$f":"IFERROR(I316*Оглавление!$E$23,\"по запросу\")","v":6892.5024000000003},{"$f":"IFERROR(G316*(1-Оглавление!$D$36),\"по запросу\")","v":6892.5024000000003},68.760000000000005,"шт",null,0,0]
[null,"IFDBM11140","Жесткий фланец ПП (PP-H) для стыковой сварки 140 IPS",10,"Фитинги","RUB",{"$f":"IFERROR(I317*Оглавление!$E$23,\"по запросу\")","v":3800.0983999999994},{"$f":"IFERROR(G317*(1-Оглавление!$D$36),\"по запросу\")","v":3800.0983999999994},37.909999999999997,"шт",null,{"$f":"IFERROR(K317*G317,\"0 ₽\")","v":0},{"$f":"IFERROR(K317*H317,\"0 ₽\")","v":0}]
[null,"IFDBM11160","Жесткий фланец ПП (PP-H) для стыковой сварки 160 IPS",10,"Фитинги","RUB",{"$f":"IFERROR(I318*Оглавление!$E$23,\"по запросу\")","v":5937.2151999999996},{"$f":"IFERROR(G318*(1-Оглавление!$D$36),\"по запросу\")","v":5937.2151999999996},59.23,"шт",null,0,0]
[null,"IFDBM11225","Жесткий фланец ПП (PP-H) для стыковой сварки 225 IPS",10,"Фитинги","RUB",{"$f":"IFERROR(I319*Оглавление!$E$23,\"по запросу\")","v":9816.503200000001},{"$f":"IFERROR(G319*(1-Оглавление!$D$36),\"по запросу\")","v":9816.503200000001},97.93,"шт",null,0,0]
[null,"IFDBM11280","Жесткий фланец ПП (PP-H) для стыковой сварки 280 IPS",10,"Фитинги","RUB",{"$f":"IFERROR(I320*Оглавление!$E$23,\"по запросу\")","v":12507.947199999999},{"$f":"IFERROR(G320*(1-Оглавление!$D$36),\"по запросу\")","v":12507.947199999999},124.78,"шт",null,0,0]
[null,"IFDBM11315","Жесткий фланец ПП (PP-H) для стыковой сварки 315 IPS",10,"Фитинги","RUB",{"$f":"IFERROR(I321*Оглавление!$E$23,\"по запросу\")","v":18406.068800000001},{"$f":"IFERROR(G321*(1-Оглавление!$D$36),\"по запросу\")","v":18406.068800000001},183.62,"шт",null,0,0]
[null,"IFDBM11355","Жесткий фланец ПП (PP-H) для стыковой сварки 355 IPS",10,"Фитинги","RUB",{"$f":"IFERROR(I322*Оглавление!$E$23,\"по запросу\")","v":20583.281599999998},{"$f":"IFERROR(G322*(1-Оглавление!$D$36),\"по запросу\")","v":20583.281599999998},205.34,"шт",null,0,0]
[null,"IFDBM11400","Жесткий фланец ПП (PP-H) для стыковой сварки 400 IPS",10,"Фитинги","RUB",{"$f":"IFERROR(I323*Оглавление!$E$23,\"по запросу\")","v":51853.149599999997},{"$f":"IFERROR(G323*(1-Оглавление!$D$36),\"по запросу\")","v":51853.149599999997},517.29,"шт",null,0,0]
[null,"IODB11020","Свободный фланец ПП (PP-H) со стальным сердечником 20 IPS",10,"Фитинги","RUB",{"$f":"IFERROR(I324*Оглавление!$E$23,\"по запросу\")","v":2029.86},{"$f":"IFERROR(G324*(1-Оглавление!$D$36),\"по запросу\")","v":2029.86},20.25,"шт",null,0,0]
[null,"IODB11025","Свободный фланец ПП (PP-H) со стальным сердечником 25 IPS",10,"Фитинги","RUB",{"$f":"IFERROR(I325*Оглавление!$E$23,\"по запросу\")","v":2311.7849999999999},{"$f":"IFERROR(G325*(1-Оглавление!$D$36),\"по запросу\")","v":2311.7849999999999},23.0625,"шт",null,0,0]
[null,"IODB11032","Свободный фланец ПП (PP-H) со стальным сердечником 32 IPS",10,"Фитинги","RUB",{"$f":"IFERROR(I326*Оглавление!$E$23,\"по запросу\")","v":2492.2169999999996},{"$f":"IFERROR(G326*(1-Оглавление!$D$36),\"по запросу\")","v":2492.2169999999996},24.862499999999997,"шт",null,0,0]
[null,"IODB11040","Свободный фланец ПП (PP-H) со стальным сердечником 40 IPS",10,"Фитинги","RUB",{"$f":"IFERROR(I327*Оглавление!$E$23,\"по запросу\")","v":3232.74},{"$f":"IFERROR(G327*(1-Оглавление!$D$36),\"по запросу\")","v":3232.74},32.25,"шт",null,0,0]
[null,"IODB11050","Свободный фланец ПП (PP-H) со стальным сердечником 50 IPS",10,"Фитинги","RUB",{"$f":"IFERROR(I328*Оглавление!$E$23,\"по запросу\")","v":3507.1469999999995},{"$f":"IFERROR(G328*(1-Оглавление!$D$36),\"по запросу\")","v":3507.1469999999995},34.987499999999997,"шт",null,0,0]
[null,"IODB11063","Свободный фланец ПП (PP-H) со стальным сердечником 63 IPS",10,"Фитинги","RUB",{"$f":"IFERROR(I329*Оглавление!$E$23,\"по запросу\")","v":4153.6949999999997},{"$f":"IFERROR(G329*(1-Оглавление!$D$36),\"по запросу\")","v":4153.6949999999997},41.4375,"шт",null,0,0]
[null,"IODB11075","Свободный фланец ПП (PP-H) со стальным сердечником 75 IPS",10,"Фитинги","RUB",{"$f":"IFERROR(I330*Оглавление!$E$23,\"по запросу\")","v":5356.5749999999998},{"$f":"IFERROR(G330*(1-Оглавление!$D$36),\"по запросу\")","v":5356.5749999999998},53.4375,"шт",null,0,0]
[null,"IODB11090","Свободный фланец ПП (PP-H) со стальным сердечником 90 IPS",10,"Фитинги","RUB",{"$f":"IFERROR(I331*Оглавление!$E$23,\"по запросу\")","v":6371.5050000000001},{"$f":"IFERROR(G331*(1-Оглавление!$D$36),\"по запросу\")","v":6371.5050000000001},63.5625,"шт",null,0,0]
[null,"IODB11110","Свободный фланец ПП (PP-H) со стальным сердечником 110 IPS",10,"Фитинги","RUB",{"$f":"IFERROR(I332*Оглавление!$E$23,\"по запросу\")","v":7202.2439999999988},{"$f":"IFERROR(G332*(1-Оглавление!$D$36),\"по запросу\")","v":7202.2439999999988},71.849999999999994,"шт",null,0,0]
[null,"IODB11125","Свободный фланец ПП (PP-H) со стальным сердечником 125 IPS",11,"Фитинги","RUB",{"$f":"IFERROR(I333*Оглавление!$E$23,\"по запросу\")","v":7202.2439999999988},{"$f":"IFERROR(G333*(1-Оглавление!$D$36),\"по запросу\")","v":7202.2439999999988},71.849999999999994,"шт",null,{"$f":"IFERROR(K333*G333,\"0 ₽\")","v":0},{"$f":"IFERROR(K333*H333,\"0 ₽\")","v":0}]
[null,"IODB11140","Свободный фланец ПП (PP-H) со стальным сердечником 140 IPS",12,"Фитинги","RUB",{"$f":"IFERROR(I334*Оглавление!$E$23,\"по запросу\")","v":11021.387999999999},{"$f":"IFERROR(G334*(1-Оглавление!$D$36),\"по запросу\")","v":11021.387999999999},109.94999999999999,"шт",null,0,0]
[null,"IODB11160","Свободный фланец ПП (PP-H) со стальным сердечником 160 IPS",13,"Фитинги","RUB",{"$f":"IFERROR(I335*Оглавление!$E$23,\"по запросу\")","v":14246.609999999999},{"$f":"IFERROR(G335*(1-Оглавление!$D$36),\"по запросу\")","v":14246.609999999999},142.125,"шт",null,0,0]
[null,"IODB11225","Свободный фланец ПП (PP-H) со стальным сердечником 225 IPS",14,"Фитинги","RUB",{"$f":"IFERROR(I336*Оглавление!$E$23,\"по запросу\")","v":18960.395999999997},{"$f":"IFERROR(G336*(1-Оглавление!$D$36),\"по запросу\")","v":18960.395999999997},189.14999999999998,"шт",null,0,0]
[null,"IODB11250","Свободный фланец ПП (PP-H) со стальным сердечником 250 IPS",15,"Фитинги","RUB",{"$f":"IFERROR(I337*Оглавление!$E$23,\"по запросу\")","v":24057.599999999999},{"$f":"IFERROR(G337*(1-Оглавление!$D$36),\"по запросу\")","v":24057.599999999999},240,"шт",null,0,0]
[null,"IODB11280","Свободный фланец ПП (PP-H) со стальным сердечником 280 IPS",16,"Фитинги","RUB",{"$f":"IFERROR(I338*Оглавление!$E$23,\"по запросу\")","v":28500.737999999998},{"$f":"IFERROR(G338*(1-Оглавление!$D$36),\"по запросу\")","v":28500.737999999998},284.32499999999999,"шт",null,0,0]
[null,"IODB11315","Свободный фланец ПП (PP-H) со стальным сердечником 315 IPS",17,"Фитинги","RUB",{"$f":"IFERROR(I339*Оглавление!$E$23,\"по запросу\")","v":37999.731},{"$f":"IFERROR(G339*(1-Оглавление!$D$36),\"по запросу\")","v":37999.731},379.08750000000003,"шт",null,0,0]
[null,"IODB11355","Свободный фланец ПП (PP-H) со стальным сердечником 355 IPS",10,"Фитинги","RUB",{"$f":"IFERROR(I340*Оглавление!$E$23,\"по запросу\")","v":57001.475999999995},{"$f":"IFERROR(G340*(1-Оглавление!$D$36),\"по запросу\")","v":57001.475999999995},568.65,"шт",null,0,0]
[null,"IODB11400","Свободный фланец ПП (PP-H) со стальным сердечником 400 IPS",10,"Фитинги","RUB",{"$f":"IFERROR(I341*Оглавление!$E$23,\"по запросу\")","v":94997.447999999989},{"$f":"IFERROR(G341*(1-Оглавление!$D$36),\"по запросу\")","v":94997.447999999989},947.69999999999993,"шт",null,0,0]
[null,"IODB11450","Свободный фланец ПП (PP-H) со стальным сердечником 450 IPS",10,"Фитинги","RUB",{"$f":"IFERROR(I342*Оглавление!$E$23,\"по запросу\")","v":"по запросу"},{"$f":"IFERROR(G342*(1-Оглавление!$D$36),\"по запросу\")","v":"по запросу"},"по запросу","шт",null,"0 ₽","0 ₽"]
[null,"IODB11500","Свободный фланец ПП (PP-H) со стальным сердечником 500 IPS",10,"Фитинги","RUB",{"$f":"IFERROR(I343*Оглавление!$E$23,\"по запросу\")","v":"по запросу"},{"$f":"IFERROR(G343*(1-Оглавление!$D$36),\"по запросу\")","v":"по запросу"},"по запросу","шт",null,"0 ₽","0 ₽"]
[null,"IQBM11020","Бурт ПП (PP-H) для стыковой сварки 20 IPS",10,"Фитинги","RUB",{"$f":"IFERROR(I344*Оглавление!$E$23,\"по запросу\")","v":570.36559999999997},{"$f":"IFERROR(G344*(1-Оглавление!$D$36),\"по запросу\")","v":570.36559999999997},5.69,"шт",null,{"$f":"IFERROR(K344*G344,\"0 ₽\")","v":0},{"$f":"IFERROR(K344*H344,\"0 ₽\")","v":0}]
[null,"IQBM11025","Бурт ПП (PP-H) для стыковой сварки 25 IPS",10,"Фитинги","RUB",{"$f":"IFERROR(I345*Оглавление!$E$23,\"по запросу\")","v":759.81920000000002},{"$f":"IFERROR(G345*(1-Оглавление!$D$36),\"по запросу\")","v":759.81920000000002},7.58,"шт",null,0,0]
[null,"IQBM11032","Бурт ПП (PP-H) для стыковой сварки 32 IPS",10,"Фитинги","RUB",{"$f":"IFERROR(I346*Оглавление!$E$23,\"по запросу\")","v":918.19839999999999},{"$f":"IFERROR(G346*(1-Оглавление!$D$36),\"по запросу\")","v":918.19839999999999},9.16,"шт",null,0,0]
[null,"IQBM11040","Бурт ПП (PP-H) для стыковой сварки 40 IPS",10,"Фитинги","RUB",{"$f":"IFERROR(I347*Оглавление!$E$23,\"по запросу\")","v":1029.4648},{"$f":"IFERROR(G347*(1-Оглавление!$D$36),\"по запросу\")","v":1029.4648},10.27,"шт",null,0,0]
[null,"IQBM11050","Бурт ПП (PP-H) для стыковой сварки 50 IPS",10,"Фитинги","RUB",{"$f":"IFERROR(I348*Оглавление!$E$23,\"по запросу\")","v":1267.0336},{"$f":"IFERROR(G348*(1-Оглавление!$D$36),\"по запросу\")","v":1267.0336},12.64,"шт",null,0,0]
[null,"IQBM11063","Бурт ПП (PP-H) для стыковой сварки 63 IPS",10,"Фитинги","RUB",{"$f":"IFERROR(I349*Оглавление!$E$23,\"по запросу\")","v":1551.7151999999999},{"$f":"IFERROR(G349*(1-Оглавление!$D$36),\"по запросу\")","v":1551.7151999999999},15.48,"шт",null,0,0]
[null,"IQBM11075","Бурт ПП (PP-H) для стыковой сварки 75 IPS",10,"Фитинги","RUB",{"$f":"IFERROR(I350*Оглавление!$E$23,\"по запросу\")","v":2469.9135999999999},{"$f":"IFERROR(G350*(1-Оглавление!$D$36),\"по запросу\")","v":2469.9135999999999},24.64,"шт",null,0,0]
[null,"IQBM11090","Бурт ПП (PP-H) для стыковой сварки 90 IPS",10,"Фитинги","RUB",{"$f":"IFERROR(I351*Оглавление!$E$23,\"по запросу\")","v":3483.3399999999997},{"$f":"IFERROR(G351*(1-Оглавление!$D$36),\"по запросу\")","v":3483.3399999999997},34.75,"шт",null,0,0]
[null,"IQBM11110","Бурт ПП (PP-H) для стыковой сварки 110 IPS",10,"Фитинги","RUB",{"$f":"IFERROR(I352*Оглавление!$E$23,\"по запросу\")","v":4512.8047999999999},{"$f":"IFERROR(G352*(1-Оглавление!$D$36),\"по запросу\")","v":4512.8047999999999},45.02,"шт",null,0,0]
[null,"IQBM11140","Бурт ПП (PP-H) для стыковой сварки 140 IPS",10,"Фитинги","RUB",{"$f":"IFERROR(I353*Оглавление!$E$23,\"по запросу\")","v":2216.3063999999999},{"$f":"IFERROR(G353*(1-Оглавление!$D$36),\"по запросу\")","v":2216.3063999999999},22.11,"шт",null,0,0]
[null,"IQBM11160","Бурт ПП (PP-H) для стыковой сварки 160 IPS",10,"Фитинги","RUB",{"$f":"IFERROR(I354*Оглавление!$E$23,\"по запросу\")","v":2725.5255999999999},{"$f":"IFERROR(G354*(1-Оглавление!$D$36),\"по запросу\")","v":2725.5255999999999},27.19,"шт",null,{"$f":"IFERROR(K354*G354,\"0 ₽\")","v":0},{"$f":"IFERROR(K354*H354,\"0 ₽\")","v":0}]
[null,"IQBM11225","Бурт ПП (PP-H) для стыковой сварки 225 IPS",10,"Фитинги","RUB",{"$f":"IFERROR(I355*Оглавление!$E$23,\"по запросу\")","v":6854.4111999999996},{"$f":"IFERROR(G355*(1-Оглавление!$D$36),\"по запросу\")","v":6854.4111999999996},68.38,"шт",null,0,0]
[null,"IQBM11280","Бурт ПП (PP-H) для стыковой сварки 280 IPS",10,"Фитинги","RUB",{"$f":"IFERROR(I356*Оглавление!$E$23,\"по запросу\")","v":9182.9863999999998},{"$f":"IFERROR(G356*(1-Оглавление!$D$36),\"по запросу\")","v":9182.9863999999998},91.61,"шт",null,0,0]
[null,"IQBM11315","Бурт ПП (PP-H) для стыковой сварки 315 IPS",10,"Фитинги","RUB",{"$f":"IFERROR(I357*Оглавление!$E$23,\"по запросу\")","v":10291.640799999999},{"$f":"IFERROR(G357*(1-Оглавление!$D$36),\"по запросу\")","v":10291.640799999999},102.67,"шт",null,0,0]
[null,"IQBM11355","Бурт ПП (PP-H) для стыковой сварки 355 IPS",10,"Фитинги","RUB",{"$f":"IFERROR(I358*Оглавление!$E$23,\"по запросу\")","v":19791.385599999998},{"$f":"IFERROR(G358*(1-Оглавление!$D$36),\"по запросу\")","v":19791.385599999998},197.44,"шт",null,0,0]
[null,"IQBM11400","Бурт ПП (PP-H) для стыковой сварки 400 IPS",10,"Фитинги","RUB",{"$f":"IFERROR(I359*Оглавление!$E$23,\"по запросу\")","v":31665.815999999995},{"$f":"IFERROR(G359*(1-Оглавление!$D$36),\"по запросу\")","v":31665.815999999995},315.89999999999998,"шт",null,0,0]
[null,"IQBM11450","Бурт ПП (PP-H) для стыковой сварки 450 IPS",10,"Фитинги","RUB",{"$f":"IFERROR(I360*Оглавление!$E$23,\"по запросу\")","v":"по запросу"},{"$f":"IFERROR(G360*(1-Оглавление!$D$36),\"по запросу\")","v":"по запросу"},"по запросу","шт",null,"0 ₽","0 ₽"]
[null,"IQBM11500","Бурт ПП (PP-H) для стыковой сварки 500 IPS",10,"Фитинги","RUB",{"$f":"IFERROR(I361*Оглавление!$E$23,\"по запросу\")","v":"по запросу"},{"$f":"IFERROR(G361*(1-Оглавление!$D$36),\"по запросу\")","v":"по запросу"},"по запросу","шт",null,"0 ₽","0 ₽"]
[null,"ISXEIM020E","Обратный клапан ПП (PP-H) шаровой с муфтовыми окончаниями EPDM 20 IPS",10,"Арматура","RUB",{"$f":"IFERROR(I362*Оглавление!$E$23,\"по запросу\")","v":910.17919999999992},{"$f":"IFERROR(G362*(1-Оглавление!$D$37),\"по запросу\")","v":910.17919999999992},9.08,"шт",null,0,0]
[null,"ISXEIM025E","Обратный клапан ПП (PP-H) шаровой с муфтовыми окончаниями EPDM 25 IPS",10,"Арматура","RUB",{"$f":"IFERROR(I363*Оглавление!$E$23,\"по запросу\")","v":1200.8751999999999},{"$f":"IFERROR(G363*(1-Оглавление!$D$37),\"по запросу\")","v":1200.8751999999999},11.98,"шт",null,0,0]
[null,"ISXEIM032E","Обратный клапан ПП (PP-H) шаровой с муфтовыми окончаниями EPDM 32 IPS",10,"Арматура","RUB",{"$f":"IFERROR(I364*Оглавление!$E$23,\"по запросу\")","v":1564.7463999999998},{"$f":"IFERROR(G364*(1-Оглавление!$D$37),\"по запросу\")","v":1564.7463999999998},15.61,"шт",null,0,0]
[null,"ISXEIM040E","Обратный клапан ПП (PP-H) шаровой с муфтовыми окончаниями EPDM 40 IPS",10,"Арматура","RUB",{"$f":"IFERROR(I365*Оглавление!$E$23,\"по запросу\")","v":2566.1440000000002},{"$f":"IFERROR(G365*(1-Оглавление!$D$37),\"по запросу\")","v":2566.1440000000002},25.6,"шт",null,0,0]
[null,"ISXEIM050E","Обратный клапан ПП (PP-H) шаровой с муфтовыми окончаниями EPDM 50 IPS",10,"Арматура","RUB",{"$f":"IFERROR(I366*Оглавление!$E$23,\"по запросу\")","v":3567.5416},{"$f":"IFERROR(G366*(1-Оглавление!$D$37),\"по запросу\")","v":3567.5416},35.590000000000003,"шт",null,0,0]
[null,"ISXEIM063E","Обратный клапан ПП (PP-H) шаровой с муфтовыми окончаниями EPDM 63 IPS",10,"Арматура","RUB",{"$f":"IFERROR(I367*Оглавление!$E$23,\"по запросу\")","v":5259.5927999999994},{"$f":"IFERROR(G367*(1-Оглавление!$D$37),\"по запросу\")","v":5259.5927999999994},52.47,"шт",null,0,0]
[null,"ISXEIM020F","Обратный клапан ПП (PP-H) шаровой с муфтовыми окончаниями FKM 20 IPS",10,"Арматура","RUB",{"$f":"IFERROR(I368*Оглавление!$E$23,\"по запросу\")","v":1729.1399999999999},{"$f":"IFERROR(G368*(1-Оглавление!$D$37),\"по запросу\")","v":1729.1399999999999},17.25,"шт",null,0,0]
[null,"ISXEIM025F","Обратный клапан ПП (PP-H) шаровой с муфтовыми окончаниями FKM 25 IPS",10,"Арматура","RUB",{"$f":"IFERROR(I369*Оглавление!$E$23,\"по запросу\")","v":2341.6063999999997},{"$f":"IFERROR(G369*(1-Оглавление!$D$37),\"по запросу\")","v":2341.6063999999997},23.36,"шт",null,0,0]
[null,"ISXEIM032F","Обратный клапан ПП (PP-H) шаровой с муфтовыми окончаниями FKM 32 IPS",10,"Арматура","RUB",{"$f":"IFERROR(I370*Оглавление!$E$23,\"по запросу\")","v":3094.4088000000002},{"$f":"IFERROR(G370*(1-Оглавление!$D$37),\"по запросу\")","v":3094.4088000000002},30.87,"шт",null,0,0]
[null,"ISXEIM040F","Обратный клапан ПП (PP-H) шаровой с муфтовыми окончаниями FKM 40 IPS",10,"Арматура","RUB",{"$f":"IFERROR(I371*Оглавление!$E$23,\"по запросу\")","v":5308.7103999999999},{"$f":"IFERROR(G371*(1-Оглавление!$D$37),\"по запросу\")","v":5308.7103999999999},52.96,"шт",null,0,0]
[null,"ISXEIM050F","Обратный клапан ПП (PP-H) шаровой с муфтовыми окончаниями FKM 50 IPS",10,"Арматура","RUB",{"$f":"IFERROR(I372*Оглавление!$E$23,\"по запросу\")","v":7207.2560000000003},{"$f":"IFERROR(G372*(1-Оглавление!$D$37),\"по запросу\")","v":7207.2560000000003},71.900000000000006,"шт",null,0,0]
[null,"ISXEIM063F","Обратный клапан ПП (PP-H) шаровой с муфтовыми окончаниями FKM 63 IPS",10,"Арматура","RUB",{"$f":"IFERROR(I373*Оглавление!$E$23,\"по запросу\")","v":10228.489600000001},{"$f":"IFERROR(G373*(1-Оглавление!$D$37),\"по запросу\")","v":10228.489600000001},102.04,"шт",null,0,0]
[null,"ISRIM020E","Обратный клапан ПП (PP-H) с гайкой с одной стороны и муфтовым окончанием EPDM D20 IPS",10,"Арматура","RUB",{"$f":"IFERROR(I374*Оглавление!$E$23,\"по запросу\")","v":764.83119999999997},{"$f":"IFERROR(G374*(1-Оглавление!$D$37),\"по запросу\")","v":764.83119999999997},7.63,"шт",null,{"$f":"IFERROR(K374*G374,\"0 ₽\")","v":0},{"$f":"IFERROR(K374*H374,\"0 ₽\")","v":0}]
[null,"ISRIM025E","Обратный клапан ПП (PP-H) с гайкой с одной стороны и муфтовым окончанием EPDM D25 IPS",10,"Арматура","RUB",{"$f":"IFERROR(I375*Оглавление!$E$23,\"по запросу\")","v":995.38319999999987},{"$f":"IFERROR(G375*(1-Оглавление!$D$37),\"по запросу\")","v":995.38319999999987},9.93,"шт",null,0,0]
[null,"ISRIM032E","Обратный клапан ПП (PP-H) с гайкой с одной стороны и муфтовым окончанием EPDM D32 IPS",10,"Арматура","RUB",{"$f":"IFERROR(I376*Оглавление!$E$23,\"по запросу\")","v":1212.904},{"$f":"IFERROR(G376*(1-Оглавление!$D$37),\"по запросу\")","v":1212.904},12.1,"шт",null,0,0]
[null,"ISRIM040E","Обратный клапан ПП (PP-H) с гайкой с одной стороны и муфтовым окончанием EPDM D40 IPS",10,"Арматура","RUB",{"$f":"IFERROR(I377*Оглавление!$E$23,\"по запросу\")","v":1814.3440000000001},{"$f":"IFERROR(G377*(1-Оглавление!$D$37),\"по запросу\")","v":1814.3440000000001},18.100000000000001,"шт",null,0,0]
[null,"ISRIM050E","Обратный клапан ПП (PP-H) с гайкой с одной стороны и муфтовым окончанием EPDM D50 IPS",10,"Арматура","RUB",{"$f":"IFERROR(I378*Оглавление!$E$23,\"по запросу\")","v":2123.0832},{"$f":"IFERROR(G378*(1-Оглавление!$D$37),\"по запросу\")","v":2123.0832},21.18,"шт",null,0,0]
[null,"ISRIM063E","Обратный клапан ПП (PP-H) с гайкой с одной стороны и муфтовым окончанием EPDM D63 IPS",10,"Арматура","RUB",{"$f":"IFERROR(I379*Оглавление!$E$23,\"по запросу\")","v":2985.1471999999999},{"$f":"IFERROR(G379*(1-Оглавление!$D$37),\"по запросу\")","v":2985.1471999999999},29.78,"шт",null,0,0]
[null,"ISRIM075E","Обратный клапан ПП (PP-H) с гайкой с одной стороны и муфтовым окончанием EPDM D75 IPS",10,"Арматура","RUB",{"$f":"IFERROR(I380*Оглавление!$E$23,\"по запросу\")","v":7383.6783999999989},{"$f":"IFERROR(G380*(1-Оглавление!$D$37),\"по запросу\")","v":7383.6783999999989},73.66,"шт",null,0,0]
[null,"ISRIM090E","Обратный клапан ПП (PP-H) с гайкой с одной стороны и муфтовым окончанием EPDM D90 IPS",10,"Арматура","RUB",{"$f":"IFERROR(I381*Оглавление!$E$23,\"по запросу\")","v":8566.5103999999992},{"$f":"IFERROR(G381*(1-Оглавление!$D$37),\"по запросу\")","v":8566.5103999999992},85.46,"шт",null,0,0]
[null,"ISRIM020F","Обратный клапан ПП (PP-H) с гайкой с одной стороны и муфтовым окончанием FKM D20 IPS",10,"Арматура","RUB",{"$f":"IFERROR(I382*Оглавление!$E$23,\"по запросу\")","v":1595.8208},{"$f":"IFERROR(G382*(1-Оглавление!$D$37),\"по запросу\")","v":1595.8208},15.92,"шт",null,0,0]
[null,"ISRIM025F","Обратный клапан ПП (PP-H) с гайкой с одной стороны и муфтовым окончанием FKM D25 IPS",10,"Арматура","RUB",{"$f":"IFERROR(I383*Оглавление!$E$23,\"по запросу\")","v":2137.1167999999998},{"$f":"IFERROR(G383*(1-Оглавление!$D$37),\"по запросу\")","v":2137.1167999999998},21.32,"шт",null,0,0]
[null,"ISRIM032F","Обратный клапан ПП (PP-H) с гайкой с одной стороны и муфтовым окончанием FKM D32 IPS",10,"Арматура","RUB",{"$f":"IFERROR(I384*Оглавление!$E$23,\"по запросу\")","v":2752.5904},{"$f":"IFERROR(G384*(1-Оглавление!$D$37),\"по запросу\")","v":2752.5904},27.46,"шт",null,0,0]
[null,"ISRIM040F","Обратный клапан ПП (PP-H) с гайкой с одной стороны и муфтовым окончанием FKM D40 IPS",10,"Арматура","RUB",{"$f":"IFERROR(I385*Оглавление!$E$23,\"по запросу\")","v":4582.9727999999996},{"$f":"IFERROR(G385*(1-Оглавление!$D$37),\"по запросу\")","v":4582.9727999999996},45.72,"шт",null,0,0]
[null,"ISRIM050F","Обратный клапан ПП (PP-H) с гайкой с одной стороны и муфтовым окончанием FKM D50 IPS",10,"Арматура","RUB",{"$f":"IFERROR(I386*Оглавление!$E$23,\"по запросу\")","v":5813.92},{"$f":"IFERROR(G386*(1-Оглавление!$D$37),\"по запросу\")","v":5813.92},58,"шт",null,0,0]
[null,"ISRIM063F","Обратный клапан ПП (PP-H) с гайкой с одной стороны и муфтовым окончанием FKM D63 IPS",10,"Арматура","RUB",{"$f":"IFERROR(I387*Оглавление!$E$23,\"по запросу\")","v":8026.2167999999992},{"$f":"IFERROR(G387*(1-Оглавление!$D$37),\"по запросу\")","v":8026.2167999999992},80.069999999999993,"шт",null,0,0]
[null,"ISRIM075F","Обратный клапан ПП (PP-H) с гайкой с одной стороны и муфтовым окончанием FKM D75 IPS",10,"Арматура","RUB",{"$f":"IFERROR(I388*Оглавление!$E$23,\"по запросу\")","v":14903.683199999999},{"$f":"IFERROR(G388*(1-Оглавление!$D$37),\"по запросу\")","v":14903.683199999999},148.68,"шт",null,0,0]
[null,"ISRIM090F","Обратный клапан ПП (PP-H) с гайкой с одной стороны и муфтовым окончанием FKM D90 IPS",10,"Арматура","RUB",{"$f":"IFERROR(I389*Оглавление!$E$23,\"по запросу\")","v":18692.7552},{"$f":"IFERROR(G389*(1-Оглавление!$D$37),\"по запросу\")","v":18692.7552},186.48,"шт",null,0,0]
[null,"IVKDIM020E","Кран шаровой ПП (PP-H) муфтовый промышленный EPDM 20 IPS",10,"Арматура","RUB",{"$f":"IFERROR(I390*Оглавление!$E$23,\"по запросу\")","v":1140.7311999999999},{"$f":"IFERROR(G390*(1-Оглавление!$D$37),\"по запросу\")","v":1140.7311999999999},11.38,"шт",null,0,0]
[null,"IVKDIM025E","Кран шаровой ПП (PP-H) муфтовый промышленный EPDM 25 IPS",10,"Арматура","RUB",{"$f":"IFERROR(I391*Оглавление!$E$23,\"по запросу\")","v":1540.6887999999999},{"$f":"IFERROR(G391*(1-Оглавление!$D$37),\"по запросу\")","v":1540.6887999999999},15.37,"шт",null,0,0]
[null,"IVKDIM032E","Кран шаровой ПП (PP-H) муфтовый промышленный EPDM 32 IPS",10,"Арматура","RUB",{"$f":"IFERROR(I392*Оглавление!$E$23,\"по запросу\")","v":2323.5632000000001},{"$f":"IFERROR(G392*(1-Оглавление!$D$37),\"по запросу\")","v":2323.5632000000001},23.18,"шт",null,0,0]
[null,"IVKDIM040E","Кран шаровой ПП (PP-H) муфтовый промышленный EPDM 40 IPS",10,"Арматура","RUB",{"$f":"IFERROR(I393*Оглавление!$E$23,\"по запросу\")","v":3403.1480000000001},{"$f":"IFERROR(G393*(1-Оглавление!$D$37),\"по запросу\")","v":3403.1480000000001},33.950000000000003,"шт",null,0,0]
[null,"IVKDIM050E","Кран шаровой ПП (PP-H) муфтовый промышленный EPDM 50 IPS",10,"Арматура","RUB",{"$f":"IFERROR(I394*Оглавление!$E$23,\"по запросу\")","v":4641.1119999999992},{"$f":"IFERROR(G394*(1-Оглавление!$D$37),\"по запросу\")","v":4641.1119999999992},46.3,"шт",null,0,0]
[null,"IVKDIM063E","Кран шаровой ПП (PP-H) муфтовый промышленный EPDM 63 IPS",10,"Арматура","RUB",{"$f":"IFERROR(I395*Оглавление!$E$23,\"по запросу\")","v":6807.2983999999997},{"$f":"IFERROR(G395*(1-Оглавление!$D$37),\"по запросу\")","v":6807.2983999999997},67.91,"шт",null,0,0]
[null,"IVKDIM075E","Кран шаровой ПП (PP-H) муфтовый промышленный EPDM 75 IPS",10,"Арматура","RUB",{"$f":"IFERROR(I396*Оглавление!$E$23,\"по запросу\")","v":13285.809599999999},{"$f":"IFERROR(G396*(1-Оглавление!$D$37),\"по запросу\")","v":13285.809599999999},132.54,"шт",null,0,0]
[null,"IVKDIM090E","Кран шаровой ПП (PP-H) муфтовый промышленный EPDM 90 IPS",10,"Арматура","RUB",{"$f":"IFERROR(I397*Оглавление!$E$23,\"по запросу\")","v":23927.287999999997},{"$f":"IFERROR(G397*(1-Оглавление!$D$37),\"по запросу\")","v":23927.287999999997},238.7,"шт",null,0,0]
[null,"IVKDIM110E","Кран шаровой ПП (PP-H) муфтовый промышленный EPDM 110 IPS",10,"Арматура","RUB",{"$f":"IFERROR(I398*Оглавление!$E$23,\"по запросу\")","v":39870.46},{"$f":"IFERROR(G398*(1-Оглавление!$D$37),\"по запросу\")","v":39870.46},397.75,"шт",null,0,0]
[null,"IVKDIM020F","Кран шаровой ПП (PP-H) муфтовый промышленный FKM 20 IPS",10,"Арматура","RUB",{"$f":"IFERROR(I399*Оглавление!$E$23,\"по запросу\")","v":1667.9936},{"$f":"IFERROR(G399*(1-Оглавление!$D$37),\"по запросу\")","v":1667.9936},16.64,"шт",null,0,0]
[null,"IVKDIM025F","Кран шаровой ПП (PP-H) муфтовый промышленный FKM 25 IPS",10,"Арматура","RUB",{"$f":"IFERROR(I400*Оглавление!$E$23,\"по запросу\")","v":2275.4479999999999},{"$f":"IFERROR(G400*(1-Оглавление!$D$37),\"по запросу\")","v":2275.4479999999999},22.7,"шт",null,0,0]
[null,"IVKDIM032F","Кран шаровой ПП (PP-H) муфтовый промышленный FKM 32 IPS",10,"Арматура","RUB",{"$f":"IFERROR(I401*Оглавление!$E$23,\"по запросу\")","v":3385.1048000000001},{"$f":"IFERROR(G401*(1-Оглавление!$D$37),\"по запросу\")","v":3385.1048000000001},33.770000000000003,"шт",null,{"$f":"IFERROR(K401*G401,\"0 ₽\")","v":0},0]
[null,"IVKDIM040F","Кран шаровой ПП (PP-H) муфтовый промышленный FKM 40 IPS",10,"Арматура","RUB",{"$f":"IFERROR(I402*Оглавление!$E$23,\"по запросу\")","v":4561.9223999999995},{"$f":"IFERROR(G402*(1-Оглавление!$D$37),\"по запросу\")","v":4561.9223999999995},45.51,"шт",null,0,0]
[null,"IVKDIM050F","Кран шаровой ПП (PP-H) муфтовый промышленный FKM 50 IPS",10,"Арматура","RUB",{"$f":"IFERROR(I403*Оглавление!$E$23,\"по запросу\")","v":6515.5999999999995},{"$f":"IFERROR(G403*(1-Оглавление!$D$37),\"по запросу\")","v":6515.5999999999995},65,"шт",null,0,0]
[null,"IVKDIM063F","Кран шаровой ПП (PP-H) муфтовый промышленный FKM 63 IPS",10,"Арматура","RUB",{"$f":"IFERROR(I404*Оглавление!$E$23,\"по запросу\")","v":9773.4},{"$f":"IFERROR(G404*(1-Оглавление!$D$37),\"по запросу\")","v":9773.4},97.5,"шт",null,0,0]
[null,"IVKDIM075F","Кран шаровой ПП (PP-H) муфтовый промышленный FKM 75 IPS",10,"Арматура","RUB",{"$f":"IFERROR(I405*Оглавление!$E$23,\"по запросу\")","v":18400.054400000001},{"$f":"IFERROR(G405*(1-Оглавление!$D$37),\"по запросу\")","v":18400.054400000001},183.56,"шт",null,0,0]
[null,"IVKDIM090F","Кран шаровой ПП (PP-H) муфтовый промышленный FKM 90 IPS",10,"Арматура","RUB",{"$f":"IFERROR(I406*Оглавление!$E$23,\"по запросу\")","v":30103.074399999998},{"$f":"IFERROR(G406*(1-Оглавление!$D$37),\"по запросу\")","v":30103.074399999998},300.31,"шт",null,0,0]
[null,"IVKDIM110F","Кран шаровой ПП (PP-H) муфтовый промышленный FKM 110 IPS",10,"Арматура","RUB",{"$f":"IFERROR(I407*Оглавление!$E$23,\"по запросу\")","v":47229.078399999999},{"$f":"IFERROR(G407*(1-Оглавление!$D$37),\"по запросу\")","v":47229.078399999999},471.16,"шт",null,0,0]
[null,"IVKDOM020E","Кран шаровой ПП (PP-H) фланцевый промышленный EPDM 20 IPS",10,"Арматура","RUB",{"$f":"IFERROR(I408*Оглавление!$E$23,\"по запросу\")","v":2205.2799999999997},{"$f":"IFERROR(G408*(1-Оглавление!$D$37),\"по запросу\")","v":2205.2799999999997},22,"шт",null,0,0]
[null,"IVKDOM025E","Кран шаровой ПП (PP-H) фланцевый промышленный EPDM 25 IPS",10,"Арматура","RUB",{"$f":"IFERROR(I409*Оглавление!$E$23,\"по запросу\")","v":2906.96},{"$f":"IFERROR(G409*(1-Оглавление!$D$37),\"по запросу\")","v":2906.96},29,"шт",null,0,0]
[null,"IVKDOM032E","Кран шаровой ПП (PP-H) фланцевый промышленный EPDM 32 IPS",10,"Арматура","RUB",{"$f":"IFERROR(I410*Оглавление!$E$23,\"по запросу\")","v":4510.8},{"$f":"IFERROR(G410*(1-Оглавление!$D$37),\"по запросу\")","v":4510.8},45,"шт",null,0,0]
[null,"IVKDOM040E","Кран шаровой ПП (PP-H) фланцевый промышленный EPDM 40 IPS",10,"Арматура","RUB",{"$f":"IFERROR(I411*Оглавление!$E$23,\"по запросу\")","v":6415.36},{"$f":"IFERROR(G411*(1-Оглавление!$D$37),\"по запросу\")","v":6415.36},64,"шт",null,0,0]
[null,"IVKDOM050E","Кран шаровой ПП (PP-H) фланцевый промышленный EPDM 50 IPS",10,"Арматура","RUB",{"$f":"IFERROR(I412*Оглавление!$E$23,\"по запросу\")","v":8420.16},{"$f":"IFERROR(G412*(1-Оглавление!$D$37),\"по запросу\")","v":8420.16},84,"шт",null,0,0]
[null,"IVKDOM063E","Кран шаровой ПП (PP-H) фланцевый промышленный EPDM 63 IPS",10,"Арматура","RUB",{"$f":"IFERROR(I413*Оглавление!$E$23,\"по запросу\")","v":11828.32},{"$f":"IFERROR(G413*(1-Оглавление!$D$37),\"по запросу\")","v":11828.32},118,"шт",null,0,0]
[null,"IVKDOM075E","Кран шаровой ПП (PP-H) фланцевый промышленный EPDM 75 IPS",10,"Арматура","RUB",{"$f":"IFERROR(I414*Оглавление!$E$23,\"по запросу\")","v":19647.039999999997},{"$f":"IFERROR(G414*(1-Оглавление!$D$37),\"по запросу\")","v":19647.039999999997},196,"шт",null,0,0]
[null,"IVKDOM090E","Кран шаровой ПП (PP-H) фланцевый промышленный EPDM 90 IPS",10,"Арматура","RUB",{"$f":"IFERROR(I415*Оглавление!$E$23,\"по запросу\")","v":33179.439999999995},{"$f":"IFERROR(G415*(1-Оглавление!$D$37),\"по запросу\")","v":33179.439999999995},331,"шт",null,0,0]
[null,"IVKDOM110E","Кран шаровой ПП (PP-H) фланцевый промышленный EPDM 110 IPS",10,"Арматура","RUB",{"$f":"IFERROR(I416*Оглавление!$E$23,\"по запросу\")","v":50019.759999999995},{"$f":"IFERROR(G416*(1-Оглавление!$D$37),\"по запросу\")","v":50019.759999999995},499,"шт",null,0,0]
[null,"IVKDOM020F","Кран шаровой ПП (PP-H) фланцевый промышленный FKM 20 IPS",10,"Арматура","RUB",{"$f":"IFERROR(I417*Оглавление!$E$23,\"по запросу\")","v":2606.2399999999998},{"$f":"IFERROR(G417*(1-Оглавление!$D$37),\"по запросу\")","v":2606.2399999999998},26,"шт",null,0,0]
[null,"IVKDOM025F","Кран шаровой ПП (PP-H) фланцевый промышленный FKM 25 IPS",10,"Арматура","RUB",{"$f":"IFERROR(I418*Оглавление!$E$23,\"по запросу\")","v":3508.3999999999996},{"$f":"IFERROR(G418*(1-Оглавление!$D$37),\"по запросу\")","v":3508.3999999999996},35,"шт",null,0,0]
[null,"IVKDOM032F","Кран шаровой ПП (PP-H) фланцевый промышленный FKM 32 IPS",10,"Арматура","RUB",{"$f":"IFERROR(I419*Оглавление!$E$23,\"по запросу\")","v":5513.2},{"$f":"IFERROR(G419*(1-Оглавление!$D$37),\"по запросу\")","v":5513.2},55,"шт",null,0,0]
[null,"IVKDOM040F","Кран шаровой ПП (PP-H) фланцевый промышленный FKM 40 IPS",10,"Арматура","RUB",{"$f":"IFERROR(I420*Оглавление!$E$23,\"по запросу\")","v":7317.5199999999995},{"$f":"IFERROR(G420*(1-Оглавление!$D$37),\"по запросу\")","v":7317.5199999999995},73,"шт",null,0,0]
[null,"IVKDOM050F","Кран шаровой ПП (PP-H) фланцевый промышленный FKM 50 IPS",10,"Арматура","RUB",{"$f":"IFERROR(I421*Оглавление!$E$23,\"по запросу\")","v":10124.24},{"$f":"IFERROR(G421*(1-Оглавление!$D$37),\"по запросу\")","v":10124.24},101,"шт",null,0,0]
[null,"IVKDOM063F","Кран шаровой ПП (PP-H) фланцевый промышленный FKM 63 IPS",10,"Арматура","RUB",{"$f":"IFERROR(I422*Оглавление!$E$23,\"по запросу\")","v":14534.8},{"$f":"IFERROR(G422*(1-Оглавление!$D$37),\"по запросу\")","v":14534.8},145,"шт",null,0,0]
[null,"IVKDOM075F","Кран шаровой ПП (PP-H) фланцевый промышленный FKM 75 IPS",10,"Арматура","RUB",{"$f":"IFERROR(I423*Оглавление!$E$23,\"по запросу\")","v":26663.84},{"$f":"IFERROR(G423*(1-Оглавление!$D$37),\"по запросу\")","v":26663.84},266,"шт",null,0,0]
[null,"IVKDOM090F","Кран шаровой ПП (PP-H) фланцевый промышленный FKM 90 IPS",10,"Арматура","RUB",{"$f":"IFERROR(I424*Оглавление!$E$23,\"по запросу\")","v":42201.04},{"$f":"IFERROR(G424*(1-Оглавление!$D$37),\"по запросу\")","v":42201.04},421,"шт",null,0,0]
[null,"IVKDOM110F","Кран шаровой ПП (PP-H) фланцевый промышленный FKM 110 IPS",10,"Арматура","RUB",{"$f":"IFERROR(I425*Оглавление!$E$23,\"по запросу\")","v":59342.079999999994},{"$f":"IFERROR(G425*(1-Оглавление!$D$37),\"по запросу\")","v":59342.079999999994},592,"шт",null,0,0]
[null,"IFKOMLM063E","Затвор дисковый ПП (PP-H) с рукояткой промышленный 63 (DN50) EPDM IPS",10,"Арматура","RUB",{"$f":"IFERROR(I426*Оглавление!$E$23,\"по запросу\")","v":18030.168799999999},{"$f":"IFERROR(G426*(1-Оглавление!$D$37),\"по запросу\")","v":18030.168799999999},179.87,"шт",null,0,0]
[null,"IFKOMLM075E","Затвор дисковый ПП (PP-H) с рукояткой промышленный 75 (DN65) EPDM IPS",10,"Арматура","RUB",{"$f":"IFERROR(I427*Оглавление!$E$23,\"по запросу\")","v":19146.842399999998},{"$f":"IFERROR(G427*(1-Оглавление!$D$37),\"по запросу\")","v":19146.842399999998},191.01,"шт",null,0,0]
[null,"IFKOMLM090E","Затвор дисковый ПП (PP-H) с рукояткой промышленный 90 (DN80) EPDM IPS",10,"Арматура","RUB",{"$f":"IFERROR(I428*Оглавление!$E$23,\"по запросу\")","v":20869.967999999997},{"$f":"IFERROR(G428*(1-Оглавление!$D$37),\"по запросу\")","v":20869.967999999997},208.2,"шт",null,0,{"$f":"IFERROR(K428*H428,\"0 ₽\")","v":0}]
[null,"IFKOMLM110E","Затвор дисковый ПП (PP-H) с рукояткой промышленный 110 (DN100) EPDM IPS",10,"Арматура","RUB",{"$f":"IFERROR(I429*Оглавление!$E$23,\"по запросу\")","v":25128.163199999999},{"$f":"IFERROR(G429*(1-Оглавление!$D$37),\"по запросу\")","v":25128.163199999999},250.68,"шт",null,0,0]
[null,"IFKOMLM140E","Затвор дисковый ПП (PP-H) с рукояткой промышленный 140 (DN125) EPDM IPS",10,"Арматура","RUB",{"$f":"IFERROR(I430*Оглавление!$E$23,\"по запросу\")","v":37546.896799999995},{"$f":"IFERROR(G430*(1-Оглавление!$D$37),\"по запросу\")","v":37546.896799999995},374.57,"шт",null,0,0]
[null,"IFKOMLM160E","Затвор дисковый ПП (PP-H) с рукояткой промышленный 160 (DN150) EPDM IPS",10,"Арматура","RUB",{"$f":"IFERROR(I431*Оглавление!$E$23,\"по запросу\")","v":44329.135199999997},{"$f":"IFERROR(G431*(1-Оглавление!$D$37),\"по запросу\")","v":44329.135199999997},442.23,"шт",null,0,0]
[null,"IFKOMLM225E","Затвор дисковый ПП (PP-H) с рукояткой промышленный 225 (DN150) EPDM IPS",10,"Арматура","RUB",{"$f":"IFERROR(I432*Оглавление!$E$23,\"по запросу\")","v":63821.8056},{"$f":"IFERROR(G432*(1-Оглавление!$D$37),\"по запросу\")","v":63821.8056},636.69000000000005,"шт",null,0,0]
[null,"IFKOMLM063F","Затвор дисковый ПП (PP-H) с рукояткой промышленный 63 (DN50) FKM IPS",10,"Арматура","RUB",{"$f":"IFERROR(I433*Оглавление!$E$23,\"по запросу\")","v":27366.522399999998},{"$f":"IFERROR(G433*(1-Оглавление!$D$37),\"по запросу\")","v":27366.522399999998},273.01,"шт",null,0,0]
[null,"IFKOMLM075F","Затвор дисковый ПП (PP-H) с рукояткой промышленный 75 (DN65) FKM IPS",10,"Арматура","RUB",{"$f":"IFERROR(I434*Оглавление!$E$23,\"по запросу\")","v":28483.195999999996},{"$f":"IFERROR(G434*(1-Оглавление!$D$37),\"по запросу\")","v":28483.195999999996},284.14999999999998,"шт",null,0,0]
[null,"IFKOMLM090F","Затвор дисковый ПП (PP-H) с рукояткой промышленный 90 (DN80) FKM IPS",10,"Арматура","RUB",{"$f":"IFERROR(I435*Оглавление!$E$23,\"по запросу\")","v":33227.555200000003},{"$f":"IFERROR(G435*(1-Оглавление!$D$37),\"по запросу\")","v":33227.555200000003},331.48,"шт",null,0,0]
[null,"IFKOMLM110F","Затвор дисковый ПП (PP-H) с рукояткой промышленный 110 (DN100) FKM IPS",10,"Арматура","RUB",{"$f":"IFERROR(I436*Оглавление!$E$23,\"по запросу\")","v":42151.922399999996},{"$f":"IFERROR(G436*(1-Оглавление!$D$37),\"по запросу\")","v":42151.922399999996},420.51,"шт",null,0,0]
[null,"IFKOMLM140F","Затвор дисковый ПП (PP-H) с рукояткой промышленный 140 (DN125) FKM IPS",10,"Арматура","RUB",{"$f":"IFERROR(I437*Оглавление!$E$23,\"по запросу\")","v":63803.762399999992},{"$f":"IFERROR(G437*(1-Оглавление!$D$37),\"по запросу\")","v":63803.762399999992},636.51,"шт",null,0,0]
[null,"IFKOMLM160F","Затвор дисковый ПП (PP-H) с рукояткой промышленный 160 (DN150) FKM IPS",10,"Арматура","RUB",{"$f":"IFERROR(I438*Оглавление!$E$23,\"по запросу\")","v":88051.818399999989},{"$f":"IFERROR(G438*(1-Оглавление!$D$37),\"по запросу\")","v":88051.818399999989},878.41,"шт",null,0,0]
[null,"IFKOMLM225F","Затвор дисковый ПП (PP-H) с рукояткой промышленный 225 (DN150) FKM IPS",10,"Арматура","RUB",{"$f":"IFERROR(I439*Оглавление!$E$23,\"по запросу\")","v":120812.2552},{"$f":"IFERROR(G439*(1-Оглавление!$D$37),\"по запросу\")","v":120812.2552},1205.23,"шт",null,0,0]
[null,"IFKOMRM225E","Затвор дисковый ПП (PP-H) с редуктором промышленный 8\" (200) EPDM IPS",10,"Арматура","RUB",{"$f":"IFERROR(I440*Оглавление!$E$23,\"по запросу\")","v":79171.556800000006},{"$f":"IFERROR(G440*(1-Оглавление!$D$37),\"по запросу\")","v":79171.556800000006},789.82,"шт",null,0,0]
[null,"IFKOMRM280E","Затвор дисковый ПП (PP-H) с редуктором промышленный 10\" (250) EPDM IPS",10,"Арматура","RUB",{"$f":"IFERROR(I441*Оглавление!$E$23,\"по запросу\")","v":100985.7856},{"$f":"IFERROR(G441*(1-Оглавление!$D$37),\"по запросу\")","v":100985.7856},1007.44,"шт",null,0,0]
[null,"IFKOMRM315E","Затвор дисковый ПП (PP-H) с редуктором промышленный 12\"(300) EPDM IPS",10,"Арматура","RUB",{"$f":"IFERROR(I442*Оглавление!$E$23,\"по запросу\")","v":148395.296},{"$f":"IFERROR(G442*(1-Оглавление!$D$37),\"по запросу\")","v":148395.296},1480.4,"шт",null,0,0]
[null,"IFKOMRM225F","Затвор дисковый ПП (PP-H) с редуктором промышленный 8\" (200) FKM IPS",10,"Арматура","RUB",{"$f":"IFERROR(I443*Оглавление!$E$23,\"по запросу\")","v":129998.24879999999},{"$f":"IFERROR(G443*(1-Оглавление!$D$37),\"по запросу\")","v":129998.24879999999},1296.8699999999999,"шт",null,{"$f":"IFERROR(K443*G443,\"0 ₽\")","v":0},{"$f":"IFERROR(K443*H443,\"0 ₽\")","v":0}]
[null,"IFKOMRM280F","Затвор дисковый ПП (PP-H) с редуктором промышленный 10\" (250) FKM IPS",10,"Арматура","RUB",{"$f":"IFERROR(I444*Оглавление!$E$23,\"по запросу\")","v":175182.84704243232},{"$f":"IFERROR(G444*(1-Оглавление!$D$37),\"по запросу\")","v":175182.84704243232},1747.6341484680001,"шт",null,{"$f":"IFERROR(K444*G444,\"0 ₽\")","v":0},{"$f":"IFERROR(K444*H444,\"0 ₽\")","v":0}]
[null,"IFKOMRM315F","Затвор дисковый ПП (PP-H) с редуктором промышленный 12\"(300) FKM IPS",10,"Арматура","RUB",{"$f":"IFERROR(I445*Оглавление!$E$23,\"по запросу\")","v":258965.02799999996},{"$f":"IFERROR(G445*(1-Оглавление!$D$37),\"по запросу\")","v":258965.02799999996},2583.4499999999998,"шт",null,{"$f":"IFERROR(K445*G445,\"0 ₽\")","v":0},{"$f":"IFERROR(K445*H445,\"0 ₽\")","v":0}]
[null,"IFKOMRM814E","Затвор дисковый ПП (PP-H) с редуктором промышленный 14\"(DN350) EPDM IPS",null,"Арматура","RUB",{"$f":"IFERROR(I446*Оглавление!$E$23,\"по запросу\")","v":158662.8792},{"$f":"IFERROR(G446*(1-Оглавление!$D$37),\"по запросу\")","v":158662.8792},1582.83,"шт",null,0,0]
[null,"IFKOMRM816E","Затвор дисковый ПП (PP-H) с редуктором промышленный 16\"(DN400) EPDM IPS",null,"Арматура","RUB",{"$f":"IFERROR(I447*Оглавление!$E$23,\"по запросу\")","v":257501.52399999998},{"$f":"IFERROR(G447*(1-Оглавление!$D$37),\"по запросу\")","v":257501.52399999998},2568.85,"шт",null,0,0]
[null,"IFKOMRM818E","Затвор дисковый ПП (PP-H) с редуктором промышленный 18\"(DN450) EPDM IPS",null,"Арматура","RUB",{"$f":"IFERROR(I448*Оглавление!$E$23,\"по запросу\")","v":390154.12799999997},{"$f":"IFERROR(G448*(1-Оглавление!$D$37),\"по запросу\")","v":390154.12799999997},3892.2,"шт",null,0,0]
[null,"IFKOMRM820E","Затвор дисковый ПП (PP-H) с редуктором промышленный 20\"(DN500) EPDM IPS",null,"Арматура","RUB",{"$f":"IFERROR(I449*Оглавление!$E$23,\"по запросу\")","v":476855.71360000002},{"$f":"IFERROR(G449*(1-Оглавление!$D$37),\"по запросу\")","v":476855.71360000002},4757.1400000000003,"шт",null,0,0]
[null,"IFKOMRM824E","Затвор дисковый ПП (PP-H) с редуктором промышленный 24\"(DN600) EPDM IPS",null,"Арматура","RUB",{"$f":"IFERROR(I450*Оглавление!$E$23,\"по запросу\")","v":658840.43119999999},{"$f":"IFERROR(G450*(1-Оглавление!$D$37),\"по запросу\")","v":658840.43119999999},6572.63,"шт",null,0,0]
[null,"IFKOMRM828E","Затвор дисковый ПП (PP-H) с редуктором промышленный 28\"(DN700) EPDM IPS",null,"Арматура","RUB",{"$f":"IFERROR(I451*Оглавление!$E$23,\"по запросу\")","v":1049081.7679999999},{"$f":"IFERROR(G451*(1-Оглавление!$D$37),\"по запросу\")","v":1049081.7679999999},10465.700000000001,"шт",null,0,0]
[null,"IFKOMRM832E","Затвор дисковый ПП (PP-H) с редуктором промышленный 32\"(DN800) EPDM IPS",null,"Арматура","RUB",{"$f":"IFERROR(I452*Оглавление!$E$23,\"по запросу\")","v":1335195.7975999999},{"$f":"IFERROR(G452*(1-Оглавление!$D$37),\"по запросу\")","v":1335195.7975999999},13319.99,"шт",null,0,0]
[null,"IFKOMRM840E","Затвор дисковый ПП (PP-H) с редуктором промышленный 40\"(DN1000) EPDM IPS",null,"Арматура","RUB",{"$f":"IFERROR(I453*Оглавление!$E$23,\"по запросу\")","v":3251287.4071999998},{"$f":"IFERROR(G453*(1-Оглавление!$D$37),\"по запросу\")","v":3251287.4071999998},32435.03,"шт",null,0,0]
[null,"IFKOMRM814F","Затвор дисковый ПП (PP-H) с редуктором промышленный 14\"(DN350) FKM IPS",null,"Арматура","RUB",{"$f":"IFERROR(I454*Оглавление!$E$23,\"по запросу\")","v":291748.51999999996},{"$f":"IFERROR(G454*(1-Оглавление!$D$37),\"по запросу\")","v":291748.51999999996},2910.5,"шт",null,0,0]
[null,"IFKOMRM816F","Затвор дисковый ПП (PP-H) с редуктором промышленный 16\"(DN400) FKM IPS",null,"Арматура","RUB",{"$f":"IFERROR(I455*Оглавление!$E$23,\"по запросу\")","v":427522.59759999998},{"$f":"IFERROR(G455*(1-Оглавление!$D$37),\"по запросу\")","v":427522.59759999998},4264.99,"шт",null,0,0]
[null,"IFKOMRM818F","Затвор дисковый ПП (PP-H) с редуктором промышленный 18\"(DN450) FKM IPS",null,"Арматура","RUB",{"$f":"IFERROR(I456*Оглавление!$E$23,\"по запросу\")","v":573439.9608},{"$f":"IFERROR(G456*(1-Оглавление!$D$37),\"по запросу\")","v":573439.9608},5720.67,"шт",null,0,0]
[null,"IFKOMRM820F","Затвор дисковый ПП (PP-H) с редуктором промышленный 20\"(DN500) FKM IPS",null,"Арматура","RUB",{"$f":"IFERROR(I457*Оглавление!$E$23,\"по запросу\")","v":682856.93279999995},{"$f":"IFERROR(G457*(1-Оглавление!$D$37),\"по запросу\")","v":682856.93279999995},6812.22,"шт",null,0,0]
[null,"IFKOMRM824F","Затвор дисковый ПП (PP-H) с редуктором промышленный 24\"(DN600) FKM IPS",null,"Арматура","RUB",{"$f":"IFERROR(I458*Оглавление!$E$23,\"по запросу\")","v":955705.20079999999},{"$f":"IFERROR(G458*(1-Оглавление!$D$37),\"по запросу\")","v":955705.20079999999},9534.17,"шт",null,0,0]
[null,"IFKOMRM828F","Затвор дисковый ПП (PP-H) с редуктором промышленный 28\"(DN700) FKM IPS",null,"Арматура","RUB",{"$f":"IFERROR(I459*Оглавление!$E$23,\"по запросу\")","v":"по запросу"},{"$f":"IFERROR(G459*(1-Оглавление!$D$37),\"по запросу\")","v":"по запросу"},"по запросу","шт",null,"0 ₽","0 ₽"]
[null,"IFKOMRM832F","Затвор дисковый ПП (PP-H) с редуктором промышленный 32\"(DN800) FKM IPS",null,"Арматура","RUB",{"$f":"IFERROR(I460*Оглавление!$E$23,\"по запросу\")","v":"по запросу"},{"$f":"IFERROR(G460*(1-Оглавление!$D$37),\"по запросу\")","v":"по запросу"},"по запросу","шт",null,"0 ₽","0 ₽"]
[null,"IFKOMRM840F","Затвор дисковый ПП (PP-H) с редуктором промышленный 40\"(DN1000) FKM IPS",null,"Арматура","RUB",{"$f":"IFERROR(I461*Оглавление!$E$23,\"по запросу\")","v":"по запросу"},{"$f":"IFERROR(G461*(1-Оглавление!$D$37),\"по запросу\")","v":"по запросу"},"по запросу","шт",null,"0 ₽","0 ₽"]
[null,"IDKUIM020E","Мембранный клапан ПП (PP-H) с разборными муфтовыми окончаниями EPDM 20 IPS",10,"Арматура","RUB",{"$f":"IFERROR(I462*Оглавление!$E$23,\"по запросу\")","v":4937.8223999999991},{"$f":"IFERROR(G462*(1-Оглавление!$D$37),\"по запросу\")","v":4937.8223999999991},49.26,"шт",null,0,0]
[null,"IDKUIM025E","Мембранный клапан ПП (PP-H) с разборными муфтовыми окончаниями EPDM 25 IPS",10,"Арматура","RUB",{"$f":"IFERROR(I463*Оглавление!$E$23,\"по запросу\")","v":5673.5839999999998},{"$f":"IFERROR(G463*(1-Оглавление!$D$37),\"по запросу\")","v":5673.5839999999998},56.6,"шт",null,0,0]
[null,"IDKUIM032E","Мембранный клапан ПП (PP-H) с разборными муфтовыми окончаниями EPDM 32 IPS",10,"Арматура","RUB",{"$f":"IFERROR(I464*Оглавление!$E$23,\"по запросу\")","v":8064.308},{"$f":"IFERROR(G464*(1-Оглавление!$D$37),\"по запросу\")","v":8064.308},80.45,"шт",null,0,0]
[null,"IDKUIM040E","Мембранный клапан ПП (PP-H) с разборными муфтовыми окончаниями EPDM 40 IPS",10,"Арматура","RUB",{"$f":"IFERROR(I465*Оглавление!$E$23,\"по запросу\")","v":9792.4455999999991},{"$f":"IFERROR(G465*(1-Оглавление!$D$37),\"по запросу\")","v":9792.4455999999991},97.69,"шт",null,{"$f":"IFERROR(K465*G465,\"0 ₽\")","v":0},0]
[null,"IDKUIM050E","Мембранный клапан ПП (PP-H) с разборными муфтовыми окончаниями EPDM 50 IPS",10,"Арматура","RUB",{"$f":"IFERROR(I466*Оглавление!$E$23,\"по запросу\")","v":11825.3128},{"$f":"IFERROR(G466*(1-Оглавление!$D$37),\"по запросу\")","v":11825.3128},117.97,"шт",null,0,0]
[null,"IDKUIM063E","Мембранный клапан ПП (PP-H) с разборными муфтовыми окончаниями EPDM 63 IPS",10,"Арматура","RUB",{"$f":"IFERROR(I467*Оглавление!$E$23,\"по запросу\")","v":12873.823200000001},{"$f":"IFERROR(G467*(1-Оглавление!$D$37),\"по запросу\")","v":12873.823200000001},128.43,"шт",null,0,0]
[null,"IDKUIM075E","Мембранный клапан ПП (PP-H) с разборными муфтовыми окончаниями EPDM 75 IPS",10,"Арматура","RUB",{"$f":"IFERROR(I468*Оглавление!$E$23,\"по запросу\")","v":30436.873599999995},{"$f":"IFERROR(G468*(1-Оглавление!$D$37),\"по запросу\")","v":30436.873599999995},303.64,"шт",null,0,0]
[null,"IDKUIM090E","Мембранный клапан ПП (PP-H) с разборными муфтовыми окончаниями EPDM 90 IPS",10,"Арматура","RUB",{"$f":"IFERROR(I469*Оглавление!$E$23,\"по запросу\")","v":44090.563999999998},{"$f":"IFERROR(G469*(1-Оглавление!$D$37),\"по запросу\")","v":44090.563999999998},439.85,"шт",null,0,0]
[null,"IDKUIM110E","Мембранный клапан ПП (PP-H) с разборными муфтовыми окончаниями EPDM 110 IPS",10,"Арматура","RUB",{"$f":"IFERROR(I470*Оглавление!$E$23,\"по запросу\")","v":49225.859199999999},{"$f":"IFERROR(G470*(1-Оглавление!$D$37),\"по запросу\")","v":49225.859199999999},491.08,"шт",null,0,0]
[null,"IDKUIM020F","Мембранный клапан ПП (PP-H) с разборными муфтовыми окончаниями FKM 20 IPS",10,"Арматура","RUB",{"$f":"IFERROR(I471*Оглавление!$E$23,\"по запросу\")","v":6419.3696},{"$f":"IFERROR(G471*(1-Оглавление!$D$37),\"по запросу\")","v":6419.3696},64.040000000000006,"шт",null,0,0]
[null,"IDKUIM025F","Мембранный клапан ПП (PP-H) с разборными муфтовыми окончаниями FKM 25 IPS",10,"Арматура","RUB",{"$f":"IFERROR(I472*Оглавление!$E$23,\"по запросу\")","v":7362.6279999999997},{"$f":"IFERROR(G472*(1-Оглавление!$D$37),\"по запросу\")","v":7362.6279999999997},73.45,"шт",null,0,0]
[null,"IDKUIM032F","Мембранный клапан ПП (PP-H) с разборными муфтовыми окончаниями FKM 32 IPS",10,"Арматура","RUB",{"$f":"IFERROR(I473*Оглавление!$E$23,\"по запросу\")","v":10049.06},{"$f":"IFERROR(G473*(1-Оглавление!$D$37),\"по запросу\")","v":10049.06},100.25,"шт",null,0,0]
[null,"IDKUIM040F","Мембранный клапан ПП (PP-H) с разборными муфтовыми окончаниями FKM 40 IPS",10,"Арматура","RUB",{"$f":"IFERROR(I474*Оглавление!$E$23,\"по запросу\")","v":12147.083200000001},{"$f":"IFERROR(G474*(1-Оглавление!$D$37),\"по запросу\")","v":12147.083200000001},121.18,"шт",null,0,0]
[null,"IDKUIM050F","Мембранный клапан ПП (PP-H) с разборными муфтовыми окончаниями FKM 50 IPS",10,"Арматура","RUB",{"$f":"IFERROR(I475*Оглавление!$E$23,\"по запросу\")","v":14512.7472},{"$f":"IFERROR(G475*(1-Оглавление!$D$37),\"по запросу\")","v":14512.7472},144.78,"шт",null,0,0]
[null,"IDKUIM063F","Мембранный клапан ПП (PP-H) с разборными муфтовыми окончаниями FKM 63 IPS",10,"Арматура","RUB",{"$f":"IFERROR(I476*Оглавление!$E$23,\"по запросу\")","v":16248.903999999999},{"$f":"IFERROR(G476*(1-Оглавление!$D$37),\"по запросу\")","v":16248.903999999999},162.1,"шт",null,0,0]
[null,"IDKUIM075F","Мембранный клапан ПП (PP-H) с разборными муфтовыми окончаниями FKM 75 IPS",10,"Арматура","RUB",{"$f":"IFERROR(I477*Оглавление!$E$23,\"по запросу\")","v":35447.871199999994},{"$f":"IFERROR(G477*(1-Оглавление!$D$37),\"по запросу\")","v":35447.871199999994},353.63,"шт",null,0,0]
[null,"IDKUIM090F","Мембранный клапан ПП (PP-H) с разборными муфтовыми окончаниями FKM 90 IPS",10,"Арматура","RUB",{"$f":"IFERROR(I478*Оглавление!$E$23,\"по запросу\")","v":49476.459199999998},{"$f":"IFERROR(G478*(1-Оглавление!$D$37),\"по запросу\")","v":49476.459199999998},493.58,"шт",null,0,0]
[null,"IDKUIM110F","Мембранный клапан ПП (PP-H) с разборными муфтовыми окончаниями FKM 110 IPS",10,"Арматура","RUB",{"$f":"IFERROR(I479*Оглавление!$E$23,\"по запросу\")","v":63505.047199999994},{"$f":"IFERROR(G479*(1-Оглавление!$D$37),\"по запросу\")","v":63505.047199999994},633.53,"шт",null,0,0]
[null,"IDKUIM020P","Мембранный клапан ПП (PP-H) с разборными муфтовыми окончаниями PTFE 20 IPS",10,"Арматура","RUB",{"$f":"IFERROR(I480*Оглавление!$E$23,\"по запросу\")","v":6419.3696},{"$f":"IFERROR(G480*(1-Оглавление!$D$37),\"по запросу\")","v":6419.3696},64.040000000000006,"шт",null,0,0]
[null,"IDKUIM025P","Мембранный клапан ПП (PP-H) с разборными муфтовыми окончаниями PTFE 25 IPS",10,"Арматура","RUB",{"$f":"IFERROR(I481*Оглавление!$E$23,\"по запросу\")","v":7362.6279999999997},{"$f":"IFERROR(G481*(1-Оглавление!$D$37),\"по запросу\")","v":7362.6279999999997},73.45,"шт",null,0,0]
[null,"IDKUIM032P","Мембранный клапан ПП (PP-H) с разборными муфтовыми окончаниями PTFE 32 IPS",10,"Арматура","RUB",{"$f":"IFERROR(I482*Оглавление!$E$23,\"по запросу\")","v":10049.06},{"$f":"IFERROR(G482*(1-Оглавление!$D$37),\"по запросу\")","v":10049.06},100.25,"шт",null,0,0]
[null,"IDKUIM040P","Мембранный клапан ПП (PP-H) с разборными муфтовыми окончаниями PTFE 40 IPS",10,"Арматура","RUB",{"$f":"IFERROR(I483*Оглавление!$E$23,\"по запросу\")","v":12147.083200000001},{"$f":"IFERROR(G483*(1-Оглавление!$D$37),\"по запросу\")","v":12147.083200000001},121.18,"шт",null,0,0]
[null,"IDKUIM050P","Мембранный клапан ПП (PP-H) с разборными муфтовыми окончаниями PTFE 50 IPS",10,"Арматура","RUB",{"$f":"IFERROR(I484*Оглавление!$E$23,\"по запросу\")","v":14512.7472},{"$f":"IFERROR(G484*(1-Оглавление!$D$37),\"по запросу\")","v":14512.7472},144.78,"шт",null,0,0]
[null,"IDKUIM063P","Мембранный клапан ПП (PP-H) с разборными муфтовыми окончаниями PTFE 63 IPS",10,"Арматура","RUB",{"$f":"IFERROR(I485*Оглавление!$E$23,\"по запросу\")","v":16248.903999999999},{"$f":"IFERROR(G485*(1-Оглавление!$D$37),\"по запросу\")","v":16248.903999999999},162.1,"шт",null,0,0]
[null,"IDKUIM075P","Мембранный клапан ПП (PP-H) с разборными муфтовыми окончаниями PTFE 75 IPS",10,"Арматура","RUB",{"$f":"IFERROR(I486*Оглавление!$E$23,\"по запросу\")","v":35447.871199999994},{"$f":"IFERROR(G486*(1-Оглавление!$D$37),\"по запросу\")","v":35447.871199999994},353.63,"шт",null,0,0]
[null,"IDKUIM090P","Мембранный клапан ПП (PP-H) с разборными муфтовыми окончаниями PTFE 90 IPS",10,"Арматура","RUB",{"$f":"IFERROR(I487*Оглавление!$E$23,\"по запросу\")","v":49476.459199999998},{"$f":"IFERROR(G487*(1-Оглавление!$D$37),\"по запросу\")","v":49476.459199999998},493.58,"шт",null,0,0]
[null,"IDKUIM110P","Мембранный клапан ПП (PP-H) с разборными муфтовыми окончаниями PTFE 110 IPS",10,"Арматура","RUB",{"$f":"IFERROR(I488*Оглавление!$E$23,\"по запросу\")","v":63505.047199999994},{"$f":"IFERROR(G488*(1-Оглавление!$D$37),\"по запросу\")","v":63505.047199999994},633.53,"шт",null,0,0]
[null,"IDKDM020E","Мембранный клапан ПП (PP-H) с втулочными окончаниями EPDM 20 IPS",10,"Арматура","RUB",{"$f":"IFERROR(I489*Оглавление!$E$23,\"по запросу\")","v":4937.8223999999991},{"$f":"IFERROR(G489*(1-Оглавление!$D$37),\"по запросу\")","v":4937.8223999999991},49.26,"шт",null,0,0]
[null,"IDKDM025E","Мембранный клапан ПП (PP-H) с втулочными окончаниями EPDM 25 IPS",10,"Арматура","RUB",{"$f":"IFERROR(I490*Оглавление!$E$23,\"по запросу\")","v":5673.5839999999998},{"$f":"IFERROR(G490*(1-Оглавление!$D$37),\"по запросу\")","v":5673.5839999999998},56.6,"шт",null,0,0]
[null,"IDKDM032E","Мембранный клапан ПП (PP-H) с втулочными окончаниями EPDM 32 IPS",10,"Арматура","RUB",{"$f":"IFERROR(I491*Оглавление!$E$23,\"по запросу\")","v":8064.308},{"$f":"IFERROR(G491*(1-Оглавление!$D$37),\"по запросу\")","v":8064.308},80.45,"шт",null,0,0]
[null,"IDKDM040E","Мембранный клапан ПП (PP-H) с втулочными окончаниями EPDM 40 IPS",10,"Арматура","RUB",{"$f":"IFERROR(I492*Оглавление!$E$23,\"по запросу\")","v":9792.4455999999991},{"$f":"IFERROR(G492*(1-Оглавление!$D$37),\"по запросу\")","v":9792.4455999999991},97.69,"шт",null,0,{"$f":"IFERROR(K492*H492,\"0 ₽\")","v":0}]
[null,"IDKDM050E","Мембранный клапан ПП (PP-H) с втулочными окончаниями EPDM 50 IPS",10,"Арматура","RUB",{"$f":"IFERROR(I493*Оглавление!$E$23,\"по запросу\")","v":11825.3128},{"$f":"IFERROR(G493*(1-Оглавление!$D$37),\"по запросу\")","v":11825.3128},117.97,"шт",null,0,0]
[null,"IDKDM063E","Мембранный клапан ПП (PP-H) с втулочными окончаниями EPDM 63 IPS",10,"Арматура","RUB",{"$f":"IFERROR(I494*Оглавление!$E$23,\"по запросу\")","v":12873.823200000001},{"$f":"IFERROR(G494*(1-Оглавление!$D$37),\"по запросу\")","v":12873.823200000001},128.43,"шт",null,0,0]
[null,"IDKDM075E","Мембранный клапан ПП (PP-H) с втулочными окончаниями EPDM 75 IPS",10,"Арматура","RUB",{"$f":"IFERROR(I495*Оглавление!$E$23,\"по запросу\")","v":30436.873599999995},{"$f":"IFERROR(G495*(1-Оглавление!$D$37),\"по запросу\")","v":30436.873599999995},303.64,"шт",null,0,0]
[null,"IDKDM090E","Мембранный клапан ПП (PP-H) с втулочными окончаниями EPDM 90 IPS",10,"Арматура","RUB",{"$f":"IFERROR(I496*Оглавление!$E$23,\"по запросу\")","v":44090.563999999998},{"$f":"IFERROR(G496*(1-Оглавление!$D$37),\"по запросу\")","v":44090.563999999998},439.85,"шт",null,0,0]
[null,"IDKDM110E","Мембранный клапан ПП (PP-H) с втулочными окончаниями EPDM 110 IPS",10,"Арматура","RUB",{"$f":"IFERROR(I497*Оглавление!$E$23,\"по запросу\")","v":49225.859199999999},{"$f":"IFERROR(G497*(1-Оглавление!$D$37),\"по запросу\")","v":49225.859199999999},491.08,"шт",null,0,0]
[null,"IDKDM020F","Мембранный клапан ПП (PP-H) с втулочными окончаниями FKM 20 IPS",10,"Арматура","RUB",{"$f":"IFERROR(I498*Оглавление!$E$23,\"по запросу\")","v":6419.3696},{"$f":"IFERROR(G498*(1-Оглавление!$D$37),\"по запросу\")","v":6419.3696},64.040000000000006,"шт",null,0,0]
[null,"IDKDM025F","Мембранный клапан ПП (PP-H) с втулочными окончаниями FKM 25 IPS",10,"Арматура","RUB",{"$f":"IFERROR(I499*Оглавление!$E$23,\"по запросу\")","v":7362.6279999999997},{"$f":"IFERROR(G499*(1-Оглавление!$D$37),\"по запросу\")","v":7362.6279999999997},73.45,"шт",null,0,0]
[null,"IDKDM032F","Мембранный клапан ПП (PP-H) с втулочными окончаниями FKM 32 IPS",10,"Арматура","RUB",{"$f":"IFERROR(I500*Оглавление!$E$23,\"по запросу\")","v":10049.06},{"$f":"IFERROR(G500*(1-Оглавление!$D$37),\"по запросу\")","v":10049.06},100.25,"шт",null,0,0]
[null,"IDKDM040F","Мембранный клапан ПП (PP-H) с втулочными окончаниями FKM 40 IPS",10,"Арматура","RUB",{"$f":"IFERROR(I501*Оглавление!$E$23,\"по запросу\")","v":12147.083200000001},{"$f":"IFERROR(G501*(1-Оглавление!$D$37),\"по запросу\")","v":12147.083200000001},121.18,"шт",null,0,0]
[null,"IDKDM050F","Мембранный клапан ПП (PP-H) с втулочными окончаниями FKM 50 IPS",10,"Арматура","RUB",{"$f":"IFERROR(I502*Оглавление!$E$23,\"по запросу\")","v":14512.7472},{"$f":"IFERROR(G502*(1-Оглавление!$D$37),\"по запросу\")","v":14512.7472},144.78,"шт",null,0,0]
[null,"IDKDM063F","Мембранный клапан ПП (PP-H) с втулочными окончаниями FKM 63 IPS",10,"Арматура","RUB",{"$f":"IFERROR(I503*Оглавление!$E$23,\"по запросу\")","v":16248.903999999999},{"$f":"IFERROR(G503*(1-Оглавление!$D$37),\"по запросу\")","v":16248.903999999999},162.1,"шт",null,0,0]
[null,"IDKDM075F","Мембранный клапан ПП (PP-H) с втулочными окончаниями FKM 75 IPS",10,"Арматура","RUB",{"$f":"IFERROR(I504*Оглавление!$E$23,\"по запросу\")","v":35447.871199999994},{"$f":"IFERROR(G504*(1-Оглавление!$D$37),\"по запросу\")","v":35447.871199999994},353.63,"шт",null,0,0]
[null,"IDKDM090F","Мембранный клапан ПП (PP-H) с втулочными окончаниями FKM 90 IPS",10,"Арматура","RUB",{"$f":"IFERROR(I505*Оглавление!$E$23,\"по запросу\")","v":49476.459199999998},{"$f":"IFERROR(G505*(1-Оглавление!$D$37),\"по запросу\")","v":49476.459199999998},493.58,"шт",null,0,0]
[null,"IDKDM110F","Мембранный клапан ПП (PP-H) с втулочными окончаниями FKM 110 IPS",10,"Арматура","RUB",{"$f":"IFERROR(I506*Оглавление!$E$23,\"по запросу\")","v":63505.047199999994},{"$f":"IFERROR(G506*(1-Оглавление!$D$37),\"по запросу\")","v":63505.047199999994},633.53,"шт",null,0,0]
[null,"IDKDM020P","Мембранный клапан ПП (PP-H) с втулочными окончаниями PTFE 20 IPS",10,"Арматура","RUB",{"$f":"IFERROR(I507*Оглавление!$E$23,\"по запросу\")","v":6419.3696},{"$f":"IFERROR(G507*(1-Оглавление!$D$37),\"по запросу\")","v":6419.3696},64.040000000000006,"шт",null,0,0]
[null,"IDKDM025P","Мембранный клапан ПП (PP-H) с втулочными окончаниями PTFE 25 IPS",10,"Арматура","RUB",{"$f":"IFERROR(I508*Оглавление!$E$23,\"по запросу\")","v":7362.6279999999997},{"$f":"IFERROR(G508*(1-Оглавление!$D$37),\"по запросу\")","v":7362.6279999999997},73.45,"шт",null,0,0]
[null,"IDKDM032P","Мембранный клапан ПП (PP-H) с втулочными окончаниями PTFE 32 IPS",10,"Арматура","RUB",{"$f":"IFERROR(I509*Оглавление!$E$23,\"по запросу\")","v":10049.06},{"$f":"IFERROR(G509*(1-Оглавление!$D$37),\"по запросу\")","v":10049.06},100.25,"шт",null,0,0]
[null,"IDKDM040P","Мембранный клапан ПП (PP-H) с втулочными окончаниями PTFE 40 IPS",10,"Арматура","RUB",{"$f":"IFERROR(I510*Оглавление!$E$23,\"по запросу\")","v":12147.083200000001},{"$f":"IFERROR(G510*(1-Оглавление!$D$37),\"по запросу\")","v":12147.083200000001},121.18,"шт",null,0,0]
[null,"IDKDM050P","Мембранный клапан ПП (PP-H) с втулочными окончаниями PTFE 50 IPS",10,"Арматура","RUB",{"$f":"IFERROR(I511*Оглавление!$E$23,\"по запросу\")","v":14512.7472},{"$f":"IFERROR(G511*(1-Оглавление!$D$37),\"по запросу\")","v":14512.7472},144.78,"шт",null,0,0]
[null,"IDKDM063P","Мембранный клапан ПП (PP-H) с втулочными окончаниями PTFE 63 IPS",10,"Арматура","RUB",{"$f":"IFERROR(I512*Оглавление!$E$23,\"по запросу\")","v":16248.903999999999},{"$f":"IFERROR(G512*(1-Оглавление!$D$37),\"по запросу\")","v":16248.903999999999},162.1,"шт",null,0,0]
[null,"IDKDM075P","Мембранный клапан ПП (PP-H) с втулочными окончаниями PTFE 75 IPS",10,"Арматура","RUB",{"$f":"IFERROR(I513*Оглавление!$E$23,\"по запросу\")","v":35447.871199999994},{"$f":"IFERROR(G513*(1-Оглавление!$D$37),\"по запросу\")","v":35447.871199999994},353.63,"шт",null,0,0]
[null,"IDKDM090P","Мембранный клапан ПП (PP-H) с втулочными окончаниями PTFE 90 IPS",10,"Арматура","RUB",{"$f":"IFERROR(I514*Оглавление!$E$23,\"по запросу\")","v":49476.459199999998},{"$f":"IFERROR(G514*(1-Оглавление!$D$37),\"по запросу\")","v":49476.459199999998},493.58,"шт",null,0,0]
[null,"IDKDM110P","Мембранный клапан ПП (PP-H) с втулочными окончаниями PTFE 110 IPS",10,"Арматура","RUB",{"$f":"IFERROR(I515*Оглавление!$E$23,\"по запросу\")","v":63505.047199999994},{"$f":"IFERROR(G515*(1-Оглавление!$D$37),\"по запросу\")","v":63505.047199999994},633.53,"шт",null,0,0]
[null,"IDKOM020E","Мембранный клапан ПП (PP-H) с фланцевыми окончаниями EPDM 20 IPS",10,"Арматура","RUB",{"$f":"IFERROR(I516*Оглавление!$E$23,\"по запросу\")","v":5184.4128000000001},{"$f":"IFERROR(G516*(1-Оглавление!$D$37),\"по запросу\")","v":5184.4128000000001},51.72,"шт",null,0,0]
[null,"IDKOM025E","Мембранный клапан ПП (PP-H) с фланцевыми окончаниями EPDM 25 IPS",10,"Арматура","RUB",{"$f":"IFERROR(I517*Оглавление!$E$23,\"по запросу\")","v":5914.16},{"$f":"IFERROR(G517*(1-Оглавление!$D$37),\"по запросу\")","v":5914.16},59,"шт",null,0,0]
[null,"IDKOM032E","Мембранный клапан ПП (PP-H) с фланцевыми окончаниями EPDM 32 IPS",10,"Арматура","RUB",{"$f":"IFERROR(I518*Оглавление!$E$23,\"по запросу\")","v":8560.496000000001},{"$f":"IFERROR(G518*(1-Оглавление!$D$37),\"по запросу\")","v":8560.496000000001},85.4,"шт",null,0,0]
[null,"IDKOM040E","Мембранный клапан ПП (PP-H) с фланцевыми окончаниями EPDM 40 IPS",10,"Арматура","RUB",{"$f":"IFERROR(I519*Оглавление!$E$23,\"по запросу\")","v":10783.8192},{"$f":"IFERROR(G519*(1-Оглавление!$D$37),\"по запросу\")","v":10783.8192},107.58,"шт",null,0,0]
[null,"IDKOM050E","Мембранный клапан ПП (PP-H) с фланцевыми окончаниями EPDM 50 IPS",10,"Арматура","RUB",{"$f":"IFERROR(I520*Оглавление!$E$23,\"по запросу\")","v":12362.599199999999},{"$f":"IFERROR(G520*(1-Оглавление!$D$37),\"по запросу\")","v":12362.599199999999},123.33,"шт",null,0,0]
[null,"IDKOM063E","Мембранный клапан ПП (PP-H) с фланцевыми окончаниями EPDM 63 IPS",10,"Арматура","RUB",{"$f":"IFERROR(I521*Оглавление!$E$23,\"по запросу\")","v":13499.320799999998},{"$f":"IFERROR(G521*(1-Оглавление!$D$37),\"по запросу\")","v":13499.320799999998},134.66999999999999,"шт",null,0,0]
[null,"IDKOM075E","Мембранный клапан ПП (PP-H) с фланцевыми окончаниями EPDM 75 IPS",10,"Арматура","RUB",{"$f":"IFERROR(I522*Оглавление!$E$23,\"по запросу\")","v":33317.771199999996},{"$f":"IFERROR(G522*(1-Оглавление!$D$37),\"по запросу\")","v":33317.771199999996},332.38,"шт",null,0,0]
[null,"IDKOM090E","Мембранный клапан ПП (PP-H) с фланцевыми окончаниями EPDM 90 IPS",10,"Арматура","RUB",{"$f":"IFERROR(I523*Оглавление!$E$23,\"по запросу\")","v":45593.161599999992},{"$f":"IFERROR(G523*(1-Оглавление!$D$37),\"по запросу\")","v":45593.161599999992},454.84,"шт",null,0,0]
[null,"IDKOM110E","Мембранный клапан ПП (PP-H) с фланцевыми окончаниями EPDM 110 IPS",10,"Арматура","RUB",{"$f":"IFERROR(I524*Оглавление!$E$23,\"по запросу\")","v":49852.359199999999},{"$f":"IFERROR(G524*(1-Оглавление!$D$37),\"по запросу\")","v":49852.359199999999},497.33,"шт",null,0,0]
[null,"IDKOM020F","Мембранный клапан ПП (PP-H) с фланцевыми окончаниями FKM 20 IPS",10,"Арматура","RUB",{"$f":"IFERROR(I525*Оглавление!$E$23,\"по запросу\")","v":6665.96},{"$f":"IFERROR(G525*(1-Оглавление!$D$37),\"по запросу\")","v":6665.96},66.5,"шт",null,0,0]
[null,"IDKOM025F","Мембранный клапан ПП (PP-H) с фланцевыми окончаниями FKM 25 IPS",10,"Арматура","RUB",{"$f":"IFERROR(I526*Оглавление!$E$23,\"по запросу\")","v":7604.2063999999991},{"$f":"IFERROR(G526*(1-Оглавление!$D$37),\"по запросу\")","v":7604.2063999999991},75.86,"шт",null,0,0]
[null,"IDKOM032F","Мембранный клапан ПП (PP-H) с фланцевыми окончаниями FKM 32 IPS",10,"Арматура","RUB",{"$f":"IFERROR(I527*Оглавление!$E$23,\"по запросу\")","v":10669.545599999999},{"$f":"IFERROR(G527*(1-Оглавление!$D$37),\"по запросу\")","v":10669.545599999999},106.44,"шт",null,0,0]
[null,"IDKOM040F","Мембранный клапан ПП (PP-H) с фланцевыми окончаниями FKM 40 IPS",10,"Арматура","RUB",{"$f":"IFERROR(I528*Оглавление!$E$23,\"по запросу\")","v":13138.456799999998},{"$f":"IFERROR(G528*(1-Оглавление!$D$37),\"по запросу\")","v":13138.456799999998},131.07,"шт",null,0,0]
[null,"IDKOM050F","Мембранный клапан ПП (PP-H) с фланцевыми окончаниями FKM 50 IPS",10,"Арматура","RUB",{"$f":"IFERROR(I529*Оглавление!$E$23,\"по запросу\")","v":15051.036},{"$f":"IFERROR(G529*(1-Оглавление!$D$37),\"по запросу\")","v":15051.036},150.15,"шт",null,0,0]
[null,"IDKOM063F","Мембранный клапан ПП (PP-H) с фланцевыми окончаниями FKM 63 IPS",10,"Арматура","RUB",{"$f":"IFERROR(I530*Оглавление!$E$23,\"по запросу\")","v":16873.3992},{"$f":"IFERROR(G530*(1-Оглавление!$D$37),\"по запросу\")","v":16873.3992},168.33,"шт",null,0,0]
[null,"IDKOM075F","Мембранный клапан ПП (PP-H) с фланцевыми окончаниями FKM 75 IPS",10,"Арматура","RUB",{"$f":"IFERROR(I531*Оглавление!$E$23,\"по запросу\")","v":38328.768799999998},{"$f":"IFERROR(G531*(1-Оглавление!$D$37),\"по запросу\")","v":38328.768799999998},382.37,"шт",null,0,0]
[null,"IDKOM090F","Мембранный клапан ПП (PP-H) с фланцевыми окончаниями FKM 90 IPS",10,"Арматура","RUB",{"$f":"IFERROR(I532*Оглавление!$E$23,\"по запросу\")","v":50979.056799999998},{"$f":"IFERROR(G532*(1-Оглавление!$D$37),\"по запросу\")","v":50979.056799999998},508.57,"шт",null,0,0]
[null,"IDKOM110F","Мембранный клапан ПП (PP-H) с фланцевыми окончаниями FKM 110 IPS",10,"Арматура","RUB",{"$f":"IFERROR(I533*Оглавление!$E$23,\"по запросу\")","v":63630.347199999997},{"$f":"IFERROR(G533*(1-Оглавление!$D$37),\"по запросу\")","v":63630.347199999997},634.78,"шт",null,0,0]
[null,"IDKOM020P","Мембранный клапан ПП (PP-H) с фланцевыми окончаниями PTPE 20 IPS",10,"Арматура","RUB",{"$f":"IFERROR(I534*Оглавление!$E$23,\"по запросу\")","v":6665.96},{"$f":"IFERROR(G534*(1-Оглавление!$D$37),\"по запросу\")","v":6665.96},66.5,"шт",null,0,0]
[null,"IDKOM025P","Мембранный клапан ПП (PP-H) с фланцевыми окончаниями PTPE 25 IPS",10,"Арматура","RUB",{"$f":"IFERROR(I535*Оглавление!$E$23,\"по запросу\")","v":7604.2063999999991},{"$f":"IFERROR(G535*(1-Оглавление!$D$37),\"по запросу\")","v":7604.2063999999991},75.86,"шт",null,0,0]
[null,"IDKOM032P","Мембранный клапан ПП (PP-H) с фланцевыми окончаниями PTPE 32 IPS",10,"Арматура","RUB",{"$f":"IFERROR(I536*Оглавление!$E$23,\"по запросу\")","v":10669.545599999999},{"$f":"IFERROR(G536*(1-Оглавление!$D$37),\"по запросу\")","v":10669.545599999999},106.44,"шт",null,0,0]
[null,"IDKOM040P","Мембранный клапан ПП (PP-H) с фланцевыми окончаниями PTPE 40 IPS",10,"Арматура","RUB",{"$f":"IFERROR(I537*Оглавление!$E$23,\"по запросу\")","v":13138.456799999998},{"$f":"IFERROR(G537*(1-Оглавление!$D$37),\"по запросу\")","v":13138.456799999998},131.07,"шт",null,0,0]
[null,"IDKOM050P","Мембранный клапан ПП (PP-H) с фланцевыми окончаниями PTPE 50 IPS",10,"Арматура","RUB",{"$f":"IFERROR(I538*Оглавление!$E$23,\"по запросу\")","v":15051.036},{"$f":"IFERROR(G538*(1-Оглавление!$D$37),\"по запросу\")","v":15051.036},150.15,"шт",null,0,0]
[null,"IDKOM063P","Мембранный клапан ПП (PP-H) с фланцевыми окончаниями PTPE 63 IPS",10,"Арматура","RUB",{"$f":"IFERROR(I539*Оглавление!$E$23,\"по запросу\")","v":16873.3992},{"$f":"IFERROR(G539*(1-Оглавление!$D$37),\"по запросу\")","v":16873.3992},168.33,"шт",null,0,0]
[null,"IDKOM075P","Мембранный клапан ПП (PP-H) с фланцевыми окончаниями PTPE 75 IPS",10,"Арматура","RUB",{"$f":"IFERROR(I540*Оглавление!$E$23,\"по запросу\")","v":38328.768799999998},{"$f":"IFERROR(G540*(1-Оглавление!$D$37),\"по запросу\")","v":38328.768799999998},382.37,"шт",null,0,0]
[null,"IDKOM090P","Мембранный клапан ПП (PP-H) с фланцевыми окончаниями PTPE 90 IPS",10,"Арматура","RUB",{"$f":"IFERROR(I541*Оглавление!$E$23,\"по запросу\")","v":50979.056799999998},{"$f":"IFERROR(G541*(1-Оглавление!$D$37),\"по запросу\")","v":50979.056799999998},508.57,"шт",null,0,0]
[null,"IDKOM110P","Мембранный клапан ПП (PP-H) с фланцевыми окончаниями PTPE 110 IPS",10,"Арматура","RUB",{"$f":"IFERROR(I542*Оглавление!$E$23,\"по запросу\")","v":63630.347199999997},{"$f":"IFERROR(G542*(1-Оглавление!$D$37),\"по запросу\")","v":63630.347199999997},634.78,"шт",null,0,0]
[null,"IRVUIM020E","Фильтр сетчатый ПП (PP-H) муфтовый EPDM D20 (DN15) FIP",10,"Арматура","RUB",{"$f":"IFERROR(I543*Оглавление!$E$23,\"по запросу\")","v":2809.7271999999998},{"$f":"IFERROR(G543*(1-Оглавление!$D$37),\"по запросу\")","v":2809.7271999999998},28.03,"шт",null,0,0]
[null,"IRVUIM025E","Фильтр сетчатый ПП (PP-H) муфтовый EPDM D25 (DN20) FIP",10,"Арматура","RUB",{"$f":"IFERROR(I544*Оглавление!$E$23,\"по запросу\")","v":3172.5959999999995},{"$f":"IFERROR(G544*(1-Оглавление!$D$37),\"по запросу\")","v":3172.5959999999995},31.65,"шт",null,0,0]
[null,"IRVUIM032E","Фильтр сетчатый ПП (PP-H) муфтовый EPDM D32 (DN25) FIP",10,"Арматура","RUB",{"$f":"IFERROR(I545*Оглавление!$E$23,\"по запросу\")","v":4260.2},{"$f":"IFERROR(G545*(1-Оглавление!$D$37),\"по запросу\")","v":4260.2},42.5,"шт",null,0,0]
[null,"IRVUIM040E","Фильтр сетчатый ПП (PP-H) муфтовый EPDM D40 (DN32) FIP",10,"Арматура","RUB",{"$f":"IFERROR(I546*Оглавление!$E$23,\"по запросу\")","v":9607.0015999999996},{"$f":"IFERROR(G546*(1-Оглавление!$D$37),\"по запросу\")","v":9607.0015999999996},95.84,"шт",null,0,0]
[null,"IRVUIM050E","Фильтр сетчатый ПП (PP-H) муфтовый EPDM D50 (DN40) FIP",10,"Арматура","RUB",{"$f":"IFERROR(I547*Оглавление!$E$23,\"по запросу\")","v":10967.258399999999},{"$f":"IFERROR(G547*(1-Оглавление!$D$37),\"по запросу\")","v":10967.258399999999},109.41,"шт",null,{"$f":"IFERROR(K547*G547,\"0 ₽\")","v":0},0]
[null,"IRVUIM063E","Фильтр сетчатый ПП (PP-H) муфтовый EPDM D63 (DN50) FIP",10,"Арматура","RUB",{"$f":"IFERROR(I548*Оглавление!$E$23,\"по запросу\")","v":16405.278399999999},{"$f":"IFERROR(G548*(1-Оглавление!$D$37),\"по запросу\")","v":16405.278399999999},163.66,"шт",null,0,0]
[null,"IRVUIM075E","Фильтр сетчатый ПП (PP-H) муфтовый EPDM D75 (DN65) FIP",10,"Арматура","RUB",{"$f":"IFERROR(I549*Оглавление!$E$23,\"по запросу\")","v":38882.0936},{"$f":"IFERROR(G549*(1-Оглавление!$D$37),\"по запросу\")","v":38882.0936},387.89,"шт",null,0,0]
[null,"IRVUIM090E","Фильтр сетчатый ПП (PP-H) муфтовый EPDM D90 (DN80) FIP",10,"Арматура","RUB",{"$f":"IFERROR(I550*Оглавление!$E$23,\"по запросу\")","v":48851.964},{"$f":"IFERROR(G550*(1-Оглавление!$D$37),\"по запросу\")","v":48851.964},487.35,"шт",null,0,0]
[null,"IRVUIM110E","Фильтр сетчатый ПП (PP-H) муфтовый EPDM D110 (DN100) FIP",10,"Арматура","RUB",{"$f":"IFERROR(I551*Оглавление!$E$23,\"по запросу\")","v":59819.222399999999},{"$f":"IFERROR(G551*(1-Оглавление!$D$37),\"по запросу\")","v":59819.222399999999},596.76,"шт",null,0,0]
[null,"IRVUIM020F","Фильтр сетчатый ПП (PP-H) муфтовый FKM D20 (DN15) FIP",10,"Арматура","RUB",{"$f":"IFERROR(I552*Оглавление!$E$23,\"по запросу\")","v":2809.7271999999998},{"$f":"IFERROR(G552*(1-Оглавление!$D$37),\"по запросу\")","v":2809.7271999999998},28.03,"шт",null,0,0]
[null,"IRVUIM025F","Фильтр сетчатый ПП (PP-H) муфтовый FKM D25 (DN20) FIP",10,"Арматура","RUB",{"$f":"IFERROR(I553*Оглавление!$E$23,\"по запросу\")","v":3172.5959999999995},{"$f":"IFERROR(G553*(1-Оглавление!$D$37),\"по запросу\")","v":3172.5959999999995},31.65,"шт",null,0,0]
[null,"IRVUIM032F","Фильтр сетчатый ПП (PP-H) муфтовый FKM D32 (DN25) FIP",10,"Арматура","RUB",{"$f":"IFERROR(I554*Оглавление!$E$23,\"по запросу\")","v":4260.2},{"$f":"IFERROR(G554*(1-Оглавление!$D$37),\"по запросу\")","v":4260.2},42.5,"шт",null,0,0]
[null,"IRVUIM040F","Фильтр сетчатый ПП (PP-H) муфтовый FKM D40 (DN32) FIP",10,"Арматура","RUB",{"$f":"IFERROR(I555*Оглавление!$E$23,\"по запросу\")","v":9607.0015999999996},{"$f":"IFERROR(G555*(1-Оглавление!$D$37),\"по запросу\")","v":9607.0015999999996},95.84,"шт",null,0,0]
[null,"IRVUIM050F","Фильтр сетчатый ПП (PP-H) муфтовый FKM D50 (DN40) FIP",10,"Арматура","RUB",{"$f":"IFERROR(I556*Оглавление!$E$23,\"по запросу\")","v":10967.258399999999},{"$f":"IFERROR(G556*(1-Оглавление!$D$37),\"по запросу\")","v":10967.258399999999},109.41,"шт",null,0,0]
[null,"IRVUIM063F","Фильтр сетчатый ПП (PP-H) муфтовый FKM D63 (DN50) FIP",10,"Арматура","RUB",{"$f":"IFERROR(I557*Оглавление!$E$23,\"по запросу\")","v":16405.278399999999},{"$f":"IFERROR(G557*(1-Оглавление!$D$37),\"по запросу\")","v":16405.278399999999},163.66,"шт",null,0,0]
[null,"IRVUIM075F","Фильтр сетчатый ПП (PP-H) муфтовый FKM D75 (DN65) FIP",10,"Арматура","RUB",{"$f":"IFERROR(I558*Оглавление!$E$23,\"по запросу\")","v":38882.0936},{"$f":"IFERROR(G558*(1-Оглавление!$D$37),\"по запросу\")","v":38882.0936},387.89,"шт",null,0,0]
[null,"IRVUIM090F","Фильтр сетчатый ПП (PP-H) муфтовый FKM D90 (DN80) FIP",10,"Арматура","RUB",{"$f":"IFERROR(I559*Оглавление!$E$23,\"по запросу\")","v":48851.964},{"$f":"IFERROR(G559*(1-Оглавление!$D$37),\"по запросу\")","v":48851.964},487.35,"шт",null,0,0]
[null,"IRVUIM110F","Фильтр сетчатый ПП (PP-H) муфтовый FKM D110 (DN100) FIP",10,"Арматура","RUB",{"$f":"IFERROR(I560*Оглавление!$E$23,\"по запросу\")","v":59819.222399999999},{"$f":"IFERROR(G560*(1-Оглавление!$D$37),\"по запросу\")","v":59819.222399999999},596.76,"шт",null,0,0]

{"sheet":"ПП (PP-H) FIP","index":7,"n_rows":217,"n_cols":13,"rows_kept":217,"cut":false,"hidden":false,"merged":[[190,0,210,0],[211,0,216,0],[87,0,106,0],[107,0,126,0],[127,0,138,0],[139,0,150,0],[151,0,168,0],[169,0,189,0],[9,0,28,0],[29,0,40,0],[41,0,58,0],[59,0,70,0],[71,0,86,0]]}
[null,null,null,null,null,null,null,null,null,{"$f":"COUNT(K10:K217)","v":0},"Товаров в заказе"]
[null,null,null,null,null,null,null,null,null,{"$f":"SUM(M10:M217)","v":0},"Сумма заказа со скидкой с НДС"]
[]
[]
[]
[]
[]
[]
["Фото","Код","Наименование","PN","Категория","Валюта\nпродажи","Цена\nПРОДАЖИ с НДС ","Цена с НДС\nсо скидкой","Цена\nEUR","Ед. измерения","Заказ (метры/штуки)","Сумма рубли","Сумма со скидкой"]
[null,"VKDIM016E","Кран шаровой ПП (PP-H) муфтовый промышленный EPDM 16 FIP",10,"Арматура","RUB",{"$f":"IFERROR(I10*Оглавление!$E$23,\"по запросу\")","v":7361.6255999999994},{"$f":"IFERROR(G10*(1-Оглавление!$D$38),\"по запросу\")","v":7361.6255999999994},73.44,"шт",null,{"$f":"IFERROR(K10*G10,\"0 ₽\")","v":0},{"$f":"IFERROR(K10*H10,\"0 ₽\")","v":0}]
[null,"VKDIM020E","Кран шаровой ПП (PP-H) муфтовый промышленный EPDM 20 FIP",10,"Арматура","RUB",{"$f":"IFERROR(I11*Оглавление!$E$23,\"по запросу\")","v":7379.6688000000004},{"$f":"IFERROR(G11*(1-Оглавление!$D$38),\"по запросу\")","v":7379.6688000000004},73.62,"шт",null,0,0]
[null,"VKDIM025E","Кран шаровой ПП (PP-H) муфтовый промышленный EPDM 25 FIP",10,"Арматура","RUB",{"$f":"IFERROR(I12*Оглавление!$E$23,\"по запросу\")","v":8712.8608000000004},{"$f":"IFERROR(G12*(1-Оглавление!$D$38),\"по запросу\")","v":8712.8608000000004},86.92,"шт",null,0,0]
[null,"VKDIM032E","Кран шаровой ПП (PP-H) муфтовый промышленный EPDM 32 FIP",10,"Арматура","RUB",{"$f":"IFERROR(I13*Оглавление!$E$23,\"по запросу\")","v":10757.756799999999},{"$f":"IFERROR(G13*(1-Оглавление!$D$38),\"по запросу\")","v":10757.756799999999},107.32,"шт",null,0,0]
[null,"VKDIM040E","Кран шаровой ПП (PP-H) муфтовый промышленный EPDM 40 FIP",10,"Арматура","RUB",{"$f":"IFERROR(I14*Оглавление!$E$23,\"по запросу\")","v":13327.910400000001},{"$f":"IFERROR(G14*(1-Оглавление!$D$38),\"по запросу\")","v":13327.910400000001},132.96,"шт",null,0,0]
[null,"VKDIM050E","Кран шаровой ПП (PP-H) муфтовый промышленный EPDM 50 FIP",10,"Арматура","RUB",{"$f":"IFERROR(I15*Оглавление!$E$23,\"по запросу\")","v":17255.313599999998},{"$f":"IFERROR(G15*(1-Оглавление!$D$38),\"по запросу\")","v":17255.313599999998},172.14,"шт",null,0,0]
[null,"VKDIM063E","Кран шаровой ПП (PP-H) муфтовый промышленный EPDM 63 FIP",10,"Арматура","RUB",{"$f":"IFERROR(I16*Оглавление!$E$23,\"по запросу\")","v":21513.5088},{"$f":"IFERROR(G16*(1-Оглавление!$D$38),\"по запросу\")","v":21513.5088},214.62,"шт",null,0,0]
[null,"VKDIM075E","Кран шаровой ПП (PP-H) муфтовый промышленный EPDM 75 FIP",10,"Арматура","RUB",{"$f":"IFERROR(I17*Оглавление!$E$23,\"по запросу\")","v":65061.774399999995},{"$f":"IFERROR(G17*(1-Оглавление!$D$38),\"по запросу\")","v":65061.774399999995},649.05999999999995,"шт",null,0,0]
[null,"VKDIM090E","Кран шаровой ПП (PP-H) муфтовый промышленный EPDM 90 FIP",10,"Арматура","RUB",{"$f":"IFERROR(I18*Оглавление!$E$23,\"по запросу\")","v":81779.801600000006},{"$f":"IFERROR(G18*(1-Оглавление!$D$38),\"по запросу\")","v":81779.801600000006},815.84,"шт",null,0,0]
[null,"VKDIM110E","Кран шаровой ПП (PP-H) муфтовый промышленный EPDM 110 FIP",10,"Арматура","RUB",{"$f":"IFERROR(I19*Оглавление!$E$23,\"по запросу\")","v":99009.052800000005},{"$f":"IFERROR(G19*(1-Оглавление!$D$38),\"по запросу\")","v":99009.052800000005},987.72,"шт",null,0,0]
[null,"VKDIM016F","Кран шаровой ПП (PP-H) муфтовый промышленный FKM 16 FIP",10,"Арматура","RUB",{"$f":"IFERROR(I20*Оглавление!$E$23,\"по запросу\")","v":8893.2927999999993},{"$f":"IFERROR(G20*(1-Оглавление!$D$38),\"по запросу\")","v":8893.2927999999993},88.72,"шт",null,0,0]
[null,"VKDIM020F","Кран шаровой ПП (PP-H) муфтовый промышленный FKM 20 FIP",10,"Арматура","RUB",{"$f":"IFERROR(I21*Оглавление!$E$23,\"по запросу\")","v":8899.3071999999993},{"$f":"IFERROR(G21*(1-Оглавление!$D$38),\"по запросу\")","v":8899.3071999999993},88.78,"шт",null,0,0]
[null,"VKDIM025F","Кран шаровой ПП (PP-H) муфтовый промышленный FKM 25 FIP",10,"Арматура","RUB",{"$f":"IFERROR(I22*Оглавление!$E$23,\"по запросу\")","v":10318.705599999999},{"$f":"IFERROR(G22*(1-Оглавление!$D$38),\"по запросу\")","v":10318.705599999999},102.94,"шт",null,0,0]
[null,"VKDIM032F","Кран шаровой ПП (PP-H) муфтовый промышленный FKM 32 FIP",10,"Арматура","RUB",{"$f":"IFERROR(I23*Оглавление!$E$23,\"по запросу\")","v":13159.5072},{"$f":"IFERROR(G23*(1-Оглавление!$D$38),\"по запросу\")","v":13159.5072},131.28,"шт",null,0,0]
[null,"VKDIM040F","Кран шаровой ПП (PP-H) муфтовый промышленный FKM 40 FIP",10,"Арматура","RUB",{"$f":"IFERROR(I24*Оглавление!$E$23,\"по запросу\")","v":16016.3472},{"$f":"IFERROR(G24*(1-Оглавление!$D$38),\"по запросу\")","v":16016.3472},159.78,"шт",null,0,0]
[null,"VKDIM050F","Кран шаровой ПП (PP-H) муфтовый промышленный FKM 50 FIP",10,"Арматура","RUB",{"$f":"IFERROR(I25*Оглавление!$E$23,\"по запросу\")","v":20352.729599999999},{"$f":"IFERROR(G25*(1-Оглавление!$D$38),\"по запросу\")","v":20352.729599999999},203.04,"шт",null,0,0]
[null,"VKDIM063F","Кран шаровой ПП (PP-H) муфтовый промышленный FKM 63 FIP",10,"Арматура","RUB",{"$f":"IFERROR(I26*Оглавление!$E$23,\"по запросу\")","v":27205.135999999995},{"$f":"IFERROR(G26*(1-Оглавление!$D$38),\"по запросу\")","v":27205.135999999995},271.39999999999998,"шт",null,0,0]
[null,"VKDIM075F","Кран шаровой ПП (PP-H) муфтовый промышленный FKM 75 FIP",10,"Арматура","RUB",{"$f":"IFERROR(I27*Оглавление!$E$23,\"по запросу\")","v":82036.415999999997},{"$f":"IFERROR(G27*(1-Оглавление!$D$38),\"по запросу\")","v":82036.415999999997},818.4,"шт",null,0,0]
[null,"VKDIM090F","Кран шаровой ПП (PP-H) муфтовый промышленный FKM 90 FIP",10,"Арматура","RUB",{"$f":"IFERROR(I28*Оглавление!$E$23,\"по запросу\")","v":103120.8976},{"$f":"IFERROR(G28*(1-Оглавление!$D$38),\"по запросу\")","v":103120.8976},1028.74,"шт",null,0,0]
[null,"VKDIM110F","Кран шаровой ПП (PP-H) муфтовый промышленный FKM 110 FIP",10,"Арматура","RUB",{"$f":"IFERROR(I29*Оглавление!$E$23,\"по запросу\")","v":120338.12},{"$f":"IFERROR(G29*(1-Оглавление!$D$38),\"по запросу\")","v":120338.12},1200.5,"шт",null,0,0]
[null,"VKDDM020E","Кран шаровой ПП (PP-H) втулочный промышленный EPDM D20 (DN15) FIP",10,"Арматура","RUB",{"$f":"IFERROR(I30*Оглавление!$E$23,\"по запросу\")","v":7379.6688000000004},{"$f":"IFERROR(G30*(1-Оглавление!$D$38),\"по запросу\")","v":7379.6688000000004},73.62,"шт",null,0,0]
[null,"VKDDM025E","Кран шаровой ПП (PP-H) втулочный промышленный EPDM D25 (DN20) FIP",10,"Арматура","RUB",{"$f":"IFERROR(I31*Оглавление!$E$23,\"по запросу\")","v":8712.8608000000004},{"$f":"IFERROR(G31*(1-Оглавление!$D$38),\"по запросу\")","v":8712.8608000000004},86.92,"шт",null,0,0]
[null,"VKDDM032E","Кран шаровой ПП (PP-H) втулочный промышленный EPDM D32 (DN25) FIP",10,"Арматура","RUB",{"$f":"IFERROR(I32*Оглавление!$E$23,\"по запросу\")","v":10757.756799999999},{"$f":"IFERROR(G32*(1-Оглавление!$D$38),\"по запросу\")","v":10757.756799999999},107.32,"шт",null,0,0]
[null,"VKDDM040E","Кран шаровой ПП (PP-H) втулочный промышленный EPDM D40 (DN32) FIP",10,"Арматура","RUB",{"$f":"IFERROR(I33*Оглавление!$E$23,\"по запросу\")","v":13327.910400000001},{"$f":"IFERROR(G33*(1-Оглавление!$D$38),\"по запросу\")","v":13327.910400000001},132.96,"шт",null,0,0]
[null,"VKDDM050E","Кран шаровой ПП (PP-H) втулочный промышленный EPDM D50 (DN40) FIP",10,"Арматура","RUB",{"$f":"IFERROR(I34*Оглавление!$E$23,\"по запросу\")","v":17255.313599999998},{"$f":"IFERROR(G34*(1-Оглавление!$D$38),\"по запросу\")","v":17255.313599999998},172.14,"шт",null,0,0]
[null,"VKDDM063E","Кран шаровой ПП (PP-H) втулочный промышленный EPDM D63 (DN50) FIP",10,"Арматура","RUB",{"$f":"IFERROR(I35*Оглавление!$E$23,\"по запросу\")","v":21513.5088},{"$f":"IFERROR(G35*(1-Оглавление!$D$38),\"по запросу\")","v":21513.5088},214.62,"шт",null,0,0]
[null,"VKDDM020F","Кран шаровой ПП (PP-H) втулочный промышленный FKM D20 (DN15) FIP",10,"Арматура","RUB",{"$f":"IFERROR(I36*Оглавление!$E$23,\"по запросу\")","v":8899.3071999999993},{"$f":"IFERROR(G36*(1-Оглавление!$D$38),\"по запросу\")","v":8899.3071999999993},88.78,"шт",null,0,0]
[null,"VKDDM025F","Кран шаровой ПП (PP-H) втулочный промышленный FKM D25 (DN20) FIP",10,"Арматура","RUB",{"$f":"IFERROR(I37*Оглавление!$E$23,\"по запросу\")","v":10318.705599999999},{"$f":"IFERROR(G37*(1-Оглавление!$D$38),\"по запросу\")","v":10318.705599999999},102.94,"шт",null,0,0]
[null,"VKDDM032F","Кран шаровой ПП (PP-H) втулочный промышленный FKM D32 (DN25) FIP",10,"Арматура","RUB",{"$f":"IFERROR(I38*Оглавление!$E$23,\"по запросу\")","v":13159.5072},{"$f":"IFERROR(G38*(1-Оглавление!$D$38),\"по запросу\")","v":13159.5072},131.28,"шт",null,0,0]
[null,"VKDDM040F","Кран шаровой ПП (PP-H) втулочный промышленный FKM D40 (DN32) FIP",10,"Арматура","RUB",{"$f":"IFERROR(I39*Оглавление!$E$23,\"по запросу\")","v":16016.3472},{"$f":"IFERROR(G39*(1-Оглавление!$D$38),\"по запросу\")","v":16016.3472},159.78,"шт",null,0,0]
[null,"VKDDM050F","Кран шаровой ПП (PP-H) втулочный промышленный FKM D50 (DN40) FIP",10,"Арматура","RUB",{"$f":"IFERROR(I40*Оглавление!$E$23,\"по запросу\")","v":20352.729599999999},{"$f":"IFERROR(G40*(1-Оглавление!$D$38),\"по запросу\")","v":20352.729599999999},203.04,"шт",null,0,0]
[null,"VKDDM063F","Кран шаровой ПП (PP-H) втулочный промышленный FKM D63 (DN50) FIP",10,"Арматура","RUB",{"$f":"IFERROR(I41*Оглавление!$E$23,\"по запросу\")","v":27205.135999999995},{"$f":"IFERROR(G41*(1-Оглавление!$D$38),\"по запросу\")","v":27205.135999999995},271.39999999999998,"шт",null,0,0]
[null,"VKDOM020E","Кран шаровой ПП (PP-H) фланцевый промышленный EPDM 20 FIP",10,"Арматура","RUB",{"$f":"IFERROR(I42*Оглавление!$E$23,\"по запросу\")","v":14877.620799999999},{"$f":"IFERROR(G42*(1-Оглавление!$D$38),\"по запросу\")","v":14877.620799999999},148.41999999999999,"шт",null,0,0]
[null,"VKDOM025E","Кран шаровой ПП (PP-H) фланцевый промышленный EPDM 25 FIP",10,"Арматура","RUB",{"$f":"IFERROR(I43*Оглавление!$E$23,\"по запросу\")","v":17481.856},{"$f":"IFERROR(G43*(1-Оглавление!$D$38),\"по запросу\")","v":17481.856},174.4,"шт",null,0,0]
[null,"VKDOM032E","Кран шаровой ПП (PP-H) фланцевый промышленный EPDM 32 FIP",10,"Арматура","RUB",{"$f":"IFERROR(I44*Оглавление!$E$23,\"по запросу\")","v":21858.3344},{"$f":"IFERROR(G44*(1-Оглавление!$D$38),\"по запросу\")","v":21858.3344},218.06,"шт",null,0,0]
[null,"VKDOM040E","Кран шаровой ПП (PP-H) фланцевый промышленный EPDM 40 FIP",10,"Арматура","RUB",{"$f":"IFERROR(I45*Оглавление!$E$23,\"по запросу\")","v":28524.294399999999},{"$f":"IFERROR(G45*(1-Оглавление!$D$38),\"по запросу\")","v":28524.294399999999},284.56,"шт",null,0,0]
[null,"VKDOM050E","Кран шаровой ПП (PP-H) фланцевый промышленный EPDM 50 FIP",10,"Арматура","RUB",{"$f":"IFERROR(I46*Оглавление!$E$23,\"по запросу\")","v":33835.009599999998},{"$f":"IFERROR(G46*(1-Оглавление!$D$38),\"по запросу\")","v":33835.009599999998},337.54,"шт",null,0,0]
[null,"VKDOM063E","Кран шаровой ПП (PP-H) фланцевый промышленный EPDM 63 FIP",10,"Арматура","RUB",{"$f":"IFERROR(I47*Оглавление!$E$23,\"по запросу\")","v":41721.892800000001},{"$f":"IFERROR(G47*(1-Оглавление!$D$38),\"по запросу\")","v":41721.892800000001},416.22,"шт",null,0,0]
[null,"VKDOM075E","Кран шаровой ПП (PP-H) фланцевый промышленный EPDM 75 FIP",10,"Арматура","RUB",{"$f":"IFERROR(I48*Оглавление!$E$23,\"по запросу\")","v":87834.297599999991},{"$f":"IFERROR(G48*(1-Оглавление!$D$38),\"по запросу\")","v":87834.297599999991},876.24,"шт",null,0,0]
[null,"VKDOM090E","Кран шаровой ПП (PP-H) фланцевый промышленный EPDM 90 FIP",10,"Арматура","RUB",{"$f":"IFERROR(I49*Оглавление!$E$23,\"по запросу\")","v":110400.32639999999},{"$f":"IFERROR(G49*(1-Оглавление!$D$38),\"по запросу\")","v":110400.32639999999},1101.3599999999999,"шт",null,0,0]
[null,"VKDOM110E","Кран шаровой ПП (PP-H) фланцевый промышленный EPDM 110 FIP",10,"Арматура","RUB",{"$f":"IFERROR(I50*Оглавление!$E$23,\"по запросу\")","v":133666.03039999999},{"$f":"IFERROR(G50*(1-Оглавление!$D$38),\"по запросу\")","v":133666.03039999999},1333.46,"шт",null,0,0]
[null,"VKDOM020F","Кран шаровой ПП (PP-H) фланцевый промышленный FKM 20 FIP",10,"Арматура","RUB",{"$f":"IFERROR(I51*Оглавление!$E$23,\"по запросу\")","v":17185.1456},{"$f":"IFERROR(G51*(1-Оглавление!$D$38),\"по запросу\")","v":17185.1456},171.44,"шт",null,0,0]
[null,"VKDOM025F","Кран шаровой ПП (PP-H) фланцевый промышленный FKM 25 FIP",10,"Арматура","RUB",{"$f":"IFERROR(I52*Оглавление!$E$23,\"по запросу\")","v":19795.395199999999},{"$f":"IFERROR(G52*(1-Оглавление!$D$38),\"по запросу\")","v":19795.395199999999},197.48,"шт",null,0,0]
[null,"VKDOM032F","Кран шаровой ПП (PP-H) фланцевый промышленный FKM 32 FIP",10,"Арматура","RUB",{"$f":"IFERROR(I53*Оглавление!$E$23,\"по запросу\")","v":25286.542399999998},{"$f":"IFERROR(G53*(1-Оглавление!$D$38),\"по запросу\")","v":25286.542399999998},252.26,"шт",null,0,0]
[null,"VKDOM040F","Кран шаровой ПП (PP-H) фланцевый промышленный FKM 40 FIP",10,"Арматура","RUB",{"$f":"IFERROR(I54*Оглавление!$E$23,\"по запросу\")","v":32197.087999999996},{"$f":"IFERROR(G54*(1-Оглавление!$D$38),\"по запросу\")","v":32197.087999999996},321.2,"шт",null,0,0]
[null,"VKDOM050F","Кран шаровой ПП (PP-H) фланцевый промышленный FKM 50 FIP",10,"Арматура","RUB",{"$f":"IFERROR(I55*Оглавление!$E$23,\"по запросу\")","v":36501.393599999996},{"$f":"IFERROR(G55*(1-Оглавление!$D$38),\"по запросу\")","v":36501.393599999996},364.14,"шт",null,0,0]
[null,"VKDOM063F","Кран шаровой ПП (PP-H) фланцевый промышленный FKM 63 FIP",10,"Арматура","RUB",{"$f":"IFERROR(I56*Оглавление!$E$23,\"по запросу\")","v":48375.824000000001},{"$f":"IFERROR(G56*(1-Оглавление!$D$38),\"по запросу\")","v":48375.824000000001},482.6,"шт",null,0,0]
[null,"VKDOM075F","Кран шаровой ПП (PP-H) фланцевый промышленный FKM 75 FIP",10,"Арматура","RUB",{"$f":"IFERROR(I57*Оглавление!$E$23,\"по запросу\")","v":104806.93439999998},{"$f":"IFERROR(G57*(1-Оглавление!$D$38),\"по запросу\")","v":104806.93439999998},1045.56,"шт",null,0,0]
[null,"VKDOM090F","Кран шаровой ПП (PP-H) фланцевый промышленный FKM 90 FIP",10,"Арматура","RUB",{"$f":"IFERROR(I58*Оглавление!$E$23,\"по запросу\")","v":131739.41759999999},{"$f":"IFERROR(G58*(1-Оглавление!$D$38),\"по запросу\")","v":131739.41759999999},1314.24,"шт",null,0,0]
[null,"VKDOM110F","Кран шаровой ПП (PP-H) фланцевый промышленный FKM 110 FIP",10,"Арматура","RUB",{"$f":"IFERROR(I59*Оглавление!$E$23,\"по запросу\")","v":154991.08799999999},{"$f":"IFERROR(G59*(1-Оглавление!$D$38),\"по запросу\")","v":154991.08799999999},1546.2,"шт",null,0,0]
[null,"TKDIM020E","Кран трехходовой ПП (PP-H) T-шар муфтовый EPDM D20 (DN15) FIP",10,"Арматура","RUB",{"$f":"IFERROR(I60*Оглавление!$E$23,\"по запросу\")","v":14578.905599999998},{"$f":"IFERROR(G60*(1-Оглавление!$D$38),\"по запросу\")","v":14578.905599999998},145.44,"шт",null,0,0]
[null,"TKDIM025E","Кран трехходовой ПП (PP-H) T-шар муфтовый EPDM D25 (DN20) FIP",10,"Арматура","RUB",{"$f":"IFERROR(I61*Оглавление!$E$23,\"по запросу\")","v":16379.216},{"$f":"IFERROR(G61*(1-Оглавление!$D$38),\"по запросу\")","v":16379.216},163.4,"шт",null,0,0]
[null,"TKDIM032E","Кран трехходовой ПП (PP-H) T-шар муфтовый EPDM D32 (DN25) FIP",10,"Арматура","RUB",{"$f":"IFERROR(I62*Оглавление!$E$23,\"по запросу\")","v":21022.3328},{"$f":"IFERROR(G62*(1-Оглавление!$D$38),\"по запросу\")","v":21022.3328},209.72,"шт",null,0,0]
[null,"TKDIM040E","Кран трехходовой ПП (PP-H) T-шар муфтовый EPDM D40 (DN32) FIP",10,"Арматура","RUB",{"$f":"IFERROR(I63*Оглавление!$E$23,\"по запросу\")","v":23973.398399999998},{"$f":"IFERROR(G63*(1-Оглавление!$D$38),\"по запросу\")","v":23973.398399999998},239.16,"шт",null,0,0]
[null,"TKDIM050E","Кран трехходовой ПП (PP-H) T-шар муфтовый EPDM D50 (DN40) FIP",10,"Арматура","RUB",{"$f":"IFERROR(I64*Оглавление!$E$23,\"по запросу\")","v":28375.939199999997},{"$f":"IFERROR(G64*(1-Оглавление!$D$38),\"по запросу\")","v":28375.939199999997},283.08,"шт",null,0,0]
[null,"TKDIM063E","Кран трехходовой ПП (PP-H) T-шар муфтовый EPDM D63 (DN50) FIP",10,"Арматура","RUB",{"$f":"IFERROR(I65*Оглавление!$E$23,\"по запросу\")","v":35873.891199999998},{"$f":"IFERROR(G65*(1-Оглавление!$D$38),\"по запросу\")","v":35873.891199999998},357.88,"шт",null,0,0]
[null,"TKDIM020F","Кран трехходовой ПП (PP-H) T-шар муфтовый FKM D20 (DN15) FIP",10,"Арматура","RUB",{"$f":"IFERROR(I66*Оглавление!$E$23,\"по запросу\")","v":16473.441599999998},{"$f":"IFERROR(G66*(1-Оглавление!$D$38),\"по запросу\")","v":16473.441599999998},164.34,"шт",null,0,0]
[null,"TKDIM025F","Кран трехходовой ПП (PP-H) T-шар муфтовый FKM D25 (DN20) FIP",10,"Арматура","RUB",{"$f":"IFERROR(I67*Оглавление!$E$23,\"по запросу\")","v":18837.100799999997},{"$f":"IFERROR(G67*(1-Оглавление!$D$38),\"по запросу\")","v":18837.100799999997},187.92,"шт",null,0,0]
[null,"TKDIM032F","Кран трехходовой ПП (PP-H) T-шар муфтовый FKM D32 (DN25) FIP",10,"Арматура","RUB",{"$f":"IFERROR(I68*Оглавление!$E$23,\"по запросу\")","v":24165.859199999999},{"$f":"IFERROR(G68*(1-Оглавление!$D$38),\"по запросу\")","v":24165.859199999999},241.08,"шт",null,0,0]
[null,"TKDIM040F","Кран трехходовой ПП (PP-H) T-шар муфтовый FKM D40 (DN32) FIP",10,"Арматура","RUB",{"$f":"IFERROR(I69*Оглавление!$E$23,\"по запросу\")","v":28287.727999999999},{"$f":"IFERROR(G69*(1-Оглавление!$D$38),\"по запросу\")","v":28287.727999999999},282.2,"шт",null,0,0]
[null,"TKDIM050F","Кран трехходовой ПП (PP-H) T-шар муфтовый FKM D50 (DN40) FIP",10,"Арматура","RUB",{"$f":"IFERROR(I70*Оглавление!$E$23,\"по запросу\")","v":35460.902399999999},{"$f":"IFERROR(G70*(1-Оглавление!$D$38),\"по запросу\")","v":35460.902399999999},353.76,"шт",null,0,0]
[null,"TKDIM063F","Кран трехходовой ПП (PP-H) T-шар муфтовый FKM D63 (DN50) FIP",10,"Арматура","RUB",{"$f":"IFERROR(I71*Оглавление!$E$23,\"по запросу\")","v":44849.380799999999},{"$f":"IFERROR(G71*(1-Оглавление!$D$38),\"по запросу\")","v":44849.380799999999},447.42,"шт",null,0,0]
[null,"FKOMLM050E","Затвор дисковый ПП (PP-H) с рукояткой EPDM D50 (DN40) FIP",10,"Арматура","RUB",{"$f":"IFERROR(I72*Оглавление!$E$23,\"по запросу\")","v":27543.947199999995},{"$f":"IFERROR(G72*(1-Оглавление!$D$38),\"по запросу\")","v":27543.947199999995},274.77999999999997,"шт",null,{"$f":"IFERROR(K72*G72,\"0 ₽\")","v":0},{"$f":"IFERROR(K72*H72,\"0 ₽\")","v":0}]
[null,"FKOMLM063E","Затвор дисковый ПП (PP-H) с рукояткой EPDM D63 (DN50) FIP",10,"Арматура","RUB",{"$f":"IFERROR(I73*Оглавление!$E$23,\"по запросу\")","v":29161.820800000001},{"$f":"IFERROR(G73*(1-Оглавление!$D$38),\"по запросу\")","v":29161.820800000001},290.92,"шт",null,0,0]
[null,"FKOMLM075E","Затвор дисковый ПП (PP-H) с рукояткой EPDM D75 (DN65) FIP",10,"Арматура","RUB",{"$f":"IFERROR(I74*Оглавление!$E$23,\"по запросу\")","v":32403.582399999996},{"$f":"IFERROR(G74*(1-Оглавление!$D$38),\"по запросу\")","v":32403.582399999996},323.26,"шт",null,0,0]
[null,"FKOMLM090E","Затвор дисковый ПП (PP-H) с рукояткой EPDM D90 (DN80) FIP",10,"Арматура","RUB",{"$f":"IFERROR(I75*Оглавление!$E$23,\"по запросу\")","v":34073.580800000003},{"$f":"IFERROR(G75*(1-Оглавление!$D$38),\"по запросу\")","v":34073.580800000003},339.92,"шт",null,0,0]
[null,"FKOMLM110E","Затвор дисковый ПП (PP-H) с рукояткой EPDM D110 (DN90) FIP",10,"Арматура","RUB",{"$f":"IFERROR(I76*Оглавление!$E$23,\"по запросу\")","v":37000.588799999998},{"$f":"IFERROR(G76*(1-Оглавление!$D$38),\"по запросу\")","v":37000.588799999998},369.12,"шт",null,0,0]
[null,"FKOMLM140E","Затвор дисковый ПП (PP-H) с рукояткой EPDM D140 (DN125) FIP",10,"Арматура","RUB",{"$f":"IFERROR(I77*Оглавление!$E$23,\"по запросу\")","v":49121.609599999996},{"$f":"IFERROR(G77*(1-Оглавление!$D$38),\"по запросу\")","v":49121.609599999996},490.04,"шт",null,0,0]
[null,"FKOMLM160E","Затвор дисковый ПП (PP-H) с рукояткой EPDM D160 (DN150) FIP",10,"Арматура","RUB",{"$f":"IFERROR(I78*Оглавление!$E$23,\"по запросу\")","v":53091.113599999997},{"$f":"IFERROR(G78*(1-Оглавление!$D$38),\"по запросу\")","v":53091.113599999997},529.64,"шт",null,0,0]
[null,"FKOMLM225E","Затвор дисковый ПП (PP-H) с рукояткой EPDM D225 (DN200) FIP",10,"Арматура","RUB",{"$f":"IFERROR(I79*Оглавление!$E$23,\"по запросу\")","v":68772.659199999995},{"$f":"IFERROR(G79*(1-Оглавление!$D$38),\"по запросу\")","v":68772.659199999995},686.08,"шт",null,0,0]
[null,"FKOMLM050F","Затвор дисковый ПП (PP-H) с рукояткой FKM D50 (DN40) FIP",10,"Арматура","RUB",{"$f":"IFERROR(I80*Оглавление!$E$23,\"по запросу\")","v":39270.022399999994},{"$f":"IFERROR(G80*(1-Оглавление!$D$38),\"по запросу\")","v":39270.022399999994},391.76,"шт",null,0,0]
[null,"FKOMLM063F","Затвор дисковый ПП (PP-H) с рукояткой FKM D63 (DN50) FIP",10,"Арматура","RUB",{"$f":"IFERROR(I81*Оглавление!$E$23,\"по запросу\")","v":41577.547199999994},{"$f":"IFERROR(G81*(1-Оглавление!$D$38),\"по запросу\")","v":41577.547199999994},414.78,"шт",null,0,0]
[null,"FKOMLM075F","Затвор дисковый ПП (PP-H) с рукояткой FKM D75 (DN65) FIP",10,"Арматура","RUB",{"$f":"IFERROR(I82*Оглавление!$E$23,\"по запросу\")","v":46192.596799999999},{"$f":"IFERROR(G82*(1-Оглавление!$D$38),\"по запросу\")","v":46192.596799999999},460.82,"шт",null,0,0]
[null,"FKOMLM090F","Затвор дисковый ПП (PP-H) с рукояткой FKM D90 (DN80) FIP",10,"Арматура","RUB",{"$f":"IFERROR(I83*Оглавление!$E$23,\"по запросу\")","v":48494.107199999991},{"$f":"IFERROR(G83*(1-Оглавление!$D$38),\"по запросу\")","v":48494.107199999991},483.78,"шт",null,0,0]
[null,"FKOMLM110F","Затвор дисковый ПП (PP-H) с рукояткой FKM D110 (DN90) FIP",10,"Арматура","RUB",{"$f":"IFERROR(I84*Оглавление!$E$23,\"по запросу\")","v":51842.123199999995},{"$f":"IFERROR(G84*(1-Оглавление!$D$38),\"по запросу\")","v":51842.123199999995},517.17999999999995,"шт",null,0,0]
[null,"FKOMLM140F","Затвор дисковый ПП (PP-H) с рукояткой FKM D140 (DN125) FIP",10,"Арматура","RUB",{"$f":"IFERROR(I85*Оглавление!$E$23,\"по запросу\")","v":69502.406399999993},{"$f":"IFERROR(G85*(1-Оглавление!$D$38),\"по запросу\")","v":69502.406399999993},693.36,"шт",null,0,0]
[null,"FKOMLM160F","Затвор дисковый ПП (PP-H) с рукояткой FKM D160 (DN150) FIP",10,"Арматура","RUB",{"$f":"IFERROR(I86*Оглавление!$E$23,\"по запросу\")","v":72329.174399999989},{"$f":"IFERROR(G86*(1-Оглавление!$D$38),\"по запросу\")","v":72329.174399999989},721.56,"шт",null,0,0]
[null,"FKOMLM225F","Затвор дисковый ПП (PP-H) с рукояткой FKM D225 (DN200) FIP",10,"Арматура","RUB",{"$f":"IFERROR(I87*Оглавление!$E$23,\"по запросу\")","v":93850.702399999995},{"$f":"IFERROR(G87*(1-Оглавление!$D$38),\"по запросу\")","v":93850.702399999995},936.26,"шт",null,0,0]
[null,"FKOMRM075E","Затвор дисковый ПП (PP-H) с редуктором EPDM D75 (DN65) FIP",10,"Арматура","RUB",{"$f":"IFERROR(I88*Оглавление!$E$23,\"по запросу\")","v":74418.175999999992},{"$f":"IFERROR(G88*(1-Оглавление!$D$38),\"по запросу\")","v":74418.175999999992},742.4,"шт",null,0,0]
[null,"FKOMRM090E","Затвор дисковый ПП (PP-H) с редуктором EPDM D90 (DN80) FIP",10,"Арматура","RUB",{"$f":"IFERROR(I89*Оглавление!$E$23,\"по запросу\")","v":76088.174399999989},{"$f":"IFERROR(G89*(1-Оглавление!$D$38),\"по запросу\")","v":76088.174399999989},759.06,"шт",null,0,0]
[null,"FKOMRM110E","Затвор дисковый ПП (PP-H) с редуктором EPDM D110 (DN90) FIP",10,"Арматура","RUB",{"$f":"IFERROR(I90*Оглавление!$E$23,\"по запросу\")","v":79009.168000000005},{"$f":"IFERROR(G90*(1-Оглавление!$D$38),\"по запросу\")","v":79009.168000000005},788.2,"шт",null,0,0]
[null,"FKOMRM140E","Затвор дисковый ПП (PP-H) с редуктором EPDM D140 (DN125) FIP",10,"Арматура","RUB",{"$f":"IFERROR(I91*Оглавление!$E$23,\"по запросу\")","v":91142.217599999989},{"$f":"IFERROR(G91*(1-Оглавление!$D$38),\"по запросу\")","v":91142.217599999989},909.24,"шт",null,0,0]
[null,"FKOMRM160E","Затвор дисковый ПП (PP-H) с редуктором EPDM D160 (DN150) FIP",10,"Арматура","RUB",{"$f":"IFERROR(I92*Оглавление!$E$23,\"по запросу\")","v":95113.7264},{"$f":"IFERROR(G92*(1-Оглавление!$D$38),\"по запросу\")","v":95113.7264},948.86,"шт",null,0,0]
[null,"FKOMRM225E","Затвор дисковый ПП (PP-H) с редуктором EPDM D225 (DN200) FIP",10,"Арматура","RUB",{"$f":"IFERROR(I93*Оглавление!$E$23,\"по запросу\")","v":120300.02879999999},{"$f":"IFERROR(G93*(1-Оглавление!$D$38),\"по запросу\")","v":120300.02879999999},1200.1199999999999,"шт",null,0,0]
[null,"FKOMRM280E","Затвор дисковый ПП (PP-H) с редуктором EPDM D280 (DN250) FIP",10,"Арматура","RUB",{"$f":"IFERROR(I94*Оглавление!$E$23,\"по запросу\")","v":249743.9504},{"$f":"IFERROR(G94*(1-Оглавление!$D$38),\"по запросу\")","v":249743.9504},2491.46,"шт",null,0,0]
[null,"FKOMRM315E","Затвор дисковый ПП (PP-H) с редуктором EPDM D315 (DN300) FIP",8,"Арматура","RUB",{"$f":"IFERROR(I95*Оглавление!$E$23,\"по запросу\")","v":269401.01439999999},{"$f":"IFERROR(G95*(1-Оглавление!$D$38),\"по запросу\")","v":269401.01439999999},2687.56,"шт",null,0,0]
[null,"FKOMRM355E","Затвор дисковый ПП (PP-H) с редуктором EPDM 10\" (DN350) FIP",10,"Арматура","RUB",{"$f":"IFERROR(I96*Оглавление!$E$23,\"по запросу\")","v":729398.36479999998},{"$f":"IFERROR(G96*(1-Оглавление!$D$38),\"по запросу\")","v":729398.36479999998},7276.52,"шт",null,{"$f":"IFERROR(K96*G96,\"0 ₽\")","v":0},{"$f":"IFERROR(K96*H96,\"0 ₽\")","v":0}]
[null,"FKOMRM400E","Затвор дисковый ПП (PP-H) с редуктором EPDM D12\" (DN400) FIP",8,"Арматура","RUB",{"$f":"IFERROR(I97*Оглавление!$E$23,\"по запросу\")","v":821486.848},{"$f":"IFERROR(G97*(1-Оглавление!$D$38),\"по запросу\")","v":821486.848},8195.2000000000007,"шт",null,0,0]
[null,"FKOMRM075F","Затвор дисковый ПП (PP-H) с редуктором FKM D75 (DN65) FIP",10,"Арматура","RUB",{"$f":"IFERROR(I98*Оглавление!$E$23,\"по запросу\")","v":88104.945600000006},{"$f":"IFERROR(G98*(1-Оглавление!$D$38),\"по запросу\")","v":88104.945600000006},878.94,"шт",null,0,0]
[null,"FKOMRM090F","Затвор дисковый ПП (PP-H) с редуктором FKM D90 (DN80) FIP",10,"Арматура","RUB",{"$f":"IFERROR(I99*Оглавление!$E$23,\"по запросу\")","v":90406.455999999991},{"$f":"IFERROR(G99*(1-Оглавление!$D$38),\"по запросу\")","v":90406.455999999991},901.9,"шт",null,0,0]
[null,"FKOMRM110F","Затвор дисковый ПП (PP-H) с редуктором FKM D110 (DN90) FIP",10,"Арматура","RUB",{"$f":"IFERROR(I100*Оглавление!$E$23,\"по запросу\")","v":93850.702399999995},{"$f":"IFERROR(G100*(1-Оглавление!$D$38),\"по запросу\")","v":93850.702399999995},936.26,"шт",null,0,0]
[null,"FKOMRM140F","Затвор дисковый ПП (PP-H) с редуктором FKM D140 (DN125) FIP",10,"Арматура","RUB",{"$f":"IFERROR(I101*Оглавление!$E$23,\"по запросу\")","v":111519.0048},{"$f":"IFERROR(G101*(1-Оглавление!$D$38),\"по запросу\")","v":111519.0048},1112.52,"шт",null,0,0]
[null,"FKOMRM160F","Затвор дисковый ПП (PP-H) с редуктором FKM D160 (DN150) FIP",10,"Арматура","RUB",{"$f":"IFERROR(I102*Оглавление!$E$23,\"по запросу\")","v":114339.75840000001},{"$f":"IFERROR(G102*(1-Оглавление!$D$38),\"по запросу\")","v":114339.75840000001},1140.6600000000001,"шт",null,0,0]
[null,"FKOMRM225F","Затвор дисковый ПП (PP-H) с редуктором FKM D225 (DN200) FIP",10,"Арматура","RUB",{"$f":"IFERROR(I103*Оглавление!$E$23,\"по запросу\")","v":145380.07679999998},{"$f":"IFERROR(G103*(1-Оглавление!$D$38),\"по запросу\")","v":145380.07679999998},1450.32,"шт",null,0,0]
[null,"FKOMRM280F","Затвор дисковый ПП (PP-H) с редуктором FKM D280 (DN250) FIP",10,"Арматура","RUB",{"$f":"IFERROR(I104*Оглавление!$E$23,\"по запросу\")","v":383810.94079999998},{"$f":"IFERROR(G104*(1-Оглавление!$D$38),\"по запросу\")","v":383810.94079999998},3828.92,"шт",null,0,0]
[null,"FKOMRM315F","Затвор дисковый ПП (PP-H) с редуктором FKM D315 (DN300) FIP",8,"Арматура","RUB",{"$f":"IFERROR(I105*Оглавление!$E$23,\"по запросу\")","v":415544.92},{"$f":"IFERROR(G105*(1-Оглавление!$D$38),\"по запросу\")","v":415544.92},4145.5,"шт",null,0,0]
[null,"FKOMRM355F","Затвор дисковый ПП (PP-H) с редуктором FKM 10\" (DN350) FIP",10,"Арматура","RUB",{"$f":"IFERROR(I106*Оглавление!$E$23,\"по запросу\")","v":1215487.5772618335},{"$f":"IFERROR(G106*(1-Оглавление!$D$38),\"по запросу\")","v":1215487.5772618335},12125.773915221804,"шт",null,0,0]
[null,"FKOMRM400F","Затвор дисковый ПП (PP-H) с редуктором FKM D12\" (DN400) FIP",8,"Арматура","RUB",{"$f":"IFERROR(I107*Оглавление!$E$23,\"по запросу\")","v":1816540.1482992619},{"$f":"IFERROR(G107*(1-Оглавление!$D$38),\"по запросу\")","v":1816540.1482992619},18121.908901628711,"шт",null,0,0]
[null,"FKOMFM050E","Затвор дисковый ПП (PP-H) под привод промышленный 50 (DN40) EPDM FIP",10,"Арматура","RUB",{"$f":"IFERROR(I108*Оглавление!$E$23,\"по запросу\")","v":23452.150399999999},{"$f":"IFERROR(G108*(1-Оглавление!$D$38),\"по запросу\")","v":23452.150399999999},233.96,"шт",null,0,0]
[null,"FKOMFM063E","Затвор дисковый ПП (PP-H) под привод промышленный 63 (DN50) EPDM FIP",10,"Арматура","RUB",{"$f":"IFERROR(I109*Оглавление!$E$23,\"по запросу\")","v":24835.462399999997},{"$f":"IFERROR(G109*(1-Оглавление!$D$38),\"по запросу\")","v":24835.462399999997},247.76,"шт",null,0,0]
[null,"FKOMFM075E","Затвор дисковый ПП (PP-H) под привод промышленный 75 (DN65) EPDM FIP",10,"Арматура","RUB",{"$f":"IFERROR(I110*Оглавление!$E$23,\"по запросу\")","v":27594.067199999994},{"$f":"IFERROR(G110*(1-Оглавление!$D$38),\"по запросу\")","v":27594.067199999994},275.27999999999997,"шт",null,0,0]
[null,"FKOMFM090E","Затвор дисковый ПП (PP-H) под привод промышленный 90 (DN80) EPDM FIP",10,"Арматура","RUB",{"$f":"IFERROR(I111*Оглавление!$E$23,\"по запросу\")","v":30001.831999999999},{"$f":"IFERROR(G111*(1-Оглавление!$D$38),\"по запросу\")","v":30001.831999999999},299.3,"шт",null,0,0]
[null,"FKOMFM110E","Затвор дисковый ПП (PP-H) под привод промышленный 110 (DN100) EPDM FIP",10,"Арматура","RUB",{"$f":"IFERROR(I112*Оглавление!$E$23,\"по запросу\")","v":32610.076799999999},{"$f":"IFERROR(G112*(1-Оглавление!$D$38),\"по запросу\")","v":32610.076799999999},325.32,"шт",null,0,0]
[null,"FKOMFM140E","Затвор дисковый ПП (PP-H) под привод промышленный 140 (DN125) EPDM FIP",10,"Арматура","RUB",{"$f":"IFERROR(I113*Оглавление!$E$23,\"по запросу\")","v":43273.608},{"$f":"IFERROR(G113*(1-Оглавление!$D$38),\"по запросу\")","v":43273.608},431.7,"шт",null,0,0]
[null,"FKOMFM160E","Затвор дисковый ПП (PP-H) под привод промышленный 160 (DN150) EPDM FIP",10,"Арматура","RUB",{"$f":"IFERROR(I114*Оглавление!$E$23,\"по запросу\")","v":47764.36},{"$f":"IFERROR(G114*(1-Оглавление!$D$38),\"по запросу\")","v":47764.36},476.5,"шт",null,0,0]
[null,"FKOMFM225E","Затвор дисковый ПП (PP-H) под привод промышленный 225 (DN200) EPDM FIP",10,"Арматура","RUB",{"$f":"IFERROR(I115*Оглавление!$E$23,\"по запросу\")","v":61874.142399999997},{"$f":"IFERROR(G115*(1-Оглавление!$D$38),\"по запросу\")","v":61874.142399999997},617.26,"шт",null,0,0]
[null,"FKOMFM280E","Затвор дисковый ПП (PP-H) под привод промышленный 280 (DN250) EPDM FIP",10,"Арматура","RUB",{"$f":"IFERROR(I116*Оглавление!$E$23,\"по запросу\")","v":216853.2016},{"$f":"IFERROR(G116*(1-Оглавление!$D$38),\"по запросу\")","v":216853.2016},2163.34,"шт",null,0,0]
[null,"FKOMFM315E","Затвор дисковый ПП (PP-H) под привод промышленный 315 (DN300) EPDM FIP",8,"Арматура","RUB",{"$f":"IFERROR(I117*Оглавление!$E$23,\"по запросу\")","v":236522.29439999998},{"$f":"IFERROR(G117*(1-Оглавление!$D$38),\"по запросу\")","v":236522.29439999998},2359.56,"шт",null,0,0]
[null,"FKOMFM050F","Затвор дисковый ПП (PP-H) под привод промышленный 50 (DN40) FKM FIP",10,"Арматура","RUB",{"$f":"IFERROR(I118*Оглавление!$E$23,\"по запросу\")","v":35360.662399999994},{"$f":"IFERROR(G118*(1-Оглавление!$D$38),\"по запросу\")","v":35360.662399999994},352.76,"шт",null,0,0]
[null,"FKOMFM063F","Затвор дисковый ПП (PP-H) под привод промышленный 63 (DN50) FKM FIP",10,"Арматура","RUB",{"$f":"IFERROR(I119*Оглавление!$E$23,\"по запросу\")","v":37437.635199999997},{"$f":"IFERROR(G119*(1-Оглавление!$D$38),\"по запросу\")","v":37437.635199999997},373.48,"шт",null,0,0]
[null,"FKOMFM075F","Затвор дисковый ПП (PP-H) под привод промышленный 75 (DN65) FKM FIP",10,"Арматура","RUB",{"$f":"IFERROR(I120*Оглавление!$E$23,\"по запросу\")","v":41595.590399999994},{"$f":"IFERROR(G120*(1-Оглавление!$D$38),\"по запросу\")","v":41595.590399999994},414.96,"шт",null,0,0]
[null,"FKOMFM090F","Затвор дисковый ПП (PP-H) под привод промышленный 90 (DN80) FKM FIP",10,"Арматура","RUB",{"$f":"IFERROR(I121*Оглавление!$E$23,\"по запросу\")","v":44630.857599999996},{"$f":"IFERROR(G121*(1-Оглавление!$D$38),\"по запросу\")","v":44630.857599999996},445.24,"шт",null,0,0]
[null,"FKOMFM110F","Затвор дисковый ПП (PP-H) под привод промышленный 110 (DN100) FKM FIP",10,"Арматура","RUB",{"$f":"IFERROR(I122*Оглавление!$E$23,\"по запросу\")","v":47764.36},{"$f":"IFERROR(G122*(1-Оглавление!$D$38),\"по запросу\")","v":47764.36},476.5,"шт",null,0,0]
[null,"FKOMFM140F","Затвор дисковый ПП (PP-H) под привод промышленный 140 (DN125) FKM FIP",10,"Арматура","RUB",{"$f":"IFERROR(I123*Оглавление!$E$23,\"по запросу\")","v":63967.153599999998},{"$f":"IFERROR(G123*(1-Оглавление!$D$38),\"по запросу\")","v":63967.153599999998},638.14,"шт",null,0,0]
[null,"FKOMFM160F","Затвор дисковый ПП (PP-H) под привод промышленный 160 (DN150) FKM FIP",10,"Арматура","RUB",{"$f":"IFERROR(I124*Оглавление!$E$23,\"по запросу\")","v":68672.419200000004},{"$f":"IFERROR(G124*(1-Оглавление!$D$38),\"по запросу\")","v":68672.419200000004},685.08,"шт",null,0,0]
[null,"FKOMFM225F","Затвор дисковый ПП (PP-H) под привод промышленный 225 (DN200) FKM FIP",10,"Арматура","RUB",{"$f":"IFERROR(I125*Оглавление!$E$23,\"по запросу\")","v":89153.455999999991},{"$f":"IFERROR(G125*(1-Оглавление!$D$38),\"по запросу\")","v":89153.455999999991},889.4,"шт",null,0,0]
[null,"FKOMFM280F","Затвор дисковый ПП (PP-H) под привод промышленный 280 (DN250) FKM FIP",10,"Арматура","RUB",{"$f":"IFERROR(I126*Оглавление!$E$23,\"по запросу\")","v":350924.20159999997},{"$f":"IFERROR(G126*(1-Оглавление!$D$38),\"по запросу\")","v":350924.20159999997},3500.84,"шт",null,0,0]
[null,"FKOMFM315F","Затвор дисковый ПП (PP-H) под привод промышленный 315 (DN300) FKM FIP",8,"Арматура","RUB",{"$f":"IFERROR(I127*Оглавление!$E$23,\"по запросу\")","v":382658.18079999997},{"$f":"IFERROR(G127*(1-Оглавление!$D$38),\"по запросу\")","v":382658.18079999997},3817.42,"шт",null,0,0]
[null,"VRUIM020E","Обратный клапан угловой ПП (PP-H) пружинный с муфтовыми окончаниями EPDM 20 FIP",10,"Арматура","RUB",{"$f":"IFERROR(I128*Оглавление!$E$23,\"по запросу\")","v":8654.7216000000008},{"$f":"IFERROR(G128*(1-Оглавление!$D$38),\"по запросу\")","v":8654.7216000000008},86.34,"шт",null,0,0]
[null,"VRUIM025E","Обратный клапан угловой ПП (PP-H) пружинный с муфтовыми окончаниями EPDM 25 FIP",10,"Арматура","RUB",{"$f":"IFERROR(I129*Оглавление!$E$23,\"по запросу\")","v":9787.4336000000003},{"$f":"IFERROR(G129*(1-Оглавление!$D$38),\"по запросу\")","v":9787.4336000000003},97.64,"шт",null,0,0]
[null,"VRUIM032E","Обратный клапан угловой ПП (PP-H) пружинный с муфтовыми окончаниями EPDM 32 FIP",10,"Арматура","RUB",{"$f":"IFERROR(I130*Оглавление!$E$23,\"по запросу\")","v":10162.331199999999},{"$f":"IFERROR(G130*(1-Оглавление!$D$38),\"по запросу\")","v":10162.331199999999},101.38,"шт",null,0,0]
[null,"VRUIM040E","Обратный клапан угловой ПП (PP-H) пружинный с муфтовыми окончаниями EPDM 40 FIP",10,"Арматура","RUB",{"$f":"IFERROR(I131*Оглавление!$E$23,\"по запросу\")","v":12353.577599999999},{"$f":"IFERROR(G131*(1-Оглавление!$D$38),\"по запросу\")","v":12353.577599999999},123.24,"шт",null,0,0]
[null,"VRUIM050E","Обратный клапан угловой ПП (PP-H) пружинный с муфтовыми окончаниями EPDM 50 FIP",10,"Арматура","RUB",{"$f":"IFERROR(I132*Оглавление!$E$23,\"по запросу\")","v":13979.4704},{"$f":"IFERROR(G132*(1-Оглавление!$D$38),\"по запросу\")","v":13979.4704},139.46,"шт",null,0,0]
[null,"VRUIM063E","Обратный клапан угловой ПП (PP-H) пружинный с муфтовыми окончаниями EPDM 63 FIP",10,"Арматура","RUB",{"$f":"IFERROR(I133*Оглавление!$E$23,\"по запросу\")","v":21357.134399999999},{"$f":"IFERROR(G133*(1-Оглавление!$D$38),\"по запросу\")","v":21357.134399999999},213.06,"шт",null,0,0]
[null,"VRUIM020F","Обратный клапан угловой ПП (PP-H) пружинный с муфтовыми окончаниями FKM 20 FIP",10,"Арматура","RUB",{"$f":"IFERROR(I134*Оглавление!$E$23,\"по запросу\")","v":9362.4159999999993},{"$f":"IFERROR(G134*(1-Оглавление!$D$38),\"по запросу\")","v":9362.4159999999993},93.4,"шт",null,0,0]
[null,"VRUIM025F","Обратный клапан угловой ПП (PP-H) пружинный с муфтовыми окончаниями FKM 25 FIP",10,"Арматура","RUB",{"$f":"IFERROR(I135*Оглавление!$E$23,\"по запросу\")","v":10725.68},{"$f":"IFERROR(G135*(1-Оглавление!$D$38),\"по запросу\")","v":10725.68},107,"шт",null,{"$f":"IFERROR(K135*G135,\"0 ₽\")","v":0},{"$f":"IFERROR(K135*H135,\"0 ₽\")","v":0}]
[null,"VRUIM032F","Обратный клапан угловой ПП (PP-H) пружинный с муфтовыми окончаниями FKM 32 FIP",10,"Арматура","RUB",{"$f":"IFERROR(I136*Оглавление!$E$23,\"по запросу\")","v":11639.8688},{"$f":"IFERROR(G136*(1-Оглавление!$D$38),\"по запросу\")","v":11639.8688},116.12,"шт",null,0,0]
[null,"VRUIM040F","Обратный клапан угловой ПП (PP-H) пружинный с муфтовыми окончаниями FKM 40 FIP",10,"Арматура","RUB",{"$f":"IFERROR(I137*Оглавление!$E$23,\"по запросу\")","v":14145.8688},{"$f":"IFERROR(G137*(1-Оглавление!$D$38),\"по запросу\")","v":14145.8688},141.12,"шт",null,0,0]
[null,"VRUIM050F","Обратный клапан угловой ПП (PP-H) пружинный с муфтовыми окончаниями FKM 50 FIP",10,"Арматура","RUB",{"$f":"IFERROR(I138*Оглавление!$E$23,\"по запросу\")","v":17104.953599999997},{"$f":"IFERROR(G138*(1-Оглавление!$D$38),\"по запросу\")","v":17104.953599999997},170.64,"шт",null,0,0]
[null,"VRUIM063F","Обратный клапан угловой ПП (PP-H) пружинный с муфтовыми окончаниями FKM 63 FIP",10,"Арматура","RUB",{"$f":"IFERROR(I139*Оглавление!$E$23,\"по запросу\")","v":25998.2464},{"$f":"IFERROR(G139*(1-Оглавление!$D$38),\"по запросу\")","v":25998.2464},259.36,"шт",null,0,0]
[null,"RVUIM020E","Фильтр сетчатый ПП (PP-H) муфтовый EPDM D20 (DN15) FIP",10,"Арматура","RUB",{"$f":"IFERROR(I140*Оглавление!$E$23,\"по запросу\")","v":10106.196799999998},{"$f":"IFERROR(G140*(1-Оглавление!$D$38),\"по запросу\")","v":10106.196799999998},100.82,"шт",null,0,0]
[null,"RVUIM025E","Фильтр сетчатый ПП (PP-H) муфтовый EPDM D25 (DN20) FIP",10,"Арматура","RUB",{"$f":"IFERROR(I141*Оглавление!$E$23,\"по запросу\")","v":12634.249599999999},{"$f":"IFERROR(G141*(1-Оглавление!$D$38),\"по запросу\")","v":12634.249599999999},126.04,"шт",null,0,0]
[null,"RVUIM032E","Фильтр сетчатый ПП (PP-H) муфтовый EPDM D32 (DN25) FIP",10,"Арматура","RUB",{"$f":"IFERROR(I142*Оглавление!$E$23,\"по запросу\")","v":15292.614399999999},{"$f":"IFERROR(G142*(1-Оглавление!$D$38),\"по запросу\")","v":15292.614399999999},152.56,"шт",null,0,0]
[null,"RVUIM040E","Фильтр сетчатый ПП (PP-H) муфтовый EPDM D40 (DN32) FIP",10,"Арматура","RUB",{"$f":"IFERROR(I143*Оглавление!$E$23,\"по запросу\")","v":16748.099200000001},{"$f":"IFERROR(G143*(1-Оглавление!$D$38),\"по запросу\")","v":16748.099200000001},167.08,"шт",null,0,0]
[null,"RVUIM050E","Фильтр сетчатый ПП (PP-H) муфтовый EPDM D50 (DN40) FIP",10,"Арматура","RUB",{"$f":"IFERROR(I144*Оглавление!$E$23,\"по запросу\")","v":18255.7088},{"$f":"IFERROR(G144*(1-Оглавление!$D$38),\"по запросу\")","v":18255.7088},182.12,"шт",null,0,0]
[null,"RVUIM063E","Фильтр сетчатый ПП (PP-H) муфтовый EPDM D63 (DN50) FIP",10,"Арматура","RUB",{"$f":"IFERROR(I145*Оглавление!$E$23,\"по запросу\")","v":25216.374400000001},{"$f":"IFERROR(G145*(1-Оглавление!$D$38),\"по запросу\")","v":25216.374400000001},251.56,"шт",null,0,0]
[null,"RVUIM020F","Фильтр сетчатый ПП (PP-H) муфтовый FKM D20 (DN15) FIP",10,"Арматура","RUB",{"$f":"IFERROR(I146*Оглавление!$E$23,\"по запросу\")","v":10976.279999999999},{"$f":"IFERROR(G146*(1-Оглавление!$D$38),\"по запросу\")","v":10976.279999999999},109.5,"шт",null,0,0]
[null,"RVUIM025F","Фильтр сетчатый ПП (PP-H) муфтовый FKM D25 (DN20) FIP",10,"Арматура","RUB",{"$f":"IFERROR(I147*Оглавление!$E$23,\"по запросу\")","v":13690.779200000001},{"$f":"IFERROR(G147*(1-Оглавление!$D$38),\"по запросу\")","v":13690.779200000001},136.58000000000001,"шт",null,0,0]
[null,"RVUIM032F","Фильтр сетчатый ПП (PP-H) муфтовый FKM D32 (DN25) FIP",10,"Арматура","RUB",{"$f":"IFERROR(I148*Оглавление!$E$23,\"по запросу\")","v":16010.332799999998},{"$f":"IFERROR(G148*(1-Оглавление!$D$38),\"по запросу\")","v":16010.332799999998},159.72,"шт",null,0,0]
[null,"RVUIM040F","Фильтр сетчатый ПП (PP-H) муфтовый FKM D32 (DN25) FIP",10,"Арматура","RUB",{"$f":"IFERROR(I149*Оглавление!$E$23,\"по запросу\")","v":18624.592000000001},{"$f":"IFERROR(G149*(1-Оглавление!$D$38),\"по запросу\")","v":18624.592000000001},185.8,"шт",null,0,0]
[null,"RVUIM050F","Фильтр сетчатый ПП (PP-H) муфтовый FKM D32 (DN25) FIP",10,"Арматура","RUB",{"$f":"IFERROR(I150*Оглавление!$E$23,\"по запросу\")","v":21483.436799999999},{"$f":"IFERROR(G150*(1-Оглавление!$D$38),\"по запросу\")","v":21483.436799999999},214.32,"шт",null,0,0]
[null,"RVUIM063F","Фильтр сетчатый ПП (PP-H) муфтовый FKM D32 (DN25) FIP",10,"Арматура","RUB",{"$f":"IFERROR(I151*Оглавление!$E$23,\"по запросу\")","v":29570.799999999999},{"$f":"IFERROR(G151*(1-Оглавление!$D$38),\"по запросу\")","v":29570.799999999999},295,"шт",null,0,0]
[null,"DKUIM020E","Мембранный клапан ПП (PP-H) с разборными муфтовыми окончаниями EPDM D20 (DN15) FIP",10,"Арматура","RUB",{"$f":"IFERROR(I152*Оглавление!$E$23,\"по запросу\")","v":18901.254399999998},{"$f":"IFERROR(G152*(1-Оглавление!$D$38),\"по запросу\")","v":18901.254399999998},188.56,"шт",null,0,0]
[null,"DKUIM025E","Мембранный клапан ПП (PP-H) с разборными муфтовыми окончаниями EPDM D25 (DN20) FIP",10,"Арматура","RUB",{"$f":"IFERROR(I153*Оглавление!$E$23,\"по запросу\")","v":20232.441599999998},{"$f":"IFERROR(G153*(1-Оглавление!$D$38),\"по запросу\")","v":20232.441599999998},201.84,"шт",null,0,0]
[null,"DKUIM032E","Мембранный клапан ПП (PP-H) с разборными муфтовыми окончаниями EPDM D32 (DN25) FIP",10,"Арматура","RUB",{"$f":"IFERROR(I154*Оглавление!$E$23,\"по запросу\")","v":23564.4192},{"$f":"IFERROR(G154*(1-Оглавление!$D$38),\"по запросу\")","v":23564.4192},235.08,"шт",null,0,0]
[null,"DKUIM040E","Мембранный клапан ПП (PP-H) с разборными муфтовыми окончаниями EPDM D40 (DN32) FIP",10,"Арматура","RUB",{"$f":"IFERROR(I155*Оглавление!$E$23,\"по запросу\")","v":27349.481599999996},{"$f":"IFERROR(G155*(1-Оглавление!$D$38),\"по запросу\")","v":27349.481599999996},272.83999999999997,"шт",null,0,0]
[null,"DKUIM050E","Мембранный клапан ПП (PP-H) с разборными муфтовыми окончаниями EPDM D50 (DN40) FIP",10,"Арматура","RUB",{"$f":"IFERROR(I156*Оглавление!$E$23,\"по запросу\")","v":35023.855999999992},{"$f":"IFERROR(G156*(1-Оглавление!$D$38),\"по запросу\")","v":35023.855999999992},349.4,"шт",null,0,0]
[null,"DKUIM063E","Мембранный клапан ПП (PP-H) с разборными муфтовыми окончаниями EPDM D63 (DN50) FIP",10,"Арматура","RUB",{"$f":"IFERROR(I157*Оглавление!$E$23,\"по запросу\")","v":42890.691199999994},{"$f":"IFERROR(G157*(1-Оглавление!$D$38),\"по запросу\")","v":42890.691199999994},427.88,"шт",null,0,0]
[null,"DKUIM020F","Мембранный клапан ПП (PP-H) с разборными муфтовыми окончаниями FKM D20 (DN15) FIP",10,"Арматура","RUB",{"$f":"IFERROR(I158*Оглавление!$E$23,\"по запросу\")","v":27788.532800000001},{"$f":"IFERROR(G158*(1-Оглавление!$D$38),\"по запросу\")","v":27788.532800000001},277.22000000000003,"шт",null,0,0]
[null,"DKUIM025F","Мембранный клапан ПП (PP-H) с разборными муфтовыми окончаниями FKM D25 (DN20) FIP",10,"Арматура","RUB",{"$f":"IFERROR(I159*Оглавление!$E$23,\"по запросу\")","v":29558.771199999999},{"$f":"IFERROR(G159*(1-Оглавление!$D$38),\"по запросу\")","v":29558.771199999999},294.88,"шт",null,0,0]
[null,"DKUIM032F","Мембранный клапан ПП (PP-H) с разборными муфтовыми окончаниями FKM D32 (DN25) FIP",10,"Арматура","RUB",{"$f":"IFERROR(I160*Оглавление!$E$23,\"по запросу\")","v":32670.220799999999},{"$f":"IFERROR(G160*(1-Оглавление!$D$38),\"по запросу\")","v":32670.220799999999},325.92,"шт",null,0,0]
[null,"DKUIM040F","Мембранный клапан ПП (PP-H) с разборными муфтовыми окончаниями FKM D40 (DN32) FIP",10,"Арматура","RUB",{"$f":"IFERROR(I161*Оглавление!$E$23,\"по запросу\")","v":42459.659199999995},{"$f":"IFERROR(G161*(1-Оглавление!$D$38),\"по запросу\")","v":42459.659199999995},423.58,"шт",null,0,0]
[null,"DKUIM050F","Мембранный клапан ПП (PP-H) с разборными муфтовыми окончаниями FKM D50 (DN40) FIP",10,"Арматура","RUB",{"$f":"IFERROR(I162*Оглавление!$E$23,\"по запросу\")","v":49791.212800000001},{"$f":"IFERROR(G162*(1-Оглавление!$D$38),\"по запросу\")","v":49791.212800000001},496.72,"шт",null,0,0]
[null,"DKUIM063F","Мембранный клапан ПП (PP-H) с разборными муфтовыми окончаниями FKM D63 (DN50) FIP",10,"Арматура","RUB",{"$f":"IFERROR(I163*Оглавление!$E$23,\"по запросу\")","v":68453.895999999993},{"$f":"IFERROR(G163*(1-Оглавление!$D$38),\"по запросу\")","v":68453.895999999993},682.9,"шт",null,0,0]
[null,"DKUIM020P","Мембранный клапан ПП (PP-H) с разборными муфтовыми окончаниями PTFE D20 (DN15) FIP",10,"Арматура","RUB",{"$f":"IFERROR(I164*Оглавление!$E$23,\"по запросу\")","v":31553.547199999997},{"$f":"IFERROR(G164*(1-Оглавление!$D$38),\"по запросу\")","v":31553.547199999997},314.77999999999997,"шт",null,0,0]
[null,"DKUIM025P","Мембранный клапан ПП (PP-H) с разборными муфтовыми окончаниями PTFE D25 (DN20) FIP",10,"Арматура","RUB",{"$f":"IFERROR(I165*Оглавление!$E$23,\"по запросу\")","v":33109.271999999997},{"$f":"IFERROR(G165*(1-Оглавление!$D$38),\"по запросу\")","v":33109.271999999997},330.3,"шт",null,0,0]
[null,"DKUIM032P","Мембранный клапан ПП (PP-H) с разборными муфтовыми окончаниями PTFE D32 (DN25) FIP",10,"Арматура","RUB",{"$f":"IFERROR(I166*Оглавление!$E$23,\"по запросу\")","v":36218.716799999995},{"$f":"IFERROR(G166*(1-Оглавление!$D$38),\"по запросу\")","v":36218.716799999995},361.32,"шт",null,0,0]
[null,"DKUIM040P","Мембранный клапан ПП (PP-H) с разборными муфтовыми окончаниями PTFE D40 (DN32) FIP",10,"Арматура","RUB",{"$f":"IFERROR(I167*Оглавление!$E$23,\"по запросу\")","v":46675.753599999996},{"$f":"IFERROR(G167*(1-Оглавление!$D$38),\"по запросу\")","v":46675.753599999996},465.64,"шт",null,0,0]
[null,"DKUIM050P","Мембранный клапан ПП (PP-H) с разборными муфтовыми окончаниями PTFE D50 (DN40) FIP",10,"Арматура","RUB",{"$f":"IFERROR(I168*Оглавление!$E$23,\"по запросу\")","v":53991.268799999998},{"$f":"IFERROR(G168*(1-Оглавление!$D$38),\"по запросу\")","v":53991.268799999998},538.62,"шт",null,0,0]
[null,"DKUIM063P","Мембранный клапан ПП (PP-H) с разборными муфтовыми окончаниями PTFE D63 (DN50) FIP",10,"Арматура","RUB",{"$f":"IFERROR(I169*Оглавление!$E$23,\"по запросу\")","v":68002.815999999992},{"$f":"IFERROR(G169*(1-Оглавление!$D$38),\"по запросу\")","v":68002.815999999992},678.4,"шт",null,0,0]
[null,"DKDM020E","Мембранный клапан ПП (PP-H) с втулочными окончаниями EPDM D20 (DN15) FIP",10,"Арматура","RUB",{"$f":"IFERROR(I170*Оглавление!$E$23,\"по запросу\")","v":16229.340999799235},{"$f":"IFERROR(G170*(1-Оглавление!$D$38),\"по запросу\")","v":16229.340999799235},161.90483838586627,"шт",null,0,0]
[null,"DKDM025E","Мембранный клапан ПП (PP-H) с втулочными окончаниями EPDM D25 (DN20) FIP",10,"Арматура","RUB",{"$f":"IFERROR(I171*Оглавление!$E$23,\"по запросу\")","v":17562.047999999999},{"$f":"IFERROR(G171*(1-Оглавление!$D$38),\"по запросу\")","v":17562.047999999999},175.2,"шт",null,0,0]
[null,"DKDM032E","Мембранный клапан ПП (PP-H) с втулочными окончаниями EPDM D32 (DN25) FIP",10,"Арматура","RUB",{"$f":"IFERROR(I172*Оглавление!$E$23,\"по запросу\")","v":20671.4928},{"$f":"IFERROR(G172*(1-Оглавление!$D$38),\"по запросу\")","v":20671.4928},206.22,"шт",null,0,0]
[null,"DKDM040E","Мембранный клапан ПП (PP-H) с втулочными окончаниями EPDM D40 (DN32) FIP",10,"Арматура","RUB",{"$f":"IFERROR(I173*Оглавление!$E$23,\"по запросу\")","v":24215.979200000002},{"$f":"IFERROR(G173*(1-Оглавление!$D$38),\"по запросу\")","v":24215.979200000002},241.58,"шт",null,0,0]
[null,"DKDM050E","Мембранный клапан ПП (PP-H) с втулочными окончаниями EPDM D50 (DN40) FIP",10,"Арматура","RUB",{"$f":"IFERROR(I174*Оглавление!$E$23,\"по запросу\")","v":31553.547199999997},{"$f":"IFERROR(G174*(1-Оглавление!$D$38),\"по запросу\")","v":31553.547199999997},314.77999999999997,"шт",null,0,0]
[null,"DKDM063E","Мембранный клапан ПП (PP-H) с втулочными окончаниями EPDM D63 (DN50) FIP",10,"Арматура","RUB",{"$f":"IFERROR(I175*Оглавление!$E$23,\"по запросу\")","v":38231.535999999993},{"$f":"IFERROR(G175*(1-Оглавление!$D$38),\"по запросу\")","v":38231.535999999993},381.4,"шт",null,0,0]
[null,"DKDM075E","Мембранный клапан ПП (PP-H) с втулочными окончаниями EPDM D75 (DN65) FIP",10,"Арматура","RUB",{"$f":"IFERROR(I176*Оглавление!$E$23,\"по запросу\")","v":45879.847999999998},{"$f":"IFERROR(G176*(1-Оглавление!$D$38),\"по запросу\")","v":45879.847999999998},457.7,"шт",null,{"$f":"IFERROR(K176*G176,\"0 ₽\")","v":0},{"$f":"IFERROR(K176*H176,\"0 ₽\")","v":0}]
[null,"DKDM020F","Мембранный клапан ПП (PP-H) с втулочными окончаниями FKM D20 (DN15) FIP",10,"Арматура","RUB",{"$f":"IFERROR(I177*Оглавление!$E$23,\"по запросу\")","v":25117.081055209794},{"$f":"IFERROR(G177*(1-Оглавление!$D$38),\"по запросу\")","v":25117.081055209794},250.5694438867697,"шт",null,0,0]
[null,"DKDM025F","Мембранный клапан ПП (PP-H) с втулочными окончаниями FKM D25 (DN20) FIP",10,"Арматура","RUB",{"$f":"IFERROR(I178*Оглавление!$E$23,\"по запросу\")","v":26895.311688415975},{"$f":"IFERROR(G178*(1-Оглавление!$D$38),\"по запросу\")","v":26895.311688415975},268.30917486448499,"шт",null,0,0]
[null,"DKDM032F","Мембранный клапан ПП (PP-H) с втулочными окончаниями FKM D32 (DN25) FIP",10,"Арматура","RUB",{"$f":"IFERROR(I179*Оглавление!$E$23,\"по запросу\")","v":29779.390162617939},{"$f":"IFERROR(G179*(1-Оглавление!$D$38),\"по запросу\")","v":29779.390162617939},297.08090744830349,"шт",null,0,0]
[null,"DKDM040F","Мембранный клапан ПП (PP-H) с втулочными окончаниями FKM D40 (DN32) FIP",10,"Арматура","RUB",{"$f":"IFERROR(I180*Оглавление!$E$23,\"по запросу\")","v":39356.578563340692},{"$f":"IFERROR(G180*(1-Оглавление!$D$38),\"по запросу\")","v":39356.578563340692},392.62348925918491,"шт",null,0,0]
[null,"DKDM050F","Мембранный клапан ПП (PP-H) с втулочными окончаниями FKM D50 (DN40) FIP",10,"Арматура","RUB",{"$f":"IFERROR(I181*Оглавление!$E$23,\"по запросу\")","v":46677.700844007217},{"$f":"IFERROR(G181*(1-Оглавление!$D$38),\"по запросу\")","v":46677.700844007217},465.65942581810873,"шт",null,0,0]
[null,"DKDM063F","Мембранный клапан ПП (PP-H) с втулочными окончаниями FKM D63 (DN50) FIP",10,"Арматура","RUB",{"$f":"IFERROR(I182*Оглавление!$E$23,\"по запросу\")","v":63774.692799999997},{"$f":"IFERROR(G182*(1-Оглавление!$D$38),\"по запросу\")","v":63774.692799999997},636.22,"шт",null,0,0]
[null,"DKDM075F","Мембранный клапан ПП (PP-H) с втулочными окончаниями FKM D75 (DN65) FIP",10,"Арматура","RUB",{"$f":"IFERROR(I183*Оглавление!$E$23,\"по запросу\")","v":76535.592550893387},{"$f":"IFERROR(G183*(1-Оглавление!$D$38),\"по запросу\")","v":76535.592550893387},763.52346918289493,"шт",null,0,0]
[null,"DKDM020P","Мембранный клапан ПП (PP-H) с втулочными окончаниями PTFE D20 (DN15) FIP",10,"Арматура","RUB",{"$f":"IFERROR(I184*Оглавление!$E$23,\"по запросу\")","v":28905.633843806463},{"$f":"IFERROR(G184*(1-Оглавление!$D$38),\"по запросу\")","v":28905.633843806463},288.3642642039751,"шт",null,0,0]
[null,"DKDM025P","Мембранный клапан ПП (PP-H) с втулочными окончаниями PTFE D25 (DN20) FIP",10,"Арматура","RUB",{"$f":"IFERROR(I185*Оглавление!$E$23,\"по запросу\")","v":30465.425397309777},{"$f":"IFERROR(G185*(1-Оглавление!$D$38),\"по запросу\")","v":30465.425397309777},303.92483437060832,"шт",null,0,0]
[null,"DKDM032P","Мембранный клапан ПП (PP-H) с втулочными окончаниями PTFE D32 (DN25) FIP",10,"Арматура","RUB",{"$f":"IFERROR(I186*Оглавление!$E$23,\"по запросу\")","v":33353.857599999996},{"$f":"IFERROR(G186*(1-Оглавление!$D$38),\"по запросу\")","v":33353.857599999996},332.74,"шт",null,0,0]
[null,"DKDM040P","Мембранный клапан ПП (PP-H) с втулочными окончаниями PTFE D40 (DN32) FIP",10,"Арматура","RUB",{"$f":"IFERROR(I187*Оглавление!$E$23,\"по запросу\")","v":43554.70462638024},{"$f":"IFERROR(G187*(1-Оглавление!$D$38),\"по запросу\")","v":43554.70462638024},434.50423609716921,"шт",null,0,0]
[null,"DKDM050P","Мембранный клапан ПП (PP-H) с втулочными окончаниями PTFE D50 (DN40) FIP",10,"Арматура","RUB",{"$f":"IFERROR(I188*Оглавление!$E$23,\"по запросу\")","v":50889.479349528192},{"$f":"IFERROR(G188*(1-Оглавление!$D$38),\"по запросу\")","v":50889.479349528192},507.67637020678569,"шт",null,0,0]
[null,"DKDM063P","Мембранный клапан ПП (PP-H) с втулочными окончаниями PTFE D63 (DN50) FIP",10,"Арматура","RUB",{"$f":"IFERROR(I189*Оглавление!$E$23,\"по запросу\")","v":63349.675199999998},{"$f":"IFERROR(G189*(1-Оглавление!$D$38),\"по запросу\")","v":63349.675199999998},631.98,"шт",null,0,0]
[null,"DKDM075P","Мембранный клапан ПП (PP-H) с втулочными окончаниями PTFE D75 (DN65) FIP",10,"Арматура","RUB",{"$f":"IFERROR(I190*Оглавление!$E$23,\"по запросу\")","v":76020.212847219431},{"$f":"IFERROR(G190*(1-Оглавление!$D$38),\"по запросу\")","v":76020.212847219431},758.38201164424811,"шт",null,0,0]
[null,"DKOM020E","Мембранный клапан ПП (PP-H) с фланцевыми окончаниями EPDM D20 (DN15) FIP",10,"Арматура","RUB",{"$f":"IFERROR(I191*Оглавление!$E$23,\"по запросу\")","v":24572.833599999998},{"$f":"IFERROR(G191*(1-Оглавление!$D$38),\"по запросу\")","v":24572.833599999998},245.14,"шт",null,0,0]
[null,"DKOM025E","Мембранный клапан ПП (PP-H) с фланцевыми окончаниями EPDM D25 (DN20) FIP",10,"Арматура","RUB",{"$f":"IFERROR(I192*Оглавление!$E$23,\"по запросу\")","v":26393.191999999999},{"$f":"IFERROR(G192*(1-Оглавление!$D$38),\"по запросу\")","v":26393.191999999999},263.3,"шт",null,0,0]
[null,"DKOM032E","Мембранный клапан ПП (PP-H) с фланцевыми окончаниями EPDM D32 (DN25) FIP",10,"Арматура","RUB",{"$f":"IFERROR(I193*Оглавление!$E$23,\"по запросу\")","v":29809.371199999998},{"$f":"IFERROR(G193*(1-Оглавление!$D$38),\"по запросу\")","v":29809.371199999998},297.38,"шт",null,0,0]
[null,"DKOM040E","Мембранный клапан ПП (PP-H) с фланцевыми окончаниями EPDM D40 (DN32) FIP",10,"Арматура","RUB",{"$f":"IFERROR(I194*Оглавление!$E$23,\"по запросу\")","v":36262.822399999997},{"$f":"IFERROR(G194*(1-Оглавление!$D$38),\"по запросу\")","v":36262.822399999997},361.76,"шт",null,0,0]
[null,"DKOM050E","Мембранный клапан ПП (PP-H) с фланцевыми окончаниями EPDM D50 (DN40) FIP",10,"Арматура","RUB",{"$f":"IFERROR(I195*Оглавление!$E$23,\"по запросу\")","v":44149.705600000001},{"$f":"IFERROR(G195*(1-Оглавление!$D$38),\"по запросу\")","v":44149.705600000001},440.44,"шт",null,0,0]
[null,"DKOM063E","Мембранный клапан ПП (PP-H) с фланцевыми окончаниями EPDM D63 (DN50) FIP",10,"Арматура","RUB",{"$f":"IFERROR(I196*Оглавление!$E$23,\"по запросу\")","v":55713.391999999993},{"$f":"IFERROR(G196*(1-Оглавление!$D$38),\"по запросу\")","v":55713.391999999993},555.79999999999995,"шт",null,0,0]
[null,"DKOM075E","Мембранный клапан ПП (PP-H) с фланцевыми окончаниями EPDM D75 (DN65) FIP",10,"Арматура","RUB",{"$f":"IFERROR(I197*Оглавление!$E$23,\"по запросу\")","v":72423.399999999994},{"$f":"IFERROR(G197*(1-Оглавление!$D$38),\"по запросу\")","v":72423.399999999994},722.5,"шт",null,0,0]
[null,"DKOM020F","Мембранный клапан ПП (PP-H) с фланцевыми окончаниями FKM D20 (DN15) FIP",10,"Арматура","RUB",{"$f":"IFERROR(I198*Оглавление!$E$23,\"по запросу\")","v":33460.112000000001},{"$f":"IFERROR(G198*(1-Оглавление!$D$38),\"по запросу\")","v":33460.112000000001},333.8,"шт",null,0,0]
[null,"DKOM025F","Мембранный клапан ПП (PP-H) с фланцевыми окончаниями FKM D25 (DN20) FIP",10,"Арматура","RUB",{"$f":"IFERROR(I199*Оглавление!$E$23,\"по запросу\")","v":35731.550399999993},{"$f":"IFERROR(G199*(1-Оглавление!$D$38),\"по запросу\")","v":35731.550399999993},356.46,"шт",null,0,0]
[null,"DKOM032F","Мембранный клапан ПП (PP-H) с фланцевыми окончаниями FKM D32 (DN25) FIP",10,"Арматура","RUB",{"$f":"IFERROR(I200*Оглавление!$E$23,\"по запросу\")","v":38921.187199999993},{"$f":"IFERROR(G200*(1-Оглавление!$D$38),\"по запросу\")","v":38921.187199999993},388.28,"шт",null,0,0]
[null,"DKOM040F","Мембранный клапан ПП (PP-H) с фланцевыми окончаниями FKM D40 (DN32) FIP",10,"Арматура","RUB",{"$f":"IFERROR(I201*Оглавление!$E$23,\"по запросу\")","v":51391.043199999993},{"$f":"IFERROR(G201*(1-Оглавление!$D$38),\"по запросу\")","v":51391.043199999993},512.67999999999995,"шт",null,0,0]
[null,"DKOM050F","Мембранный клапан ПП (PP-H) с фланцевыми окончаниями FKM D50 (DN40) FIP",10,"Арматура","RUB",{"$f":"IFERROR(I202*Оглавление!$E$23,\"по запросу\")","v":59263.892800000001},{"$f":"IFERROR(G202*(1-Оглавление!$D$38),\"по запросу\")","v":59263.892800000001},591.22,"шт",null,0,0]
[null,"DKOM063F","Мембранный клапан ПП (PP-H) с фланцевыми окончаниями FKM D63 (DN50) FIP",10,"Арматура","RUB",{"$f":"IFERROR(I203*Оглавление!$E$23,\"по запросу\")","v":81260.558399999994},{"$f":"IFERROR(G203*(1-Оглавление!$D$38),\"по запросу\")","v":81260.558399999994},810.66,"шт",null,0,0]
[null,"DKOM075F","Мембранный клапан ПП (PP-H) с фланцевыми окончаниями FKM D75 (DN65) FIP",10,"Арматура","RUB",{"$f":"IFERROR(I204*Оглавление!$E$23,\"по запросу\")","v":105639.18681068056},{"$f":"IFERROR(G204*(1-Оглавление!$D$38),\"по запросу\")","v":105639.18681068056},1053.8625978719131,"шт",null,0,0]
[null,"DKOM020P","Мембранный клапан ПП (PP-H) с фланцевыми окончаниями PTFE D20 (DN15) FIP",10,"Арматура","RUB",{"$f":"IFERROR(I205*Оглавление!$E$23,\"по запросу\")","v":37247.276199959837},{"$f":"IFERROR(G205*(1-Оглавление!$D$38),\"по запросу\")","v":37247.276199959837},371.58096767717319,"шт",null,0,0]
[null,"DKOM025P","Мембранный клапан ПП (PP-H) с фланцевыми окончаниями PTFE D25 (DN20) FIP",10,"Арматура","RUB",{"$f":"IFERROR(I206*Оглавление!$E$23,\"по запросу\")","v":39298.555682794613},{"$f":"IFERROR(G206*(1-Оглавление!$D$38),\"по запросу\")","v":39298.555682794613},392.04464966874116,"шт",null,0,0]
[null,"DKOM032P","Мембранный клапан ПП (PP-H) с фланцевыми окончаниями PTFE D32 (DN25) FIP",10,"Арматура","RUB",{"$f":"IFERROR(I207*Оглавление!$E$23,\"по запросу\")","v":42485.721599999997},{"$f":"IFERROR(G207*(1-Оглавление!$D$38),\"по запросу\")","v":42485.721599999997},423.84,"шт",null,0,0]
[null,"DKOM040P","Мембранный клапан ПП (PP-H) с фланцевыми окончаниями PTFE D40 (DN32) FIP",10,"Арматура","RUB",{"$f":"IFERROR(I208*Оглавление!$E$23,\"по запросу\")","v":55595.108799999995},{"$f":"IFERROR(G208*(1-Оглавление!$D$38),\"по запросу\")","v":55595.108799999995},554.62,"шт",null,0,0]
[null,"DKOM050P","Мембранный клапан ПП (PP-H) с фланцевыми окончаниями PTFE D50 (DN40) FIP",10,"Арматура","RUB",{"$f":"IFERROR(I209*Оглавление!$E$23,\"по запросу\")","v":63479.987199999996},{"$f":"IFERROR(G209*(1-Оглавление!$D$38),\"по запросу\")","v":63479.987199999996},633.28,"шт",null,0,0]
[null,"DKOM063P","Мембранный клапан ПП (PP-H) с фланцевыми окончаниями PTFE D63 (DN50) FIP",10,"Арматура","RUB",{"$f":"IFERROR(I210*Оглавление!$E$23,\"по запросу\")","v":80823.511999999988},{"$f":"IFERROR(G210*(1-Оглавление!$D$38),\"по запросу\")","v":80823.511999999988},806.3,"шт",null,0,0]
[null,"DKOM075P","Мембранный клапан ПП (PP-H) с фланцевыми окончаниями PTFE D75 (DN65) FIP",10,"Арматура","RUB",{"$f":"IFERROR(I211*Оглавление!$E$23,\"по запросу\")","v":105063.54879999999},{"$f":"IFERROR(G211*(1-Оглавление!$D$38),\"по запросу\")","v":105063.54879999999},1048.1199999999999,"шт",null,0,0]
[null,"SRIM020F","Обратный клапан ПП (PP-H) с гайкой с одной стороны и муфтовым окончанием FKM D20 FIP",10,"Арматура","RUB",{"$f":"IFERROR(I212*Оглавление!$E$23,\"по запросу\")","v":8949.4272000000001},{"$f":"IFERROR(G212*(1-Оглавление!$D$38),\"по запросу\")","v":8949.4272000000001},89.28,"шт",null,{"$f":"IFERROR(K212*G212,\"0 ₽\")","v":0},{"$f":"IFERROR(K212*H212,\"0 ₽\")","v":0}]
[null,"SRIM025F","Обратный клапан ПП (PP-H) с гайкой с одной стороны и муфтовым окончанием FKM D25 FIP",10,"Арматура","RUB",{"$f":"IFERROR(I213*Оглавление!$E$23,\"по запросу\")","v":9913.7360000000008},{"$f":"IFERROR(G213*(1-Оглавление!$D$38),\"по запросу\")","v":9913.7360000000008},98.9,"шт",null,0,0]
[null,"SRIM032F","Обратный клапан ПП (PP-H) с гайкой с одной стороны и муфтовым окончанием FKM D32 FIP",10,"Арматура","RUB",{"$f":"IFERROR(I214*Оглавление!$E$23,\"по запросу\")","v":10864.011199999999},{"$f":"IFERROR(G214*(1-Оглавление!$D$38),\"по запросу\")","v":10864.011199999999},108.38,"шт",null,0,0]
[null,"SRIM040F","Обратный клапан ПП (PP-H) с гайкой с одной стороны и муфтовым окончанием FKM D40 FIP",10,"Арматура","RUB",{"$f":"IFERROR(I215*Оглавление!$E$23,\"по запросу\")","v":13345.953599999997},{"$f":"IFERROR(G215*(1-Оглавление!$D$38),\"по запросу\")","v":13345.953599999997},133.13999999999999,"шт",null,0,0]
[null,"SRIM050F","Обратный клапан ПП (PP-H) с гайкой с одной стороны и муфтовым окончанием FKM D50 FIP",10,"Арматура","RUB",{"$f":"IFERROR(I216*Оглавление!$E$23,\"по запросу\")","v":15803.838399999999},{"$f":"IFERROR(G216*(1-Оглавление!$D$38),\"по запросу\")","v":15803.838399999999},157.66,"шт",null,0,0]
[null,"SRIM063F","Обратный клапан ПП (PP-H) с гайкой с одной стороны и муфтовым окончанием FKM D63 FIP",10,"Арматура","RUB",{"$f":"IFERROR(I217*Оглавление!$E$23,\"по запросу\")","v":23722.7984},{"$f":"IFERROR(G217*(1-Оглавление!$D$38),\"по запросу\")","v":23722.7984},236.66,"шт",null,0,0]

{"sheet":"ПВДФ IPS","index":8,"n_rows":448,"n_cols":13,"rows_kept":448,"cut":false,"hidden":false,"merged":[[98,0,106,0],[9,0,17,0],[18,0,28,0],[29,0,37,0],[38,0,46,0],[47,0,55,0],[56,0,64,0],[86,0,91,0],[92,0,97,0],[322,0,330,0],[107,0,115,0],[116,0,124,0],[134,0,142,0],[143,0,157,0],[173,0,190,0],[253,0,258,0],[259,0,264,0],[265,0,273,0],[313,0,321,0],[191,0,205,0],[283,0,297,0],[331,0,339,0],[340,0,346,0],[347,0,357,0],[412,0,438,0],[439,0,447,0]]}
[null,null,null,null,null,null,null,null,null,{"$f":"COUNT(K10:K448)","v":0},"Товаров в заказе"]
[null,null,null,null,null,null,null,null,null,{"$f":"SUM(M10:M448)","v":0},"Сумма заказа со скидкой с НДС"]
[]
[]
[]
[]
[]
[]
["Фото","Код","Наименование","PN","Категория","Валюта\nпродажи","Цена\nПРОДАЖИ с НДС ","Цена с НДС\nсо скидкой","Цена\nEUR","Ед. измерения","Заказ (метры/штуки)","Сумма рубли","Сумма со скидкой"]
[null,"IPIPEF21020","Труба ПВДФ напорная PN16 20x1.9x4 м IPS",16,"Трубы","RUB",{"$f":"IFERROR(I10*Оглавление!$E$23,\"по запросу\")","v":"по запросу"},{"$f":"IFERROR(G10*(1-Оглавление!$D$39),\"по запросу\")","v":"по запросу"},"по запросу","м",null,{"$f":"IFERROR(K10*G10,\"0 ₽\")","v":"0 ₽"},{"$f":"IFERROR(K10*H10,\"0 ₽\")","v":"0 ₽"}]
[null,"IPIPEF21025","Труба ПВДФ напорная PN16 25x1.9x4 м IPS",16,"Трубы","RUB",{"$f":"IFERROR(I11*Оглавление!$E$23,\"по запросу\")","v":"по запросу"},{"$f":"IFERROR(G11*(1-Оглавление!$D$39),\"по запросу\")","v":"по запросу"},"по запросу","м",null,"0 ₽","0 ₽"]
[null,"IPIPEF21032","Труба ПВДФ напорная PN16 32x2.4x4 м IPS",16,"Трубы","RUB",{"$f":"IFERROR(I12*Оглавление!$E$23,\"по запросу\")","v":"по запросу"},{"$f":"IFERROR(G12*(1-Оглавление!$D$39),\"по запросу\")","v":"по запросу"},"по запросу","м",null,"0 ₽","0 ₽"]
[null,"IPIPEF21040","Труба ПВДФ напорная PN16 40x2.4x4 м IPS",16,"Трубы","RUB",{"$f":"IFERROR(I13*Оглавление!$E$23,\"по запросу\")","v":"по запросу"},{"$f":"IFERROR(G13*(1-Оглавление!$D$39),\"по запросу\")","v":"по запросу"},"по запросу","м",null,"0 ₽","0 ₽"]
[null,"IPIPEF21050","Труба ПВДФ напорная PN16 50x2.9x4 м IPS",16,"Трубы","RUB",{"$f":"IFERROR(I14*Оглавление!$E$23,\"по запросу\")","v":"по запросу"},{"$f":"IFERROR(G14*(1-Оглавление!$D$39),\"по запросу\")","v":"по запросу"},"по запросу","м",null,"0 ₽","0 ₽"]
[null,"IPIPEF21063","Труба ПВДФ напорная PN16 63x3.0x4 м IPS",16,"Трубы","RUB",{"$f":"IFERROR(I15*Оглавление!$E$23,\"по запросу\")","v":"по запросу"},{"$f":"IFERROR(G15*(1-Оглавление!$D$39),\"по запросу\")","v":"по запросу"},"по запросу","м",null,"0 ₽","0 ₽"]
[null,"IPIPEF21075","Труба ПВДФ напорная PN16 75x3.6x4 м IPS",16,"Трубы","RUB",{"$f":"IFERROR(I16*Оглавление!$E$23,\"по запросу\")","v":"по запросу"},{"$f":"IFERROR(G16*(1-Оглавление!$D$39),\"по запросу\")","v":"по запросу"},"по запросу","м",null,"0 ₽","0 ₽"]
[null,"IPIPEF21090","Труба ПВДФ напорная PN16 90x4.3x4 м IPS",16,"Трубы","RUB",{"$f":"IFERROR(I17*Оглавление!$E$23,\"по запросу\")","v":"по запросу"},{"$f":"IFERROR(G17*(1-Оглавление!$D$39),\"по запросу\")","v":"по запросу"},"по запросу","м",null,"0 ₽","0 ₽"]
[null,"IPIPEF21110","Труба ПВДФ напорная PN16 110x5.3x4 м IPS",16,"Трубы","RUB",{"$f":"IFERROR(I18*Оглавление!$E$23,\"по запросу\")","v":"по запросу"},{"$f":"IFERROR(G18*(1-Оглавление!$D$39),\"по запросу\")","v":"по запросу"},"по запросу","м",null,"0 ₽","0 ₽"]
[null,"IPIPEF33125","Труба ПВДФ напорная PN10 125x3.9x4 м IPS",10,"Трубы","RUB",{"$f":"IFERROR(I19*Оглавление!$E$23,\"по запросу\")","v":"по запросу"},{"$f":"IFERROR(G19*(1-Оглавление!$D$39),\"по запросу\")","v":"по запросу"},"по запросу","м",null,"0 ₽","0 ₽"]
[null,"IPIPEF33140","Труба ПВДФ напорная PN10 140x4.4x4 м IPS",10,"Трубы","RUB",{"$f":"IFERROR(I20*Оглавление!$E$23,\"по запросу\")","v":"по запросу"},{"$f":"IFERROR(G20*(1-Оглавление!$D$39),\"по запросу\")","v":"по запросу"},"по запросу","м",null,"0 ₽","0 ₽"]
[null,"IPIPEF33160","Труба ПВДФ напорная PN10 160x5.0x4 м IPS",10,"Трубы","RUB",{"$f":"IFERROR(I21*Оглавление!$E$23,\"по запросу\")","v":"по запросу"},{"$f":"IFERROR(G21*(1-Оглавление!$D$39),\"по запросу\")","v":"по запросу"},"по запросу","м",null,"0 ₽","0 ₽"]
[null,"IPIPEF33180","Труба ПВДФ напорная PN10 180x5.6x4 м IPS",10,"Трубы","RUB",{"$f":"IFERROR(I22*Оглавление!$E$23,\"по запросу\")","v":"по запросу"},{"$f":"IFERROR(G22*(1-Оглавление!$D$39),\"по запросу\")","v":"по запросу"},"по запросу","м",null,"0 ₽","0 ₽"]
[null,"IPIPEF33200","Труба ПВДФ напорная PN10 200x6.2x4 м IPS",10,"Трубы","RUB",{"$f":"IFERROR(I23*Оглавление!$E$23,\"по запросу\")","v":"по запросу"},{"$f":"IFERROR(G23*(1-Оглавление!$D$39),\"по запросу\")","v":"по запросу"},"по запросу","м",null,"0 ₽","0 ₽"]
[null,"IPIPEF33225","Труба ПВДФ напорная PN10 225x7.1x4 м IPS",10,"Трубы","RUB",{"$f":"IFERROR(I24*Оглавление!$E$23,\"по запросу\")","v":"по запросу"},{"$f":"IFERROR(G24*(1-Оглавление!$D$39),\"по запросу\")","v":"по запросу"},"по запросу","м",null,"0 ₽","0 ₽"]
[null,"IPIPEF33250","Труба ПВДФ напорная PN10 250x7.5x4 м IPS",10,"Трубы","RUB",{"$f":"IFERROR(I25*Оглавление!$E$23,\"по запросу\")","v":"по запросу"},{"$f":"IFERROR(G25*(1-Оглавление!$D$39),\"по запросу\")","v":"по запросу"},"по запросу","м",null,"0 ₽","0 ₽"]
[null,"IPIPEF33280","Труба ПВДФ напорная PN10 280x8.5x4 м IPS",10,"Трубы","RUB",{"$f":"IFERROR(I26*Оглавление!$E$23,\"по запросу\")","v":"по запросу"},{"$f":"IFERROR(G26*(1-Оглавление!$D$39),\"по запросу\")","v":"по запросу"},"по запросу","м",null,"0 ₽","0 ₽"]
[null,"IPIPEF33315","Труба ПВДФ напорная PN10 315x9.6x4 м IPS",10,"Трубы","RUB",{"$f":"IFERROR(I27*Оглавление!$E$23,\"по запросу\")","v":"по запросу"},{"$f":"IFERROR(G27*(1-Оглавление!$D$39),\"по запросу\")","v":"по запросу"},"по запросу","м",null,"0 ₽","0 ₽"]
[null,"IPIPEF33355","Труба ПВДФ напорная PN10 355x10.8x4 м IPS",10,"Трубы","RUB",{"$f":"IFERROR(I28*Оглавление!$E$23,\"по запросу\")","v":"по запросу"},{"$f":"IFERROR(G28*(1-Оглавление!$D$39),\"по запросу\")","v":"по запросу"},"по запросу","м",null,"0 ₽","0 ₽"]
[null,"IPIPEF33400","Труба ПВДФ напорная PN10 400x12.2x4 м IPS",10,"Трубы","RUB",{"$f":"IFERROR(I29*Оглавление!$E$23,\"по запросу\")","v":"по запросу"},{"$f":"IFERROR(G29*(1-Оглавление!$D$39),\"по запросу\")","v":"по запросу"},"по запросу","м",null,"0 ₽","0 ₽"]
[null,"IGIF020","Отвод ПВДФ 90° для раструбной сварки 20 IPS",16,"Фитинги","RUB",{"$f":"IFERROR(I30*Оглавление!$E$23,\"по запросу\")","v":"по запросу"},{"$f":"IFERROR(G30*(1-Оглавление!$D$39),\"по запросу\")","v":"по запросу"},"по запросу","шт",null,{"$f":"IFERROR(K30*G30,\"0 ₽\")","v":"0 ₽"},"0 ₽"]
[null,"IGIF025","Отвод ПВДФ 90° для раструбной сварки 25 IPS",16,"Фитинги","RUB",{"$f":"IFERROR(I31*Оглавление!$E$23,\"по запросу\")","v":"по запросу"},{"$f":"IFERROR(G31*(1-Оглавление!$D$39),\"по запросу\")","v":"по запросу"},"по запросу","шт",null,{"$f":"IFERROR(K31*G31,\"0 ₽\")","v":"0 ₽"},"0 ₽"]
[null,"IGIF032","Отвод ПВДФ 90° для раструбной сварки 32 IPS",16,"Фитинги","RUB",{"$f":"IFERROR(I32*Оглавление!$E$23,\"по запросу\")","v":"по запросу"},{"$f":"IFERROR(G32*(1-Оглавление!$D$39),\"по запросу\")","v":"по запросу"},"по запросу","шт",null,"0 ₽","0 ₽"]
[null,"IGIF040","Отвод ПВДФ 90° для раструбной сварки 40 IPS",16,"Фитинги","RUB",{"$f":"IFERROR(I33*Оглавление!$E$23,\"по запросу\")","v":"по запросу"},{"$f":"IFERROR(G33*(1-Оглавление!$D$39),\"по запросу\")","v":"по запросу"},"по запросу","шт",null,"0 ₽","0 ₽"]
[null,"IGIF050","Отвод ПВДФ 90° для раструбной сварки 50 IPS",16,"Фитинги","RUB",{"$f":"IFERROR(I34*Оглавление!$E$23,\"по запросу\")","v":"по запросу"},{"$f":"IFERROR(G34*(1-Оглавление!$D$39),\"по запросу\")","v":"по запросу"},"по запросу","шт",null,"0 ₽","0 ₽"]
[null,"IGIF063","Отвод ПВДФ 90° для раструбной сварки 63 IPS",16,"Фитинги","RUB",{"$f":"IFERROR(I35*Оглавление!$E$23,\"по запросу\")","v":"по запросу"},{"$f":"IFERROR(G35*(1-Оглавление!$D$39),\"по запросу\")","v":"по запросу"},"по запросу","шт",null,"0 ₽","0 ₽"]
[null,"IGIF075","Отвод ПВДФ 90° для раструбной сварки 75 IPS",16,"Фитинги","RUB",{"$f":"IFERROR(I36*Оглавление!$E$23,\"по запросу\")","v":"по запросу"},{"$f":"IFERROR(G36*(1-Оглавление!$D$39),\"по запросу\")","v":"по запросу"},"по запросу","шт",null,"0 ₽","0 ₽"]
[null,"IGIF090","Отвод ПВДФ 90° для раструбной сварки 90 IPS",16,"Фитинги","RUB",{"$f":"IFERROR(I37*Оглавление!$E$23,\"по запросу\")","v":"по запросу"},{"$f":"IFERROR(G37*(1-Оглавление!$D$39),\"по запросу\")","v":"по запросу"},"по запросу","шт",null,"0 ₽","0 ₽"]
[null,"IGIF110","Отвод ПВДФ 90° для раструбной сварки 110 IPS",16,"Фитинги","RUB",{"$f":"IFERROR(I38*Оглавление!$E$23,\"по запросу\")","v":"по запросу"},{"$f":"IFERROR(G38*(1-Оглавление!$D$39),\"по запросу\")","v":"по запросу"},"по запросу","шт",null,"0 ₽","0 ₽"]
[null,"IHIF020","Отвод ПВДФ 45° для раструбной сварки 20 IPS",16,"Фитинги","RUB",{"$f":"IFERROR(I39*Оглавление!$E$23,\"по запросу\")","v":"по запросу"},{"$f":"IFERROR(G39*(1-Оглавление!$D$39),\"по запросу\")","v":"по запросу"},"по запросу","шт",null,"0 ₽","0 ₽"]
[null,"IHIF025","Отвод ПВДФ 45° для раструбной сварки 25 IPS",16,"Фитинги","RUB",{"$f":"IFERROR(I40*Оглавление!$E$23,\"по запросу\")","v":"по запросу"},{"$f":"IFERROR(G40*(1-Оглавление!$D$39),\"по запросу\")","v":"по запросу"},"по запросу","шт",null,"0 ₽","0 ₽"]
[null,"IHIF032","Отвод ПВДФ 45° для раструбной сварки 32 IPS",16,"Фитинги","RUB",{"$f":"IFERROR(I41*Оглавление!$E$23,\"по запросу\")","v":"по запросу"},{"$f":"IFERROR(G41*(1-Оглавление!$D$39),\"по запросу\")","v":"по запросу"},"по запросу","шт",null,"0 ₽","0 ₽"]
[null,"IHIF040","Отвод ПВДФ 45° для раструбной сварки 40 IPS",16,"Фитинги","RUB",{"$f":"IFERROR(I42*Оглавление!$E$23,\"по запросу\")","v":"по запросу"},{"$f":"IFERROR(G42*(1-Оглавление!$D$39),\"по запросу\")","v":"по запросу"},"по запросу","шт",null,"0 ₽","0 ₽"]
[null,"IHIF050","Отвод ПВДФ 45° для раструбной сварки 50 IPS",16,"Фитинги","RUB",{"$f":"IFERROR(I43*Оглавление!$E$23,\"по запросу\")","v":"по запросу"},{"$f":"IFERROR(G43*(1-Оглавление!$D$39),\"по запросу\")","v":"по запросу"},"по запросу","шт",null,"0 ₽","0 ₽"]
[null,"IHIF063","Отвод ПВДФ 45° для раструбной сварки 63 IPS",16,"Фитинги","RUB",{"$f":"IFERROR(I44*Оглавление!$E$23,\"по запросу\")","v":"по запросу"},{"$f":"IFERROR(G44*(1-Оглавление!$D$39),\"по запросу\")","v":"по запросу"},"по запросу","шт",null,"0 ₽","0 ₽"]
[null,"IHIF075","Отвод ПВДФ 45° для раструбной сварки 75 IPS",16,"Фитинги","RUB",{"$f":"IFERROR(I45*Оглавление!$E$23,\"по запросу\")","v":"по запросу"},{"$f":"IFERROR(G45*(1-Оглавление!$D$39),\"по запросу\")","v":"по запросу"},"по запросу","шт",null,"0 ₽","0 ₽"]
[null,"IHIF090","Отвод ПВДФ 45° для раструбной сварки 90 IPS",16,"Фитинги","RUB",{"$f":"IFERROR(I46*Оглавление!$E$23,\"по запросу\")","v":"по запросу"},{"$f":"IFERROR(G46*(1-Оглавление!$D$39),\"по запросу\")","v":"по запросу"},"по запросу","шт",null,"0 ₽","0 ₽"]
[null,"IHIF110","Отвод ПВДФ 45° для раструбной сварки 110 IPS",16,"Фитинги","RUB",{"$f":"IFERROR(I47*Оглавление!$E$23,\"по запросу\")","v":"по запросу"},{"$f":"IFERROR(G47*(1-Оглавление!$D$39),\"по запросу\")","v":"по запросу"},"по запросу","шт",null,"0 ₽","0 ₽"]
[null,"ITIF032","Тройник ПВДФ 90° для раструбной сварки 20 IPS",16,"Фитинги","RUB",{"$f":"IFERROR(I48*Оглавление!$E$23,\"по запросу\")","v":"по запросу"},{"$f":"IFERROR(G48*(1-Оглавление!$D$39),\"по запросу\")","v":"по запросу"},"по запросу","шт",null,"0 ₽",{"$f":"IFERROR(K48*H48,\"0 ₽\")","v":"0 ₽"}]
[null,"ITIF063","Тройник ПВДФ 90° для раструбной сварки 25 IPS",16,"Фитинги","RUB",{"$f":"IFERROR(I49*Оглавление!$E$23,\"по запросу\")","v":"по запросу"},{"$f":"IFERROR(G49*(1-Оглавление!$D$39),\"по запросу\")","v":"по запросу"},"по запросу","шт",null,"0 ₽","0 ₽"]
[null,"ITIF025","Тройник ПВДФ 90° для раструбной сварки 32 IPS",16,"Фитинги","RUB",{"$f":"IFERROR(I50*Оглавление!$E$23,\"по запросу\")","v":"по запросу"},{"$f":"IFERROR(G50*(1-Оглавление!$D$39),\"по запросу\")","v":"по запросу"},"по запросу","шт",null,"0 ₽","0 ₽"]
[null,"ITIF020","Тройник ПВДФ 90° для раструбной сварки 40 IPS",16,"Фитинги","RUB",{"$f":"IFERROR(I51*Оглавление!$E$23,\"по запросу\")","v":"по запросу"},{"$f":"IFERROR(G51*(1-Оглавление!$D$39),\"по запросу\")","v":"по запросу"},"по запросу","шт",null,"0 ₽","0 ₽"]
[null,"ITIF050","Тройник ПВДФ 90° для раструбной сварки 50 IPS",16,"Фитинги","RUB",{"$f":"IFERROR(I52*Оглавление!$E$23,\"по запросу\")","v":"по запросу"},{"$f":"IFERROR(G52*(1-Оглавление!$D$39),\"по запросу\")","v":"по запросу"},"по запросу","шт",null,"0 ₽","0 ₽"]
[null,"ITIF040","Тройник ПВДФ 90° для раструбной сварки 63 IPS",16,"Фитинги","RUB",{"$f":"IFERROR(I53*Оглавление!$E$23,\"по запросу\")","v":"по запросу"},{"$f":"IFERROR(G53*(1-Оглавление!$D$39),\"по запросу\")","v":"по запросу"},"по запросу","шт",null,"0 ₽","0 ₽"]
[null,"ITIF075","Тройник ПВДФ 90° для раструбной сварки 75 IPS",16,"Фитинги","RUB",{"$f":"IFERROR(I54*Оглавление!$E$23,\"по запросу\")","v":"по запросу"},{"$f":"IFERROR(G54*(1-Оглавление!$D$39),\"по запросу\")","v":"по запросу"},"по запросу","шт",null,"0 ₽","0 ₽"]
[null,"ITIF090","Тройник ПВДФ 90° для раструбной сварки 90 IPS",16,"Фитинги","RUB",{"$f":"IFERROR(I55*Оглавление!$E$23,\"по запросу\")","v":"по запросу"},{"$f":"IFERROR(G55*(1-Оглавление!$D$39),\"по запросу\")","v":"по запросу"},"по запросу","шт",null,"0 ₽","0 ₽"]
[null,"ITIF110","Тройник ПВДФ 90° для раструбной сварки 110 IPS",16,"Фитинги","RUB",{"$f":"IFERROR(I56*Оглавление!$E$23,\"по запросу\")","v":"по запросу"},{"$f":"IFERROR(G56*(1-Оглавление!$D$39),\"по запросу\")","v":"по запросу"},"по запросу","шт",null,"0 ₽","0 ₽"]
[null,"IMIF020","Муфта ПВДФ для раструбной сварки 20 IPS",16,"Фитинги","RUB",{"$f":"IFERROR(I57*Оглавление!$E$23,\"по запросу\")","v":"по запросу"},{"$f":"IFERROR(G57*(1-Оглавление!$D$39),\"по запросу\")","v":"по запросу"},"по запросу","шт",null,"0 ₽","0 ₽"]
[null,"IMIF025","Муфта ПВДФ для раструбной сварки 25 IPS",16,"Фитинги","RUB",{"$f":"IFERROR(I58*Оглавление!$E$23,\"по запросу\")","v":"по запросу"},{"$f":"IFERROR(G58*(1-Оглавление!$D$39),\"по запросу\")","v":"по запросу"},"по запросу","шт",null,"0 ₽","0 ₽"]
[null,"IMIF032","Муфта ПВДФ для раструбной сварки 32 IPS",16,"Фитинги","RUB",{"$f":"IFERROR(I59*Оглавление!$E$23,\"по запросу\")","v":"по запросу"},{"$f":"IFERROR(G59*(1-Оглавление!$D$39),\"по запросу\")","v":"по запросу"},"по запросу","шт",null,"0 ₽","0 ₽"]
[null,"IMIF040","Муфта ПВДФ для раструбной сварки 40 IPS",16,"Фитинги","RUB",{"$f":"IFERROR(I60*Оглавление!$E$23,\"по запросу\")","v":"по запросу"},{"$f":"IFERROR(G60*(1-Оглавление!$D$39),\"по запросу\")","v":"по запросу"},"по запросу","шт",null,"0 ₽","0 ₽"]
[null,"IMIF050","Муфта ПВДФ для раструбной сварки 50 IPS",16,"Фитинги","RUB",{"$f":"IFERROR(I61*Оглавление!$E$23,\"по запросу\")","v":"по запросу"},{"$f":"IFERROR(G61*(1-Оглавление!$D$39),\"по запросу\")","v":"по запросу"},"по запросу","шт",null,"0 ₽","0 ₽"]
[null,"IMIF063","Муфта ПВДФ для раструбной сварки 63 IPS",16,"Фитинги","RUB",{"$f":"IFERROR(I62*Оглавление!$E$23,\"по запросу\")","v":"по запросу"},{"$f":"IFERROR(G62*(1-Оглавление!$D$39),\"по запросу\")","v":"по запросу"},"по запросу","шт",null,"0 ₽","0 ₽"]
[null,"IMIF075","Муфта ПВДФ для раструбной сварки 75 IPS",16,"Фитинги","RUB",{"$f":"IFERROR(I63*Оглавление!$E$23,\"по запросу\")","v":"по запросу"},{"$f":"IFERROR(G63*(1-Оглавление!$D$39),\"по запросу\")","v":"по запросу"},"по запросу","шт",null,"0 ₽","0 ₽"]
[null,"IMIF090","Муфта ПВДФ для раструбной сварки 90 IPS",16,"Фитинги","RUB",{"$f":"IFERROR(I64*Оглавление!$E$23,\"по запросу\")","v":"по запросу"},{"$f":"IFERROR(G64*(1-Оглавление!$D$39),\"по запросу\")","v":"по запросу"},"по запросу","шт",null,"0 ₽","0 ₽"]
[null,"IMIF110","Муфта ПВДФ для раструбной сварки 110 IPS",16,"Фитинги","RUB",{"$f":"IFERROR(I65*Оглавление!$E$23,\"по запросу\")","v":"по запросу"},{"$f":"IFERROR(G65*(1-Оглавление!$D$39),\"по запросу\")","v":"по запросу"},"по запросу","шт",null,"0 ₽","0 ₽"]
[null,"IRIF025020","Муфта ПВДФ переходная для раструбной сварки 25x20 IPS",16,"Фитинги","RUB",{"$f":"IFERROR(I66*Оглавление!$E$23,\"по запросу\")","v":"по запросу"},{"$f":"IFERROR(G66*(1-Оглавление!$D$39),\"по запросу\")","v":"по запросу"},"по запросу","шт",null,"0 ₽","0 ₽"]
[null,"IRIF032020","Муфта ПВДФ переходная для раструбной сварки 32x20 IPS",16,"Фитинги","RUB",{"$f":"IFERROR(I67*Оглавление!$E$23,\"по запросу\")","v":"по запросу"},{"$f":"IFERROR(G67*(1-Оглавление!$D$39),\"по запросу\")","v":"по запросу"},"по запросу","шт",null,"0 ₽","0 ₽"]
[null,"IRIF032025","Муфта ПВДФ переходная для раструбной сварки 32x25 IPS",16,"Фитинги","RUB",{"$f":"IFERROR(I68*Оглавление!$E$23,\"по запросу\")","v":"по запросу"},{"$f":"IFERROR(G68*(1-Оглавление!$D$39),\"по запросу\")","v":"по запросу"},"по запросу","шт",null,"0 ₽","0 ₽"]
[null,"IRIF040025","Муфта ПВДФ переходная для раструбной сварки 40x25 IPS",16,"Фитинги","RUB",{"$f":"IFERROR(I69*Оглавление!$E$23,\"по запросу\")","v":"по запросу"},{"$f":"IFERROR(G69*(1-Оглавление!$D$39),\"по запросу\")","v":"по запросу"},"по запросу","шт",null,"0 ₽","0 ₽"]
[null,"IRIF040032","Муфта ПВДФ переходная для раструбной сварки 40x32 IPS",16,"Фитинги","RUB",{"$f":"IFERROR(I70*Оглавление!$E$23,\"по запросу\")","v":"по запросу"},{"$f":"IFERROR(G70*(1-Оглавление!$D$39),\"по запросу\")","v":"по запросу"},"по запросу","шт",null,"0 ₽","0 ₽"]
[null,"IRIF050025","Муфта ПВДФ переходная для раструбной сварки 50x25 IPS",16,"Фитинги","RUB",{"$f":"IFERROR(I71*Оглавление!$E$23,\"по запросу\")","v":"по запросу"},{"$f":"IFERROR(G71*(1-Оглавление!$D$39),\"по запросу\")","v":"по запросу"},"по запросу","шт",null,{"$f":"IFERROR(K71*G71,\"0 ₽\")","v":"0 ₽"},"0 ₽"]
[null,"IRIF050032","Муфта ПВДФ переходная для раструбной сварки 50x32 IPS",16,"Фитинги","RUB",{"$f":"IFERROR(I72*Оглавление!$E$23,\"по запросу\")","v":"по запросу"},{"$f":"IFERROR(G72*(1-Оглавление!$D$39),\"по запросу\")","v":"по запросу"},"по запросу","шт",null,"0 ₽","0 ₽"]
[null,"IRIF050040","Муфта ПВДФ переходная для раструбной сварки 50x40 IPS",16,"Фитинги","RUB",{"$f":"IFERROR(I73*Оглавление!$E$23,\"по запросу\")","v":"по запросу"},{"$f":"IFERROR(G73*(1-Оглавление!$D$39),\"по запросу\")","v":"по запросу"},"по запросу","шт",null,"0 ₽","0 ₽"]
[null,"IRIF063032","Муфта ПВДФ переходная для раструбной сварки 63x32 IPS",16,"Фитинги","RUB",{"$f":"IFERROR(I74*Оглавление!$E$23,\"по запросу\")","v":"по запросу"},{"$f":"IFERROR(G74*(1-Оглавление!$D$39),\"по запросу\")","v":"по запросу"},"по запросу","шт",null,"0 ₽","0 ₽"]
[null,"IRIF063040","Муфта ПВДФ переходная для раструбной сварки 63x40 IPS",16,"Фитинги","RUB",{"$f":"IFERROR(I75*Оглавление!$E$23,\"по запросу\")","v":"по запросу"},{"$f":"IFERROR(G75*(1-Оглавление!$D$39),\"по запросу\")","v":"по запросу"},"по запросу","шт",null,"0 ₽","0 ₽"]
[null,"IRIF063050","Муфта ПВДФ переходная для раструбной сварки 63x50 IPS",16,"Фитинги","RUB",{"$f":"IFERROR(I76*Оглавление!$E$23,\"по запросу\")","v":"по запросу"},{"$f":"IFERROR(G76*(1-Оглавление!$D$39),\"по запросу\")","v":"по запросу"},"по запросу","шт",null,"0 ₽","0 ₽"]
[null,"IRIF075040","Муфта ПВДФ переходная для раструбной сварки 75x40 IPS",16,"Фитинги","RUB",{"$f":"IFERROR(I77*Оглавление!$E$23,\"по запросу\")","v":"по запросу"},{"$f":"IFERROR(G77*(1-Оглавление!$D$39),\"по запросу\")","v":"по запросу"},"по запросу","шт",null,"0 ₽","0 ₽"]
[null,"IRIF075050","Муфта ПВДФ переходная для раструбной сварки 75x50 IPS",16,"Фитинги","RUB",{"$f":"IFERROR(I78*Оглавление!$E$23,\"по запросу\")","v":"по запросу"},{"$f":"IFERROR(G78*(1-Оглавление!$D$39),\"по запросу\")","v":"по запросу"},"по запросу","шт",null,"0 ₽","0 ₽"]
[null,"IRIF075063","Муфта ПВДФ переходная для раструбной сварки 75x63 IPS",16,"Фитинги","RUB",{"$f":"IFERROR(I79*Оглавление!$E$23,\"по запросу\")","v":"по запросу"},{"$f":"IFERROR(G79*(1-Оглавление!$D$39),\"по запросу\")","v":"по запросу"},"по запросу","шт",null,"0 ₽","0 ₽"]
[null,"IRIF090050","Муфта ПВДФ переходная для раструбной сварки 90x50 IPS",16,"Фитинги","RUB",{"$f":"IFERROR(I80*Оглавление!$E$23,\"по запросу\")","v":"по запросу"},{"$f":"IFERROR(G80*(1-Оглавление!$D$39),\"по запросу\")","v":"по запросу"},"по запросу","шт",null,"0 ₽","0 ₽"]
[null,"IRIF090063","Муфта ПВДФ переходная для раструбной сварки 90x63 IPS",16,"Фитинги","RUB",{"$f":"IFERROR(I81*Оглавление!$E$23,\"по запросу\")","v":"по запросу"},{"$f":"IFERROR(G81*(1-Оглавление!$D$39),\"по запросу\")","v":"по запросу"},"по запросу","шт",null,"0 ₽","0 ₽"]
[null,"IRIF090075","Муфта ПВДФ переходная для раструбной сварки 90x75 IPS",16,"Фитинги","RUB",{"$f":"IFERROR(I82*Оглавление!$E$23,\"по запросу\")","v":"по запросу"},{"$f":"IFERROR(G82*(1-Оглавление!$D$39),\"по запросу\")","v":"по запросу"},"по запросу","шт",null,"0 ₽","0 ₽"]
[null,"IRIF110050","Муфта ПВДФ переходная для раструбной сварки 110x50 IPS",16,"Фитинги","RUB",{"$f":"IFERROR(I83*Оглавление!$E$23,\"по запросу\")","v":"по запросу"},{"$f":"IFERROR(G83*(1-Оглавление!$D$39),\"по запросу\")","v":"по запросу"},"по запросу","шт",null,"0 ₽","0 ₽"]
[null,"IRIF110063","Муфта ПВДФ переходная для раструбной сварки 110x63 IPS",16,"Фитинги","RUB",{"$f":"IFERROR(I84*Оглавление!$E$23,\"по запросу\")","v":"по запросу"},{"$f":"IFERROR(G84*(1-Оглавление!$D$39),\"по запросу\")","v":"по запросу"},"по запросу","шт",null,"0 ₽","0 ₽"]
[null,"IRIF110075","Муфта ПВДФ переходная для раструбной сварки 110x75 IPS",16,"Фитинги","RUB",{"$f":"IFERROR(I85*Оглавление!$E$23,\"по запросу\")","v":"по запросу"},{"$f":"IFERROR(G85*(1-Оглавление!$D$39),\"по запросу\")","v":"по запросу"},"по запросу","шт",null,"0 ₽","0 ₽"]
[null,"IRIF110090","Муфта ПВДФ переходная для раструбной сварки 110x90 IPS",16,"Фитинги","RUB",{"$f":"IFERROR(I86*Оглавление!$E$23,\"по запросу\")","v":"по запросу"},{"$f":"IFERROR(G86*(1-Оглавление!$D$39),\"по запросу\")","v":"по запросу"},"по запросу","шт",null,"0 ₽","0 ₽"]
[null,"IKBFF020012","Муфта ПВДФ НР для раструбной сварки 20x1/2\" IPS",16,"Фитинги","RUB",{"$f":"IFERROR(I87*Оглавление!$E$23,\"по запросу\")","v":"по запросу"},{"$f":"IFERROR(G87*(1-Оглавление!$D$39),\"по запросу\")","v":"по запросу"},"по запросу","шт",null,"0 ₽","0 ₽"]
[null,"IKBFF025034","Муфта ПВДФ НР для раструбной сварки 25x3/4\" IPS",16,"Фитинги","RUB",{"$f":"IFERROR(I88*Оглавление!$E$23,\"по запросу\")","v":"по запросу"},{"$f":"IFERROR(G88*(1-Оглавление!$D$39),\"по запросу\")","v":"по запросу"},"по запросу","шт",null,"0 ₽",{"$f":"IFERROR(K88*H88,\"0 ₽\")","v":"0 ₽"}]
[null,"IKBFF032100","Муфта ПВДФ НР для раструбной сварки 32x1\" IPS",16,"Фитинги","RUB",{"$f":"IFERROR(I89*Оглавление!$E$23,\"по запросу\")","v":"по запросу"},{"$f":"IFERROR(G89*(1-Оглавление!$D$39),\"по запросу\")","v":"по запросу"},"по запросу","шт",null,"0 ₽","0 ₽"]
[null,"IKBFF040114","Муфта ПВДФ НР для раструбной сварки 40x1 1/4\" IPS",16,"Фитинги","RUB",{"$f":"IFERROR(I90*Оглавление!$E$23,\"по запросу\")","v":"по запросу"},{"$f":"IFERROR(G90*(1-Оглавление!$D$39),\"по запросу\")","v":"по запросу"},"по запросу","шт",null,"0 ₽","0 ₽"]
[null,"IKBFF050112","Муфта ПВДФ НР для раструбной сварки 50x1 1/2\" IPS",16,"Фитинги","RUB",{"$f":"IFERROR(I91*Оглавление!$E$23,\"по запросу\")","v":"по запросу"},{"$f":"IFERROR(G91*(1-Оглавление!$D$39),\"по запросу\")","v":"по запросу"},"по запросу","шт",null,"0 ₽","0 ₽"]
[null,"IKBFF063200","Муфта ПВДФ НР для раструбной сварки 63x2\" IPS",16,"Фитинги","RUB",{"$f":"IFERROR(I92*Оглавление!$E$23,\"по запросу\")","v":"по запросу"},{"$f":"IFERROR(G92*(1-Оглавление!$D$39),\"по запросу\")","v":"по запросу"},"по запросу","шт",null,"0 ₽","0 ₽"]
[null,"IMIMF020012","Муфта ПВДФ ВР для раструбной сварки 20x1/2\" IPS",16,"Фитинги","RUB",{"$f":"IFERROR(I93*Оглавление!$E$23,\"по запросу\")","v":"по запросу"},{"$f":"IFERROR(G93*(1-Оглавление!$D$39),\"по запросу\")","v":"по запросу"},"по запросу","шт",null,"0 ₽","0 ₽"]
[null,"IMIMF025034","Муфта ПВДФ ВР для раструбной сварки 25x3/4\" IPS",16,"Фитинги","RUB",{"$f":"IFERROR(I94*Оглавление!$E$23,\"по запросу\")","v":"по запросу"},{"$f":"IFERROR(G94*(1-Оглавление!$D$39),\"по запросу\")","v":"по запросу"},"по запросу","шт",null,"0 ₽","0 ₽"]
[null,"IMIMF032100","Муфта ПВДФ ВР для раструбной сварки 32x1\" IPS",16,"Фитинги","RUB",{"$f":"IFERROR(I95*Оглавление!$E$23,\"по запросу\")","v":"по запросу"},{"$f":"IFERROR(G95*(1-Оглавление!$D$39),\"по запросу\")","v":"по запросу"},"по запросу","шт",null,"0 ₽","0 ₽"]
[null,"IMIMF040114","Муфта ПВДФ ВР для раструбной сварки 40x1 1/4\" IPS",16,"Фитинги","RUB",{"$f":"IFERROR(I96*Оглавление!$E$23,\"по запросу\")","v":"по запросу"},{"$f":"IFERROR(G96*(1-Оглавление!$D$39),\"по запросу\")","v":"по запросу"},"по запросу","шт",null,"0 ₽","0 ₽"]
[null,"IMIMF050112","Муфта ПВДФ ВР для раструбной сварки 50x1 1/2\" IPS",16,"Фитинги","RUB",{"$f":"IFERROR(I97*Оглавление!$E$23,\"по запросу\")","v":"по запросу"},{"$f":"IFERROR(G97*(1-Оглавление!$D$39),\"по запросу\")","v":"по запросу"},"по запросу","шт",null,"0 ₽","0 ₽"]
[null,"IMIMF063200","Муфта ПВДФ ВР для раструбной сварки 63x2\" IPS",16,"Фитинги","RUB",{"$f":"IFERROR(I98*Оглавление!$E$23,\"по запросу\")","v":"по запросу"},{"$f":"IFERROR(G98*(1-Оглавление!$D$39),\"по запросу\")","v":"по запросу"},"по запросу","шт",null,"0 ₽","0 ₽"]
[null,"ICIF020","Заглушка ПВДФ для раструбной сварки 20 IPS",16,"Фитинги","RUB",{"$f":"IFERROR(I99*Оглавление!$E$23,\"по запросу\")","v":"по запросу"},{"$f":"IFERROR(G99*(1-Оглавление!$D$39),\"по запросу\")","v":"по запросу"},"по запросу","шт",null,"0 ₽","0 ₽"]
[null,"ICIF025","Заглушка ПВДФ для раструбной сварки 25 IPS",16,"Фитинги","RUB",{"$f":"IFERROR(I100*Оглавление!$E$23,\"по запросу\")","v":"по запросу"},{"$f":"IFERROR(G100*(1-Оглавление!$D$39),\"по запросу\")","v":"по запросу"},"по запросу","шт",null,"0 ₽","0 ₽"]
[null,"ICIF032","Заглушка ПВДФ для раструбной сварки 32 IPS",16,"Фитинги","RUB",{"$f":"IFERROR(I101*Оглавление!$E$23,\"по запросу\")","v":"по запросу"},{"$f":"IFERROR(G101*(1-Оглавление!$D$39),\"по запросу\")","v":"по запросу"},"по запросу","шт",null,"0 ₽","0 ₽"]
[null,"ICIF040","Заглушка ПВДФ для раструбной сварки 40 IPS",16,"Фитинги","RUB",{"$f":"IFERROR(I102*Оглавление!$E$23,\"по запросу\")","v":"по запросу"},{"$f":"IFERROR(G102*(1-Оглавление!$D$39),\"по запросу\")","v":"по запросу"},"по запросу","шт",null,"0 ₽","0 ₽"]
[null,"ICIF050","Заглушка ПВДФ для раструбной сварки 50 IPS",16,"Фитинги","RUB",{"$f":"IFERROR(I103*Оглавление!$E$23,\"по запросу\")","v":"по запросу"},{"$f":"IFERROR(G103*(1-Оглавление!$D$39),\"по запросу\")","v":"по запросу"},"по запросу","шт",null,"0 ₽","0 ₽"]
[null,"ICIF063","Заглушка ПВДФ для раструбной сварки 63 IPS",16,"Фитинги","RUB",{"$f":"IFERROR(I104*Оглавление!$E$23,\"по запросу\")","v":"по запросу"},{"$f":"IFERROR(G104*(1-Оглавление!$D$39),\"по запросу\")","v":"по запросу"},"по запросу","шт",null,"0 ₽","0 ₽"]
[null,"ICIF075","Заглушка ПВДФ для раструбной сварки 75 IPS",16,"Фитинги","RUB",{"$f":"IFERROR(I105*Оглавление!$E$23,\"по запросу\")","v":"по запросу"},{"$f":"IFERROR(G105*(1-Оглавление!$D$39),\"по запросу\")","v":"по запросу"},"по запросу","шт",null,"0 ₽","0 ₽"]
[null,"ICIF090","Заглушка ПВДФ для раструбной сварки 90 IPS",16,"Фитинги","RUB",{"$f":"IFERROR(I106*Оглавление!$E$23,\"по запросу\")","v":"по запросу"},{"$f":"IFERROR(G106*(1-Оглавление!$D$39),\"по запросу\")","v":"по запросу"},"по запросу","шт",null,"0 ₽","0 ₽"]
[null,"ICIF110","Заглушка ПВДФ для раструбной сварки 110 IPS",16,"Фитинги","RUB",{"$f":"IFERROR(I107*Оглавление!$E$23,\"по запросу\")","v":"по запросу"},{"$f":"IFERROR(G107*(1-Оглавление!$D$39),\"по запросу\")","v":"по запросу"},"по запросу","шт",null,"0 ₽","0 ₽"]
[null,"IFDF020","Жесткий фланец ПВДФ для раструбной сварки 20 IPS",16,"Фитинги","RUB",{"$f":"IFERROR(I108*Оглавление!$E$23,\"по запросу\")","v":"по запросу"},{"$f":"IFERROR(G108*(1-Оглавление!$D$39),\"по запросу\")","v":"по запросу"},"по запросу","шт",null,"0 ₽","0 ₽"]
[null,"IFDF025","Жесткий фланец ПВДФ для раструбной сварки 25 IPS",16,"Фитинги","RUB",{"$f":"IFERROR(I109*Оглавление!$E$23,\"по запросу\")","v":"по запросу"},{"$f":"IFERROR(G109*(1-Оглавление!$D$39),\"по запросу\")","v":"по запросу"},"по запросу","шт",null,"0 ₽","0 ₽"]
[null,"IFDF032","Жесткий фланец ПВДФ для раструбной сварки 32 IPS",16,"Фитинги","RUB",{"$f":"IFERROR(I110*Оглавление!$E$23,\"по запросу\")","v":"по запросу"},{"$f":"IFERROR(G110*(1-Оглавление!$D$39),\"по запросу\")","v":"по запросу"},"по запросу","шт",null,"0 ₽","0 ₽"]
[null,"IFDF040","Жесткий фланец ПВДФ для раструбной сварки 40 IPS",16,"Фитинги","RUB",{"$f":"IFERROR(I111*Оглавление!$E$23,\"по запросу\")","v":"по запросу"},{"$f":"IFERROR(G111*(1-Оглавление!$D$39),\"по запросу\")","v":"по запросу"},"по запросу","шт",null,"0 ₽","0 ₽"]
[null,"IFDF050","Жесткий фланец ПВДФ для раструбной сварки 50 IPS",16,"Фитинги","RUB",{"$f":"IFERROR(I112*Оглавление!$E$23,\"по запросу\")","v":"по запросу"},{"$f":"IFERROR(G112*(1-Оглавление!$D$39),\"по запросу\")","v":"по запросу"},"по запросу","шт",null,"0 ₽","0 ₽"]
[null,"IFDF063","Жесткий фланец ПВДФ для раструбной сварки 63 IPS",16,"Фитинги","RUB",{"$f":"IFERROR(I113*Оглавление!$E$23,\"по запросу\")","v":"по запросу"},{"$f":"IFERROR(G113*(1-Оглавление!$D$39),\"по запросу\")","v":"по запросу"},"по запросу","шт",null,"0 ₽","0 ₽"]
[null,"IFDF075","Жесткий фланец ПВДФ для раструбной сварки 75 IPS",16,"Фитинги","RUB",{"$f":"IFERROR(I114*Оглавление!$E$23,\"по запросу\")","v":"по запросу"},{"$f":"IFERROR(G114*(1-Оглавление!$D$39),\"по запросу\")","v":"по запросу"},"по запросу","шт",null,"0 ₽","0 ₽"]
[null,"IFDF090","Жесткий фланец ПВДФ для раструбной сварки 90 IPS",16,"Фитинги","RUB",{"$f":"IFERROR(I115*Оглавление!$E$23,\"по запросу\")","v":"по запросу"},{"$f":"IFERROR(G115*(1-Оглавление!$D$39),\"по запросу\")","v":"по запросу"},"по запросу","шт",null,"0 ₽","0 ₽"]
[null,"IFDF110","Жесткий фланец ПВДФ для раструбной сварки 110 IPS",16,"Фитинги","RUB",{"$f":"IFERROR(I116*Оглавление!$E$23,\"по запросу\")","v":"по запросу"},{"$f":"IFERROR(G116*(1-Оглавление!$D$39),\"по запросу\")","v":"по запросу"},"по запросу","шт",null,"0 ₽","0 ₽"]
[null,"IODF020","Фланец свободный ПВДФ 20 IPS",16,"Фитинги","RUB",{"$f":"IFERROR(I117*Оглавление!$E$23,\"по запросу\")","v":"по запросу"},{"$f":"IFERROR(G117*(1-Оглавление!$D$39),\"по запросу\")","v":"по запросу"},"по запросу","шт",null,"0 ₽","0 ₽"]
[null,"IODF025","Фланец свободный ПВДФ 25 IPS",16,"Фитинги","RUB",{"$f":"IFERROR(I118*Оглавление!$E$23,\"по запросу\")","v":"по запросу"},{"$f":"IFERROR(G118*(1-Оглавление!$D$39),\"по запросу\")","v":"по запросу"},"по запросу","шт",null,"0 ₽","0 ₽"]
[null,"IODF032","Фланец свободный ПВДФ 32 IPS",16,"Фитинги","RUB",{"$f":"IFERROR(I119*Оглавление!$E$23,\"по запросу\")","v":"по запросу"},{"$f":"IFERROR(G119*(1-Оглавление!$D$39),\"по запросу\")","v":"по запросу"},"по запросу","шт",null,"0 ₽","0 ₽"]
[null,"IODF040","Фланец свободный ПВДФ 40 IPS",16,"Фитинги","RUB",{"$f":"IFERROR(I120*Оглавление!$E$23,\"по запросу\")","v":"по запросу"},{"$f":"IFERROR(G120*(1-Оглавление!$D$39),\"по запросу\")","v":"по запросу"},"по запросу","шт",null,"0 ₽","0 ₽"]
[null,"IODF050","Фланец свободный ПВДФ 50 IPS",16,"Фитинги","RUB",{"$f":"IFERROR(I121*Оглавление!$E$23,\"по запросу\")","v":"по запросу"},{"$f":"IFERROR(G121*(1-Оглавление!$D$39),\"по запросу\")","v":"по запросу"},"по запросу","шт",null,"0 ₽","0 ₽"]
[null,"IODF063","Фланец свободный ПВДФ 63 IPS",16,"Фитинги","RUB",{"$f":"IFERROR(I122*Оглавление!$E$23,\"по запросу\")","v":"по запросу"},{"$f":"IFERROR(G122*(1-Оглавление!$D$39),\"по запросу\")","v":"по запросу"},"по запросу","шт",null,"0 ₽","0 ₽"]
[null,"IODF075","Фланец свободный ПВДФ 75 IPS",16,"Фитинги","RUB",{"$f":"IFERROR(I123*Оглавление!$E$23,\"по запросу\")","v":"по запросу"},{"$f":"IFERROR(G123*(1-Оглавление!$D$39),\"по запросу\")","v":"по запросу"},"по запросу","шт",null,"0 ₽","0 ₽"]
[null,"IODF090","Фланец свободный ПВДФ 90 IPS",16,"Фитинги","RUB",{"$f":"IFERROR(I124*Оглавление!$E$23,\"по запросу\")","v":"по запросу"},{"$f":"IFERROR(G124*(1-Оглавление!$D$39),\"по запросу\")","v":"по запросу"},"по запросу","шт",null,"0 ₽","0 ₽"]
[null,"IODF110","Фланец свободный ПВДФ 110 IPS",16,"Фитинги","RUB",{"$f":"IFERROR(I125*Оглавление!$E$23,\"по запросу\")","v":"по запросу"},{"$f":"IFERROR(G125*(1-Оглавление!$D$39),\"по запросу\")","v":"по запросу"},"по запросу","шт",null,"0 ₽","0 ₽"]
[null,"IQRNF020","Бурт ПВДФ для раструбной сварки 20 IPS",16,"Фитинги","RUB",{"$f":"IFERROR(I126*Оглавление!$E$23,\"по запросу\")","v":"по запросу"},{"$f":"IFERROR(G126*(1-Оглавление!$D$39),\"по запросу\")","v":"по запросу"},"по запросу","шт",null,"0 ₽","0 ₽"]
[null,"IQRNF025","Бурт ПВДФ для раструбной сварки 25 IPS",16,"Фитинги","RUB",{"$f":"IFERROR(I127*Оглавление!$E$23,\"по запросу\")","v":"по запросу"},{"$f":"IFERROR(G127*(1-Оглавление!$D$39),\"по запросу\")","v":"по запросу"},"по запросу","шт",null,"0 ₽","0 ₽"]
[null,"IQRNF032","Бурт ПВДФ для раструбной сварки 32 IPS",16,"Фитинги","RUB",{"$f":"IFERROR(I128*Оглавление!$E$23,\"по запросу\")","v":"по запросу"},{"$f":"IFERROR(G128*(1-Оглавление!$D$39),\"по запросу\")","v":"по запросу"},"по запросу","шт",null,"0 ₽","0 ₽"]
[null,"IQRNF040","Бурт ПВДФ для раструбной сварки 40 IPS",16,"Фитинги","RUB",{"$f":"IFERROR(I129*Оглавление!$E$23,\"по запросу\")","v":"по запросу"},{"$f":"IFERROR(G129*(1-Оглавление!$D$39),\"по запросу\")","v":"по запросу"},"по запросу","шт",null,"0 ₽","0 ₽"]
[null,"IQRNF050","Бурт ПВДФ для раструбной сварки 50 IPS",16,"Фитинги","RUB",{"$f":"IFERROR(I130*Оглавление!$E$23,\"по запросу\")","v":"по запросу"},{"$f":"IFERROR(G130*(1-Оглавление!$D$39),\"по запросу\")","v":"по запросу"},"по запросу","шт",null,"0 ₽","0 ₽"]
[null,"IQRNF063","Бурт ПВДФ для раструбной сварки 63 IPS",16,"Фитинги","RUB",{"$f":"IFERROR(I131*Оглавление!$E$23,\"по запросу\")","v":"по запросу"},{"$f":"IFERROR(G131*(1-Оглавление!$D$39),\"по запросу\")","v":"по запросу"},"по запросу","шт",null,"0 ₽","0 ₽"]
[null,"IQRNF075","Бурт ПВДФ для раструбной сварки 75 IPS",16,"Фитинги","RUB",{"$f":"IFERROR(I132*Оглавление!$E$23,\"по запросу\")","v":"по запросу"},{"$f":"IFERROR(G132*(1-Оглавление!$D$39),\"по запросу\")","v":"по запросу"},"по запросу","шт",null,"0 ₽","0 ₽"]
[null,"IQRNF090","Бурт ПВДФ для раструбной сварки 90 IPS",16,"Фитинги","RUB",{"$f":"IFERROR(I133*Оглавление!$E$23,\"по запросу\")","v":"по запросу"},{"$f":"IFERROR(G133*(1-Оглавление!$D$39),\"по запросу\")","v":"по запросу"},"по запросу","шт",null,"0 ₽","0 ₽"]
[null,"IQRNF110","Бурт ПВДФ для раструбной сварки 110 IPS",16,"Фитинги","RUB",{"$f":"IFERROR(I134*Оглавление!$E$23,\"по запросу\")","v":"по запросу"},{"$f":"IFERROR(G134*(1-Оглавление!$D$39),\"по запросу\")","v":"по запросу"},"по запросу","шт",null,"0 ₽","0 ₽"]
[null,"IBIF020F","Муфта разборная ПВДФ FKM 20 IPS",16,"Фитинги","RUB",{"$f":"IFERROR(I135*Оглавление!$E$23,\"по запросу\")","v":"по запросу"},{"$f":"IFERROR(G135*(1-Оглавление!$D$39),\"по запросу\")","v":"по запросу"},"по запросу","шт",null,{"$f":"IFERROR(K135*G135,\"0 ₽\")","v":"0 ₽"},{"$f":"IFERROR(K135*H135,\"0 ₽\")","v":"0 ₽"}]
[null,"IBIF025F","Муфта разборная ПВДФ FKM 25 IPS",16,"Фитинги","RUB",{"$f":"IFERROR(I136*Оглавление!$E$23,\"по запросу\")","v":"по запросу"},{"$f":"IFERROR(G136*(1-Оглавление!$D$39),\"по запросу\")","v":"по запросу"},"по запросу","шт",null,"0 ₽","0 ₽"]
[null,"IBIF032F","Муфта разборная ПВДФ FKM 32 IPS",16,"Фитинги","RUB",{"$f":"IFERROR(I137*Оглавление!$E$23,\"по запросу\")","v":"по запросу"},{"$f":"IFERROR(G137*(1-Оглавление!$D$39),\"по запросу\")","v":"по запросу"},"по запросу","шт",null,"0 ₽","0 ₽"]
[null,"IBIF040F","Муфта разборная ПВДФ FKM 40 IPS",16,"Фитинги","RUB",{"$f":"IFERROR(I138*Оглавление!$E$23,\"по запросу\")","v":"по запросу"},{"$f":"IFERROR(G138*(1-Оглавление!$D$39),\"по запросу\")","v":"по запросу"},"по запросу","шт",null,"0 ₽","0 ₽"]
[null,"IBIF050F","Муфта разборная ПВДФ FKM 50 IPS",16,"Фитинги","RUB",{"$f":"IFERROR(I139*Оглавление!$E$23,\"по запросу\")","v":"по запросу"},{"$f":"IFERROR(G139*(1-Оглавление!$D$39),\"по запросу\")","v":"по запросу"},"по запросу","шт",null,"0 ₽","0 ₽"]
[null,"IBIF063F","Муфта разборная ПВДФ FKM 63 IPS",16,"Фитинги","RUB",{"$f":"IFERROR(I140*Оглавление!$E$23,\"по запросу\")","v":"по запросу"},{"$f":"IFERROR(G140*(1-Оглавление!$D$39),\"по запросу\")","v":"по запросу"},"по запросу","шт",null,"0 ₽","0 ₽"]
[null,"IBIF075F","Муфта разборная ПВДФ FKM 75 IPS",16,"Фитинги","RUB",{"$f":"IFERROR(I141*Оглавление!$E$23,\"по запросу\")","v":"по запросу"},{"$f":"IFERROR(G141*(1-Оглавление!$D$39),\"по запросу\")","v":"по запросу"},"по запросу","шт",null,"0 ₽","0 ₽"]
[null,"IBIF090F","Муфта разборная ПВДФ FKM 90 IPS",16,"Фитинги","RUB",{"$f":"IFERROR(I142*Оглавление!$E$23,\"по запросу\")","v":"по запросу"},{"$f":"IFERROR(G142*(1-Оглавление!$D$39),\"по запросу\")","v":"по запросу"},"по запросу","шт",null,"0 ₽","0 ₽"]
[null,"IBIF110F","Муфта разборная ПВДФ FKM 110 IPS",16,"Фитинги","RUB",{"$f":"IFERROR(I143*Оглавление!$E$23,\"по запросу\")","v":"по запросу"},{"$f":"IFERROR(G143*(1-Оглавление!$D$39),\"по запросу\")","v":"по запросу"},"по запросу","шт",null,"0 ₽","0 ₽"]
[null,"IGBF21020","Отвод ПВДФ 90° для стыковой сварки 20 IPS",16,"Фитинги","RUB",{"$f":"IFERROR(I144*Оглавление!$E$23,\"по запросу\")","v":"по запросу"},{"$f":"IFERROR(G144*(1-Оглавление!$D$39),\"по запросу\")","v":"по запросу"},"по запросу","шт",null,{"$f":"IFERROR(K144*G144,\"0 ₽\")","v":"0 ₽"},"0 ₽"]
[null,"IGBF21025","Отвод ПВДФ 90° для стыковой сварки 25 IPS",16,"Фитинги","RUB",{"$f":"IFERROR(I145*Оглавление!$E$23,\"по запросу\")","v":"по запросу"},{"$f":"IFERROR(G145*(1-Оглавление!$D$39),\"по запросу\")","v":"по запросу"},"по запросу","шт",null,{"$f":"IFERROR(K145*G145,\"0 ₽\")","v":"0 ₽"},"0 ₽"]
[null,"IGBF21032","Отвод ПВДФ 90° для стыковой сварки 32 IPS",16,"Фитинги","RUB",{"$f":"IFERROR(I146*Оглавление!$E$23,\"по запросу\")","v":"по запросу"},{"$f":"IFERROR(G146*(1-Оглавление!$D$39),\"по запросу\")","v":"по запросу"},"по запросу","шт",null,"0 ₽","0 ₽"]
[null,"IGBF21040","Отвод ПВДФ 90° для стыковой сварки 40 IPS",16,"Фитинги","RUB",{"$f":"IFERROR(I147*Оглавление!$E$23,\"по запросу\")","v":"по запросу"},{"$f":"IFERROR(G147*(1-Оглавление!$D$39),\"по запросу\")","v":"по запросу"},"по запросу","шт",null,"0 ₽","0 ₽"]
[null,"IGBF21050","Отвод ПВДФ 90° для стыковой сварки 50 IPS",16,"Фитинги","RUB",{"$f":"IFERROR(I148*Оглавление!$E$23,\"по запросу\")","v":"по запросу"},{"$f":"IFERROR(G148*(1-Оглавление!$D$39),\"по запросу\")","v":"по запросу"},"по запросу","шт",null,"0 ₽","0 ₽"]
[null,"IGBF21063","Отвод ПВДФ 90° для стыковой сварки 63 IPS",16,"Фитинги","RUB",{"$f":"IFERROR(I149*Оглавление!$E$23,\"по запросу\")","v":"по запросу"},{"$f":"IFERROR(G149*(1-Оглавление!$D$39),\"по запросу\")","v":"по запросу"},"по запросу","шт",null,"0 ₽","0 ₽"]
[null,"IGBF21075","Отвод ПВДФ 90° для стыковой сварки 75 IPS",16,"Фитинги","RUB",{"$f":"IFERROR(I150*Оглавление!$E$23,\"по запросу\")","v":"по запросу"},{"$f":"IFERROR(G150*(1-Оглавление!$D$39),\"по запросу\")","v":"по запросу"},"по запросу","шт",null,"0 ₽","0 ₽"]
[null,"IGBF21090","Отвод ПВДФ 90° для стыковой сварки 90 IPS",16,"Фитинги","RUB",{"$f":"IFERROR(I151*Оглавление!$E$23,\"по запросу\")","v":"по запросу"},{"$f":"IFERROR(G151*(1-Оглавление!$D$39),\"по запросу\")","v":"по запросу"},"по запросу","шт",null,"0 ₽","0 ₽"]
[null,"IGBF21110","Отвод ПВДФ 90° для стыковой сварки 110 IPS",16,"Фитинги","RUB",{"$f":"IFERROR(I152*Оглавление!$E$23,\"по запросу\")","v":"по запросу"},{"$f":"IFERROR(G152*(1-Оглавление!$D$39),\"по запросу\")","v":"по запросу"},"по запросу","шт",null,"0 ₽","0 ₽"]
[null,"IGBF21140","Отвод ПВДФ 90° для стыковой сварки 140 IPS",16,"Фитинги","RUB",{"$f":"IFERROR(I153*Оглавление!$E$23,\"по запросу\")","v":"по запросу"},{"$f":"IFERROR(G153*(1-Оглавление!$D$39),\"по запросу\")","v":"по запросу"},"по запросу","шт",null,"0 ₽","0 ₽"]
[null,"IGBF21160","Отвод ПВДФ 90° для стыковой сварки 160 IPS",16,"Фитинги","RUB",{"$f":"IFERROR(I154*Оглавление!$E$23,\"по запросу\")","v":"по запросу"},{"$f":"IFERROR(G154*(1-Оглавление!$D$39),\"по запросу\")","v":"по запросу"},"по запросу","шт",null,"0 ₽","0 ₽"]
[null,"IGBF21225","Отвод ПВДФ 90° для стыковой сварки 225 IPS",16,"Фитинги","RUB",{"$f":"IFERROR(I155*Оглавление!$E$23,\"по запросу\")","v":"по запросу"},{"$f":"IFERROR(G155*(1-Оглавление!$D$39),\"по запросу\")","v":"по запросу"},"по запросу","шт",null,"0 ₽","0 ₽"]
[null,"IGBF21250","Отвод ПВДФ 90° для стыковой сварки 250 IPS",16,"Фитинги","RUB",{"$f":"IFERROR(I156*Оглавление!$E$23,\"по запросу\")","v":"по запросу"},{"$f":"IFERROR(G156*(1-Оглавление!$D$39),\"по запросу\")","v":"по запросу"},"по запросу","шт",null,"0 ₽","0 ₽"]
[null,"IGBF21280","Отвод ПВДФ 90° для стыковой сварки 280 IPS",16,"Фитинги","RUB",{"$f":"IFERROR(I157*Оглавление!$E$23,\"по запросу\")","v":"по запросу"},{"$f":"IFERROR(G157*(1-Оглавление!$D$39),\"по запросу\")","v":"по запросу"},"по запросу","шт",null,"0 ₽","0 ₽"]
[null,"IGBF21315","Отвод ПВДФ 90° для стыковой сварки 315 IPS",16,"Фитинги","RUB",{"$f":"IFERROR(I158*Оглавление!$E$23,\"по запросу\")","v":"по запросу"},{"$f":"IFERROR(G158*(1-Оглавление!$D$39),\"по запросу\")","v":"по запросу"},"по запросу","шт",null,"0 ₽","0 ₽"]
[null,"IHBF21020","Отвод ПВДФ 45° для стыковой сварки 20 IPS",16,"Фитинги","RUB",{"$f":"IFERROR(I159*Оглавление!$E$23,\"по запросу\")","v":"по запросу"},{"$f":"IFERROR(G159*(1-Оглавление!$D$39),\"по запросу\")","v":"по запросу"},"по запросу","шт",null,"0 ₽","0 ₽"]
[null,"IHBF21025","Отвод ПВДФ 45° для стыковой сварки 25 IPS",16,"Фитинги","RUB",{"$f":"IFERROR(I160*Оглавление!$E$23,\"по запросу\")","v":"по запросу"},{"$f":"IFERROR(G160*(1-Оглавление!$D$39),\"по запросу\")","v":"по запросу"},"по запросу","шт",null,"0 ₽","0 ₽"]
[null,"IHBF21032","Отвод ПВДФ 45° для стыковой сварки 32 IPS",16,"Фитинги","RUB",{"$f":"IFERROR(I161*Оглавление!$E$23,\"по запросу\")","v":"по запросу"},{"$f":"IFERROR(G161*(1-Оглавление!$D$39),\"по запросу\")","v":"по запросу"},"по запросу","шт",null,"0 ₽","0 ₽"]
[null,"IHBF21040","Отвод ПВДФ 45° для стыковой сварки 40 IPS",16,"Фитинги","RUB",{"$f":"IFERROR(I162*Оглавление!$E$23,\"по запросу\")","v":"по запросу"},{"$f":"IFERROR(G162*(1-Оглавление!$D$39),\"по запросу\")","v":"по запросу"},"по запросу","шт",null,"0 ₽","0 ₽"]
[null,"IHBF21050","Отвод ПВДФ 45° для стыковой сварки 50 IPS",16,"Фитинги","RUB",{"$f":"IFERROR(I163*Оглавление!$E$23,\"по запросу\")","v":"по запросу"},{"$f":"IFERROR(G163*(1-Оглавление!$D$39),\"по запросу\")","v":"по запросу"},"по запросу","шт",null,"0 ₽","0 ₽"]
[null,"IHBF21063","Отвод ПВДФ 45° для стыковой сварки 63 IPS",16,"Фитинги","RUB",{"$f":"IFERROR(I164*Оглавление!$E$23,\"по запросу\")","v":"по запросу"},{"$f":"IFERROR(G164*(1-Оглавление!$D$39),\"по запросу\")","v":"по запросу"},"по запросу","шт",null,"0 ₽","0 ₽"]
[null,"IHBF21075","Отвод ПВДФ 45° для стыковой сварки 75 IPS",16,"Фитинги","RUB",{"$f":"IFERROR(I165*Оглавление!$E$23,\"по запросу\")","v":"по запросу"},{"$f":"IFERROR(G165*(1-Оглавление!$D$39),\"по запросу\")","v":"по запросу"},"по запросу","шт",null,{"$f":"IFERROR(K165*G165,\"0 ₽\")","v":"0 ₽"},{"$f":"IFERROR(K165*H165,\"0 ₽\")","v":"0 ₽"}]
[null,"IHBF21090","Отвод ПВДФ 45° для стыковой сварки 90 IPS",16,"Фитинги","RUB",{"$f":"IFERROR(I166*Оглавление!$E$23,\"по запросу\")","v":"по запросу"},{"$f":"IFERROR(G166*(1-Оглавление!$D$39),\"по запросу\")","v":"по запросу"},"по запросу","шт",null,"0 ₽","0 ₽"]
[null,"IHBF21110","Отвод ПВДФ 45° для стыковой сварки 110 IPS",16,"Фитинги","RUB",{"$f":"IFERROR(I167*Оглавление!$E$23,\"по запросу\")","v":"по запросу"},{"$f":"IFERROR(G167*(1-Оглавление!$D$39),\"по запросу\")","v":"по запросу"},"по запросу","шт",null,"0 ₽","0 ₽"]
[null,"IHBF21140","Отвод ПВДФ 45° для стыковой сварки 140 IPS",16,"Фитинги","RUB",{"$f":"IFERROR(I168*Оглавление!$E$23,\"по запросу\")","v":"по запросу"},{"$f":"IFERROR(G168*(1-Оглавление!$D$39),\"по запросу\")","v":"по запросу"},"по запросу","шт",null,"0 ₽","0 ₽"]
[null,"IHBF21160","Отвод ПВДФ 45° для стыковой сварки 160 IPS",16,"Фитинги","RUB",{"$f":"IFERROR(I169*Оглавление!$E$23,\"по запросу\")","v":"по запросу"},{"$f":"IFERROR(G169*(1-Оглавление!$D$39),\"по запросу\")","v":"по запросу"},"по запросу","шт",null,"0 ₽","0 ₽"]
[null,"IHBF21225","Отвод ПВДФ 45° для стыковой сварки 225 IPS",16,"Фитинги","RUB",{"$f":"IFERROR(I170*Оглавление!$E$23,\"по запросу\")","v":"по запросу"},{"$f":"IFERROR(G170*(1-Оглавление!$D$39),\"по запросу\")","v":"по запросу"},"по запросу","шт",null,"0 ₽","0 ₽"]
[null,"IHBF21250","Отвод ПВДФ 45° для стыковой сварки 250 IPS",16,"Фитинги","RUB",{"$f":"IFERROR(I171*Оглавление!$E$23,\"по запросу\")","v":"по запросу"},{"$f":"IFERROR(G171*(1-Оглавление!$D$39),\"по запросу\")","v":"по запросу"},"по запросу","шт",null,"0 ₽","0 ₽"]
[null,"IHBF21280","Отвод ПВДФ 45° для стыковой сварки 280 IPS",16,"Фитинги","RUB",{"$f":"IFERROR(I172*Оглавление!$E$23,\"по запросу\")","v":"по запросу"},{"$f":"IFERROR(G172*(1-Оглавление!$D$39),\"по запросу\")","v":"по запросу"},"по запросу","шт",null,"0 ₽","0 ₽"]
[null,"IHBF21315","Отвод ПВДФ 45° для стыковой сварки 315 IPS",16,"Фитинги","RUB",{"$f":"IFERROR(I173*Оглавление!$E$23,\"по запросу\")","v":"по запросу"},{"$f":"IFERROR(G173*(1-Оглавление!$D$39),\"по запросу\")","v":"по запросу"},"по запросу","шт",null,"0 ₽","0 ₽"]
[null,"ITBF21020","Тройник ПВДФ 90° для стыковой сварки 20 IPS",16,"Фитинги","RUB",{"$f":"IFERROR(I174*Оглавление!$E$23,\"по запросу\")","v":"по запросу"},{"$f":"IFERROR(G174*(1-Оглавление!$D$39),\"по запросу\")","v":"по запросу"},"по запросу","шт",null,"0 ₽","0 ₽"]
[null,"ITBF21025","Тройник ПВДФ 90° для стыковой сварки 25 IPS",16,"Фитинги","RUB",{"$f":"IFERROR(I175*Оглавление!$E$23,\"по запросу\")","v":"по запросу"},{"$f":"IFERROR(G175*(1-Оглавление!$D$39),\"по запросу\")","v":"по запросу"},"по запросу","шт",null,"0 ₽","0 ₽"]
[null,"ITBF21032","Тройник ПВДФ 90° для стыковой сварки 32 IPS",16,"Фитинги","RUB",{"$f":"IFERROR(I176*Оглавление!$E$23,\"по запросу\")","v":"по запросу"},{"$f":"IFERROR(G176*(1-Оглавление!$D$39),\"по запросу\")","v":"по запросу"},"по запросу","шт",null,"0 ₽","0 ₽"]
[null,"ITBF21040","Тройник ПВДФ 90° для стыковой сварки 40 IPS",16,"Фитинги","RUB",{"$f":"IFERROR(I177*Оглавление!$E$23,\"по запросу\")","v":"по запросу"},{"$f":"IFERROR(G177*(1-Оглавление!$D$39),\"по запросу\")","v":"по запросу"},"по запросу","шт",null,"0 ₽","0 ₽"]
[null,"ITBF21050","Тройник ПВДФ 90° для стыковой сварки 50 IPS",16,"Фитинги","RUB",{"$f":"IFERROR(I178*Оглавление!$E$23,\"по запросу\")","v":"по запросу"},{"$f":"IFERROR(G178*(1-Оглавление!$D$39),\"по запросу\")","v":"по запросу"},"по запросу","шт",null,"0 ₽","0 ₽"]
[null,"ITBF21063","Тройник ПВДФ 90° для стыковой сварки 63 IPS",16,"Фитинги","RUB",{"$f":"IFERROR(I179*Оглавление!$E$23,\"по запросу\")","v":"по запросу"},{"$f":"IFERROR(G179*(1-Оглавление!$D$39),\"по запросу\")","v":"по запросу"},"по запросу","шт",null,"0 ₽","0 ₽"]
[null,"ITBF21075","Тройник ПВДФ 90° для стыковой сварки 75 IPS",16,"Фитинги","RUB",{"$f":"IFERROR(I180*Оглавление!$E$23,\"по запросу\")","v":"по запросу"},{"$f":"IFERROR(G180*(1-Оглавление!$D$39),\"по запросу\")","v":"по запросу"},"по запросу","шт",null,"0 ₽","0 ₽"]
[null,"ITBF21090","Тройник ПВДФ 90° для стыковой сварки 90 IPS",16,"Фитинги","RUB",{"$f":"IFERROR(I181*Оглавление!$E$23,\"по запросу\")","v":"по запросу"},{"$f":"IFERROR(G181*(1-Оглавление!$D$39),\"по запросу\")","v":"по запросу"},"по запросу","шт",null,"0 ₽","0 ₽"]
[null,"ITBF21110","Тройник ПВДФ 90° для стыковой сварки 110 IPS",16,"Фитинги","RUB",{"$f":"IFERROR(I182*Оглавление!$E$23,\"по запросу\")","v":"по запросу"},{"$f":"IFERROR(G182*(1-Оглавление!$D$39),\"по запросу\")","v":"по запросу"},"по запросу","шт",null,"0 ₽","0 ₽"]
[null,"ITBF21125","Тройник ПВДФ 90° для стыковой сварки 125 IPS",16,"Фитинги","RUB",{"$f":"IFERROR(I183*Оглавление!$E$23,\"по запросу\")","v":"по запросу"},{"$f":"IFERROR(G183*(1-Оглавление!$D$39),\"по запросу\")","v":"по запросу"},"по запросу","шт",null,"0 ₽","0 ₽"]
[null,"ITBF21140","Тройник ПВДФ 90° для стыковой сварки 140 IPS",16,"Фитинги","RUB",{"$f":"IFERROR(I184*Оглавление!$E$23,\"по запросу\")","v":"по запросу"},{"$f":"IFERROR(G184*(1-Оглавление!$D$39),\"по запросу\")","v":"по запросу"},"по запросу","шт",null,"0 ₽","0 ₽"]
[null,"ITBF21160","Тройник ПВДФ 90° для стыковой сварки 160 IPS",16,"Фитинги","RUB",{"$f":"IFERROR(I185*Оглавление!$E$23,\"по запросу\")","v":"по запросу"},{"$f":"IFERROR(G185*(1-Оглавление!$D$39),\"по запросу\")","v":"по запросу"},"по запросу","шт",null,"0 ₽","0 ₽"]
[null,"ITBF21180","Тройник ПВДФ 90° для стыковой сварки 180 IPS",16,"Фитинги","RUB",{"$f":"IFERROR(I186*Оглавление!$E$23,\"по запросу\")","v":"по запросу"},{"$f":"IFERROR(G186*(1-Оглавление!$D$39),\"по запросу\")","v":"по запросу"},"по запросу","шт",null,"0 ₽","0 ₽"]
[null,"ITBF21200","Тройник ПВДФ 90° для стыковой сварки 200 IPS",16,"Фитинги","RUB",{"$f":"IFERROR(I187*Оглавление!$E$23,\"по запросу\")","v":"по запросу"},{"$f":"IFERROR(G187*(1-Оглавление!$D$39),\"по запросу\")","v":"по запросу"},"по запросу","шт",null,"0 ₽","0 ₽"]
[null,"ITBF21225","Тройник ПВДФ 90° для стыковой сварки 225 IPS",16,"Фитинги","RUB",{"$f":"IFERROR(I188*Оглавление!$E$23,\"по запросу\")","v":"по запросу"},{"$f":"IFERROR(G188*(1-Оглавление!$D$39),\"по запросу\")","v":"по запросу"},"по запросу","шт",null,"0 ₽","0 ₽"]
[null,"ITBF21250","Тройник ПВДФ 90° для стыковой сварки 250 IPS",16,"Фитинги","RUB",{"$f":"IFERROR(I189*Оглавление!$E$23,\"по запросу\")","v":"по запросу"},{"$f":"IFERROR(G189*(1-Оглавление!$D$39),\"по запросу\")","v":"по запросу"},"по запросу","шт",null,{"$f":"IFERROR(K189*G189,\"0 ₽\")","v":"0 ₽"},{"$f":"IFERROR(K189*H189,\"0 ₽\")","v":"0 ₽"}]
[null,"ITBF21280","Тройник ПВДФ 90° для стыковой сварки 280 IPS",16,"Фитинги","RUB",{"$f":"IFERROR(I190*Оглавление!$E$23,\"по запросу\")","v":"по запросу"},{"$f":"IFERROR(G190*(1-Оглавление!$D$39),\"по запросу\")","v":"по запросу"},"по запросу","шт",null,"0 ₽","0 ₽"]
[null,"ITBF21315","Тройник ПВДФ 90° для стыковой сварки 315 IPS",16,"Фитинги","RUB",{"$f":"IFERROR(I191*Оглавление!$E$23,\"по запросу\")","v":"по запросу"},{"$f":"IFERROR(G191*(1-Оглавление!$D$39),\"по запросу\")","v":"по запросу"},"по запросу","шт",null,"0 ₽","0 ₽"]
[null,"ITRBF21025020","Тройник переходной ПВДФ 90° для стыковой сварки 25x20 IPS",16,"Фитинги","RUB",{"$f":"IFERROR(I192*Оглавление!$E$23,\"по запросу\")","v":"по запросу"},{"$f":"IFERROR(G192*(1-Оглавление!$D$39),\"по запросу\")","v":"по запросу"},"по запросу","шт",null,"0 ₽","0 ₽"]
[null,"ITRBF21032020","Тройник переходной ПВДФ 90° для стыковой сварки 32x20 IPS",16,"Фитинги","RUB",{"$f":"IFERROR(I193*Оглавление!$E$23,\"по запросу\")","v":"по запросу"},{"$f":"IFERROR(G193*(1-Оглавление!$D$39),\"по запросу\")","v":"по запросу"},"по запросу","шт",null,"0 ₽","0 ₽"]
[null,"ITRBF21032025","Тройник переходной ПВДФ 90° для стыковой сварки 32x25 IPS",16,"Фитинги","RUB",{"$f":"IFERROR(I194*Оглавление!$E$23,\"по запросу\")","v":"по запросу"},{"$f":"IFERROR(G194*(1-Оглавление!$D$39),\"по запросу\")","v":"по запросу"},"по запросу","шт",null,"0 ₽","0 ₽"]
[null,"ITRBF21040020","Тройник переходной ПВДФ 90° для стыковой сварки 40x20 IPS",16,"Фитинги","RUB",{"$f":"IFERROR(I195*Оглавление!$E$23,\"по запросу\")","v":"по запросу"},{"$f":"IFERROR(G195*(1-Оглавление!$D$39),\"по запросу\")","v":"по запросу"},"по запросу","шт",null,"0 ₽","0 ₽"]
[null,"ITRBF21040025","Тройник переходной ПВДФ 90° для стыковой сварки 40x25 IPS",16,"Фитинги","RUB",{"$f":"IFERROR(I196*Оглавление!$E$23,\"по запросу\")","v":"по запросу"},{"$f":"IFERROR(G196*(1-Оглавление!$D$39),\"по запросу\")","v":"по запросу"},"по запросу","шт",null,"0 ₽","0 ₽"]
[null,"ITRBF21040032","Тройник переходной ПВДФ 90° для стыковой сварки 40x32 IPS",16,"Фитинги","RUB",{"$f":"IFERROR(I197*Оглавление!$E$23,\"по запросу\")","v":"по запросу"},{"$f":"IFERROR(G197*(1-Оглавление!$D$39),\"по запросу\")","v":"по запросу"},"по запросу","шт",null,"0 ₽",{"$f":"IFERROR(K197*H197,\"0 ₽\")","v":"0 ₽"}]
[null,"ITRBF21050020","Тройник переходной ПВДФ 90° для стыковой сварки 50x20 IPS",16,"Фитинги","RUB",{"$f":"IFERROR(I198*Оглавление!$E$23,\"по запросу\")","v":"по запросу"},{"$f":"IFERROR(G198*(1-Оглавление!$D$39),\"по запросу\")","v":"по запросу"},"по запросу","шт",null,"0 ₽","0 ₽"]
[null,"ITRBF21050025","Тройник переходной ПВДФ 90° для стыковой сварки 50x25 IPS",16,"Фитинги","RUB",{"$f":"IFERROR(I199*Оглавление!$E$23,\"по запросу\")","v":"по запросу"},{"$f":"IFERROR(G199*(1-Оглавление!$D$39),\"по запросу\")","v":"по запросу"},"по запросу","шт",null,"0 ₽","0 ₽"]
[null,"ITRBF21050032","Тройник переходной ПВДФ 90° для стыковой сварки 50x32 IPS",16,"Фитинги","RUB",{"$f":"IFERROR(I200*Оглавление!$E$23,\"по запросу\")","v":"по запросу"},{"$f":"IFERROR(G200*(1-Оглавление!$D$39),\"по запросу\")","v":"по запросу"},"по запросу","шт",null,"0 ₽","0 ₽"]
[null,"ITRBF21050040","Тройник переходной ПВДФ 90° для стыковой сварки 50x40 IPS",16,"Фитинги","RUB",{"$f":"IFERROR(I201*Оглавление!$E$23,\"по запросу\")","v":"по запросу"},{"$f":"IFERROR(G201*(1-Оглавление!$D$39),\"по запросу\")","v":"по запросу"},"по запросу","шт",null,"0 ₽","0 ₽"]
[null,"ITRBF21063020","Тройник переходной ПВДФ 90° для стыковой сварки 63x20 IPS",16,"Фитинги","RUB",{"$f":"IFERROR(I202*Оглавление!$E$23,\"по запросу\")","v":"по запросу"},{"$f":"IFERROR(G202*(1-Оглавление!$D$39),\"по запросу\")","v":"по запросу"},"по запросу","шт",null,"0 ₽","0 ₽"]
[null,"ITRBF21063025","Тройник переходной ПВДФ 90° для стыковой сварки 63x25 IPS",16,"Фитинги","RUB",{"$f":"IFERROR(I203*Оглавление!$E$23,\"по запросу\")","v":"по запросу"},{"$f":"IFERROR(G203*(1-Оглавление!$D$39),\"по запросу\")","v":"по запросу"},"по запросу","шт",null,"0 ₽","0 ₽"]
[null,"ITRBF21063032","Тройник переходной ПВДФ 90° для стыковой сварки 63x32 IPS",16,"Фитинги","RUB",{"$f":"IFERROR(I204*Оглавление!$E$23,\"по запросу\")","v":"по запросу"},{"$f":"IFERROR(G204*(1-Оглавление!$D$39),\"по запросу\")","v":"по запросу"},"по запросу","шт",null,"0 ₽","0 ₽"]
[null,"ITRBF21063040","Тройник переходной ПВДФ 90° для стыковой сварки 63x40 IPS",16,"Фитинги","RUB",{"$f":"IFERROR(I205*Оглавление!$E$23,\"по запросу\")","v":"по запросу"},{"$f":"IFERROR(G205*(1-Оглавление!$D$39),\"по запросу\")","v":"по запросу"},"по запросу","шт",null,"0 ₽","0 ₽"]
[null,"ITRBF21063050","Тройник переходной ПВДФ 90° для стыковой сварки 63x50 IPS",16,"Фитинги","RUB",{"$f":"IFERROR(I206*Оглавление!$E$23,\"по запросу\")","v":"по запросу"},{"$f":"IFERROR(G206*(1-Оглавление!$D$39),\"по запросу\")","v":"по запросу"},"по запросу","шт",null,"0 ₽","0 ₽"]
[null,"ITRBF21075050","Тройник переходной ПВДФ 90° для стыковой сварки 75x50 IPS",16,"Фитинги","RUB",{"$f":"IFERROR(I207*Оглавление!$E$23,\"по запросу\")","v":"по запросу"},{"$f":"IFERROR(G207*(1-Оглавление!$D$39),\"по запросу\")","v":"по запросу"},"по запросу","шт",null,"0 ₽","0 ₽"]
[null,"ITRBF21075063","Тройник переходной ПВДФ 90° для стыковой сварки 75x63 IPS",16,"Фитинги","RUB",{"$f":"IFERROR(I208*Оглавление!$E$23,\"по запросу\")","v":"по запросу"},{"$f":"IFERROR(G208*(1-Оглавление!$D$39),\"по запросу\")","v":"по запросу"},"по запросу","шт",null,"0 ₽","0 ₽"]
[null,"ITRBF21090032","Тройник переходной ПВДФ 90° для стыковой сварки 90x32 IPS",16,"Фитинги","RUB",{"$f":"IFERROR(I209*Оглавление!$E$23,\"по запросу\")","v":"по запросу"},{"$f":"IFERROR(G209*(1-Оглавление!$D$39),\"по запросу\")","v":"по запросу"},"по запросу","шт",null,"0 ₽","0 ₽"]
[null,"ITRBF21090040","Тройник переходной ПВДФ 90° для стыковой сварки 90x40 IPS",16,"Фитинги","RUB",{"$f":"IFERROR(I210*Оглавление!$E$23,\"по запросу\")","v":"по запросу"},{"$f":"IFERROR(G210*(1-Оглавление!$D$39),\"по запросу\")","v":"по запросу"},"по запросу","шт",null,{"$f":"IFERROR(K210*G210,\"0 ₽\")","v":"0 ₽"},{"$f":"IFERROR(K210*H210,\"0 ₽\")","v":"0 ₽"}]
[null,"ITRBF21090050","Тройник переходной ПВДФ 90° для стыковой сварки 90x50 IPS",16,"Фитинги","RUB",{"$f":"IFERROR(I211*Оглавление!$E$23,\"по запросу\")","v":"по запросу"},{"$f":"IFERROR(G211*(1-Оглавление!$D$39),\"по запросу\")","v":"по запросу"},"по запросу","шт",null,"0 ₽","0 ₽"]
[null,"ITRBF21090063","Тройник переходной ПВДФ 90° для стыковой сварки 90x63 IPS",16,"Фитинги","RUB",{"$f":"IFERROR(I212*Оглавление!$E$23,\"по запросу\")","v":"по запросу"},{"$f":"IFERROR(G212*(1-Оглавление!$D$39),\"по запросу\")","v":"по запросу"},"по запросу","шт",null,"0 ₽","0 ₽"]
[null,"ITRBF21090075","Тройник переходной ПВДФ 90° для стыковой сварки 90x75 IPS",16,"Фитинги","RUB",{"$f":"IFERROR(I213*Оглавление!$E$23,\"по запросу\")","v":"по запросу"},{"$f":"IFERROR(G213*(1-Оглавление!$D$39),\"по запросу\")","v":"по запросу"},"по запросу","шт",null,"0 ₽","0 ₽"]
[null,"ITRBF21110063","Тройник переходной ПВДФ 90° для стыковой сварки 110x63 IPS",16,"Фитинги","RUB",{"$f":"IFERROR(I214*Оглавление!$E$23,\"по запросу\")","v":"по запросу"},{"$f":"IFERROR(G214*(1-Оглавление!$D$39),\"по запросу\")","v":"по запросу"},"по запросу","шт",null,"0 ₽","0 ₽"]
[null,"ITRBF21110075","Тройник переходной ПВДФ 90° для стыковой сварки 110x75 IPS",16,"Фитинги","RUB",{"$f":"IFERROR(I215*Оглавление!$E$23,\"по запросу\")","v":"по запросу"},{"$f":"IFERROR(G215*(1-Оглавление!$D$39),\"по запросу\")","v":"по запросу"},"по запросу","шт",null,"0 ₽","0 ₽"]
[null,"ITRBF21110090","Тройник переходной ПВДФ 90° для стыковой сварки 110x90 IPS",16,"Фитинги","RUB",{"$f":"IFERROR(I216*Оглавление!$E$23,\"по запросу\")","v":"по запросу"},{"$f":"IFERROR(G216*(1-Оглавление!$D$39),\"по запросу\")","v":"по запросу"},"по запросу","шт",null,"0 ₽","0 ₽"]
[null,"IRBF21020016","Муфта ПВДФ переходная для стыковой сварки 20x16 IPS",16,"Фитинги","RUB",{"$f":"IFERROR(I217*Оглавление!$E$23,\"по запросу\")","v":"по запросу"},{"$f":"IFERROR(G217*(1-Оглавление!$D$39),\"по запросу\")","v":"по запросу"},"по запросу","шт",null,"0 ₽","0 ₽"]
[null,"IRBF21025020","Муфта ПВДФ переходная для стыковой сварки 25x20 IPS",16,"Фитинги","RUB",{"$f":"IFERROR(I218*Оглавление!$E$23,\"по запросу\")","v":"по запросу"},{"$f":"IFERROR(G218*(1-Оглавление!$D$39),\"по запросу\")","v":"по запросу"},"по запросу","шт",null,"0 ₽","0 ₽"]
[null,"IRBF21032020","Муфта ПВДФ переходная для стыковой сварки 32x20 IPS",16,"Фитинги","RUB",{"$f":"IFERROR(I219*Оглавление!$E$23,\"по запросу\")","v":"по запросу"},{"$f":"IFERROR(G219*(1-Оглавление!$D$39),\"по запросу\")","v":"по запросу"},"по запросу","шт",null,"0 ₽","0 ₽"]
[null,"IRBF21032025","Муфта ПВДФ переходная для стыковой сварки 32x25 IPS",16,"Фитинги","RUB",{"$f":"IFERROR(I220*Оглавление!$E$23,\"по запросу\")","v":"по запросу"},{"$f":"IFERROR(G220*(1-Оглавление!$D$39),\"по запросу\")","v":"по запросу"},"по запросу","шт",null,"0 ₽","0 ₽"]
[null,"IRBF21040020","Муфта ПВДФ переходная для стыковой сварки 40x20 IPS",16,"Фитинги","RUB",{"$f":"IFERROR(I221*Оглавление!$E$23,\"по запросу\")","v":"по запросу"},{"$f":"IFERROR(G221*(1-Оглавление!$D$39),\"по запросу\")","v":"по запросу"},"по запросу","шт",null,"0 ₽","0 ₽"]
[null,"IRBF21040025","Муфта ПВДФ переходная для стыковой сварки 40x25 IPS",16,"Фитинги","RUB",{"$f":"IFERROR(I222*Оглавление!$E$23,\"по запросу\")","v":"по запросу"},{"$f":"IFERROR(G222*(1-Оглавление!$D$39),\"по запросу\")","v":"по запросу"},"по запросу","шт",null,"0 ₽","0 ₽"]
[null,"IRBF21040032","Муфта ПВДФ переходная для стыковой сварки 40x32 IPS",16,"Фитинги","RUB",{"$f":"IFERROR(I223*Оглавление!$E$23,\"по запросу\")","v":"по запросу"},{"$f":"IFERROR(G223*(1-Оглавление!$D$39),\"по запросу\")","v":"по запросу"},"по запросу","шт",null,"0 ₽","0 ₽"]
[null,"IRBF21050020","Муфта ПВДФ переходная для стыковой сварки 50x20 IPS",16,"Фитинги","RUB",{"$f":"IFERROR(I224*Оглавление!$E$23,\"по запросу\")","v":"по запросу"},{"$f":"IFERROR(G224*(1-Оглавление!$D$39),\"по запросу\")","v":"по запросу"},"по запросу","шт",null,{"$f":"IFERROR(K224*G224,\"0 ₽\")","v":"0 ₽"},"0 ₽"]
[null,"IRBF21050025","Муфта ПВДФ переходная для стыковой сварки 50x25 IPS",16,"Фитинги","RUB",{"$f":"IFERROR(I225*Оглавление!$E$23,\"по запросу\")","v":"по запросу"},{"$f":"IFERROR(G225*(1-Оглавление!$D$39),\"по запросу\")","v":"по запросу"},"по запросу","шт",null,"0 ₽","0 ₽"]
[null,"IRBF21050032","Муфта ПВДФ переходная для стыковой сварки 50x32 IPS",16,"Фитинги","RUB",{"$f":"IFERROR(I226*Оглавление!$E$23,\"по запросу\")","v":"по запросу"},{"$f":"IFERROR(G226*(1-Оглавление!$D$39),\"по запросу\")","v":"по запросу"},"по запросу","шт",null,"0 ₽","0 ₽"]
[null,"IRBF21050040","Муфта ПВДФ переходная для стыковой сварки 50x40 IPS",16,"Фитинги","RUB",{"$f":"IFERROR(I227*Оглавление!$E$23,\"по запросу\")","v":"по запросу"},{"$f":"IFERROR(G227*(1-Оглавление!$D$39),\"по запросу\")","v":"по запросу"},"по запросу","шт",null,"0 ₽","0 ₽"]
[null,"IRBF21063020","Муфта ПВДФ переходная для стыковой сварки 63x20 IPS",16,"Фитинги","RUB",{"$f":"IFERROR(I228*Оглавление!$E$23,\"по запросу\")","v":"по запросу"},{"$f":"IFERROR(G228*(1-Оглавление!$D$39),\"по запросу\")","v":"по запросу"},"по запросу","шт",null,"0 ₽","0 ₽"]
[null,"IRBF21063025","Муфта ПВДФ переходная для стыковой сварки 63x25 IPS",16,"Фитинги","RUB",{"$f":"IFERROR(I229*Оглавление!$E$23,\"по запросу\")","v":"по запросу"},{"$f":"IFERROR(G229*(1-Оглавление!$D$39),\"по запросу\")","v":"по запросу"},"по запросу","шт",null,"0 ₽","0 ₽"]
[null,"IRBF21063032","Муфта ПВДФ переходная для стыковой сварки 63x32 IPS",16,"Фитинги","RUB",{"$f":"IFERROR(I230*Оглавление!$E$23,\"по запросу\")","v":"по запросу"},{"$f":"IFERROR(G230*(1-Оглавление!$D$39),\"по запросу\")","v":"по запросу"},"по запросу","шт",null,"0 ₽","0 ₽"]
[null,"IRBF21063040","Муфта ПВДФ переходная для стыковой сварки 63x40 IPS",16,"Фитинги","RUB",{"$f":"IFERROR(I231*Оглавление!$E$23,\"по запросу\")","v":"по запросу"},{"$f":"IFERROR(G231*(1-Оглавление!$D$39),\"по запросу\")","v":"по запросу"},"по запросу","шт",null,"0 ₽","0 ₽"]
[null,"IRBF21063050","Муфта ПВДФ переходная для стыковой сварки 63x50 IPS",16,"Фитинги","RUB",{"$f":"IFERROR(I232*Оглавление!$E$23,\"по запросу\")","v":"по запросу"},{"$f":"IFERROR(G232*(1-Оглавление!$D$39),\"по запросу\")","v":"по запросу"},"по запросу","шт",null,"0 ₽","0 ₽"]
[null,"IRBF21075050","Муфта ПВДФ переходная для стыковой сварки 75x50 IPS",16,"Фитинги","RUB",{"$f":"IFERROR(I233*Оглавление!$E$23,\"по запросу\")","v":"по запросу"},{"$f":"IFERROR(G233*(1-Оглавление!$D$39),\"по запросу\")","v":"по запросу"},"по запросу","шт",null,"0 ₽","0 ₽"]
[null,"IRBF21075063","Муфта ПВДФ переходная для стыковой сварки 75x63 IPS",16,"Фитинги","RUB",{"$f":"IFERROR(I234*Оглавление!$E$23,\"по запросу\")","v":"по запросу"},{"$f":"IFERROR(G234*(1-Оглавление!$D$39),\"по запросу\")","v":"по запросу"},"по запросу","шт",null,"0 ₽","0 ₽"]
[null,"IRBF21090050","Муфта ПВДФ переходная для стыковой сварки 90x50 IPS",16,"Фитинги","RUB",{"$f":"IFERROR(I235*Оглавление!$E$23,\"по запросу\")","v":"по запросу"},{"$f":"IFERROR(G235*(1-Оглавление!$D$39),\"по запросу\")","v":"по запросу"},"по запросу","шт",null,"0 ₽","0 ₽"]
[null,"IRBF21090063","Муфта ПВДФ переходная для стыковой сварки 90x63 IPS",16,"Фитинги","RUB",{"$f":"IFERROR(I236*Оглавление!$E$23,\"по запросу\")","v":"по запросу"},{"$f":"IFERROR(G236*(1-Оглавление!$D$39),\"по запросу\")","v":"по запросу"},"по запросу","шт",null,{"$f":"IFERROR(K236*G236,\"0 ₽\")","v":"0 ₽"},{"$f":"IFERROR(K236*H236,\"0 ₽\")","v":"0 ₽"}]
[null,"IRBF21090075","Муфта ПВДФ переходная для стыковой сварки 90x75 IPS",16,"Фитинги","RUB",{"$f":"IFERROR(I237*Оглавление!$E$23,\"по запросу\")","v":"по запросу"},{"$f":"IFERROR(G237*(1-Оглавление!$D$39),\"по запросу\")","v":"по запросу"},"по запросу","шт",null,"0 ₽","0 ₽"]
[null,"IRBF21110063","Муфта ПВДФ переходная для стыковой сварки 110x63 IPS",16,"Фитинги","RUB",{"$f":"IFERROR(I238*Оглавление!$E$23,\"по запросу\")","v":"по запросу"},{"$f":"IFERROR(G238*(1-Оглавление!$D$39),\"по запросу\")","v":"по запросу"},"по запросу","шт",null,"0 ₽","0 ₽"]
[null,"IRBF21110075","Муфта ПВДФ переходная для стыковой сварки 110x75 IPS",16,"Фитинги","RUB",{"$f":"IFERROR(I239*Оглавление!$E$23,\"по запросу\")","v":"по запросу"},{"$f":"IFERROR(G239*(1-Оглавление!$D$39),\"по запросу\")","v":"по запросу"},"по запросу","шт",null,"0 ₽","0 ₽"]
[null,"IRBF21110090","Муфта ПВДФ переходная для стыковой сварки 110x90 IPS",16,"Фитинги","RUB",{"$f":"IFERROR(I240*Оглавление!$E$23,\"по запросу\")","v":"по запросу"},{"$f":"IFERROR(G240*(1-Оглавление!$D$39),\"по запросу\")","v":"по запросу"},"по запросу","шт",null,"0 ₽","0 ₽"]
[null,"IRBF21140063","Муфта ПВДФ переходная для стыковой сварки 140x63 IPS",16,"Фитинги","RUB",{"$f":"IFERROR(I241*Оглавление!$E$23,\"по запросу\")","v":"по запросу"},{"$f":"IFERROR(G241*(1-Оглавление!$D$39),\"по запросу\")","v":"по запросу"},"по запросу","шт",null,"0 ₽","0 ₽"]
[null,"IRBF21140075","Муфта ПВДФ переходная для стыковой сварки 140x75 IPS",16,"Фитинги","RUB",{"$f":"IFERROR(I242*Оглавление!$E$23,\"по запросу\")","v":"по запросу"},{"$f":"IFERROR(G242*(1-Оглавление!$D$39),\"по запросу\")","v":"по запросу"},"по запросу","шт",null,"0 ₽","0 ₽"]
[null,"IRBF21140090","Муфта ПВДФ переходная для стыковой сварки 140x90 IPS",16,"Фитинги","RUB",{"$f":"IFERROR(I243*Оглавление!$E$23,\"по запросу\")","v":"по запросу"},{"$f":"IFERROR(G243*(1-Оглавление!$D$39),\"по запросу\")","v":"по запросу"},"по запросу","шт",null,"0 ₽","0 ₽"]
[null,"IRBF21140110","Муфта ПВДФ переходная для стыковой сварки 140x110 IPS",16,"Фитинги","RUB",{"$f":"IFERROR(I244*Оглавление!$E$23,\"по запросу\")","v":"по запросу"},{"$f":"IFERROR(G244*(1-Оглавление!$D$39),\"по запросу\")","v":"по запросу"},"по запросу","шт",null,"0 ₽","0 ₽"]
[null,"IRBF21160110","Муфта ПВДФ переходная для стыковой сварки 160x110 IPS",16,"Фитинги","RUB",{"$f":"IFERROR(I245*Оглавление!$E$23,\"по запросу\")","v":"по запросу"},{"$f":"IFERROR(G245*(1-Оглавление!$D$39),\"по запросу\")","v":"по запросу"},"по запросу","шт",null,"0 ₽","0 ₽"]
[null,"IRBF21160140","Муфта ПВДФ переходная для стыковой сварки 160x140 IPS",16,"Фитинги","RUB",{"$f":"IFERROR(I246*Оглавление!$E$23,\"по запросу\")","v":"по запросу"},{"$f":"IFERROR(G246*(1-Оглавление!$D$39),\"по запросу\")","v":"по запросу"},"по запросу","шт",null,"0 ₽","0 ₽"]
[null,"IRBF21225110","Муфта ПВДФ переходная для стыковой сварки 225x110 IPS",16,"Фитинги","RUB",{"$f":"IFERROR(I247*Оглавление!$E$23,\"по запросу\")","v":"по запросу"},{"$f":"IFERROR(G247*(1-Оглавление!$D$39),\"по запросу\")","v":"по запросу"},"по запросу","шт",null,"0 ₽","0 ₽"]
[null,"IRBF21225140","Муфта ПВДФ переходная для стыковой сварки 225x140 IPS",16,"Фитинги","RUB",{"$f":"IFERROR(I248*Оглавление!$E$23,\"по запросу\")","v":"по запросу"},{"$f":"IFERROR(G248*(1-Оглавление!$D$39),\"по запросу\")","v":"по запросу"},"по запросу","шт",null,"0 ₽","0 ₽"]
[null,"IRBF21225160","Муфта ПВДФ переходная для стыковой сварки 225x160 IPS",16,"Фитинги","RUB",{"$f":"IFERROR(I249*Оглавление!$E$23,\"по запросу\")","v":"по запросу"},{"$f":"IFERROR(G249*(1-Оглавление!$D$39),\"по запросу\")","v":"по запросу"},"по запросу","шт",null,"0 ₽","0 ₽"]
[null,"IRBF21225200","Муфта ПВДФ переходная для стыковой сварки 225x200 IPS",16,"Фитинги","RUB",{"$f":"IFERROR(I250*Оглавление!$E$23,\"по запросу\")","v":"по запросу"},{"$f":"IFERROR(G250*(1-Оглавление!$D$39),\"по запросу\")","v":"по запросу"},"по запросу","шт",null,"0 ₽","0 ₽"]
[null,"IRBF21250225","Муфта ПВДФ переходная для стыковой сварки 250x225 IPS",16,"Фитинги","RUB",{"$f":"IFERROR(I251*Оглавление!$E$23,\"по запросу\")","v":"по запросу"},{"$f":"IFERROR(G251*(1-Оглавление!$D$39),\"по запросу\")","v":"по запросу"},"по запросу","шт",null,"0 ₽","0 ₽"]
[null,"IRBF21280250","Муфта ПВДФ переходная для стыковой сварки 280x250 IPS",16,"Фитинги","RUB",{"$f":"IFERROR(I252*Оглавление!$E$23,\"по запросу\")","v":"по запросу"},{"$f":"IFERROR(G252*(1-Оглавление!$D$39),\"по запросу\")","v":"по запросу"},"по запросу","шт",null,"0 ₽","0 ₽"]
[null,"IRBF21315280","Муфта ПВДФ переходная для стыковой сварки 315x280 IPS",16,"Фитинги","RUB",{"$f":"IFERROR(I253*Оглавление!$E$23,\"по запросу\")","v":"по запросу"},{"$f":"IFERROR(G253*(1-Оглавление!$D$39),\"по запросу\")","v":"по запросу"},"по запросу","шт",null,"0 ₽","0 ₽"]
[null,"IKBFF21020012","Муфта ПВДФ НР для стыковой сварки 20x1/2\" IPS",16,"Фитинги","RUB",{"$f":"IFERROR(I254*Оглавление!$E$23,\"по запросу\")","v":"по запросу"},{"$f":"IFERROR(G254*(1-Оглавление!$D$39),\"по запросу\")","v":"по запросу"},"по запросу","шт",null,{"$f":"IFERROR(K254*G254,\"0 ₽\")","v":"0 ₽"},{"$f":"IFERROR(K254*H254,\"0 ₽\")","v":"0 ₽"}]
[null,"IKBFF21025034","Муфта ПВДФ НР для стыковой сварки 25x3/4\" IPS",16,"Фитинги","RUB",{"$f":"IFERROR(I255*Оглавление!$E$23,\"по запросу\")","v":"по запросу"},{"$f":"IFERROR(G255*(1-Оглавление!$D$39),\"по запросу\")","v":"по запросу"},"по запросу","шт",null,"0 ₽","0 ₽"]
[null,"IKBFF21032100","Муфта ПВДФ НР для стыковой сварки 32x1\" IPS",16,"Фитинги","RUB",{"$f":"IFERROR(I256*Оглавление!$E$23,\"по запросу\")","v":"по запросу"},{"$f":"IFERROR(G256*(1-Оглавление!$D$39),\"по запросу\")","v":"по запросу"},"по запросу","шт",null,"0 ₽","0 ₽"]
[null,"IKBFF21040114","Муфта ПВДФ НР для стыковой сварки 40x1 1/4\" IPS",16,"Фитинги","RUB",{"$f":"IFERROR(I257*Оглавление!$E$23,\"по запросу\")","v":"по запросу"},{"$f":"IFERROR(G257*(1-Оглавление!$D$39),\"по запросу\")","v":"по запросу"},"по запросу","шт",null,"0 ₽","0 ₽"]
[null,"IKBFF21050112","Муфта ПВДФ НР для стыковой сварки 50x1 1/2\" IPS",16,"Фитинги","RUB",{"$f":"IFERROR(I258*Оглавление!$E$23,\"по запросу\")","v":"по запросу"},{"$f":"IFERROR(G258*(1-Оглавление!$D$39),\"по запросу\")","v":"по запросу"},"по запросу","шт",null,"0 ₽","0 ₽"]
[null,"IKBFF21063200","Муфта ПВДФ НР для стыковой сварки 63x2\" IPS",16,"Фитинги","RUB",{"$f":"IFERROR(I259*Оглавление!$E$23,\"по запросу\")","v":"по запросу"},{"$f":"IFERROR(G259*(1-Оглавление!$D$39),\"по запросу\")","v":"по запросу"},"по запросу","шт",null,"0 ₽","0 ₽"]
[null,"IDBFF21020012","Муфта ПВДФ ВР для стыковой сварки 20x1/2\" IPS",16,"Фитинги","RUB",{"$f":"IFERROR(I260*Оглавление!$E$23,\"по запросу\")","v":"по запросу"},{"$f":"IFERROR(G260*(1-Оглавление!$D$39),\"по запросу\")","v":"по запросу"},"по запросу","шт",null,"0 ₽","0 ₽"]
[null,"IDBFF21025034","Муфта ПВДФ ВР для стыковой сварки 25x3/4\" IPS",16,"Фитинги","RUB",{"$f":"IFERROR(I261*Оглавление!$E$23,\"по запросу\")","v":"по запросу"},{"$f":"IFERROR(G261*(1-Оглавление!$D$39),\"по запросу\")","v":"по запросу"},"по запросу","шт",null,"0 ₽","0 ₽"]
[null,"IDBFF21032100","Муфта ПВДФ ВР для стыковой сварки 32x1\" IPS",16,"Фитинги","RUB",{"$f":"IFERROR(I262*Оглавление!$E$23,\"по запросу\")","v":"по запросу"},{"$f":"IFERROR(G262*(1-Оглавление!$D$39),\"по запросу\")","v":"по запросу"},"по запросу","шт",null,"0 ₽","0 ₽"]
[null,"IDBFF21040114","Муфта ПВДФ ВР для стыковой сварки 40x1 1/4\" IPS",16,"Фитинги","RUB",{"$f":"IFERROR(I263*Оглавление!$E$23,\"по запросу\")","v":"по запросу"},{"$f":"IFERROR(G263*(1-Оглавление!$D$39),\"по запросу\")","v":"по запросу"},"по запросу","шт",null,"0 ₽","0 ₽"]
[null,"IDBFF21050112","Муфта ПВДФ ВР для стыковой сварки 50x1 1/2\" IPS",16,"Фитинги","RUB",{"$f":"IFERROR(I264*Оглавление!$E$23,\"по запросу\")","v":"по запросу"},{"$f":"IFERROR(G264*(1-Оглавление!$D$39),\"по запросу\")","v":"по запросу"},"по запросу","шт",null,"0 ₽","0 ₽"]
[null,"IDBFF21063200","Муфта ПВДФ ВР для стыковой сварки 63x2\" IPS",16,"Фитинги","RUB",{"$f":"IFERROR(I265*Оглавление!$E$23,\"по запросу\")","v":"по запросу"},{"$f":"IFERROR(G265*(1-Оглавление!$D$39),\"по запросу\")","v":"по запросу"},"по запросу","шт",null,"0 ₽","0 ₽"]
[null,"IBBFL21020F","Муфта разборная ПВДФ для стыковой сварки FKM 20 IPS",16,"Фитинги","RUB",{"$f":"IFERROR(I266*Оглавление!$E$23,\"по запросу\")","v":"по запросу"},{"$f":"IFERROR(G266*(1-Оглавление!$D$39),\"по запросу\")","v":"по запросу"},"по запросу","шт",null,"0 ₽","0 ₽"]
[null,"IBBFL21025F","Муфта разборная ПВДФ для стыковой сварки FKM 25 IPS",16,"Фитинги","RUB",{"$f":"IFERROR(I267*Оглавление!$E$23,\"по запросу\")","v":"по запросу"},{"$f":"IFERROR(G267*(1-Оглавление!$D$39),\"по запросу\")","v":"по запросу"},"по запросу","шт",null,"0 ₽","0 ₽"]
[null,"IBBFL21032F","Муфта разборная ПВДФ для стыковой сварки FKM 32 IPS",16,"Фитинги","RUB",{"$f":"IFERROR(I268*Оглавление!$E$23,\"по запросу\")","v":"по запросу"},{"$f":"IFERROR(G268*(1-Оглавление!$D$39),\"по запросу\")","v":"по запросу"},"по запросу","шт",null,"0 ₽","0 ₽"]
[null,"IBBFL21040F","Муфта разборная ПВДФ для стыковой сварки FKM 40 IPS",16,"Фитинги","RUB",{"$f":"IFERROR(I269*Оглавление!$E$23,\"по запросу\")","v":"по запросу"},{"$f":"IFERROR(G269*(1-Оглавление!$D$39),\"по запросу\")","v":"по запросу"},"по запросу","шт",null,"0 ₽","0 ₽"]
[null,"IBBFL21050F","Муфта разборная ПВДФ для стыковой сварки FKM 50 IPS",16,"Фитинги","RUB",{"$f":"IFERROR(I270*Оглавление!$E$23,\"по запросу\")","v":"по запросу"},{"$f":"IFERROR(G270*(1-Оглавление!$D$39),\"по запросу\")","v":"по запросу"},"по запросу","шт",null,"0 ₽","0 ₽"]
[null,"IBBFL21063F","Муфта разборная ПВДФ для стыковой сварки FKM 63 IPS",16,"Фитинги","RUB",{"$f":"IFERROR(I271*Оглавление!$E$23,\"по запросу\")","v":"по запросу"},{"$f":"IFERROR(G271*(1-Оглавление!$D$39),\"по запросу\")","v":"по запросу"},"по запросу","шт",null,"0 ₽","0 ₽"]
[null,"IBBFL21075F","Муфта разборная ПВДФ для стыковой сварки FKM 75 IPS",16,"Фитинги","RUB",{"$f":"IFERROR(I272*Оглавление!$E$23,\"по запросу\")","v":"по запросу"},{"$f":"IFERROR(G272*(1-Оглавление!$D$39),\"по запросу\")","v":"по запросу"},"по запросу","шт",null,"0 ₽","0 ₽"]
[null,"IBBFL21090F","Муфта разборная ПВДФ для стыковой сварки FKM 90 IPS",16,"Фитинги","RUB",{"$f":"IFERROR(I273*Оглавление!$E$23,\"по запросу\")","v":"по запросу"},{"$f":"IFERROR(G273*(1-Оглавление!$D$39),\"по запросу\")","v":"по запросу"},"по запросу","шт",null,"0 ₽","0 ₽"]
[null,"IBBFL21110F","Муфта разборная ПВДФ для стыковой сварки FKM 110 IPS",16,"Фитинги","RUB",{"$f":"IFERROR(I274*Оглавление!$E$23,\"по запросу\")","v":"по запросу"},{"$f":"IFERROR(G274*(1-Оглавление!$D$39),\"по запросу\")","v":"по запросу"},"по запросу","шт",null,"0 ₽","0 ₽"]
[null,"ICBF21020","Заглушка ПВДФ для стыковой сварки 20 IPS",16,"Фитинги","RUB",{"$f":"IFERROR(I275*Оглавление!$E$23,\"по запросу\")","v":"по запросу"},{"$f":"IFERROR(G275*(1-Оглавление!$D$39),\"по запросу\")","v":"по запросу"},"по запросу","шт",null,0,0]
[null,"ICBF21025","Заглушка ПВДФ для стыковой сварки 25 IPS",16,"Фитинги","RUB",{"$f":"IFERROR(I276*Оглавление!$E$23,\"по запросу\")","v":"по запросу"},{"$f":"IFERROR(G276*(1-Оглавление!$D$39),\"по запросу\")","v":"по запросу"},"по запросу","шт",null,0,0]
[null,"ICBF21032","Заглушка ПВДФ для стыковой сварки 32 IPS",16,"Фитинги","RUB",{"$f":"IFERROR(I277*Оглавление!$E$23,\"по запросу\")","v":"по запросу"},{"$f":"IFERROR(G277*(1-Оглавление!$D$39),\"по запросу\")","v":"по запросу"},"по запросу","шт",null,0,0]
[null,"ICBF21040","Заглушка ПВДФ для стыковой сварки 40 IPS",16,"Фитинги","RUB",{"$f":"IFERROR(I278*Оглавление!$E$23,\"по запросу\")","v":"по запросу"},{"$f":"IFERROR(G278*(1-Оглавление!$D$39),\"по запросу\")","v":"по запросу"},"по запросу","шт",null,0,0]
[null,"ICBF21050","Заглушка ПВДФ для стыковой сварки 50 IPS",16,"Фитинги","RUB",{"$f":"IFERROR(I279*Оглавление!$E$23,\"по запросу\")","v":"по запросу"},{"$f":"IFERROR(G279*(1-Оглавление!$D$39),\"по запросу\")","v":"по запросу"},"по запросу","шт",null,0,0]
[null,"ICBF21063","Заглушка ПВДФ для стыковой сварки 63 IPS",16,"Фитинги","RUB",{"$f":"IFERROR(I280*Оглавление!$E$23,\"по запросу\")","v":"по запросу"},{"$f":"IFERROR(G280*(1-Оглавление!$D$39),\"по запросу\")","v":"по запросу"},"по запросу","шт",null,0,0]
[null,"ICBF21075","Заглушка ПВДФ для стыковой сварки 75 IPS",16,"Фитинги","RUB",{"$f":"IFERROR(I281*Оглавление!$E$23,\"по запросу\")","v":"по запросу"},{"$f":"IFERROR(G281*(1-Оглавление!$D$39),\"по запросу\")","v":"по запросу"},"по запросу","шт",null,0,0]
[null,"ICBF21090","Заглушка ПВДФ для стыковой сварки 90 IPS",16,"Фитинги","RUB",{"$f":"IFERROR(I282*Оглавление!$E$23,\"по запросу\")","v":"по запросу"},{"$f":"IFERROR(G282*(1-Оглавление!$D$39),\"по запросу\")","v":"по запросу"},"по запросу","шт",null,0,0]
[null,"ICBF21110","Заглушка ПВДФ для стыковой сварки 110 IPS",16,"Фитинги","RUB",{"$f":"IFERROR(I283*Оглавление!$E$23,\"по запросу\")","v":"по запросу"},{"$f":"IFERROR(G283*(1-Оглавление!$D$39),\"по запросу\")","v":"по запросу"},"по запросу","шт",null,0,0]
[null,"IODF21020","Фланец свободный ПВДФ для стыковой сварки 20 IPS",16,"Фитинги","RUB",{"$f":"IFERROR(I284*Оглавление!$E$23,\"по запросу\")","v":"по запросу"},{"$f":"IFERROR(G284*(1-Оглавление!$D$39),\"по запросу\")","v":"по запросу"},"по запросу","шт",null,{"$f":"IFERROR(K284*G284,\"0 ₽\")","v":"0 ₽"},{"$f":"IFERROR(K284*H284,\"0 ₽\")","v":"0 ₽"}]
[null,"IODF21025","Фланец свободный ПВДФ для стыковой сварки 25 IPS",16,"Фитинги","RUB",{"$f":"IFERROR(I285*Оглавление!$E$23,\"по запросу\")","v":"по запросу"},{"$f":"IFERROR(G285*(1-Оглавление!$D$39),\"по запросу\")","v":"по запросу"},"по запросу","шт",null,"0 ₽","0 ₽"]
[null,"IODF21032","Фланец свободный ПВДФ для стыковой сварки 32 IPS",16,"Фитинги","RUB",{"$f":"IFERROR(I286*Оглавление!$E$23,\"по запросу\")","v":"по запросу"},{"$f":"IFERROR(G286*(1-Оглавление!$D$39),\"по запросу\")","v":"по запросу"},"по запросу","шт",null,"0 ₽","0 ₽"]
[null,"IODF21040","Фланец свободный ПВДФ для стыковой сварки 40 IPS",16,"Фитинги","RUB",{"$f":"IFERROR(I287*Оглавление!$E$23,\"по запросу\")","v":"по запросу"},{"$f":"IFERROR(G287*(1-Оглавление!$D$39),\"по запросу\")","v":"по запросу"},"по запросу","шт",null,"0 ₽","0 ₽"]
[null,"IODF21050","Фланец свободный ПВДФ для стыковой сварки 50 IPS",16,"Фитинги","RUB",{"$f":"IFERROR(I288*Оглавление!$E$23,\"по запросу\")","v":"по запросу"},{"$f":"IFERROR(G288*(1-Оглавление!$D$39),\"по запросу\")","v":"по запросу"},"по запросу","шт",null,"0 ₽","0 ₽"]
[null,"IODF21063","Фланец свободный ПВДФ для стыковой сварки 63 IPS",16,"Фитинги","RUB",{"$f":"IFERROR(I289*Оглавление!$E$23,\"по запросу\")","v":"по запросу"},{"$f":"IFERROR(G289*(1-Оглавление!$D$39),\"по запросу\")","v":"по запросу"},"по запросу","шт",null,"0 ₽","0 ₽"]
[null,"IODF21075","Фланец свободный ПВДФ для стыковой сварки 75 IPS",16,"Фитинги","RUB",{"$f":"IFERROR(I290*Оглавление!$E$23,\"по запросу\")","v":"по запросу"},{"$f":"IFERROR(G290*(1-Оглавление!$D$39),\"по запросу\")","v":"по запросу"},"по запросу","шт",null,"0 ₽","0 ₽"]
[null,"IODF21090","Фланец свободный ПВДФ для стыковой сварки 90 IPS",16,"Фитинги","RUB",{"$f":"IFERROR(I291*Оглавление!$E$23,\"по запросу\")","v":"по запросу"},{"$f":"IFERROR(G291*(1-Оглавление!$D$39),\"по запросу\")","v":"по запросу"},"по запросу","шт",null,"0 ₽","0 ₽"]
[null,"IODF21110","Фланец свободный ПВДФ для стыковой сварки 110 IPS",16,"Фитинги","RUB",{"$f":"IFERROR(I292*Оглавление!$E$23,\"по запросу\")","v":"по запросу"},{"$f":"IFERROR(G292*(1-Оглавление!$D$39),\"по запросу\")","v":"по запросу"},"по запросу","шт",null,"0 ₽","0 ₽"]
[null,"IODF21140","Фланец свободный ПВДФ для стыковой сварки 140 IPS",16,"Фитинги","RUB",{"$f":"IFERROR(I293*Оглавление!$E$23,\"по запросу\")","v":"по запросу"},{"$f":"IFERROR(G293*(1-Оглавление!$D$39),\"по запросу\")","v":"по запросу"},"по запросу","шт",null,"0 ₽","0 ₽"]
[null,"IODF21160","Фланец свободный ПВДФ для стыковой сварки 160 IPS",16,"Фитинги","RUB",{"$f":"IFERROR(I294*Оглавление!$E$23,\"по запросу\")","v":"по запросу"},{"$f":"IFERROR(G294*(1-Оглавление!$D$39),\"по запросу\")","v":"по запросу"},"по запросу","шт",null,"0 ₽","0 ₽"]
[null,"IODF21225","Фланец свободный ПВДФ для стыковой сварки 225 IPS",16,"Фитинги","RUB",{"$f":"IFERROR(I295*Оглавление!$E$23,\"по запросу\")","v":"по запросу"},{"$f":"IFERROR(G295*(1-Оглавление!$D$39),\"по запросу\")","v":"по запросу"},"по запросу","шт",null,"0 ₽","0 ₽"]
[null,"IODF21250","Фланец свободный ПВДФ для стыковой сварки 250 IPS",16,"Фитинги","RUB",{"$f":"IFERROR(I296*Оглавление!$E$23,\"по запросу\")","v":"по запросу"},{"$f":"IFERROR(G296*(1-Оглавление!$D$39),\"по запросу\")","v":"по запросу"},"по запросу","шт",null,"0 ₽","0 ₽"]
[null,"IODF21280","Фланец свободный ПВДФ для стыковой сварки 280 IPS",16,"Фитинги","RUB",{"$f":"IFERROR(I297*Оглавление!$E$23,\"по запросу\")","v":"по запросу"},{"$f":"IFERROR(G297*(1-Оглавление!$D$39),\"по запросу\")","v":"по запросу"},"по запросу","шт",null,"0 ₽","0 ₽"]
[null,"IODF21315","Фланец свободный ПВДФ для стыковой сварки 315 IPS",16,"Фитинги","RUB",{"$f":"IFERROR(I298*Оглавление!$E$23,\"по запросу\")","v":"по запросу"},{"$f":"IFERROR(G298*(1-Оглавление!$D$39),\"по запросу\")","v":"по запросу"},"по запросу","шт",null,"0 ₽","0 ₽"]
[null,"IQBF21020","Бурт ПВДФ для стыковой сварки 20 IPS",16,"Фитинги","RUB",{"$f":"IFERROR(I299*Оглавление!$E$23,\"по запросу\")","v":"по запросу"},{"$f":"IFERROR(G299*(1-Оглавление!$D$39),\"по запросу\")","v":"по запросу"},"по запросу","шт",null,"0 ₽","0 ₽"]
[null,"IQBF21025","Бурт ПВДФ для стыковой сварки 25 IPS",16,"Фитинги","RUB",{"$f":"IFERROR(I300*Оглавление!$E$23,\"по запросу\")","v":"по запросу"},{"$f":"IFERROR(G300*(1-Оглавление!$D$39),\"по запросу\")","v":"по запросу"},"по запросу","шт",null,"0 ₽","0 ₽"]
[null,"IQBF21032","Бурт ПВДФ для стыковой сварки 32 IPS",16,"Фитинги","RUB",{"$f":"IFERROR(I301*Оглавление!$E$23,\"по запросу\")","v":"по запросу"},{"$f":"IFERROR(G301*(1-Оглавление!$D$39),\"по запросу\")","v":"по запросу"},"по запросу","шт",null,"0 ₽","0 ₽"]
[null,"IQBF21040","Бурт ПВДФ для стыковой сварки 40 IPS",16,"Фитинги","RUB",{"$f":"IFERROR(I302*Оглавление!$E$23,\"по запросу\")","v":"по запросу"},{"$f":"IFERROR(G302*(1-Оглавление!$D$39),\"по запросу\")","v":"по запросу"},"по запросу","шт",null,"0 ₽","0 ₽"]
[null,"IQBF21050","Бурт ПВДФ для стыковой сварки 50 IPS",16,"Фитинги","RUB",{"$f":"IFERROR(I303*Оглавление!$E$23,\"по запросу\")","v":"по запросу"},{"$f":"IFERROR(G303*(1-Оглавление!$D$39),\"по запросу\")","v":"по запросу"},"по запросу","шт",null,"0 ₽","0 ₽"]
[null,"IQBF21063","Бурт ПВДФ для стыковой сварки 63 IPS",16,"Фитинги","RUB",{"$f":"IFERROR(I304*Оглавление!$E$23,\"по запросу\")","v":"по запросу"},{"$f":"IFERROR(G304*(1-Оглавление!$D$39),\"по запросу\")","v":"по запросу"},"по запросу","шт",null,"0 ₽","0 ₽"]
[null,"IQBF21075","Бурт ПВДФ для стыковой сварки 75 IPS",16,"Фитинги","RUB",{"$f":"IFERROR(I305*Оглавление!$E$23,\"по запросу\")","v":"по запросу"},{"$f":"IFERROR(G305*(1-Оглавление!$D$39),\"по запросу\")","v":"по запросу"},"по запросу","шт",null,"0 ₽","0 ₽"]
[null,"IQBF21090","Бурт ПВДФ для стыковой сварки 90 IPS",16,"Фитинги","RUB",{"$f":"IFERROR(I306*Оглавление!$E$23,\"по запросу\")","v":"по запросу"},{"$f":"IFERROR(G306*(1-Оглавление!$D$39),\"по запросу\")","v":"по запросу"},"по запросу","шт",null,"0 ₽","0 ₽"]
[null,"IQBF21110","Бурт ПВДФ для стыковой сварки 110 IPS",16,"Фитинги","RUB",{"$f":"IFERROR(I307*Оглавление!$E$23,\"по запросу\")","v":"по запросу"},{"$f":"IFERROR(G307*(1-Оглавление!$D$39),\"по запросу\")","v":"по запросу"},"по запросу","шт",null,"0 ₽","0 ₽"]
[null,"IQBF21140","Бурт ПВДФ для стыковой сварки 140 IPS",16,"Фитинги","RUB",{"$f":"IFERROR(I308*Оглавление!$E$23,\"по запросу\")","v":"по запросу"},{"$f":"IFERROR(G308*(1-Оглавление!$D$39),\"по запросу\")","v":"по запросу"},"по запросу","шт",null,"0 ₽","0 ₽"]
[null,"IQBF21160","Бурт ПВДФ для стыковой сварки 160 IPS",16,"Фитинги","RUB",{"$f":"IFERROR(I309*Оглавление!$E$23,\"по запросу\")","v":"по запросу"},{"$f":"IFERROR(G309*(1-Оглавление!$D$39),\"по запросу\")","v":"по запросу"},"по запросу","шт",null,"0 ₽","0 ₽"]
[null,"IQBF21225","Бурт ПВДФ для стыковой сварки 225 IPS",16,"Фитинги","RUB",{"$f":"IFERROR(I310*Оглавление!$E$23,\"по запросу\")","v":"по запросу"},{"$f":"IFERROR(G310*(1-Оглавление!$D$39),\"по запросу\")","v":"по запросу"},"по запросу","шт",null,"0 ₽","0 ₽"]
[null,"IQBF21250","Бурт ПВДФ для стыковой сварки 250 IPS",16,"Фитинги","RUB",{"$f":"IFERROR(I311*Оглавление!$E$23,\"по запросу\")","v":"по запросу"},{"$f":"IFERROR(G311*(1-Оглавление!$D$39),\"по запросу\")","v":"по запросу"},"по запросу","шт",null,"0 ₽","0 ₽"]
[null,"IQBF21280","Бурт ПВДФ для стыковой сварки 280 IPS",16,"Фитинги","RUB",{"$f":"IFERROR(I312*Оглавление!$E$23,\"по запросу\")","v":"по запросу"},{"$f":"IFERROR(G312*(1-Оглавление!$D$39),\"по запросу\")","v":"по запросу"},"по запросу","шт",null,"0 ₽","0 ₽"]
[null,"IQBF21315","Бурт ПВДФ для стыковой сварки 315 IPS",16,"Фитинги","RUB",{"$f":"IFERROR(I313*Оглавление!$E$23,\"по запросу\")","v":"по запросу"},{"$f":"IFERROR(G313*(1-Оглавление!$D$39),\"по запросу\")","v":"по запросу"},"по запросу","шт",null,"0 ₽","0 ₽"]
[null,"ISRIF020F","Обратный клапан ПВДФ с гайкой с одной стороны и муфтовым окончанием FKM D20 IPS",10,"Арматура","RUB",{"$f":"IFERROR(I314*Оглавление!$E$23,\"по запросу\")","v":"по запросу"},{"$f":"IFERROR(G314*(1-Оглавление!$D$39),\"по запросу\")","v":"по запросу"},"по запросу","шт",null,"0 ₽","0 ₽"]
[null,"ISRIF025F","Обратный клапан ПВДФ с гайкой с одной стороны и муфтовым окончанием FKM D25 IPS",10,"Арматура","RUB",{"$f":"IFERROR(I315*Оглавление!$E$23,\"по запросу\")","v":"по запросу"},{"$f":"IFERROR(G315*(1-Оглавление!$D$39),\"по запросу\")","v":"по запросу"},"по запросу","шт",null,{"$f":"IFERROR(K315*G315,\"0 ₽\")","v":"0 ₽"},"0 ₽"]
[null,"ISRIF032F","Обратный клапан ПВДФ с гайкой с одной стороны и муфтовым окончанием FKM D32 IPS",10,"Арматура","RUB",{"$f":"IFERROR(I316*Оглавление!$E$23,\"по запросу\")","v":"по запросу"},{"$f":"IFERROR(G316*(1-Оглавление!$D$39),\"по запросу\")","v":"по запросу"},"по запросу","шт",null,"0 ₽","0 ₽"]
[null,"ISRIF040F","Обратный клапан ПВДФ с гайкой с одной стороны и муфтовым окончанием FKM D40 IPS",10,"Арматура","RUB",{"$f":"IFERROR(I317*Оглавление!$E$23,\"по запросу\")","v":"по запросу"},{"$f":"IFERROR(G317*(1-Оглавление!$D$39),\"по запросу\")","v":"по запросу"},"по запросу","шт",null,"0 ₽","0 ₽"]
[null,"ISRIF050F","Обратный клапан ПВДФ с гайкой с одной стороны и муфтовым окончанием FKM D50 IPS",10,"Арматура","RUB",{"$f":"IFERROR(I318*Оглавление!$E$23,\"по запросу\")","v":"по запросу"},{"$f":"IFERROR(G318*(1-Оглавление!$D$39),\"по запросу\")","v":"по запросу"},"по запросу","шт",null,"0 ₽","0 ₽"]
[null,"ISRIF063F","Обратный клапан ПВДФ с гайкой с одной стороны и муфтовым окончанием FKM D63 IPS",10,"Арматура","RUB",{"$f":"IFERROR(I319*Оглавление!$E$23,\"по запросу\")","v":"по запросу"},{"$f":"IFERROR(G319*(1-Оглавление!$D$39),\"по запросу\")","v":"по запросу"},"по запросу","шт",null,"0 ₽","0 ₽"]
[null,"ISRIF075F","Обратный клапан ПВДФ с гайкой с одной стороны и муфтовым окончанием FKM D75 IPS",10,"Арматура","RUB",{"$f":"IFERROR(I320*Оглавление!$E$23,\"по запросу\")","v":"по запросу"},{"$f":"IFERROR(G320*(1-Оглавление!$D$39),\"по запросу\")","v":"по запросу"},"по запросу","шт",null,"0 ₽","0 ₽"]
[null,"ISRIF090F","Обратный клапан ПВДФ с гайкой с одной стороны и муфтовым окончанием FKM D90 IPS",10,"Арматура","RUB",{"$f":"IFERROR(I321*Оглавление!$E$23,\"по запросу\")","v":"по запросу"},{"$f":"IFERROR(G321*(1-Оглавление!$D$39),\"по запросу\")","v":"по запросу"},"по запросу","шт",null,"0 ₽","0 ₽"]
[null,"ISRIF110F","Обратный клапан ПВДФ с гайкой с одной стороны и муфтовым окончанием FKM D110 IPS",10,"Арматура","RUB",{"$f":"IFERROR(I322*Оглавление!$E$23,\"по запросу\")","v":"по запросу"},{"$f":"IFERROR(G322*(1-Оглавление!$D$39),\"по запросу\")","v":"по запросу"},"по запросу","шт",null,{"$f":"IFERROR(K322*G322,\"0 ₽\")","v":"0 ₽"},{"$f":"IFERROR(K322*H322,\"0 ₽\")","v":"0 ₽"}]
[null,"IVKDIF020F","Кран шаровой ПВДФ муфтовый промышленный FKM 20 IPS",16,"Арматура","RUB",{"$f":"IFERROR(I323*Оглавление!$E$23,\"по запросу\")","v":"по запросу"},{"$f":"IFERROR(G323*(1-Оглавление!$D$39),\"по запросу\")","v":"по запросу"},"по запросу","шт",null,"0 ₽","0 ₽"]
[null,"IVKDIF025F","Кран шаровой ПВДФ муфтовый промышленный FKM 25 IPS",16,"Арматура","RUB",{"$f":"IFERROR(I324*Оглавление!$E$23,\"по запросу\")","v":"по запросу"},{"$f":"IFERROR(G324*(1-Оглавление!$D$39),\"по запросу\")","v":"по запросу"},"по запросу","шт",null,"0 ₽","0 ₽"]
[null,"IVKDIF032F","Кран шаровой ПВДФ муфтовый промышленный FKM 32 IPS",16,"Арматура","RUB",{"$f":"IFERROR(I325*Оглавление!$E$23,\"по запросу\")","v":"по запросу"},{"$f":"IFERROR(G325*(1-Оглавление!$D$39),\"по запросу\")","v":"по запросу"},"по запросу","шт",null,"0 ₽","0 ₽"]
[null,"IVKDIF040F","Кран шаровой ПВДФ муфтовый промышленный FKM 40 IPS",16,"Арматура","RUB",{"$f":"IFERROR(I326*Оглавление!$E$23,\"по запросу\")","v":"по запросу"},{"$f":"IFERROR(G326*(1-Оглавление!$D$39),\"по запросу\")","v":"по запросу"},"по запросу","шт",null,"0 ₽","0 ₽"]
[null,"IVKDIF050F","Кран шаровой ПВДФ муфтовый промышленный FKM 50 IPS",16,"Арматура","RUB",{"$f":"IFERROR(I327*Оглавление!$E$23,\"по запросу\")","v":"по запросу"},{"$f":"IFERROR(G327*(1-Оглавление!$D$39),\"по запросу\")","v":"по запросу"},"по запросу","шт",null,"0 ₽","0 ₽"]
[null,"IVKDIF063F","Кран шаровой ПВДФ муфтовый промышленный FKM 63 IPS",16,"Арматура","RUB",{"$f":"IFERROR(I328*Оглавление!$E$23,\"по запросу\")","v":"по запросу"},{"$f":"IFERROR(G328*(1-Оглавление!$D$39),\"по запросу\")","v":"по запросу"},"по запросу","шт",null,"0 ₽","0 ₽"]
[null,"IVKDIF075F","Кран шаровой ПВДФ муфтовый промышленный FKM 75 IPS",10,"Арматура","RUB",{"$f":"IFERROR(I329*Оглавление!$E$23,\"по запросу\")","v":"по запросу"},{"$f":"IFERROR(G329*(1-Оглавление!$D$39),\"по запросу\")","v":"по запросу"},"по запросу","шт",null,"0 ₽","0 ₽"]
[null,"IVKDIF090F","Кран шаровой ПВДФ муфтовый промышленный FKM 90 IPS",10,"Арматура","RUB",{"$f":"IFERROR(I330*Оглавление!$E$23,\"по запросу\")","v":"по запросу"},{"$f":"IFERROR(G330*(1-Оглавление!$D$39),\"по запросу\")","v":"по запросу"},"по запросу","шт",null,"0 ₽","0 ₽"]
[null,"IVKDIF110F","Кран шаровой ПВДФ муфтовый промышленный FKM 110 IPS",10,"Арматура","RUB",{"$f":"IFERROR(I331*Оглавление!$E$23,\"по запросу\")","v":"по запросу"},{"$f":"IFERROR(G331*(1-Оглавление!$D$39),\"по запросу\")","v":"по запросу"},"по запросу","шт",null,"0 ₽","0 ₽"]
[null,"IVKDOF020F","Кран шаровой ПВДФ фланцевый промышленный FKM 20 IPS",16,"Арматура","RUB",{"$f":"IFERROR(I332*Оглавление!$E$23,\"по запросу\")","v":"по запросу"},{"$f":"IFERROR(G332*(1-Оглавление!$D$39),\"по запросу\")","v":"по запросу"},"по запросу","шт",null,"0 ₽","0 ₽"]
[null,"IVKDOF025F","Кран шаровой ПВДФ фланцевый промышленный FKM 25 IPS",16,"Арматура","RUB",{"$f":"IFERROR(I333*Оглавление!$E$23,\"по запросу\")","v":"по запросу"},{"$f":"IFERROR(G333*(1-Оглавление!$D$39),\"по запросу\")","v":"по запросу"},"по запросу","шт",null,"0 ₽","0 ₽"]
[null,"IVKDOF032F","Кран шаровой ПВДФ фланцевый промышленный FKM 32 IPS",16,"Арматура","RUB",{"$f":"IFERROR(I334*Оглавление!$E$23,\"по запросу\")","v":"по запросу"},{"$f":"IFERROR(G334*(1-Оглавление!$D$39),\"по запросу\")","v":"по запросу"},"по запросу","шт",null,"0 ₽","0 ₽"]
[null,"IVKDOF040F","Кран шаровой ПВДФ фланцевый промышленный FKM 40 IPS",16,"Арматура","RUB",{"$f":"IFERROR(I335*Оглавление!$E$23,\"по запросу\")","v":"по запросу"},{"$f":"IFERROR(G335*(1-Оглавление!$D$39),\"по запросу\")","v":"по запросу"},"по запросу","шт",null,"0 ₽","0 ₽"]
[null,"IVKDOF050F","Кран шаровой ПВДФ фланцевый промышленный FKM 50 IPS",16,"Арматура","RUB",{"$f":"IFERROR(I336*Оглавление!$E$23,\"по запросу\")","v":"по запросу"},{"$f":"IFERROR(G336*(1-Оглавление!$D$39),\"по запросу\")","v":"по запросу"},"по запросу","шт",null,"0 ₽","0 ₽"]
[null,"IVKDOF063F","Кран шаровой ПВДФ фланцевый промышленный FKM 63 IPS",16,"Арматура","RUB",{"$f":"IFERROR(I337*Оглавление!$E$23,\"по запросу\")","v":"по запросу"},{"$f":"IFERROR(G337*(1-Оглавление!$D$39),\"по запросу\")","v":"по запросу"},"по запросу","шт",null,"0 ₽","0 ₽"]
[null,"IVKDOF075F","Кран шаровой ПВДФ фланцевый промышленный FKM 75 IPS",10,"Арматура","RUB",{"$f":"IFERROR(I338*Оглавление!$E$23,\"по запросу\")","v":"по запросу"},{"$f":"IFERROR(G338*(1-Оглавление!$D$39),\"по запросу\")","v":"по запросу"},"по запросу","шт",null,"0 ₽","0 ₽"]
[null,"IVKDOF090F","Кран шаровой ПВДФ фланцевый промышленный FKM 90 IPS",10,"Арматура","RUB",{"$f":"IFERROR(I339*Оглавление!$E$23,\"по запросу\")","v":"по запросу"},{"$f":"IFERROR(G339*(1-Оглавление!$D$39),\"по запросу\")","v":"по запросу"},"по запросу","шт",null,"0 ₽","0 ₽"]
[null,"IVKDOF110F","Кран шаровой ПВДФ фланцевый промышленный FKM 110 IPS",10,"Арматура","RUB",{"$f":"IFERROR(I340*Оглавление!$E$23,\"по запросу\")","v":"по запросу"},{"$f":"IFERROR(G340*(1-Оглавление!$D$39),\"по запросу\")","v":"по запросу"},"по запросу","шт",null,"0 ₽","0 ₽"]
[null,"IFKOFLM063F","Затвор дисковый ПВДФ с рукояткой промышленный 63 (DN50) FKM IPS",16,"Арматура","RUB",{"$f":"IFERROR(I341*Оглавление!$E$23,\"по запросу\")","v":"по запросу"},{"$f":"IFERROR(G341*(1-Оглавление!$D$39),\"по запросу\")","v":"по запросу"},"по запросу","шт",null,"0 ₽","0 ₽"]
[null,"IFKOFLM075F","Затвор дисковый ПВДФ с рукояткой промышленный 75 (DN65) FKM IPS",16,"Арматура","RUB",{"$f":"IFERROR(I342*Оглавление!$E$23,\"по запросу\")","v":"по запросу"},{"$f":"IFERROR(G342*(1-Оглавление!$D$39),\"по запросу\")","v":"по запросу"},"по запросу","шт",null,"0 ₽","0 ₽"]
[null,"IFKOFLM090F","Затвор дисковый ПВДФ с рукояткой промышленный 90 (DN80) FKM IPS",16,"Арматура","RUB",{"$f":"IFERROR(I343*Оглавление!$E$23,\"по запросу\")","v":"по запросу"},{"$f":"IFERROR(G343*(1-Оглавление!$D$39),\"по запросу\")","v":"по запросу"},"по запросу","шт",null,"0 ₽","0 ₽"]
[null,"IFKOFLM110F","Затвор дисковый ПВДФ с рукояткой промышленный 110 (DN100) FKM IPS",16,"Арматура","RUB",{"$f":"IFERROR(I344*Оглавление!$E$23,\"по запросу\")","v":"по запросу"},{"$f":"IFERROR(G344*(1-Оглавление!$D$39),\"по запросу\")","v":"по запросу"},"по запросу","шт",null,"0 ₽","0 ₽"]
[null,"IFKOFLM140F","Затвор дисковый ПВДФ с рукояткой промышленный 140 (DN125) FKM IPS",16,"Арматура","RUB",{"$f":"IFERROR(I345*Оглавление!$E$23,\"по запросу\")","v":"по запросу"},{"$f":"IFERROR(G345*(1-Оглавление!$D$39),\"по запросу\")","v":"по запросу"},"по запросу","шт",null,"0 ₽","0 ₽"]
[null,"IFKOFLM160F","Затвор дисковый ПВДФ с рукояткой промышленный 160 (DN150) FKM IPS",16,"Арматура","RUB",{"$f":"IFERROR(I346*Оглавление!$E$23,\"по запросу\")","v":"по запросу"},{"$f":"IFERROR(G346*(1-Оглавление!$D$39),\"по запросу\")","v":"по запросу"},"по запросу","шт",null,"0 ₽","0 ₽"]
[null,"IFKOFLM225F","Затвор дисковый ПВДФ с рукояткой промышленный 225 (DN150) FKM IPS",16,"Арматура","RUB",{"$f":"IFERROR(I347*Оглавление!$E$23,\"по запросу\")","v":"по запросу"},{"$f":"IFERROR(G347*(1-Оглавление!$D$39),\"по запросу\")","v":"по запросу"},"по запросу","шт",null,"0 ₽","0 ₽"]
[null,"IFKOFRM225F","Затвор дисковый ПВДФ с редуктором промышленный 8\" (200) FKM IPS",16,"Арматура","RUB",{"$f":"IFERROR(I348*Оглавление!$E$23,\"по запросу\")","v":"по запросу"},{"$f":"IFERROR(G348*(1-Оглавление!$D$39),\"по запросу\")","v":"по запросу"},"по запросу","шт",null,{"$f":"IFERROR(K348*G348,\"0 ₽\")","v":"0 ₽"},"0 ₽"]
[null,"IFKOFRM280F","Затвор дисковый ПВДФ с редуктором промышленный 10\" (250) FKM IPS",16,"Арматура","RUB",{"$f":"IFERROR(I349*Оглавление!$E$23,\"по запросу\")","v":"по запросу"},{"$f":"IFERROR(G349*(1-Оглавление!$D$39),\"по запросу\")","v":"по запросу"},"по запросу","шт",null,"0 ₽","0 ₽"]
[null,"IFKOFRM315F","Затвор дисковый ПВДФ с редуктором промышленный 12\"(300) FKM IPS",16,"Арматура","RUB",{"$f":"IFERROR(I350*Оглавление!$E$23,\"по запросу\")","v":"по запросу"},{"$f":"IFERROR(G350*(1-Оглавление!$D$39),\"по запросу\")","v":"по запросу"},"по запросу","шт",null,"0 ₽","0 ₽"]
[null,"IFKOFRM814F","Затвор дисковый ПВДФ с редуктором промышленный 14\"(DN350) FKM IPS",null,"Арматура","RUB",{"$f":"IFERROR(I351*Оглавление!$E$23,\"по запросу\")","v":"по запросу"},{"$f":"IFERROR(G351*(1-Оглавление!$D$39),\"по запросу\")","v":"по запросу"},"по запросу","шт",null,"0 ₽","0 ₽"]
[null,"IFKOFRM816F","Затвор дисковый ПВДФ с редуктором промышленный 16\"(DN400) FKM IPS",null,"Арматура","RUB",{"$f":"IFERROR(I352*Оглавление!$E$23,\"по запросу\")","v":"по запросу"},{"$f":"IFERROR(G352*(1-Оглавление!$D$39),\"по запросу\")","v":"по запросу"},"по запросу","шт",null,"0 ₽","0 ₽"]
[null,"IFKOFRM818F","Затвор дисковый ПВДФ с редуктором промышленный 18\"(DN450) FKM IPS",null,"Арматура","RUB",{"$f":"IFERROR(I353*Оглавление!$E$23,\"по запросу\")","v":"по запросу"},{"$f":"IFERROR(G353*(1-Оглавление!$D$39),\"по запросу\")","v":"по запросу"},"по запросу","шт",null,"0 ₽","0 ₽"]
[null,"IFKOFRM820F","Затвор дисковый ПВДФ с редуктором промышленный 20\"(DN500) FKM IPS",null,"Арматура","RUB",{"$f":"IFERROR(I354*Оглавление!$E$23,\"по запросу\")","v":"по запросу"},{"$f":"IFERROR(G354*(1-Оглавление!$D$39),\"по запросу\")","v":"по запросу"},"по запросу","шт",null,"0 ₽","0 ₽"]
[null,"IFKOFRM824F","Затвор дисковый ПВДФ с редуктором промышленный 24\"(DN600) FKM IPS",null,"Арматура","RUB",{"$f":"IFERROR(I355*Оглавление!$E$23,\"по запросу\")","v":"по запросу"},{"$f":"IFERROR(G355*(1-Оглавление!$D$39),\"по запросу\")","v":"по запросу"},"по запросу","шт",null,"0 ₽","0 ₽"]
[null,"IFKOFRM828F","Затвор дисковый ПВДФ с редуктором промышленный 28\"(DN700) FKM IPS",null,"Арматура","RUB",{"$f":"IFERROR(I356*Оглавление!$E$23,\"по запросу\")","v":"по запросу"},{"$f":"IFERROR(G356*(1-Оглавление!$D$39),\"по запросу\")","v":"по запросу"},"по запросу","шт",null,"0 ₽","0 ₽"]
[null,"IFKOFRM832F","Затвор дисковый ПВДФ с редуктором промышленный 32\"(DN800) FKM IPS",null,"Арматура","RUB",{"$f":"IFERROR(I357*Оглавление!$E$23,\"по запросу\")","v":"по запросу"},{"$f":"IFERROR(G357*(1-Оглавление!$D$39),\"по запросу\")","v":"по запросу"},"по запросу","шт",null,"0 ₽","0 ₽"]
[null,"IFKOFRM840F","Затвор дисковый ПВДФ с редуктором промышленный 40\"(DN1000) FKM IPS",null,"Арматура","RUB",{"$f":"IFERROR(I358*Оглавление!$E$23,\"по запросу\")","v":"по запросу"},{"$f":"IFERROR(G358*(1-Оглавление!$D$39),\"по запросу\")","v":"по запросу"},"по запросу","шт",null,"0 ₽","0 ₽"]
[null,"IDKUIF020E","Мембранный клапан ПВДФ с разборными муфтовыми окончаниями EPDM 20 IPS",16,"Арматура","RUB",{"$f":"IFERROR(I359*Оглавление!$E$23,\"по запросу\")","v":"по запросу"},{"$f":"IFERROR(G359*(1-Оглавление!$D$39),\"по запросу\")","v":"по запросу"},"по запросу","шт",null,"0 ₽","0 ₽"]
[null,"IDKUIF025E","Мембранный клапан ПВДФ с разборными муфтовыми окончаниями EPDM 25 IPS",16,"Арматура","RUB",{"$f":"IFERROR(I360*Оглавление!$E$23,\"по запросу\")","v":"по запросу"},{"$f":"IFERROR(G360*(1-Оглавление!$D$39),\"по запросу\")","v":"по запросу"},"по запросу","шт",null,"0 ₽","0 ₽"]
[null,"IDKUIF032E","Мембранный клапан ПВДФ с разборными муфтовыми окончаниями EPDM 32 IPS",16,"Арматура","RUB",{"$f":"IFERROR(I361*Оглавление!$E$23,\"по запросу\")","v":"по запросу"},{"$f":"IFERROR(G361*(1-Оглавление!$D$39),\"по запросу\")","v":"по запросу"},"по запросу","шт",null,"0 ₽","0 ₽"]
[null,"IDKUIF040E","Мембранный клапан ПВДФ с разборными муфтовыми окончаниями EPDM 40 IPS",16,"Арматура","RUB",{"$f":"IFERROR(I362*Оглавление!$E$23,\"по запросу\")","v":"по запросу"},{"$f":"IFERROR(G362*(1-Оглавление!$D$39),\"по запросу\")","v":"по запросу"},"по запросу","шт",null,"0 ₽","0 ₽"]
[null,"IDKUIF050E","Мембранный клапан ПВДФ с разборными муфтовыми окончаниями EPDM 50 IPS",16,"Арматура","RUB",{"$f":"IFERROR(I363*Оглавление!$E$23,\"по запросу\")","v":"по запросу"},{"$f":"IFERROR(G363*(1-Оглавление!$D$39),\"по запросу\")","v":"по запросу"},"по запросу","шт",null,"0 ₽","0 ₽"]
[null,"IDKUIF063E","Мембранный клапан ПВДФ с разборными муфтовыми окончаниями EPDM 63 IPS",16,"Арматура","RUB",{"$f":"IFERROR(I364*Оглавление!$E$23,\"по запросу\")","v":"по запросу"},{"$f":"IFERROR(G364*(1-Оглавление!$D$39),\"по запросу\")","v":"по запросу"},"по запросу","шт",null,"0 ₽","0 ₽"]
[null,"IDKUIF075E","Мембранный клапан ПВДФ с разборными муфтовыми окончаниями EPDM 75 IPS",16,"Арматура","RUB",{"$f":"IFERROR(I365*Оглавление!$E$23,\"по запросу\")","v":"по запросу"},{"$f":"IFERROR(G365*(1-Оглавление!$D$39),\"по запросу\")","v":"по запросу"},"по запросу","шт",null,"0 ₽","0 ₽"]
[null,"IDKUIF090E","Мембранный клапан ПВДФ с разборными муфтовыми окончаниями EPDM 90 IPS",16,"Арматура","RUB",{"$f":"IFERROR(I366*Оглавление!$E$23,\"по запросу\")","v":"по запросу"},{"$f":"IFERROR(G366*(1-Оглавление!$D$39),\"по запросу\")","v":"по запросу"},"по запросу","шт",null,"0 ₽","0 ₽"]
[null,"IDKUIF110E","Мембранный клапан ПВДФ с разборными муфтовыми окончаниями EPDM 110 IPS",16,"Арматура","RUB",{"$f":"IFERROR(I367*Оглавление!$E$23,\"по запросу\")","v":"по запросу"},{"$f":"IFERROR(G367*(1-Оглавление!$D$39),\"по запросу\")","v":"по запросу"},"по запросу","шт",null,"0 ₽","0 ₽"]
[null,"IDKUIF020F","Мембранный клапан ПВДФ с разборными муфтовыми окончаниями FKM 20 IPS",16,"Арматура","RUB",{"$f":"IFERROR(I368*Оглавление!$E$23,\"по запросу\")","v":"по запросу"},{"$f":"IFERROR(G368*(1-Оглавление!$D$39),\"по запросу\")","v":"по запросу"},"по запросу","шт",null,"0 ₽","0 ₽"]
[null,"IDKUIF025F","Мембранный клапан ПВДФ с разборными муфтовыми окончаниями FKM 25 IPS",16,"Арматура","RUB",{"$f":"IFERROR(I369*Оглавление!$E$23,\"по запросу\")","v":"по запросу"},{"$f":"IFERROR(G369*(1-Оглавление!$D$39),\"по запросу\")","v":"по запросу"},"по запросу","шт",null,"0 ₽","0 ₽"]
[null,"IDKUIF032F","Мембранный клапан ПВДФ с разборными муфтовыми окончаниями FKM 32 IPS",16,"Арматура","RUB",{"$f":"IFERROR(I370*Оглавление!$E$23,\"по запросу\")","v":"по запросу"},{"$f":"IFERROR(G370*(1-Оглавление!$D$39),\"по запросу\")","v":"по запросу"},"по запросу","шт",null,"0 ₽","0 ₽"]
[null,"IDKUIF040F","Мембранный клапан ПВДФ с разборными муфтовыми окончаниями FKM 40 IPS",16,"Арматура","RUB",{"$f":"IFERROR(I371*Оглавление!$E$23,\"по запросу\")","v":"по запросу"},{"$f":"IFERROR(G371*(1-Оглавление!$D$39),\"по запросу\")","v":"по запросу"},"по запросу","шт",null,"0 ₽","0 ₽"]
[null,"IDKUIF050F","Мембранный клапан ПВДФ с разборными муфтовыми окончаниями FKM 50 IPS",16,"Арматура","RUB",{"$f":"IFERROR(I372*Оглавление!$E$23,\"по запросу\")","v":"по запросу"},{"$f":"IFERROR(G372*(1-Оглавление!$D$39),\"по запросу\")","v":"по запросу"},"по запросу","шт",null,"0 ₽","0 ₽"]
[null,"IDKUIF063F","Мембранный клапан ПВДФ с разборными муфтовыми окончаниями FKM 63 IPS",16,"Арматура","RUB",{"$f":"IFERROR(I373*Оглавление!$E$23,\"по запросу\")","v":"по запросу"},{"$f":"IFERROR(G373*(1-Оглавление!$D$39),\"по запросу\")","v":"по запросу"},"по запросу","шт",null,"0 ₽","0 ₽"]
[null,"IDKUIF075F","Мембранный клапан ПВДФ с разборными муфтовыми окончаниями FKM 75 IPS",16,"Арматура","RUB",{"$f":"IFERROR(I374*Оглавление!$E$23,\"по запросу\")","v":"по запросу"},{"$f":"IFERROR(G374*(1-Оглавление!$D$39),\"по запросу\")","v":"по запросу"},"по запросу","шт",null,"0 ₽","0 ₽"]
[null,"IDKUIF090F","Мембранный клапан ПВДФ с разборными муфтовыми окончаниями FKM 90 IPS",16,"Арматура","RUB",{"$f":"IFERROR(I375*Оглавление!$E$23,\"по запросу\")","v":"по запросу"},{"$f":"IFERROR(G375*(1-Оглавление!$D$39),\"по запросу\")","v":"по запросу"},"по запросу","шт",null,"0 ₽","0 ₽"]
[null,"IDKUIF110F","Мембранный клапан ПВДФ с разборными муфтовыми окончаниями FKM 110 IPS",16,"Арматура","RUB",{"$f":"IFERROR(I376*Оглавление!$E$23,\"по запросу\")","v":"по запросу"},{"$f":"IFERROR(G376*(1-Оглавление!$D$39),\"по запросу\")","v":"по запросу"},"по запросу","шт",null,"0 ₽","0 ₽"]
[null,"IDKUIF020P","Мембранный клапан ПВДФ с разборными муфтовыми окончаниями PTFE 20 IPS",16,"Арматура","RUB",{"$f":"IFERROR(I377*Оглавление!$E$23,\"по запросу\")","v":"по запросу"},{"$f":"IFERROR(G377*(1-Оглавление!$D$39),\"по запросу\")","v":"по запросу"},"по запросу","шт",null,"0 ₽","0 ₽"]
[null,"IDKUIF025P","Мембранный клапан ПВДФ с разборными муфтовыми окончаниями PTFE 25 IPS",16,"Арматура","RUB",{"$f":"IFERROR(I378*Оглавление!$E$23,\"по запросу\")","v":"по запросу"},{"$f":"IFERROR(G378*(1-Оглавление!$D$39),\"по запросу\")","v":"по запросу"},"по запросу","шт",null,"0 ₽","0 ₽"]
[null,"IDKUIF032P","Мембранный клапан ПВДФ с разборными муфтовыми окончаниями PTFE 32 IPS",16,"Арматура","RUB",{"$f":"IFERROR(I379*Оглавление!$E$23,\"по запросу\")","v":"по запросу"},{"$f":"IFERROR(G379*(1-Оглавление!$D$39),\"по запросу\")","v":"по запросу"},"по запросу","шт",null,"0 ₽","0 ₽"]
[null,"IDKUIF040P","Мембранный клапан ПВДФ с разборными муфтовыми окончаниями PTFE 40 IPS",16,"Арматура","RUB",{"$f":"IFERROR(I380*Оглавление!$E$23,\"по запросу\")","v":"по запросу"},{"$f":"IFERROR(G380*(1-Оглавление!$D$39),\"по запросу\")","v":"по запросу"},"по запросу","шт",null,"0 ₽","0 ₽"]
[null,"IDKUIF050P","Мембранный клапан ПВДФ с разборными муфтовыми окончаниями PTFE 50 IPS",16,"Арматура","RUB",{"$f":"IFERROR(I381*Оглавление!$E$23,\"по запросу\")","v":"по запросу"},{"$f":"IFERROR(G381*(1-Оглавление!$D$39),\"по запросу\")","v":"по запросу"},"по запросу","шт",null,"0 ₽","0 ₽"]
[null,"IDKUIF063P","Мембранный клапан ПВДФ с разборными муфтовыми окончаниями PTFE 63 IPS",16,"Арматура","RUB",{"$f":"IFERROR(I382*Оглавление!$E$23,\"по запросу\")","v":"по запросу"},{"$f":"IFERROR(G382*(1-Оглавление!$D$39),\"по запросу\")","v":"по запросу"},"по запросу","шт",null,"0 ₽","0 ₽"]
[null,"IDKUIF075P","Мембранный клапан ПВДФ с разборными муфтовыми окончаниями PTFE 75 IPS",16,"Арматура","RUB",{"$f":"IFERROR(I383*Оглавление!$E$23,\"по запросу\")","v":"по запросу"},{"$f":"IFERROR(G383*(1-Оглавление!$D$39),\"по запросу\")","v":"по запросу"},"по запросу","шт",null,"0 ₽",{"$f":"IFERROR(K383*H383,\"0 ₽\")","v":"0 ₽"}]
[null,"IDKUIF090P","Мембранный клапан ПВДФ с разборными муфтовыми окончаниями PTFE 90 IPS",16,"Арматура","RUB",{"$f":"IFERROR(I384*Оглавление!$E$23,\"по запросу\")","v":"по запросу"},{"$f":"IFERROR(G384*(1-Оглавление!$D$39),\"по запросу\")","v":"по запросу"},"по запросу","шт",null,"0 ₽","0 ₽"]
[null,"IDKUIF110P","Мембранный клапан ПВДФ с разборными муфтовыми окончаниями PTFE 110 IPS",16,"Арматура","RUB",{"$f":"IFERROR(I385*Оглавление!$E$23,\"по запросу\")","v":"по запросу"},{"$f":"IFERROR(G385*(1-Оглавление!$D$39),\"по запросу\")","v":"по запросу"},"по запросу","шт",null,"0 ₽","0 ₽"]
[null,"IDKDF020E","Мембранный клапан ПВДФ с втулочными окончаниями EPDM 20 IPS",16,"Арматура","RUB",{"$f":"IFERROR(I386*Оглавление!$E$23,\"по запросу\")","v":"по запросу"},{"$f":"IFERROR(G386*(1-Оглавление!$D$39),\"по запросу\")","v":"по запросу"},"по запросу","шт",null,"0 ₽","0 ₽"]
[null,"IDKDF025E","Мембранный клапан ПВДФ с втулочными окончаниями EPDM 25 IPS",16,"Арматура","RUB",{"$f":"IFERROR(I387*Оглавление!$E$23,\"по запросу\")","v":"по запросу"},{"$f":"IFERROR(G387*(1-Оглавление!$D$39),\"по запросу\")","v":"по запросу"},"по запросу","шт",null,"0 ₽","0 ₽"]
[null,"IDKDF032E","Мембранный клапан ПВДФ с втулочными окончаниями EPDM 32 IPS",16,"Арматура","RUB",{"$f":"IFERROR(I388*Оглавление!$E$23,\"по запросу\")","v":"по запросу"},{"$f":"IFERROR(G388*(1-Оглавление!$D$39),\"по запросу\")","v":"по запросу"},"по запросу","шт",null,"0 ₽","0 ₽"]
[null,"IDKDF040E","Мембранный клапан ПВДФ с втулочными окончаниями EPDM 40 IPS",16,"Арматура","RUB",{"$f":"IFERROR(I389*Оглавление!$E$23,\"по запросу\")","v":"по запросу"},{"$f":"IFERROR(G389*(1-Оглавление!$D$39),\"по запросу\")","v":"по запросу"},"по запросу","шт",null,"0 ₽","0 ₽"]
[null,"IDKDF050E","Мембранный клапан ПВДФ с втулочными окончаниями EPDM 50 IPS",16,"Арматура","RUB",{"$f":"IFERROR(I390*Оглавление!$E$23,\"по запросу\")","v":"по запросу"},{"$f":"IFERROR(G390*(1-Оглавление!$D$39),\"по запросу\")","v":"по запросу"},"по запросу","шт",null,"0 ₽","0 ₽"]
[null,"IDKDF063E","Мембранный клапан ПВДФ с втулочными окончаниями EPDM 63 IPS",16,"Арматура","RUB",{"$f":"IFERROR(I391*Оглавление!$E$23,\"по запросу\")","v":"по запросу"},{"$f":"IFERROR(G391*(1-Оглавление!$D$39),\"по запросу\")","v":"по запросу"},"по запросу","шт",null,"0 ₽","0 ₽"]
[null,"IDKDF075E","Мембранный клапан ПВДФ с втулочными окончаниями EPDM 75 IPS",16,"Арматура","RUB",{"$f":"IFERROR(I392*Оглавление!$E$23,\"по запросу\")","v":"по запросу"},{"$f":"IFERROR(G392*(1-Оглавление!$D$39),\"по запросу\")","v":"по запросу"},"по запросу","шт",null,"0 ₽","0 ₽"]
[null,"IDKDF090E","Мембранный клапан ПВДФ с втулочными окончаниями EPDM 90 IPS",16,"Арматура","RUB",{"$f":"IFERROR(I393*Оглавление!$E$23,\"по запросу\")","v":"по запросу"},{"$f":"IFERROR(G393*(1-Оглавление!$D$39),\"по запросу\")","v":"по запросу"},"по запросу","шт",null,"0 ₽","0 ₽"]
[null,"IDKDF110E","Мембранный клапан ПВДФ с втулочными окончаниями EPDM 110 IPS",16,"Арматура","RUB",{"$f":"IFERROR(I394*Оглавление!$E$23,\"по запросу\")","v":"по запросу"},{"$f":"IFERROR(G394*(1-Оглавление!$D$39),\"по запросу\")","v":"по запросу"},"по запросу","шт",null,"0 ₽","0 ₽"]
[null,"IDKDF020F","Мембранный клапан ПВДФ с втулочными окончаниями FKM 20 IPS",16,"Арматура","RUB",{"$f":"IFERROR(I395*Оглавление!$E$23,\"по запросу\")","v":"по запросу"},{"$f":"IFERROR(G395*(1-Оглавление!$D$39),\"по запросу\")","v":"по запросу"},"по запросу","шт",null,"0 ₽","0 ₽"]
[null,"IDKDF025F","Мембранный клапан ПВДФ с втулочными окончаниями FKM 25 IPS",16,"Арматура","RUB",{"$f":"IFERROR(I396*Оглавление!$E$23,\"по запросу\")","v":"по запросу"},{"$f":"IFERROR(G396*(1-Оглавление!$D$39),\"по запросу\")","v":"по запросу"},"по запросу","шт",null,"0 ₽","0 ₽"]
[null,"IDKDF032F","Мембранный клапан ПВДФ с втулочными окончаниями FKM 32 IPS",16,"Арматура","RUB",{"$f":"IFERROR(I397*Оглавление!$E$23,\"по запросу\")","v":"по запросу"},{"$f":"IFERROR(G397*(1-Оглавление!$D$39),\"по запросу\")","v":"по запросу"},"по запросу","шт",null,"0 ₽","0 ₽"]
[null,"IDKDF040F","Мембранный клапан ПВДФ с втулочными окончаниями FKM 40 IPS",16,"Арматура","RUB",{"$f":"IFERROR(I398*Оглавление!$E$23,\"по запросу\")","v":"по запросу"},{"$f":"IFERROR(G398*(1-Оглавление!$D$39),\"по запросу\")","v":"по запросу"},"по запросу","шт",null,"0 ₽","0 ₽"]
[null,"IDKDF050F","Мембранный клапан ПВДФ с втулочными окончаниями FKM 50 IPS",16,"Арматура","RUB",{"$f":"IFERROR(I399*Оглавление!$E$23,\"по запросу\")","v":"по запросу"},{"$f":"IFERROR(G399*(1-Оглавление!$D$39),\"по запросу\")","v":"по запросу"},"по запросу","шт",null,"0 ₽","0 ₽"]
[null,"IDKDF063F","Мембранный клапан ПВДФ с втулочными окончаниями FKM 63 IPS",16,"Арматура","RUB",{"$f":"IFERROR(I400*Оглавление!$E$23,\"по запросу\")","v":"по запросу"},{"$f":"IFERROR(G400*(1-Оглавление!$D$39),\"по запросу\")","v":"по запросу"},"по запросу","шт",null,"0 ₽","0 ₽"]
[null,"IDKDF075F","Мембранный клапан ПВДФ с втулочными окончаниями FKM 75 IPS",16,"Арматура","RUB",{"$f":"IFERROR(I401*Оглавление!$E$23,\"по запросу\")","v":"по запросу"},{"$f":"IFERROR(G401*(1-Оглавление!$D$39),\"по запросу\")","v":"по запросу"},"по запросу","шт",null,"0 ₽","0 ₽"]
[null,"IDKDF090F","Мембранный клапан ПВДФ с втулочными окончаниями FKM 90 IPS",16,"Арматура","RUB",{"$f":"IFERROR(I402*Оглавление!$E$23,\"по запросу\")","v":"по запросу"},{"$f":"IFERROR(G402*(1-Оглавление!$D$39),\"по запросу\")","v":"по запросу"},"по запросу","шт",null,"0 ₽","0 ₽"]
[null,"IDKDF110F","Мембранный клапан ПВДФ с втулочными окончаниями FKM 110 IPS",16,"Арматура","RUB",{"$f":"IFERROR(I403*Оглавление!$E$23,\"по запросу\")","v":"по запросу"},{"$f":"IFERROR(G403*(1-Оглавление!$D$39),\"по запросу\")","v":"по запросу"},"по запросу","шт",null,"0 ₽","0 ₽"]
[null,"IDKDF020P","Мембранный клапан ПВДФ с втулочными окончаниями PTFE 20 IPS",16,"Арматура","RUB",{"$f":"IFERROR(I404*Оглавление!$E$23,\"по запросу\")","v":"по запросу"},{"$f":"IFERROR(G404*(1-Оглавление!$D$39),\"по запросу\")","v":"по запросу"},"по запросу","шт",null,"0 ₽","0 ₽"]
[null,"IDKDF025P","Мембранный клапан ПВДФ с втулочными окончаниями PTFE 25 IPS",16,"Арматура","RUB",{"$f":"IFERROR(I405*Оглавление!$E$23,\"по запросу\")","v":"по запросу"},{"$f":"IFERROR(G405*(1-Оглавление!$D$39),\"по запросу\")","v":"по запросу"},"по запросу","шт",null,"0 ₽","0 ₽"]
[null,"IDKDF032P","Мембранный клапан ПВДФ с втулочными окончаниями PTFE 32 IPS",16,"Арматура","RUB",{"$f":"IFERROR(I406*Оглавление!$E$23,\"по запросу\")","v":"по запросу"},{"$f":"IFERROR(G406*(1-Оглавление!$D$39),\"по запросу\")","v":"по запросу"},"по запросу","шт",null,"0 ₽","0 ₽"]
[null,"IDKDF040P","Мембранный клапан ПВДФ с втулочными окончаниями PTFE 40 IPS",16,"Арматура","RUB",{"$f":"IFERROR(I407*Оглавление!$E$23,\"по запросу\")","v":"по запросу"},{"$f":"IFERROR(G407*(1-Оглавление!$D$39),\"по запросу\")","v":"по запросу"},"по запросу","шт",null,"0 ₽","0 ₽"]
[null,"IDKDF050P","Мембранный клапан ПВДФ с втулочными окончаниями PTFE 50 IPS",16,"Арматура","RUB",{"$f":"IFERROR(I408*Оглавление!$E$23,\"по запросу\")","v":"по запросу"},{"$f":"IFERROR(G408*(1-Оглавление!$D$39),\"по запросу\")","v":"по запросу"},"по запросу","шт",null,{"$f":"IFERROR(K408*G408,\"0 ₽\")","v":"0 ₽"},"0 ₽"]
[null,"IDKDF063P","Мембранный клапан ПВДФ с втулочными окончаниями PTFE 63 IPS",16,"Арматура","RUB",{"$f":"IFERROR(I409*Оглавление!$E$23,\"по запросу\")","v":"по запросу"},{"$f":"IFERROR(G409*(1-Оглавление!$D$39),\"по запросу\")","v":"по запросу"},"по запросу","шт",null,"0 ₽","0 ₽"]
[null,"IDKDF075P","Мембранный клапан ПВДФ с втулочными окончаниями PTFE 75 IPS",16,"Арматура","RUB",{"$f":"IFERROR(I410*Оглавление!$E$23,\"по запросу\")","v":"по запросу"},{"$f":"IFERROR(G410*(1-Оглавление!$D$39),\"по запросу\")","v":"по запросу"},"по запросу","шт",null,"0 ₽","0 ₽"]
[null,"IDKDF090P","Мембранный клапан ПВДФ с втулочными окончаниями PTFE 90 IPS",16,"Арматура","RUB",{"$f":"IFERROR(I411*Оглавление!$E$23,\"по запросу\")","v":"по запросу"},{"$f":"IFERROR(G411*(1-Оглавление!$D$39),\"по запросу\")","v":"по запросу"},"по запросу","шт",null,"0 ₽","0 ₽"]
[null,"IDKDF110P","Мембранный клапан ПВДФ с втулочными окончаниями PTFE 110 IPS",16,"Арматура","RUB",{"$f":"IFERROR(I412*Оглавление!$E$23,\"по запросу\")","v":"по запросу"},{"$f":"IFERROR(G412*(1-Оглавление!$D$39),\"по запросу\")","v":"по запросу"},"по запросу","шт",null,"0 ₽","0 ₽"]
[null,"IDKOF020E","Мембранный клапан ПВДФ с фланцевыми окончаниями EPDM 20 IPS",16,"Арматура","RUB",{"$f":"IFERROR(I413*Оглавление!$E$23,\"по запросу\")","v":"по запросу"},{"$f":"IFERROR(G413*(1-Оглавление!$D$39),\"по запросу\")","v":"по запросу"},"по запросу","шт",null,"0 ₽","0 ₽"]
[null,"IDKOF025E","Мембранный клапан ПВДФ с фланцевыми окончаниями EPDM 25 IPS",16,"Арматура","RUB",{"$f":"IFERROR(I414*Оглавление!$E$23,\"по запросу\")","v":"по запросу"},{"$f":"IFERROR(G414*(1-Оглавление!$D$39),\"по запросу\")","v":"по запросу"},"по запросу","шт",null,"0 ₽","0 ₽"]
[null,"IDKOF032E","Мембранный клапан ПВДФ с фланцевыми окончаниями EPDM 32 IPS",16,"Арматура","RUB",{"$f":"IFERROR(I415*Оглавление!$E$23,\"по запросу\")","v":"по запросу"},{"$f":"IFERROR(G415*(1-Оглавление!$D$39),\"по запросу\")","v":"по запросу"},"по запросу","шт",null,"0 ₽","0 ₽"]
[null,"IDKOF040E","Мембранный клапан ПВДФ с фланцевыми окончаниями EPDM 40 IPS",16,"Арматура","RUB",{"$f":"IFERROR(I416*Оглавление!$E$23,\"по запросу\")","v":"по запросу"},{"$f":"IFERROR(G416*(1-Оглавление!$D$39),\"по запросу\")","v":"по запросу"},"по запросу","шт",null,"0 ₽","0 ₽"]
[null,"IDKOF050E","Мембранный клапан ПВДФ с фланцевыми окончаниями EPDM 50 IPS",16,"Арматура","RUB",{"$f":"IFERROR(I417*Оглавление!$E$23,\"по запросу\")","v":"по запросу"},{"$f":"IFERROR(G417*(1-Оглавление!$D$39),\"по запросу\")","v":"по запросу"},"по запросу","шт",null,"0 ₽","0 ₽"]
[null,"IDKOF063E","Мембранный клапан ПВДФ с фланцевыми окончаниями EPDM 63 IPS",16,"Арматура","RUB",{"$f":"IFERROR(I418*Оглавление!$E$23,\"по запросу\")","v":"по запросу"},{"$f":"IFERROR(G418*(1-Оглавление!$D$39),\"по запросу\")","v":"по запросу"},"по запросу","шт",null,"0 ₽","0 ₽"]
[null,"IDKOF075E","Мембранный клапан ПВДФ с фланцевыми окончаниями EPDM 75 IPS",16,"Арматура","RUB",{"$f":"IFERROR(I419*Оглавление!$E$23,\"по запросу\")","v":"по запросу"},{"$f":"IFERROR(G419*(1-Оглавление!$D$39),\"по запросу\")","v":"по запросу"},"по запросу","шт",null,"0 ₽","0 ₽"]
[null,"IDKOF090E","Мембранный клапан ПВДФ с фланцевыми окончаниями EPDM 90 IPS",16,"Арматура","RUB",{"$f":"IFERROR(I420*Оглавление!$E$23,\"по запросу\")","v":"по запросу"},{"$f":"IFERROR(G420*(1-Оглавление!$D$39),\"по запросу\")","v":"по запросу"},"по запросу","шт",null,"0 ₽","0 ₽"]
[null,"IDKOF110E","Мембранный клапан ПВДФ с фланцевыми окончаниями EPDM 110 IPS",16,"Арматура","RUB",{"$f":"IFERROR(I421*Оглавление!$E$23,\"по запросу\")","v":"по запросу"},{"$f":"IFERROR(G421*(1-Оглавление!$D$39),\"по запросу\")","v":"по запросу"},"по запросу","шт",null,"0 ₽","0 ₽"]
[null,"IDKOF020F","Мембранный клапан ПВДФ с фланцевыми окончаниями FKM 20 IPS",16,"Арматура","RUB",{"$f":"IFERROR(I422*Оглавление!$E$23,\"по запросу\")","v":"по запросу"},{"$f":"IFERROR(G422*(1-Оглавление!$D$39),\"по запросу\")","v":"по запросу"},"по запросу","шт",null,"0 ₽","0 ₽"]
[null,"IDKOF025F","Мембранный клапан ПВДФ с фланцевыми окончаниями FKM 25 IPS",16,"Арматура","RUB",{"$f":"IFERROR(I423*Оглавление!$E$23,\"по запросу\")","v":"по запросу"},{"$f":"IFERROR(G423*(1-Оглавление!$D$39),\"по запросу\")","v":"по запросу"},"по запросу","шт",null,"0 ₽","0 ₽"]
[null,"IDKOF032F","Мембранный клапан ПВДФ с фланцевыми окончаниями FKM 32 IPS",16,"Арматура","RUB",{"$f":"IFERROR(I424*Оглавление!$E$23,\"по запросу\")","v":"по запросу"},{"$f":"IFERROR(G424*(1-Оглавление!$D$39),\"по запросу\")","v":"по запросу"},"по запросу","шт",null,"0 ₽","0 ₽"]
[null,"IDKOF040F","Мембранный клапан ПВДФ с фланцевыми окончаниями FKM 40 IPS",16,"Арматура","RUB",{"$f":"IFERROR(I425*Оглавление!$E$23,\"по запросу\")","v":"по запросу"},{"$f":"IFERROR(G425*(1-Оглавление!$D$39),\"по запросу\")","v":"по запросу"},"по запросу","шт",null,"0 ₽","0 ₽"]
[null,"IDKOF050F","Мембранный клапан ПВДФ с фланцевыми окончаниями FKM 50 IPS",16,"Арматура","RUB",{"$f":"IFERROR(I426*Оглавление!$E$23,\"по запросу\")","v":"по запросу"},{"$f":"IFERROR(G426*(1-Оглавление!$D$39),\"по запросу\")","v":"по запросу"},"по запросу","шт",null,"0 ₽","0 ₽"]
[null,"IDKOF063F","Мембранный клапан ПВДФ с фланцевыми окончаниями FKM 63 IPS",16,"Арматура","RUB",{"$f":"IFERROR(I427*Оглавление!$E$23,\"по запросу\")","v":"по запросу"},{"$f":"IFERROR(G427*(1-Оглавление!$D$39),\"по запросу\")","v":"по запросу"},"по запросу","шт",null,"0 ₽","0 ₽"]
[null,"IDKOF075F","Мембранный клапан ПВДФ с фланцевыми окончаниями FKM 75 IPS",16,"Арматура","RUB",{"$f":"IFERROR(I428*Оглавление!$E$23,\"по запросу\")","v":"по запросу"},{"$f":"IFERROR(G428*(1-Оглавление!$D$39),\"по запросу\")","v":"по запросу"},"по запросу","шт",null,"0 ₽","0 ₽"]
[null,"IDKOF090F","Мембранный клапан ПВДФ с фланцевыми окончаниями FKM 90 IPS",16,"Арматура","RUB",{"$f":"IFERROR(I429*Оглавление!$E$23,\"по запросу\")","v":"по запросу"},{"$f":"IFERROR(G429*(1-Оглавление!$D$39),\"по запросу\")","v":"по запросу"},"по запросу","шт",null,"0 ₽","0 ₽"]
[null,"IDKOF110F","Мембранный клапан ПВДФ с фланцевыми окончаниями FKM 110 IPS",16,"Арматура","RUB",{"$f":"IFERROR(I430*Оглавление!$E$23,\"по запросу\")","v":"по запросу"},{"$f":"IFERROR(G430*(1-Оглавление!$D$39),\"по запросу\")","v":"по запросу"},"по запросу","шт",null,"0 ₽","0 ₽"]
[null,"IDKOF020P","Мембранный клапан ПВДФ с фланцевыми окончаниями PTPE 20 IPS",16,"Арматура","RUB",{"$f":"IFERROR(I431*Оглавление!$E$23,\"по запросу\")","v":"по запросу"},{"$f":"IFERROR(G431*(1-Оглавление!$D$39),\"по запросу\")","v":"по запросу"},"по запросу","шт",null,"0 ₽","0 ₽"]
[null,"IDKOF025P","Мембранный клапан ПВДФ с фланцевыми окончаниями PTPE 25 IPS",16,"Арматура","RUB",{"$f":"IFERROR(I432*Оглавление!$E$23,\"по запросу\")","v":"по запросу"},{"$f":"IFERROR(G432*(1-Оглавление!$D$39),\"по запросу\")","v":"по запросу"},"по запросу","шт",null,"0 ₽","0 ₽"]
[null,"IDKOF032P","Мембранный клапан ПВДФ с фланцевыми окончаниями PTPE 32 IPS",16,"Арматура","RUB",{"$f":"IFERROR(I433*Оглавление!$E$23,\"по запросу\")","v":"по запросу"},{"$f":"IFERROR(G433*(1-Оглавление!$D$39),\"по запросу\")","v":"по запросу"},"по запросу","шт",null,"0 ₽","0 ₽"]
[null,"IDKOF040P","Мембранный клапан ПВДФ с фланцевыми окончаниями PTPE 40 IPS",16,"Арматура","RUB",{"$f":"IFERROR(I434*Оглавление!$E$23,\"по запросу\")","v":"по запросу"},{"$f":"IFERROR(G434*(1-Оглавление!$D$39),\"по запросу\")","v":"по запросу"},"по запросу","шт",null,"0 ₽","0 ₽"]
[null,"IDKOF050P","Мембранный клапан ПВДФ с фланцевыми окончаниями PTPE 50 IPS",16,"Арматура","RUB",{"$f":"IFERROR(I435*Оглавление!$E$23,\"по запросу\")","v":"по запросу"},{"$f":"IFERROR(G435*(1-Оглавление!$D$39),\"по запросу\")","v":"по запросу"},"по запросу","шт",null,"0 ₽","0 ₽"]
[null,"IDKOF063P","Мембранный клапан ПВДФ с фланцевыми окончаниями PTPE 63 IPS",16,"Арматура","RUB",{"$f":"IFERROR(I436*Оглавление!$E$23,\"по запросу\")","v":"по запросу"},{"$f":"IFERROR(G436*(1-Оглавление!$D$39),\"по запросу\")","v":"по запросу"},"по запросу","шт",null,"0 ₽","0 ₽"]
[null,"IDKOF075P","Мембранный клапан ПВДФ с фланцевыми окончаниями PTPE 75 IPS",16,"Арматура","RUB",{"$f":"IFERROR(I437*Оглавление!$E$23,\"по запросу\")","v":"по запросу"},{"$f":"IFERROR(G437*(1-Оглавление!$D$39),\"по запросу\")","v":"по запросу"},"по запросу","шт",null,"0 ₽","0 ₽"]
[null,"IDKOF090P","Мембранный клапан ПВДФ с фланцевыми окончаниями PTPE 90 IPS",16,"Арматура","RUB",{"$f":"IFERROR(I438*Оглавление!$E$23,\"по запросу\")","v":"по запросу"},{"$f":"IFERROR(G438*(1-Оглавление!$D$39),\"по запросу\")","v":"по запросу"},"по запросу","шт",null,"0 ₽","0 ₽"]
[null,"IDKOF110P","Мембранный клапан ПВДФ с фланцевыми окончаниями PTPE 110 IPS",16,"Арматура","RUB",{"$f":"IFERROR(I439*Оглавление!$E$23,\"по запросу\")","v":"по запросу"},{"$f":"IFERROR(G439*(1-Оглавление!$D$39),\"по запросу\")","v":"по запросу"},"по запросу","шт",null,"0 ₽","0 ₽"]
[null,"IRVUIF020F","Фильтр сетчатый ПВДФ муфтовый FKM D20 (DN15) FIP",16,"Арматура","RUB",{"$f":"IFERROR(I440*Оглавление!$E$23,\"по запросу\")","v":"по запросу"},{"$f":"IFERROR(G440*(1-Оглавление!$D$39),\"по запросу\")","v":"по запросу"},"по запросу","шт",null,"0 ₽",{"$f":"IFERROR(K440*H440,\"0 ₽\")","v":"0 ₽"}]
[null,"IRVUIF025F","Фильтр сетчатый ПВДФ муфтовый FKM D25 (DN20) FIP",16,"Арматура","RUB",{"$f":"IFERROR(I441*Оглавление!$E$23,\"по запросу\")","v":"по запросу"},{"$f":"IFERROR(G441*(1-Оглавление!$D$39),\"по запросу\")","v":"по запросу"},"по запросу","шт",null,"0 ₽","0 ₽"]
[null,"IRVUIF032F","Фильтр сетчатый ПВДФ муфтовый FKM D32 (DN25) FIP",16,"Арматура","RUB",{"$f":"IFERROR(I442*Оглавление!$E$23,\"по запросу\")","v":"по запросу"},{"$f":"IFERROR(G442*(1-Оглавление!$D$39),\"по запросу\")","v":"по запросу"},"по запросу","шт",null,"0 ₽","0 ₽"]
[null,"IRVUIF040F","Фильтр сетчатый ПВДФ муфтовый FKM D40 (DN32) FIP",16,"Арматура","RUB",{"$f":"IFERROR(I443*Оглавление!$E$23,\"по запросу\")","v":"по запросу"},{"$f":"IFERROR(G443*(1-Оглавление!$D$39),\"по запросу\")","v":"по запросу"},"по запросу","шт",null,"0 ₽","0 ₽"]
[null,"IRVUIF050F","Фильтр сетчатый ПВДФ муфтовый FKM D50 (DN40) FIP",16,"Арматура","RUB",{"$f":"IFERROR(I444*Оглавление!$E$23,\"по запросу\")","v":"по запросу"},{"$f":"IFERROR(G444*(1-Оглавление!$D$39),\"по запросу\")","v":"по запросу"},"по запросу","шт",null,"0 ₽","0 ₽"]
[null,"IRVUIF063F","Фильтр сетчатый ПВДФ муфтовый FKM D63 (DN50) FIP",16,"Арматура","RUB",{"$f":"IFERROR(I445*Оглавление!$E$23,\"по запросу\")","v":"по запросу"},{"$f":"IFERROR(G445*(1-Оглавление!$D$39),\"по запросу\")","v":"по запросу"},"по запросу","шт",null,"0 ₽","0 ₽"]
[null,"IRVUIF075F","Фильтр сетчатый ПВДФ муфтовый FKM D75 (DN65) FIP",16,"Арматура","RUB",{"$f":"IFERROR(I446*Оглавление!$E$23,\"по запросу\")","v":"по запросу"},{"$f":"IFERROR(G446*(1-Оглавление!$D$39),\"по запросу\")","v":"по запросу"},"по запросу","шт",null,"0 ₽","0 ₽"]
[null,"IRVUIF090F","Фильтр сетчатый ПВДФ муфтовый FKM D90 (DN80) FIP",16,"Арматура","RUB",{"$f":"IFERROR(I447*Оглавление!$E$23,\"по запросу\")","v":"по запросу"},{"$f":"IFERROR(G447*(1-Оглавление!$D$39),\"по запросу\")","v":"по запросу"},"по запросу","шт",null,"0 ₽","0 ₽"]
[null,"IRVUIF110F","Фильтр сетчатый ПВДФ муфтовый FKM D110 (DN100) FIP",16,"Арматура","RUB",{"$f":"IFERROR(I448*Оглавление!$E$23,\"по запросу\")","v":"по запросу"},{"$f":"IFERROR(G448*(1-Оглавление!$D$39),\"по запросу\")","v":"по запросу"},"по запросу","шт",null,"0 ₽","0 ₽"]

{"sheet":"ПВДФ FIP","index":9,"n_rows":128,"n_cols":13,"rows_kept":128,"cut":false,"hidden":false,"merged":[[9,0,18,0],[19,0,24,0],[25,0,33,0],[34,0,41,0],[42,0,51,0],[122,0,127,0],[52,0,61,0],[62,0,79,0],[80,0,100,0],[101,0,121,0]]}
[null,null,null,null,null,null,null,null,null,{"$f":"COUNT(K10:K128)","v":0},"Товаров в заказе"]
[null,null,null,null,null,null,null,null,null,{"$f":"SUM(M10:M128)","v":0},"Сумма заказа со скидкой с НДС"]
[]
[]
[]
[]
[]
[]
["Фото","Код","Наименование","PN","Категория","Валюта\nпродажи","Цена\nПРОДАЖИ с НДС ","Цена с НДС\nсо скидкой","Цена\nEUR","Ед. измерения","Заказ (метры/штуки)","Сумма рубли","Сумма со скидкой"]
[null,"VKDIF016F","Кран шаровой ПВДФ муфтовый промышленный FKM 16 FIP",10,"Арматура","RUB",{"$f":"IFERROR(I10*Оглавление!$E$23,\"по запросу\")","v":28626.539199999996},{"$f":"IFERROR(G10*(1-Оглавление!$D$40),\"по запросу\")","v":28626.539199999996},285.58,"шт",null,{"$f":"IFERROR(K10*G10,\"0 ₽\")","v":0},{"$f":"IFERROR(K10*H10,\"0 ₽\")","v":0}]
[null,"VKDIF020F","Кран шаровой ПВДФ муфтовый промышленный FKM 20 FIP",10,"Арматура","RUB",{"$f":"IFERROR(I11*Оглавление!$E$23,\"по запросу\")","v":29735.193599999999},{"$f":"IFERROR(G11*(1-Оглавление!$D$40),\"по запросу\")","v":29735.193599999999},296.64,"шт",null,0,0]
[null,"VKDIF025F","Кран шаровой ПВДФ муфтовый промышленный FKM 25 FIP",10,"Арматура","RUB",{"$f":"IFERROR(I12*Оглавление!$E$23,\"по запросу\")","v":37050.7088},{"$f":"IFERROR(G12*(1-Оглавление!$D$40),\"по запросу\")","v":37050.7088},369.62,"шт",null,0,0]
[null,"VKDIF032F","Кран шаровой ПВДФ муфтовый промышленный FKM 32 FIP",10,"Арматура","RUB",{"$f":"IFERROR(I13*Оглавление!$E$23,\"по запросу\")","v":47537.817599999995},{"$f":"IFERROR(G13*(1-Оглавление!$D$40),\"по запросу\")","v":47537.817599999995},474.24,"шт",null,0,0]
[null,"VKDIF040F","Кран шаровой ПВДФ муфтовый промышленный FKM 40 FIP",10,"Арматура","RUB",{"$f":"IFERROR(I14*Оглавление!$E$23,\"по запросу\")","v":61555.379200000003},{"$f":"IFERROR(G14*(1-Оглавление!$D$40),\"по запросу\")","v":61555.379200000003},614.08000000000004,"шт",null,0,0]
[null,"VKDIF050F","Кран шаровой ПВДФ муфтовый промышленный FKM 50 FIP",10,"Арматура","RUB",{"$f":"IFERROR(I15*Оглавление!$E$23,\"по запросу\")","v":88688.342399999994},{"$f":"IFERROR(G15*(1-Оглавление!$D$40),\"по запросу\")","v":88688.342399999994},884.76,"шт",null,0,0]
[null,"VKDIF063F","Кран шаровой ПВДФ муфтовый промышленный FKM 63 FIP",10,"Арматура","RUB",{"$f":"IFERROR(I16*Оглавление!$E$23,\"по запросу\")","v":131859.70559999999},{"$f":"IFERROR(G16*(1-Оглавление!$D$40),\"по запросу\")","v":131859.70559999999},1315.44,"шт",null,0,0]
[null,"VKDIF075F","Кран шаровой ПВДФ муфтовый промышленный FKM 75 FIP",10,"Арматура","RUB",{"$f":"IFERROR(I17*Оглавление!$E$23,\"по запросу\")","v":342335.6384},{"$f":"IFERROR(G17*(1-Оглавление!$D$40),\"по запросу\")","v":342335.6384},3415.16,"шт",null,0,0]
[null,"VKDIF090F","Кран шаровой ПВДФ муфтовый промышленный FKM 90 FIP",10,"Арматура","RUB",{"$f":"IFERROR(I18*Оглавление!$E$23,\"по запросу\")","v":431168.32639999996},{"$f":"IFERROR(G18*(1-Оглавление!$D$40),\"по запросу\")","v":431168.32639999996},4301.3599999999997,"шт",null,0,0]
[null,"VKDIF110F","Кран шаровой ПВДФ муфтовый промышленный FKM 110 FIP",10,"Арматура","RUB",{"$f":"IFERROR(I19*Оглавление!$E$23,\"по запросу\")","v":628422.60320000001},{"$f":"IFERROR(G19*(1-Оглавление!$D$40),\"по запросу\")","v":628422.60320000001},6269.18,"шт",null,0,0]
[null,"VKDDF020F","Кран шаровой ПВДФ втулочный промышленный FKM D20 (DN15) FIP",10,"Арматура","RUB",{"$f":"IFERROR(I20*Оглавление!$E$23,\"по запросу\")","v":35011.827199999992},{"$f":"IFERROR(G20*(1-Оглавление!$D$40),\"по запросу\")","v":35011.827199999992},349.28,"шт",null,0,0]
[null,"VKDDF025F","Кран шаровой ПВДФ втулочный промышленный FKM D25 (DN20) FIP",10,"Арматура","RUB",{"$f":"IFERROR(I21*Оглавление!$E$23,\"по запросу\")","v":43782.827199999992},{"$f":"IFERROR(G21*(1-Оглавление!$D$40),\"по запросу\")","v":43782.827199999992},436.78,"шт",null,0,0]
[null,"VKDDF032F","Кран шаровой ПВДФ втулочный промышленный FKM D32 (DN25) FIP",10,"Арматура","RUB",{"$f":"IFERROR(I22*Оглавление!$E$23,\"по запросу\")","v":55432.719999999994},{"$f":"IFERROR(G22*(1-Оглавление!$D$40),\"по запросу\")","v":55432.719999999994},553,"шт",null,0,0]
[null,"VKDDF040F","Кран шаровой ПВДФ втулочный промышленный FKM D40 (DN32) FIP",10,"Арматура","RUB",{"$f":"IFERROR(I23*Оглавление!$E$23,\"по запросу\")","v":70011.625599999999},{"$f":"IFERROR(G23*(1-Оглавление!$D$40),\"по запросу\")","v":70011.625599999999},698.44,"шт",null,0,0]
[null,"VKDDF050F","Кран шаровой ПВДФ втулочный промышленный FKM D50 (DN40) FIP",10,"Арматура","RUB",{"$f":"IFERROR(I24*Оглавление!$E$23,\"по запросу\")","v":102110.47839999999},{"$f":"IFERROR(G24*(1-Оглавление!$D$40),\"по запросу\")","v":102110.47839999999},1018.66,"шт",null,0,0]
[null,"VKDDF063F","Кран шаровой ПВДФ втулочный промышленный FKM D63 (DN50) FIP",10,"Арматура","RUB",{"$f":"IFERROR(I25*Оглавление!$E$23,\"по запросу\")","v":151691.18719999999},{"$f":"IFERROR(G25*(1-Оглавление!$D$40),\"по запросу\")","v":151691.18719999999},1513.28,"шт",null,0,0]
[null,"VKDOF020F","Кран шаровой ПВДФ фланцевый промышленный FKM 20 FIP",10,"Арматура","RUB",{"$f":"IFERROR(I26*Оглавление!$E$23,\"по запросу\")","v":65516.864000000001},{"$f":"IFERROR(G26*(1-Оглавление!$D$40),\"по запросу\")","v":65516.864000000001},653.6,"шт",null,0,0]
[null,"VKDOF025F","Кран шаровой ПВДФ фланцевый промышленный FKM 25 FIP",10,"Арматура","RUB",{"$f":"IFERROR(I27*Оглавление!$E$23,\"по запросу\")","v":79351.988799999992},{"$f":"IFERROR(G27*(1-Оглавление!$D$40),\"по запросу\")","v":79351.988799999992},791.62,"шт",null,0,0]
[null,"VKDOF032F","Кран шаровой ПВДФ фланцевый промышленный FKM 32 FIP",10,"Арматура","RUB",{"$f":"IFERROR(I28*Оглавление!$E$23,\"по запросу\")","v":102475.35199999998},{"$f":"IFERROR(G28*(1-Оглавление!$D$40),\"по запросу\")","v":102475.35199999998},1022.3,"шт",null,0,0]
[null,"VKDOF040F","Кран шаровой ПВДФ фланцевый промышленный FKM 40 FIP",10,"Арматура","RUB",{"$f":"IFERROR(I29*Оглавление!$E$23,\"по запросу\")","v":125737.04639999998},{"$f":"IFERROR(G29*(1-Оглавление!$D$40),\"по запросу\")","v":125737.04639999998},1254.3599999999999,"шт",null,0,0]
[null,"VKDOF050F","Кран шаровой ПВДФ фланцевый промышленный FKM 50 FIP",10,"Арматура","RUB",{"$f":"IFERROR(I30*Оглавление!$E$23,\"по запросу\")","v":181097.59359999999},{"$f":"IFERROR(G30*(1-Оглавление!$D$40),\"по запросу\")","v":181097.59359999999},1806.64,"шт",null,0,0]
[null,"VKDOF063F","Кран шаровой ПВДФ фланцевый промышленный FKM 63 FIP",10,"Арматура","RUB",{"$f":"IFERROR(I31*Оглавление!$E$23,\"по запросу\")","v":244565.552},{"$f":"IFERROR(G31*(1-Оглавление!$D$40),\"по запросу\")","v":244565.552},2439.8000000000002,"шт",null,0,0]
[null,"VKDOF075F","Кран шаровой ПВДФ фланцевый промышленный FKM 75 FIP",10,"Арматура","RUB",{"$f":"IFERROR(I32*Оглавление!$E$23,\"по запросу\")","v":445037.53279999999},{"$f":"IFERROR(G32*(1-Оглавление!$D$40),\"по запросу\")","v":445037.53279999999},4439.72,"шт",null,0,0]
[null,"VKDOF090F","Кран шаровой ПВДФ фланцевый промышленный FKM 90 FIP",10,"Арматура","RUB",{"$f":"IFERROR(I33*Оглавление!$E$23,\"по запросу\")","v":560516.0175999999},{"$f":"IFERROR(G33*(1-Оглавление!$D$40),\"по запросу\")","v":560516.0175999999},5591.74,"шт",null,0,0]
[null,"VKDOF110F","Кран шаровой ПВДФ фланцевый промышленный FKM 110 FIP",10,"Арматура","RUB",{"$f":"IFERROR(I34*Оглавление!$E$23,\"по запросу\")","v":816960.00959999999},{"$f":"IFERROR(G34*(1-Оглавление!$D$40),\"по запросу\")","v":816960.00959999999},8150.04,"шт",null,0,0]
[null,"FKOFLM050F","Затвор дисковый ПВДФ с рукояткой FKM D50 (DN40) FIP",10,"Арматура","RUB",{"$f":"IFERROR(I35*Оглавление!$E$23,\"по запросу\")","v":88004.705600000001},{"$f":"IFERROR(G35*(1-Оглавление!$D$40),\"по запросу\")","v":88004.705600000001},877.94,"шт",null,{"$f":"IFERROR(K35*G35,\"0 ₽\")","v":0},{"$f":"IFERROR(K35*H35,\"0 ₽\")","v":0}]
[null,"FKOFLM063F","Затвор дисковый ПВДФ с рукояткой FKM D63 (DN50) FIP",10,"Арматура","RUB",{"$f":"IFERROR(I36*Оглавление!$E$23,\"по запросу\")","v":93191.123199999987},{"$f":"IFERROR(G36*(1-Оглавление!$D$40),\"по запросу\")","v":93191.123199999987},929.68,"шт",null,0,0]
[null,"FKOFLM075F","Затвор дисковый ПВДФ с рукояткой FKM D75 (DN65) FIP",10,"Арматура","RUB",{"$f":"IFERROR(I37*Оглавление!$E$23,\"по запросу\")","v":103533.88639999999},{"$f":"IFERROR(G37*(1-Оглавление!$D$40),\"по запросу\")","v":103533.88639999999},1032.8599999999999,"шт",null,0,0]
[null,"FKOFLM090F","Затвор дисковый ПВДФ с рукояткой FKM D90 (DN80) FIP",10,"Арматура","RUB",{"$f":"IFERROR(I38*Оглавление!$E$23,\"по запросу\")","v":107818.14399999999},{"$f":"IFERROR(G38*(1-Оглавление!$D$40),\"по запросу\")","v":107818.14399999999},1075.5999999999999,"шт",null,0,0]
[null,"FKOFLM110F","Затвор дисковый ПВДФ с рукояткой FKM D110 (DN90) FIP",10,"Арматура","RUB",{"$f":"IFERROR(I39*Оглавление!$E$23,\"по запросу\")","v":114542.2432},{"$f":"IFERROR(G39*(1-Оглавление!$D$40),\"по запросу\")","v":114542.2432},1142.68,"шт",null,0,0]
[null,"FKOFLM140F","Затвор дисковый ПВДФ с рукояткой FKM D140 (DN125) FIP",10,"Арматура","RUB",{"$f":"IFERROR(I40*Оглавление!$E$23,\"по запросу\")","v":152242.50719999999},{"$f":"IFERROR(G40*(1-Оглавление!$D$40),\"по запросу\")","v":152242.50719999999},1518.78,"шт",null,0,0]
[null,"FKOFLM160F","Затвор дисковый ПВДФ с рукояткой FKM D160 (DN150) FIP",10,"Арматура","RUB",{"$f":"IFERROR(I41*Оглавление!$E$23,\"по запросу\")","v":156526.7648},{"$f":"IFERROR(G41*(1-Оглавление!$D$40),\"по запросу\")","v":156526.7648},1561.52,"шт",null,0,0]
[null,"FKOFLM225F","Затвор дисковый ПВДФ с рукояткой FKM D225 (DN200) FIP",10,"Арматура","RUB",{"$f":"IFERROR(I42*Оглавление!$E$23,\"по запросу\")","v":202986},{"$f":"IFERROR(G42*(1-Оглавление!$D$40),\"по запросу\")","v":202986},2025,"шт",null,0,0]
[null,"FKOFRM075F","Затвор дисковый ПВДФ с редуктором FKM D75 (DN65) FIP",10,"Арматура","RUB",{"$f":"IFERROR(I43*Оглавление!$E$23,\"по запросу\")","v":185464.04799999998},{"$f":"IFERROR(G43*(1-Оглавление!$D$40),\"по запросу\")","v":185464.04799999998},1850.2,"шт",null,0,0]
[null,"FKOFRM090F","Затвор дисковый ПВДФ с редуктором FKM D90 (DN80) FIP",10,"Арматура","RUB",{"$f":"IFERROR(I44*Оглавление!$E$23,\"по запросу\")","v":189748.30559999999},{"$f":"IFERROR(G44*(1-Оглавление!$D$40),\"по запросу\")","v":189748.30559999999},1892.94,"шт",null,0,0]
[null,"FKOFRM110F","Затвор дисковый ПВДФ с редуктором FKM D110 (DN90) FIP",10,"Арматура","RUB",{"$f":"IFERROR(I45*Оглавление!$E$23,\"по запросу\")","v":196668.87519999998},{"$f":"IFERROR(G45*(1-Оглавление!$D$40),\"по запросу\")","v":196668.87519999998},1961.98,"шт",null,0,0]
[null,"FKOFRM140F","Затвор дисковый ПВДФ с редуктором FKM D140 (DN125) FIP",10,"Арматура","RUB",{"$f":"IFERROR(I46*Оглавление!$E$23,\"по запросу\")","v":234174.67359999998},{"$f":"IFERROR(G46*(1-Оглавление!$D$40),\"по запросу\")","v":234174.67359999998},2336.14,"шт",null,0,0]
[null,"FKOFRM160F","Затвор дисковый ПВДФ с редуктором FKM D160 (DN150) FIP",10,"Арматура","RUB",{"$f":"IFERROR(I47*Оглавление!$E$23,\"по запросу\")","v":238450.91200000001},{"$f":"IFERROR(G47*(1-Оглавление!$D$40),\"по запросу\")","v":238450.91200000001},2378.8000000000002,"шт",null,0,0]
[null,"FKOFRM225F","Затвор дисковый ПВДФ с редуктором FKM D225 (DN200) FIP",10,"Арматура","RUB",{"$f":"IFERROR(I48*Оглавление!$E$23,\"по запросу\")","v":303666.03847777174},{"$f":"IFERROR(G48*(1-Оглавление!$D$40),\"по запросу\")","v":303666.03847777174},3029.3898491397822,"шт",null,0,0]
[null,"FKOFRM280F","Затвор дисковый ПВДФ с редуктором FKM D280 (DN250) FIP",10,"Арматура","RUB",{"$f":"IFERROR(I49*Оглавление!$E$23,\"по запросу\")","v":895810.37664191448},{"$f":"IFERROR(G49*(1-Оглавление!$D$40),\"по запросу\")","v":895810.37664191448},8936.6557925171037,"шт",null,0,0]
[null,"FKOFRM315F","Затвор дисковый ПВДФ с редуктором FKM D315 (DN300) FIP",8,"Арматура","RUB",{"$f":"IFERROR(I50*Оглавление!$E$23,\"по запросу\")","v":970708.12159999995},{"$f":"IFERROR(G50*(1-Оглавление!$D$40),\"по запросу\")","v":970708.12159999995},9683.84,"шт",null,0,0]
[null,"FKOFRM355F","Затвор дисковый ПВДФ с редуктором FKM 10\" (DN350) FIP",10,"Арматура","RUB",{"$f":"IFERROR(I51*Оглавление!$E$23,\"по запросу\")","v":1910941.2784},{"$f":"IFERROR(G51*(1-Оглавление!$D$40),\"по запросу\")","v":1910941.2784},19063.66,"шт",null,0,0]
[null,"FKOFRM400F","Затвор дисковый ПВДФ с редуктором FKM D12\" (DN400) FIP",8,"Арматура","RUB",{"$f":"IFERROR(I52*Оглавление!$E$23,\"по запросу\")","v":2307570.9103999999},{"$f":"IFERROR(G52*(1-Оглавление!$D$40),\"по запросу\")","v":2307570.9103999999},23020.46,"шт",null,0,0]
[null,"FKOFFM050F","Затвор дисковый ПВДФ под привод промышленный 50 (DN40) FKM FIP",10,"Арматура","RUB",{"$f":"IFERROR(I53*Оглавление!$E$23,\"по запросу\")","v":78654.318399999989},{"$f":"IFERROR(G53*(1-Оглавление!$D$40),\"по запросу\")","v":78654.318399999989},784.66,"шт",null,0,0]
[null,"FKOFFM063F","Затвор дисковый ПВДФ под привод промышленный 63 (DN50) FKM FIP",10,"Арматура","RUB",{"$f":"IFERROR(I54*Оглавление!$E$23,\"по запросу\")","v":83279.391999999993},{"$f":"IFERROR(G54*(1-Оглавление!$D$40),\"по запросу\")","v":83279.391999999993},830.8,"шт",null,0,0]
[null,"FKOFFM075F","Затвор дисковый ПВДФ под привод промышленный 75 (DN65) FKM FIP",10,"Арматура","RUB",{"$f":"IFERROR(I55*Оглавление!$E$23,\"по запросу\")","v":92533.54879999999},{"$f":"IFERROR(G55*(1-Оглавление!$D$40),\"по запросу\")","v":92533.54879999999},923.12,"шт",null,0,0]
[null,"FKOFFM090F","Затвор дисковый ПВДФ под привод промышленный 90 (DN80) FKM FIP",10,"Арматура","RUB",{"$f":"IFERROR(I56*Оглавление!$E$23,\"по запросу\")","v":99281.705600000001},{"$f":"IFERROR(G56*(1-Оглавление!$D$40),\"по запросу\")","v":99281.705600000001},990.44,"шт",null,0,0]
[null,"FKOFFM110F","Затвор дисковый ПВДФ под привод промышленный 110 (DN100) FKM FIP",10,"Арматура","RUB",{"$f":"IFERROR(I57*Оглавление!$E$23,\"по запросу\")","v":103736.37120000001},{"$f":"IFERROR(G57*(1-Оглавление!$D$40),\"по запросу\")","v":103736.37120000001},1034.8800000000001,"шт",null,0,0]
[null,"FKOFFM140F","Затвор дисковый ПВДФ под привод промышленный 140 (DN125) FKM FIP",10,"Арматура","RUB",{"$f":"IFERROR(I58*Оглавление!$E$23,\"по запросу\")","v":137771.86079999999},{"$f":"IFERROR(G58*(1-Оглавление!$D$40),\"по запросу\")","v":137771.86079999999},1374.42,"шт",null,0,0]
[null,"FKOFFM160F","Затвор дисковый ПВДФ под привод промышленный 160 (DN150) FKM FIP",10,"Арматура","RUB",{"$f":"IFERROR(I59*Оглавление!$E$23,\"по запросу\")","v":147364.82879999999},{"$f":"IFERROR(G59*(1-Оглавление!$D$40),\"по запросу\")","v":147364.82879999999},1470.12,"шт",null,0,0]
[null,"FKOFFM225F","Затвор дисковый ПВДФ под привод промышленный 225 (DN200) FKM FIP",10,"Арматура","RUB",{"$f":"IFERROR(I60*Оглавление!$E$23,\"по запросу\")","v":191173.71840000001},{"$f":"IFERROR(G60*(1-Оглавление!$D$40),\"по запросу\")","v":191173.71840000001},1907.16,"шт",null,0,0]
[null,"FKOFFM280F","Затвор дисковый ПВДФ под привод промышленный 280 (DN250) FKM FIP",10,"Арматура","RUB",{"$f":"IFERROR(I61*Оглавление!$E$23,\"по запросу\")","v":827789.93919999991},{"$f":"IFERROR(G61*(1-Оглавление!$D$40),\"по запросу\")","v":827789.93919999991},8258.08,"шт",null,0,0]
[null,"FKOFFM315F","Затвор дисковый ПВДФ под привод промышленный 315 (DN300) FKM FIP",8,"Арматура","RUB",{"$f":"IFERROR(I62*Оглавление!$E$23,\"по запросу\")","v":902695.28159999999},{"$f":"IFERROR(G62*(1-Оглавление!$D$40),\"по запросу\")","v":902695.28159999999},9005.34,"шт",null,0,0]
[null,"DKUIF020E","Мембранный клапан ПВДФ с разборными муфтовыми окончаниями EPDM D20 (DN15) FIP",10,"Арматура","RUB",{"$f":"IFERROR(I63*Оглавление!$E$23,\"по запросу\")","v":41326.947199999995},{"$f":"IFERROR(G63*(1-Оглавление!$D$40),\"по запросу\")","v":41326.947199999995},412.28,"шт",null,{"$f":"IFERROR(K63*G63,\"0 ₽\")","v":0},{"$f":"IFERROR(K63*H63,\"0 ₽\")","v":0}]
[null,"DKUIF025E","Мембранный клапан ПВДФ с разборными муфтовыми окончаниями EPDM D25 (DN20) FIP",10,"Арматура","RUB",{"$f":"IFERROR(I64*Оглавление!$E$23,\"по запросу\")","v":43636.476799999997},{"$f":"IFERROR(G64*(1-Оглавление!$D$40),\"по запросу\")","v":43636.476799999997},435.32,"шт",null,0,0]
[null,"DKUIF032E","Мембранный клапан ПВДФ с разборными муфтовыми окончаниями EPDM D32 (DN25) FIP",10,"Арматура","RUB",{"$f":"IFERROR(I65*Оглавление!$E$23,\"по запросу\")","v":52002.507199999993},{"$f":"IFERROR(G65*(1-Оглавление!$D$40),\"по запросу\")","v":52002.507199999993},518.78,"шт",null,0,0]
[null,"DKUIF040E","Мембранный клапан ПВДФ с разборными муфтовыми окончаниями EPDM D40 (DN32) FIP",10,"Арматура","RUB",{"$f":"IFERROR(I66*Оглавление!$E$23,\"по запросу\")","v":82900.965015251335},{"$f":"IFERROR(G66*(1-Оглавление!$D$40),\"по запросу\")","v":82900.965015251335},827.02479065494151,"шт",null,0,0]
[null,"DKUIF050E","Мембранный клапан ПВДФ с разборными муфтовыми окончаниями EPDM D50 (DN40) FIP",10,"Арматура","RUB",{"$f":"IFERROR(I67*Оглавление!$E$23,\"по запросу\")","v":96210.439885969288},{"$f":"IFERROR(G67*(1-Оглавление!$D$40),\"по запросу\")","v":96210.439885969288},959.80087675547975,"шт",null,0,0]
[null,"DKUIF063E","Мембранный клапан ПВДФ с разборными муфтовыми окончаниями EPDM D63 (DN50) FIP",10,"Арматура","RUB",{"$f":"IFERROR(I68*Оглавление!$E$23,\"по запросу\")","v":124515.25644436276},{"$f":"IFERROR(G68*(1-Оглавление!$D$40),\"по запросу\")","v":124515.25644436276},1242.1713531959574,"шт",null,0,0]
[null,"DKUIF020F","Мембранный клапан ПВДФ с разборными муфтовыми окончаниями FKM D20 (DN15) FIP",10,"Арматура","RUB",{"$f":"IFERROR(I69*Оглавление!$E$23,\"по запросу\")","v":52579.889599999995},{"$f":"IFERROR(G69*(1-Оглавление!$D$40),\"по запросу\")","v":52579.889599999995},524.54,"шт",null,0,0]
[null,"DKUIF025F","Мембранный клапан ПВДФ с разборными муфтовыми окончаниями FKM D25 (DN20) FIP",10,"Арматура","RUB",{"$f":"IFERROR(I70*Оглавление!$E$23,\"по запросу\")","v":55480.835200000001},{"$f":"IFERROR(G70*(1-Оглавление!$D$40),\"по запросу\")","v":55480.835200000001},553.48,"шт",null,0,0]
[null,"DKUIF032F","Мембранный клапан ПВДФ с разборными муфтовыми окончаниями FKM D32 (DN25) FIP",10,"Арматура","RUB",{"$f":"IFERROR(I71*Оглавление!$E$23,\"по запросу\")","v":63564.188799999996},{"$f":"IFERROR(G71*(1-Оглавление!$D$40),\"по запросу\")","v":63564.188799999996},634.12,"шт",null,0,0]
[null,"DKUIF040F","Мембранный клапан ПВДФ с разборными муфтовыми окончаниями FKM D40 (DN32) FIP",10,"Арматура","RUB",{"$f":"IFERROR(I72*Оглавление!$E$23,\"по запросу\")","v":101980.1664},{"$f":"IFERROR(G72*(1-Оглавление!$D$40),\"по запросу\")","v":101980.1664},1017.36,"шт",null,0,0]
[null,"DKUIF050F","Мембранный клапан ПВДФ с разборными муфтовыми окончаниями FKM D50 (DN40) FIP",10,"Арматура","RUB",{"$f":"IFERROR(I73*Оглавление!$E$23,\"по запросу\")","v":115282.01439999999},{"$f":"IFERROR(G73*(1-Оглавление!$D$40),\"по запросу\")","v":115282.01439999999},1150.06,"шт",null,0,0]
[null,"DKUIF063F","Мембранный клапан ПВДФ с разборными муфтовыми окончаниями FKM D63 (DN50) FIP",10,"Арматура","RUB",{"$f":"IFERROR(I74*Оглавление!$E$23,\"по запросу\")","v":156576.8848},{"$f":"IFERROR(G74*(1-Оглавление!$D$40),\"по запросу\")","v":156576.8848},1562.02,"шт",null,0,0]
[null,"DKUIF020P","Мембранный клапан ПВДФ с разборными муфтовыми окончаниями PTFE D20 (DN15) FIP",10,"Арматура","RUB",{"$f":"IFERROR(I75*Оглавление!$E$23,\"по запросу\")","v":57497.663999999997},{"$f":"IFERROR(G75*(1-Оглавление!$D$40),\"по запросу\")","v":57497.663999999997},573.6,"шт",null,0,0]
[null,"DKUIF025P","Мембранный клапан ПВДФ с разборными муфтовыми окончаниями PTFE D25 (DN20) FIP",10,"Арматура","RUB",{"$f":"IFERROR(I76*Оглавление!$E$23,\"по запросу\")","v":60093.88},{"$f":"IFERROR(G76*(1-Оглавление!$D$40),\"по запросу\")","v":60093.88},599.5,"шт",null,0,0]
[null,"DKUIF032P","Мембранный клапан ПВДФ с разборными муфтовыми окончаниями PTFE D32 (DN25) FIP",10,"Арматура","RUB",{"$f":"IFERROR(I77*Оглавление!$E$23,\"по запросу\")","v":67890.547200000001},{"$f":"IFERROR(G77*(1-Оглавление!$D$40),\"по запросу\")","v":67890.547200000001},677.28,"шт",null,0,0]
[null,"DKUIF040P","Мембранный клапан ПВДФ с разборными муфтовыми окончаниями PTFE D40 (DN32) FIP",10,"Арматура","RUB",{"$f":"IFERROR(I78*Оглавление!$E$23,\"по запросу\")","v":107467.30399999999},{"$f":"IFERROR(G78*(1-Оглавление!$D$40),\"по запросу\")","v":107467.30399999999},1072.0999999999999,"шт",null,0,0]
[null,"DKUIF050P","Мембранный клапан ПВДФ с разборными муфтовыми окончаниями PTFE D50 (DN40) FIP",10,"Арматура","RUB",{"$f":"IFERROR(I79*Оглавление!$E$23,\"по запросу\")","v":120764.71467951174},{"$f":"IFERROR(G79*(1-Оглавление!$D$40),\"по запросу\")","v":120764.71467951174},1204.7557330358316,"шт",null,0,0]
[null,"DKUIF063P","Мембранный клапан ПВДФ с разборными муфтовыми окончаниями PTFE D63 (DN50) FIP",10,"Арматура","RUB",{"$f":"IFERROR(I80*Оглавление!$E$23,\"по запросу\")","v":155724.84479999999},{"$f":"IFERROR(G80*(1-Оглавление!$D$40),\"по запросу\")","v":155724.84479999999},1553.52,"шт",null,0,0]
[null,"DKDF020E","Мембранный клапан ПВДФ с втулочными окончаниями EPDM D20 (DN15) FIP",10,"Арматура","RUB",{"$f":"IFERROR(I81*Оглавление!$E$23,\"по запросу\")","v":30635.3488},{"$f":"IFERROR(G81*(1-Оглавление!$D$40),\"по запросу\")","v":30635.3488},305.62,"шт",null,0,0]
[null,"DKDF025E","Мембранный клапан ПВДФ с втулочными окончаниями EPDM D25 (DN20) FIP",10,"Арматура","RUB",{"$f":"IFERROR(I82*Оглавление!$E$23,\"по запросу\")","v":31789.168825830162},{"$f":"IFERROR(G82*(1-Оглавление!$D$40),\"по запросу\")","v":31789.168825830162},317.13057487859299,"шт",null,0,0]
[null,"DKDF032E","Мембранный клапан ПВДФ с втулочными окончаниями EPDM D32 (DN25) FIP",10,"Арматура","RUB",{"$f":"IFERROR(I83*Оглавление!$E$23,\"по запросу\")","v":36682.960355217219},{"$f":"IFERROR(G83*(1-Оглавление!$D$40),\"по запросу\")","v":36682.960355217219},365.95132038325238,"шт",null,0,0]
[null,"DKDF040E","Мембранный клапан ПВДФ с втулочными окончаниями EPDM D40 (DN32) FIP",10,"Арматура","RUB",{"$f":"IFERROR(I84*Оглавление!$E$23,\"по запросу\")","v":59800.494399894997},{"$f":"IFERROR(G84*(1-Оглавление!$D$40),\"по запросу\")","v":59800.494399894997},596.57316839480245,"шт",null,0,0]
[null,"DKDF050E","Мембранный клапан ПВДФ с втулочными окончаниями EPDM D50 (DN40) FIP",10,"Арматура","RUB",{"$f":"IFERROR(I85*Оглавление!$E$23,\"по запросу\")","v":68769.032851240321},{"$f":"IFERROR(G85*(1-Оглавление!$D$40),\"по запросу\")","v":68769.032851240321},686.04382333639592,"шт",null,0,0]
[null,"DKDF063E","Мембранный клапан ПВДФ с втулочными окончаниями EPDM D63 (DN50) FIP",10,"Арматура","RUB",{"$f":"IFERROR(I86*Оглавление!$E$23,\"по запросу\")","v":86956.195200000002},{"$f":"IFERROR(G86*(1-Оглавление!$D$40),\"по запросу\")","v":86956.195200000002},867.48,"шт",null,0,0]
[null,"DKDF075E","Мембранный клапан ПВДФ с втулочными окончаниями EPDM D75 (DN65) FIP",10,"Арматура","RUB",{"$f":"IFERROR(I87*Оглавление!$E$23,\"по запросу\")","v":104345.83039999999},{"$f":"IFERROR(G87*(1-Оглавление!$D$40),\"по запросу\")","v":104345.83039999999},1040.96,"шт",null,0,0]
[null,"DKDF020F","Мембранный клапан ПВДФ с втулочными окончаниями FKM D20 (DN15) FIP",10,"Арматура","RUB",{"$f":"IFERROR(I88*Оглавление!$E$23,\"по запросу\")","v":41904.369727575795},{"$f":"IFERROR(G88*(1-Оглавление!$D$40),\"по запросу\")","v":41904.369727575795},418.04040031500199,"шт",null,0,0]
[null,"DKDF025F","Мембранный клапан ПВДФ с втулочными окончаниями FKM D25 (DN20) FIP",10,"Арматура","RUB",{"$f":"IFERROR(I89*Оглавление!$E$23,\"по запросу\")","v":43631.18877490484},{"$f":"IFERROR(G89*(1-Оглавление!$D$40),\"по запросу\")","v":43631.18877490484},435.2672463577897,"шт",null,0,0]
[null,"DKDF032F","Мембранный клапан ПВДФ с втулочными окончаниями FKM D32 (DN25) FIP",10,"Арматура","RUB",{"$f":"IFERROR(I90*Оглавление!$E$23,\"по запросу\")","v":48245.511999999995},{"$f":"IFERROR(G90*(1-Оглавление!$D$40),\"по запросу\")","v":48245.511999999995},481.3,"шт",null,0,0]
[null,"DKDF040F","Мембранный клапан ПВДФ с втулочными окончаниями FKM D40 (DN32) FIP",10,"Арматура","RUB",{"$f":"IFERROR(I91*Оглавление!$E$23,\"по запросу\")","v":78853.519580207372},{"$f":"IFERROR(G91*(1-Оглавление!$D$40),\"по запросу\")","v":78853.519580207372},786.64724242026512,"шт",null,0,0]
[null,"DKDF050F","Мембранный клапан ПВДФ с втулочными окончаниями FKM D50 (DN40) FIP",10,"Арматура","RUB",{"$f":"IFERROR(I92*Оглавление!$E$23,\"по запросу\")","v":88118.979200000002},{"$f":"IFERROR(G92*(1-Оглавление!$D$40),\"по запросу\")","v":88118.979200000002},879.08,"шт",null,0,0]
[null,"DKDF063F","Мембранный клапан ПВДФ с втулочными окончаниями FKM D63 (DN50) FIP",10,"Арматура","RUB",{"$f":"IFERROR(I93*Оглавление!$E$23,\"по запросу\")","v":119030.9904},{"$f":"IFERROR(G93*(1-Оглавление!$D$40),\"по запросу\")","v":119030.9904},1187.46,"шт",null,0,0]
[null,"DKDF075F","Мембранный клапан ПВДФ с втулочными окончаниями FKM D75 (DN65) FIP",10,"Арматура","RUB",{"$f":"IFERROR(I94*Оглавление!$E$23,\"по запросу\")","v":142835.98559999999},{"$f":"IFERROR(G94*(1-Оглавление!$D$40),\"по запросу\")","v":142835.98559999999},1424.94,"шт",null,0,0]
[null,"DKDF020P","Мембранный клапан ПВДФ с втулочными окончаниями PTFE D20 (DN15) FIP",10,"Арматура","RUB",{"$f":"IFERROR(I95*Оглавление!$E$23,\"по запросу\")","v":46790.027199999997},{"$f":"IFERROR(G95*(1-Оглавление!$D$40),\"по запросу\")","v":46790.027199999997},466.78,"шт",null,0,0]
[null,"DKDF025P","Мембранный клапан ПВДФ с втулочными окончаниями PTFE D25 (DN20) FIP",10,"Арматура","RUB",{"$f":"IFERROR(I96*Оглавление!$E$23,\"по запросу\")","v":48245.140063420396},{"$f":"IFERROR(G96*(1-Оглавление!$D$40),\"по запросу\")","v":48245.140063420396},481.29628953930961,"шт",null,0,0]
[null,"DKDF032P","Мембранный клапан ПВДФ с втулочными окончаниями PTFE D32 (DN25) FIP",10,"Арматура","RUB",{"$f":"IFERROR(I97*Оглавление!$E$23,\"по запросу\")","v":52579.251111064441},{"$f":"IFERROR(G97*(1-Оглавление!$D$40),\"по запросу\")","v":52579.251111064441},524.53363039768999,"шт",null,0,0]
[null,"DKDF040P","Мембранный клапан ПВДФ с втулочными окончаниями PTFE D40 (DN32) FIP",10,"Арматура","RUB",{"$f":"IFERROR(I98*Оглавление!$E$23,\"по запросу\")","v":84370.003199999992},{"$f":"IFERROR(G98*(1-Оглавление!$D$40),\"по запросу\")","v":84370.003199999992},841.68,"шт",null,0,0]
[null,"DKDF050P","Мембранный клапан ПВДФ с втулочными окончаниями PTFE D50 (DN40) FIP",10,"Арматура","RUB",{"$f":"IFERROR(I99*Оглавление!$E$23,\"по запросу\")","v":93622.155199999994},{"$f":"IFERROR(G99*(1-Оглавление!$D$40),\"по запросу\")","v":93622.155199999994},933.98,"шт",null,0,0]
[null,"DKDF063P","Мембранный клапан ПВДФ с втулочными окончаниями PTFE D63 (DN50) FIP",10,"Арматура","RUB",{"$f":"IFERROR(I100*Оглавление!$E$23,\"по запросу\")","v":118143.77193573958},{"$f":"IFERROR(G100*(1-Оглавление!$D$40),\"по запросу\")","v":118143.77193573958},1178.60905761911,"шт",null,0,0]
[null,"DKDF075P","Мембранный клапан ПВДФ с втулочными окончаниями PTFE D75 (DN65) FIP",10,"Арматура","RUB",{"$f":"IFERROR(I101*Оглавление!$E$23,\"по запросу\")","v":141773.20886006037},{"$f":"IFERROR(G101*(1-Оглавление!$D$40),\"по запросу\")","v":141773.20886006037},1414.3376781729887,"шт",null,0,0]
[null,"DKOF020E","Мембранный клапан ПВДФ с фланцевыми окончаниями EPDM D20 (DN15) FIP",10,"Арматура","RUB",{"$f":"IFERROR(I102*Оглавление!$E$23,\"по запросу\")","v":55391.304263236634},{"$f":"IFERROR(G102*(1-Оглавление!$D$40),\"по запросу\")","v":55391.304263236634},552.58683423021387,"шт",null,0,0]
[null,"DKOF025E","Мембранный клапан ПВДФ с фланцевыми окончаниями EPDM D25 (DN20) FIP",10,"Арматура","RUB",{"$f":"IFERROR(I103*Оглавление!$E$23,\"по запросу\")","v":57612.962760887254},{"$f":"IFERROR(G103*(1-Оглавление!$D$40),\"по запросу\")","v":57612.962760887254},574.75022706391917,"шт",null,0,0]
[null,"DKOF032E","Мембранный клапан ПВДФ с фланцевыми окончаниями EPDM D32 (DN25) FIP",10,"Арматура","RUB",{"$f":"IFERROR(I104*Оглавление!$E$23,\"по запросу\")","v":63731.908515553216},{"$f":"IFERROR(G104*(1-Оглавление!$D$40),\"по запросу\")","v":63731.908515553216},635.79318151988446,"шт",null,0,0]
[null,"DKOF040E","Мембранный клапан ПВДФ с фланцевыми окончаниями EPDM D40 (DN32) FIP",10,"Арматура","RUB",{"$f":"IFERROR(I105*Оглавление!$E$23,\"по запросу\")","v":100100.90177125606},{"$f":"IFERROR(G105*(1-Оглавление!$D$40),\"по запросу\")","v":100100.90177125606},998.6123480771754,"шт",null,0,0]
[null,"DKOF050E","Мембранный клапан ПВДФ с фланцевыми окончаниями EPDM D50 (DN40) FIP",10,"Арматура","RUB",{"$f":"IFERROR(I106*Оглавление!$E$23,\"по запросу\")","v":110713.07519999999},{"$f":"IFERROR(G106*(1-Оглавление!$D$40),\"по запросу\")","v":110713.07519999999},1104.48,"шт",null,0,0]
[null,"DKOF063E","Мембранный клапан ПВДФ с фланцевыми окончаниями EPDM D63 (DN50) FIP",10,"Арматура","RUB",{"$f":"IFERROR(I107*Оглавление!$E$23,\"по запросу\")","v":144243.35519999999},{"$f":"IFERROR(G107*(1-Оглавление!$D$40),\"по запросу\")","v":144243.35519999999},1438.98,"шт",null,0,0]
[null,"DKOF075E","Мембранный клапан ПВДФ с фланцевыми окончаниями EPDM D75 (DN65) FIP",10,"Арматура","RUB",{"$f":"IFERROR(I108*Оглавление!$E$23,\"по запросу\")","v":187512.95360000001},{"$f":"IFERROR(G108*(1-Оглавление!$D$40),\"по запросу\")","v":187512.95360000001},1870.64,"шт",null,0,0]
[null,"DKOF020F","Мембранный клапан ПВДФ с фланцевыми окончаниями FKM D20 (DN15) FIP",10,"Арматура","RUB",{"$f":"IFERROR(I109*Оглавление!$E$23,\"по запросу\")","v":66653.585600000006},{"$f":"IFERROR(G109*(1-Оглавление!$D$40),\"по запросу\")","v":66653.585600000006},664.94,"шт",null,0,0]
[null,"DKOF025F","Мембранный клапан ПВДФ с фланцевыми окончаниями FKM D25 (DN20) FIP",10,"Арматура","RUB",{"$f":"IFERROR(I110*Оглавление!$E$23,\"по запросу\")","v":69458.300799999997},{"$f":"IFERROR(G110*(1-Оглавление!$D$40),\"по запросу\")","v":69458.300799999997},692.92,"шт",null,0,0]
[null,"DKOF032F","Мембранный клапан ПВДФ с фланцевыми окончаниями FKM D32 (DN25) FIP",10,"Арматура","RUB",{"$f":"IFERROR(I111*Оглавление!$E$23,\"по запросу\")","v":75277.024794434968},{"$f":"IFERROR(G111*(1-Оглавление!$D$40),\"по запросу\")","v":75277.024794434968},750.96792492453085,"шт",null,0,0]
[null,"DKOF040F","Мембранный клапан ПВДФ с фланцевыми окончаниями FKM D40 (DN32) FIP",10,"Арматура","RUB",{"$f":"IFERROR(I112*Оглавление!$E$23,\"по запросу\")","v":119177.34080000001},{"$f":"IFERROR(G112*(1-Оглавление!$D$40),\"по запросу\")","v":119177.34080000001},1188.92,"шт",null,0,0]
[null,"DKOF050F","Мембранный клапан ПВДФ с фланцевыми окончаниями FKM D50 (DN40) FIP",10,"Арматура","RUB",{"$f":"IFERROR(I113*Оглавление!$E$23,\"по запросу\")","v":130063.40479999999},{"$f":"IFERROR(G113*(1-Оглавление!$D$40),\"по запросу\")","v":130063.40479999999},1297.52,"шт",null,{"$f":"IFERROR(K113*G113,\"0 ₽\")","v":0},{"$f":"IFERROR(K113*H113,\"0 ₽\")","v":0}]
[null,"DKOF063F","Мембранный клапан ПВДФ с фланцевыми окончаниями FKM D63 (DN50) FIP",10,"Арматура","RUB",{"$f":"IFERROR(I114*Оглавление!$E$23,\"по запросу\")","v":176318.15039999998},{"$f":"IFERROR(G114*(1-Оглавление!$D$40),\"по запросу\")","v":176318.15039999998},1758.96,"шт",null,0,0]
[null,"DKOF075F","Мембранный клапан ПВДФ с фланцевыми окончаниями FKM D75 (DN65) FIP",10,"Арматура","RUB",{"$f":"IFERROR(I115*Оглавление!$E$23,\"по запросу\")","v":229204.77439999999},{"$f":"IFERROR(G115*(1-Оглавление!$D$40),\"по запросу\")","v":229204.77439999999},2286.56,"шт",null,0,0]
[null,"DKOF020P","Мембранный клапан ПВДФ с фланцевыми окончаниями PTFE D20 (DN15) FIP",10,"Арматура","RUB",{"$f":"IFERROR(I116*Оглавление!$E$23,\"по запросу\")","v":71547.3024},{"$f":"IFERROR(G116*(1-Оглавление!$D$40),\"по запросу\")","v":71547.3024},713.76,"шт",null,0,0]
[null,"DKOF025P","Мембранный клапан ПВДФ с фланцевыми окончаниями PTFE D25 (DN20) FIP",10,"Арматура","RUB",{"$f":"IFERROR(I117*Оглавление!$E$23,\"по запросу\")","v":74075.355199999991},{"$f":"IFERROR(G117*(1-Оглавление!$D$40),\"по запросу\")","v":74075.355199999991},738.98,"шт",null,0,0]
[null,"DKOF032P","Мембранный клапан ПВДФ с фланцевыми окончаниями PTFE D32 (DN25) FIP",10,"Арматура","RUB",{"$f":"IFERROR(I118*Оглавление!$E$23,\"по запросу\")","v":79614.617599999998},{"$f":"IFERROR(G118*(1-Оглавление!$D$40),\"по запросу\")","v":79614.617599999998},794.24,"шт",null,0,0]
[null,"DKOF040P","Мембранный клапан ПВДФ с фланцевыми окончаниями PTFE D40 (DN32) FIP",10,"Арматура","RUB",{"$f":"IFERROR(I119*Оглавление!$E$23,\"по запросу\")","v":124664.47840000001},{"$f":"IFERROR(G119*(1-Оглавление!$D$40),\"по запросу\")","v":124664.47840000001},1243.6600000000001,"шт",null,0,0]
[null,"DKOF050P","Мембранный клапан ПВДФ с фланцевыми окончаниями PTFE D50 (DN40) FIP",10,"Арматура","RUB",{"$f":"IFERROR(I120*Оглавление!$E$23,\"по запросу\")","v":135550.54240000001},{"$f":"IFERROR(G120*(1-Оглавление!$D$40),\"по запросу\")","v":135550.54240000001},1352.26,"шт",null,0,0]
[null,"DKOF063P","Мембранный клапан ПВДФ с фланцевыми окончаниями PTFE D63 (DN50) FIP",10,"Арматура","RUB",{"$f":"IFERROR(I121*Оглавление!$E$23,\"по запросу\")","v":175435.94222538391},{"$f":"IFERROR(G121*(1-Оглавление!$D$40),\"по запросу\")","v":175435.94222538391},1750.1590405565037,"шт",null,0,0]
[null,"DKOF075P","Мембранный клапан ПВДФ с фланцевыми окончаниями PTFE D75 (DN65) FIP",10,"Арматура","RUB",{"$f":"IFERROR(I122*Оглавление!$E$23,\"по запросу\")","v":228060.03359999997},{"$f":"IFERROR(G122*(1-Оглавление!$D$40),\"по запросу\")","v":228060.03359999997},2275.14,"шт",null,0,0]
[null,"SRIF020F","Обратный клапан ПВДФ с гайкой с одной стороны и муфтовым окончанием FKM D20 FIP",10,"Арматура","RUB",{"$f":"IFERROR(I123*Оглавление!$E$23,\"по запросу\")","v":40164.163199999995},{"$f":"IFERROR(G123*(1-Оглавление!$D$40),\"по запросу\")","v":40164.163199999995},400.68,"шт",null,0,0]
[null,"SRIF025F","Обратный клапан ПВДФ с гайкой с одной стороны и муфтовым окончанием FKM D25 FIP",10,"Арматура","RUB",{"$f":"IFERROR(I124*Оглавление!$E$23,\"по запросу\")","v":49416.315199999997},{"$f":"IFERROR(G124*(1-Оглавление!$D$40),\"по запросу\")","v":49416.315199999997},492.98,"шт",null,0,0]
[null,"SRIF032F","Обратный клапан ПВДФ с гайкой с одной стороны и муфтовым окончанием FKM D32 FIP",10,"Арматура","RUB",{"$f":"IFERROR(I125*Оглавление!$E$23,\"по запросу\")","v":57497.663999999997},{"$f":"IFERROR(G125*(1-Оглавление!$D$40),\"по запросу\")","v":57497.663999999997},573.6,"шт",null,0,0]
[null,"SRIF040F","Обратный клапан ПВДФ с гайкой с одной стороны и муфтовым окончанием FKM D40 FIP",10,"Арматура","RUB",{"$f":"IFERROR(I126*Оглавление!$E$23,\"по запросу\")","v":100542.7248},{"$f":"IFERROR(G126*(1-Оглавление!$D$40),\"по запросу\")","v":100542.7248},1003.02,"шт",null,0,0]
[null,"SRIF050F","Обратный клапан ПВДФ с гайкой с одной стороны и муфтовым окончанием FKM D50 FIP",10,"Арматура","RUB",{"$f":"IFERROR(I127*Оглавление!$E$23,\"по запросу\")","v":108339.39199999999},{"$f":"IFERROR(G127*(1-Оглавление!$D$40),\"по запросу\")","v":108339.39199999999},1080.8,"шт",null,0,0]
[null,"SRIF063F","Обратный клапан ПВДФ с гайкой с одной стороны и муфтовым окончанием FKM D63 FIP",10,"Арматура","RUB",{"$f":"IFERROR(I128*Оглавление!$E$23,\"по запросу\")","v":183154.5184},{"$f":"IFERROR(G128*(1-Оглавление!$D$40),\"по запросу\")","v":183154.5184},1827.16,"шт",null,0,0]

{"sheet":"Ротаметры","index":10,"n_rows":329,"n_cols":14,"rows_kept":329,"cut":false,"hidden":false,"merged":[[20,0,328,0],[9,0,19,0]]}
[null,null,null,null,null,null,null,null,null,null,{"$f":"COUNT(L10:L337)","v":0},"Товаров в заказе"]
[null,null,null,null,null,null,null,null,null,null,{"$f":"SUM(N10:N337)","v":0},"Сумма заказа со скидкой с НДС"]
[]
[]
[]
[]
[]
[]
["Фото","Код","Наименование","Типоразмер","Расход","Бренд","Валюта\nПРОДАЖИ","Цена\nПРОДАЖИ с НДС ","Цена с НДС\nсо скидкой","Цена\nEUR","Ед. измерения","Заказ (метры/штуки)","Сумма рубли","Сумма со скидкой"]
[null,"IFCIV02010100","Ротаметр ПВХ D20 10-100l/h IPS",20,"10-100 л/ч","IPS","RUB",{"$f":"J10*Оглавление!$E$23","v":1629.5063024977997},{"$f":"H10*(1-Оглавление!$D$41)","v":1629.5063024977997},16.256048508557459,"шт",null,{"$f":"L10*H10","v":0},{"$f":"L10*I10","v":0}]
[null,"IFCIV02510250","Ротаметр ПВХ D25 25-250l/h IPS","25","25-250 л/ч","IPS","RUB",{"$f":"J11*Оглавление!$E$23","v":2296.12251715599},{"$f":"H11*(1-Оглавление!$D$41)","v":2296.12251715599},22.906250171149143,"шт",null,0,0]
[null,"IFCIV02510400","Ротаметр ПВХ D25 40-400l/h IPS","25"," 40-400 л/ч","IPS","RUB",{"$f":"J12*Оглавление!$E$23","v":2296.12251715599},{"$f":"H12*(1-Оглавление!$D$41)","v":2296.12251715599},22.906250171149143,"шт",null,0,0]
[null,"IFCIV02510600","Ротаметр ПВХ D25 60-600l/h IPS","25","60-600 л/ч","IPS","RUB",{"$f":"J13*Оглавление!$E$23","v":2296.12251715599},{"$f":"H13*(1-Оглавление!$D$41)","v":2296.12251715599},22.906250171149143,"шт",null,0,0]
[null,"IFCIV03211000","Ротаметр ПВХ D32 100-1000l/h IPS","32","100-1000 л/ч","IPS","RUB",{"$f":"J14*Оглавление!$E$23","v":2518.3279220420536},{"$f":"H14*(1-Оглавление!$D$41)","v":2518.3279220420536},25.122984058679705,"шт",null,0,0]
[null,"IFCIV03211600","Ротаметр ПВХ D32 160-1600l/h IPS","32"," 160-1600 л/ч","IPS","RUB",{"$f":"J15*Оглавление!$E$23","v":2518.3279220420536},{"$f":"H15*(1-Оглавление!$D$41)","v":2518.3279220420536},25.122984058679705,"шт",null,0,0]
[null,"IFCIV03212500","Ротаметр ПВХ D32 250-2500l/h IPS","32","250-2500 л/ч","IPS","RUB",{"$f":"J16*Оглавление!$E$23","v":2518.3279220420536},{"$f":"H16*(1-Оглавление!$D$41)","v":2518.3279220420536},25.122984058679705,"шт",null,0,0]
[null,"IFCIV04014000","Ротаметр ПВХ D40 400-4000l/h IPS","40"," 400-4000 л/ч","IPS","RUB",{"$f":"J17*Оглавление!$E$23","v":3481.8510737132469},{"$f":"H17*(1-Оглавление!$D$41)","v":3481.8510737132469},34.735146385806537,"шт",null,0,0]
[null,"IFCIV06310010","Ротаметр ПВХ D63 1-10 m3/h IPS","63","1-10 м3/ч","IPS","RUB",{"$f":"J18*Оглавление!$E$23","v":4906.2446947777562},{"$f":"H18*(1-Оглавление!$D$41)","v":4906.2446947777562},48.944978998181931,"шт",null,0,0]
[null,"IFCIV07510060","Ротаметр ПВХ D75 12-60 m3/h IPS","75","12-60 м3/ч","IPS","RUB",{"$f":"J19*Оглавление!$E$23","v":8888.2161954425428},{"$f":"H19*(1-Оглавление!$D$41)","v":8888.2161954425428},88.669355501222498,"шт",null,0,0]
[null,"IFCIV07510025","Ротаметр ПВХ D75 5-25 m3/h IPS","75","5-25 м3/ч","IPS","RUB",{"$f":"J20*Оглавление!$E$23","v":8888.2161954425428},{"$f":"H20*(1-Оглавление!$D$41)","v":8888.2161954425428},88.669355501222498,"шт",null,0,0]
[null,"FSIV025D1X0250","Ротаметр для жидкости плотностью - 1 кг/л, 20°C; окончания под клеевое соединение.  Материал колбы - Трогамид; материал поплавка - нержавеющая сталь AISI 316",25,"25-250  л/ч","FIP","RUB",{"$f":"J21*Оглавление!$E$23","v":39069.542399999998},{"$f":"H21*(1-Оглавление!$D$41)","v":39069.542399999998},389.76,"шт",null,{"$f":"L21*H21","v":0},{"$f":"L21*I21","v":0}]
[null,"FSIV025D1X0400","Ротаметр для жидкости плотностью - 1 кг/л, 20°C; окончания под клеевое соединение.  Материал колбы - Трогамид; материал поплавка - нержавеющая сталь AISI 316",25,"40-400 л/ч","FIP","RUB",{"$f":"J22*Оглавление!$E$23","v":39069.542399999998},{"$f":"H22*(1-Оглавление!$D$41)","v":39069.542399999998},389.76,"шт",null,0,0]
[null,"FSIV025D1X0640","Ротаметр для жидкости плотностью - 1 кг/л, 20°C; окончания под клеевое соединение.  Материал колбы - Трогамид; материал поплавка - нержавеющая сталь AISI 316",25,"60-640 л/ч","FIP","RUB",{"$f":"J23*Оглавление!$E$23","v":39069.542399999998},{"$f":"H23*(1-Оглавление!$D$41)","v":39069.542399999998},389.76,"шт",null,{"$f":"L23*H23","v":0},{"$f":"L23*I23","v":0}]
[null,"FSIV025D1X1000","Ротаметр для жидкости плотностью - 1 кг/л, 20°C; окончания под клеевое соединение.  Материал колбы - Трогамид; материал поплавка - нержавеющая сталь AISI 316",25,"100-1000 л/ч","FIP","RUB",{"$f":"J24*Оглавление!$E$23","v":39069.542399999998},{"$f":"H24*(1-Оглавление!$D$41)","v":39069.542399999998},389.76,"шт",null,0,0]
[null,"FSIV032D1X0400","Ротаметр для жидкости плотностью - 1 кг/л, 20°C; окончания под клеевое соединение.  Материал колбы - Трогамид; материал поплавка - нержавеющая сталь AISI 316",32,"40-400 л/ч","FIP","RUB",{"$f":"J25*Оглавление!$E$23","v":44524.603199999998},{"$f":"H25*(1-Оглавление!$D$41)","v":44524.603199999998},444.18,"шт",null,0,0]
[null,"FSIV032D1X0640","Ротаметр для жидкости плотностью - 1 кг/л, 20°C; окончания под клеевое соединение.  Материал колбы - Трогамид; материал поплавка - нержавеющая сталь AISI 316",32,"60-640 л/ч","FIP","RUB",{"$f":"J26*Оглавление!$E$23","v":44524.603199999998},{"$f":"H26*(1-Оглавление!$D$41)","v":44524.603199999998},444.18,"шт",null,0,0]
[null,"FSIV032D1X1000","Ротаметр для жидкости плотностью - 1 кг/л, 20°C; окончания под клеевое соединение.  Материал колбы - Трогамид; материал поплавка - нержавеющая сталь AISI 316",32,"100-1000 л/ч","FIP","RUB",{"$f":"J27*Оглавление!$E$23","v":44524.603199999998},{"$f":"H27*(1-Оглавление!$D$41)","v":44524.603199999998},444.18,"шт",null,0,0]
[null,"FSIV032D1X1600","Ротаметр для жидкости плотностью - 1 кг/л, 20°C; окончания под клеевое соединение.  Материал колбы - Трогамид; материал поплавка - нержавеющая сталь AISI 316",32,"150-1600 л/ч","FIP","RUB",{"$f":"J28*Оглавление!$E$23","v":44524.603199999998},{"$f":"H28*(1-Оглавление!$D$41)","v":44524.603199999998},444.18,"шт",null,0,0]
[null,"FSIV040D1X1600","Ротаметр для жидкости плотностью - 1 кг/л, 20°C; окончания под клеевое соединение.  Материал колбы - Трогамид; материал поплавка - нержавеющая сталь AISI 316",40,"150-1600 л/ч","FIP","RUB",{"$f":"J29*Оглавление!$E$23","v":59971.587199999994},{"$f":"H29*(1-Оглавление!$D$41)","v":59971.587199999994},598.28,"шт",null,0,0]
[null,"FSIV040D1X2500","Ротаметр для жидкости плотностью - 1 кг/л, 20°C; окончания под клеевое соединение.  Материал колбы - Трогамид; материал поплавка - нержавеющая сталь AISI 316",40,"200-2500 л/ч","FIP","RUB",{"$f":"J30*Оглавление!$E$23","v":59971.587199999994},{"$f":"H30*(1-Оглавление!$D$41)","v":59971.587199999994},598.28,"шт",null,0,0]
[null,"FSIV040D1X4000","Ротаметр для жидкости плотностью - 1 кг/л, 20°C; окончания под клеевое соединение.  Материал колбы - Трогамид; материал поплавка - нержавеющая сталь AISI 316",40,"400-4000 л/ч","FIP","RUB",{"$f":"J31*Оглавление!$E$23","v":59971.587199999994},{"$f":"H31*(1-Оглавление!$D$41)","v":59971.587199999994},598.28,"шт",null,0,0]
[null,"FSIV050D1X2500","Ротаметр для жидкости плотностью - 1 кг/л, 20°C; окончания под клеевое соединение.  Материал колбы - Трогамид; материал поплавка - нержавеющая сталь AISI 316",50,"200-2500 л/ч","FIP","RUB",{"$f":"J32*Оглавление!$E$23","v":70867.675199999998},{"$f":"H32*(1-Оглавление!$D$41)","v":70867.675199999998},706.98,"шт",null,0,0]
[null,"FSIV050D1X4000","Ротаметр для жидкости плотностью - 1 кг/л, 20°C; окончания под клеевое соединение.  Материал колбы - Трогамид; материал поплавка - нержавеющая сталь AISI 316",50,"400-4000 л/ч","FIP","RUB",{"$f":"J33*Оглавление!$E$23","v":70867.675199999998},{"$f":"H33*(1-Оглавление!$D$41)","v":70867.675199999998},706.98,"шт",null,0,0]
[null,"FSIV050D1X5000","Ротаметр для жидкости плотностью - 1 кг/л, 20°C; окончания под клеевое соединение.  Материал колбы - Трогамид; материал поплавка - нержавеющая сталь AISI 316",50,"500-5000 л/ч","FIP","RUB",{"$f":"J34*Оглавление!$E$23","v":70867.675199999998},{"$f":"H34*(1-Оглавление!$D$41)","v":70867.675199999998},706.98,"шт",null,0,0]
[null,"FSIV063D1X4000","Ротаметр для жидкости плотностью - 1 кг/л, 20°C; окончания под клеевое соединение.  Материал колбы - Трогамид; материал поплавка - нержавеющая сталь AISI 316",63,"400-4000 л/ч","FIP","RUB",{"$f":"J35*Оглавление!$E$23","v":94945.323199999984},{"$f":"H35*(1-Оглавление!$D$41)","v":94945.323199999984},947.18,"шт",null,0,0]
[null,"FSIV063D1X6000","Ротаметр для жидкости плотностью - 1 кг/л, 20°C; окончания под клеевое соединение.  Материал колбы - Трогамид; материал поплавка - нержавеющая сталь AISI 316",63,"600-6000 л/ч","FIP","RUB",{"$f":"J36*Оглавление!$E$23","v":94945.323199999984},{"$f":"H36*(1-Оглавление!$D$41)","v":94945.323199999984},947.18,"шт",null,0,0]
[null,"FSIV063D1X0010","Ротаметр для жидкости плотностью - 1 кг/л, 20°C; окончания под клеевое соединение.  Материал колбы - Трогамид; материал поплавка - нержавеющая сталь AISI 316",63,"1000-10000 л/ч","FIP","RUB",{"$f":"J37*Оглавление!$E$23","v":94945.323199999984},{"$f":"H37*(1-Оглавление!$D$41)","v":94945.323199999984},947.18,"шт",null,0,0]
[null,"FSIV075D1X0015","Ротаметр для жидкости плотностью - 1 кг/л, 20°C; окончания под клеевое соединение.  Материал колбы - Трогамид; материал поплавка - нержавеющая сталь AISI 316",75,"1500-15000 л/ч","FIP","RUB",{"$f":"J38*Оглавление!$E$23","v":164904.82399999999},{"$f":"H38*(1-Оглавление!$D$41)","v":164904.82399999999},1645.1,"шт",null,0,0]
[null,"FSIV075D1X0020","Ротаметр для жидкости плотностью - 1 кг/л, 20°C; окончания под клеевое соединение.  Материал колбы - Трогамид; материал поплавка - нержавеющая сталь AISI 316",75,"2000-20000 л/ч","FIP","RUB",{"$f":"J39*Оглавление!$E$23","v":164904.82399999999},{"$f":"H39*(1-Оглавление!$D$41)","v":164904.82399999999},1645.1,"шт",null,0,0]
[null,"FSIV075D1X0050","Ротаметр для жидкости плотностью - 1 кг/л, 20°C; окончания под клеевое соединение.  Материал колбы - Трогамид; материал поплавка - нержавеющая сталь AISI 316",75,"10000-50000 л/ч","FIP","RUB",{"$f":"J40*Оглавление!$E$23","v":164904.82399999999},{"$f":"H40*(1-Оглавление!$D$41)","v":164904.82399999999},1645.1,"шт",null,0,0]
[null,"FSIV025P1X0250","Ротаметр для жидкости плотностью - 1 кг/л, 20°C; окончания под клеевое соединение.  Материал колбы  -  Полисульфон; материал поплавка - нержавеющая сталь AISI 316",25,"25-250 л/ч","FIP","RUB",{"$f":"J41*Оглавление!$E$23","v":48606.375999999997},{"$f":"H41*(1-Оглавление!$D$41)","v":48606.375999999997},484.9,"шт",null,0,0]
[null,"FSIV025P1X0400","Ротаметр для жидкости плотностью - 1 кг/л, 20°C; окончания под клеевое соединение.  Материал колбы  -  Полисульфон; материал поплавка - нержавеющая сталь AISI 316",25,"40-400 л/ч","FIP","RUB",{"$f":"J42*Оглавление!$E$23","v":48606.375999999997},{"$f":"H42*(1-Оглавление!$D$41)","v":48606.375999999997},484.9,"шт",null,0,0]
[null,"FSIV025P1X0640","Ротаметр для жидкости плотностью - 1 кг/л, 20°C; окончания под клеевое соединение.  Материал колбы  -  Полисульфон; материал поплавка - нержавеющая сталь AISI 316",25,"60-640 л/ч","FIP","RUB",{"$f":"J43*Оглавление!$E$23","v":48606.375999999997},{"$f":"H43*(1-Оглавление!$D$41)","v":48606.375999999997},484.9,"шт",null,0,0]
[null,"FSIV025P1X1000","Ротаметр для жидкости плотностью - 1 кг/л, 20°C; окончания под клеевое соединение.  Материал колбы  -  Полисульфон; материал поплавка - нержавеющая сталь AISI 316",25,"100-1000 л/ч","FIP","RUB",{"$f":"J44*Оглавление!$E$23","v":48606.375999999997},{"$f":"H44*(1-Оглавление!$D$41)","v":48606.375999999997},484.9,"шт",null,0,0]
[null,"FSIV032P1X0400","Ротаметр для жидкости плотностью - 1 кг/л, 20°C; окончания под клеевое соединение.  Материал колбы  -  Полисульфон; материал поплавка - нержавеющая сталь AISI 316",32,"40-400 л/ч","FIP","RUB",{"$f":"J45*Оглавление!$E$23","v":55875.780799999993},{"$f":"H45*(1-Оглавление!$D$41)","v":55875.780799999993},557.41999999999996,"шт",null,0,0]
[null,"FSIV032P1X0640","Ротаметр для жидкости плотностью - 1 кг/л, 20°C; окончания под клеевое соединение.  Материал колбы  -  Полисульфон; материал поплавка - нержавеющая сталь AISI 316",32,"60-640 л/ч","FIP","RUB",{"$f":"J46*Оглавление!$E$23","v":55875.780799999993},{"$f":"H46*(1-Оглавление!$D$41)","v":55875.780799999993},557.41999999999996,"шт",null,0,0]
[null,"FSIV032P1X1000","Ротаметр для жидкости плотностью - 1 кг/л, 20°C; окончания под клеевое соединение.  Материал колбы  -  Полисульфон; материал поплавка - нержавеющая сталь AISI 316",32,"100-1000 л/ч","FIP","RUB",{"$f":"J47*Оглавление!$E$23","v":55875.780799999993},{"$f":"H47*(1-Оглавление!$D$41)","v":55875.780799999993},557.41999999999996,"шт",null,0,0]
[null,"FSIV032P1X1600","Ротаметр для жидкости плотностью - 1 кг/л, 20°C; окончания под клеевое соединение.  Материал колбы  -  Полисульфон; материал поплавка - нержавеющая сталь AISI 316",32,"150-1600 л/ч","FIP","RUB",{"$f":"J48*Оглавление!$E$23","v":55875.780799999993},{"$f":"H48*(1-Оглавление!$D$41)","v":55875.780799999993},557.41999999999996,"шт",null,0,0]
[null,"FSIV040P1X1600","Ротаметр для жидкости плотностью - 1 кг/л, 20°C; окончания под клеевое соединение.  Материал колбы  -  Полисульфон; материал поплавка - нержавеющая сталь AISI 316",40,"150-1600 л/ч","FIP","RUB",{"$f":"J49*Оглавление!$E$23","v":72236.953599999993},{"$f":"H49*(1-Оглавление!$D$41)","v":72236.953599999993},720.64,"шт",null,0,0]
[null,"FSIV040P1X2500","Ротаметр для жидкости плотностью - 1 кг/л, 20°C; окончания под клеевое соединение.  Материал колбы  -  Полисульфон; материал поплавка - нержавеющая сталь AISI 316",40,"200-2500 л/ч","FIP","RUB",{"$f":"J50*Оглавление!$E$23","v":72236.953599999993},{"$f":"H50*(1-Оглавление!$D$41)","v":72236.953599999993},720.64,"шт",null,0,0]
[null,"FSIV040P1X4000","Ротаметр для жидкости плотностью - 1 кг/л, 20°C; окончания под клеевое соединение.  Материал колбы  -  Полисульфон; материал поплавка - нержавеющая сталь AISI 316",40,"400-4000 л/ч","FIP","RUB",{"$f":"J51*Оглавление!$E$23","v":72236.953599999993},{"$f":"H51*(1-Оглавление!$D$41)","v":72236.953599999993},720.64,"шт",null,0,0]
[null,"FSIV050P1X2500","Ротаметр для жидкости плотностью - 1 кг/л, 20°C; окончания под клеевое соединение.  Материал колбы  -  Полисульфон; материал поплавка - нержавеющая сталь AISI 316",50,"200-2500 л/ч","FIP","RUB",{"$f":"J52*Оглавление!$E$23","v":88578.078399999999},{"$f":"H52*(1-Оглавление!$D$41)","v":88578.078399999999},883.66,"шт",null,0,0]
[null,"FSIV050P1X4000","Ротаметр для жидкости плотностью - 1 кг/л, 20°C; окончания под клеевое соединение.  Материал колбы  -  Полисульфон; материал поплавка - нержавеющая сталь AISI 316",50,"400-4000 л/ч","FIP","RUB",{"$f":"J53*Оглавление!$E$23","v":88578.078399999999},{"$f":"H53*(1-Оглавление!$D$41)","v":88578.078399999999},883.66,"шт",null,0,0]
[null,"FSIV050P1X5000","Ротаметр для жидкости плотностью - 1 кг/л, 20°C; окончания под клеевое соединение.  Материал колбы  -  Полисульфон; материал поплавка - нержавеющая сталь AISI 316",50,"500-5000 л/ч","FIP","RUB",{"$f":"J54*Оглавление!$E$23","v":88578.078399999999},{"$f":"H54*(1-Оглавление!$D$41)","v":88578.078399999999},883.66,"шт",null,0,0]
[null,"FSIV063P1X4000","Ротаметр для жидкости плотностью - 1 кг/л, 20°C; окончания под клеевое соединение.  Материал колбы  -  Полисульфон; материал поплавка - нержавеющая сталь AISI 316",63,"400-4000 л/ч","FIP","RUB",{"$f":"J55*Оглавление!$E$23","v":118559.8624},{"$f":"H55*(1-Оглавление!$D$41)","v":118559.8624},1182.76,"шт",null,0,0]
[null,"FSIV063P1X6000","Ротаметр для жидкости плотностью - 1 кг/л, 20°C; окончания под клеевое соединение.  Материал колбы  -  Полисульфон; материал поплавка - нержавеющая сталь AISI 316",63,"600-6000 л/ч","FIP","RUB",{"$f":"J56*Оглавление!$E$23","v":118559.8624},{"$f":"H56*(1-Оглавление!$D$41)","v":118559.8624},1182.76,"шт",null,0,0]
[null,"FSIV063P1X0010","Ротаметр для жидкости плотностью - 1 кг/л, 20°C; окончания под клеевое соединение.  Материал колбы  -  Полисульфон; материал поплавка - нержавеющая сталь AISI 316",63,"1000-10000 л/ч","FIP","RUB",{"$f":"J57*Оглавление!$E$23","v":118559.8624},{"$f":"H57*(1-Оглавление!$D$41)","v":118559.8624},1182.76,"шт",null,0,0]
[null,"FSIV075P1X0015","Ротаметр для жидкости плотностью - 1 кг/л, 20°C; окончания под клеевое соединение.  Материал колбы  -  Полисульфон; материал поплавка - нержавеющая сталь AISI 316",75,"1500-15000 л/ч","FIP","RUB",{"$f":"J58*Оглавление!$E$23","v":206233.77600000001},{"$f":"H58*(1-Оглавление!$D$41)","v":206233.77600000001},2057.4,"шт",null,0,0]
[null,"FSIV075P1X0020","Ротаметр для жидкости плотностью - 1 кг/л, 20°C; окончания под клеевое соединение.  Материал колбы  -  Полисульфон; материал поплавка - нержавеющая сталь AISI 316",75,"2000-20000 л/ч","FIP","RUB",{"$f":"J59*Оглавление!$E$23","v":206233.77600000001},{"$f":"H59*(1-Оглавление!$D$41)","v":206233.77600000001},2057.4,"шт",null,0,0]
[null,"FSIV075P1X0050","Ротаметр для жидкости плотностью - 1 кг/л, 20°C; окончания под клеевое соединение.  Материал колбы  -  Полисульфон; материал поплавка - нержавеющая сталь AISI 316",75,"10000-50000 л/ч","FIP","RUB",{"$f":"J60*Оглавление!$E$23","v":206233.77600000001},{"$f":"H60*(1-Оглавление!$D$41)","v":206233.77600000001},2057.4,"шт",null,0,0]
[null,"FSIV025D1X0250M","Ротаметр для жидкости плотностью - 1 кг/л, 20°C; окончания под клеевое соединение.  Колба: Трогамид; Поплавок: нержавеющая сталь AISI 316 + Магнит",25,"25-250 л/ч","FIP","RUB",{"$f":"J61*Оглавление!$E$23","v":55875.780799999993},{"$f":"H61*(1-Оглавление!$D$41)","v":55875.780799999993},557.41999999999996,"шт",null,0,0]
[null,"FSIV025D1X0400M","Ротаметр для жидкости плотностью - 1 кг/л, 20°C; окончания под клеевое соединение.  Колба: Трогамид; Поплавок: нержавеющая сталь AISI 316 + Магнит",25,"40-400 л/ч","FIP","RUB",{"$f":"J62*Оглавление!$E$23","v":55875.780799999993},{"$f":"H62*(1-Оглавление!$D$41)","v":55875.780799999993},557.41999999999996,"шт",null,0,0]
[null,"FSIV025D1X0640M","Ротаметр для жидкости плотностью - 1 кг/л, 20°C; окончания под клеевое соединение.  Колба: Трогамид; Поплавок: нержавеющая сталь AISI 316 + Магнит",25,"60-640 л/ч","FIP","RUB",{"$f":"J63*Оглавление!$E$23","v":55875.780799999993},{"$f":"H63*(1-Оглавление!$D$41)","v":55875.780799999993},557.41999999999996,"шт",null,0,0]
[null,"FSIV032D1X0400M","Ротаметр для жидкости плотностью - 1 кг/л, 20°C; окончания под клеевое соединение.  Колба: Трогамид; Поплавок: нержавеющая сталь AISI 316 + Магнит",32,"40-400 л/ч","FIP","RUB",{"$f":"J64*Оглавление!$E$23","v":60421.745863865122},{"$f":"H64*(1-Оглавление!$D$41)","v":60421.745863865122},602.7708086977766,"шт",null,0,0]
[null,"FSIV032D1X0640M","Ротаметр для жидкости плотностью - 1 кг/л, 20°C; окончания под клеевое соединение.  Колба: Трогамид; Поплавок: нержавеющая сталь AISI 316 + Магнит",32,"60-640 л/ч","FIP","RUB",{"$f":"J65*Оглавление!$E$23","v":60428.681600000004},{"$f":"H65*(1-Оглавление!$D$41)","v":60428.681600000004},602.84,"шт",null,0,0]
[null,"FSIV032D1X1000M","Ротаметр для жидкости плотностью - 1 кг/л, 20°C; окончания под клеевое соединение.  Колба: Трогамид; Поплавок: нержавеющая сталь AISI 316 + Магнит",32,"100-1000 л/ч","FIP","RUB",{"$f":"J66*Оглавление!$E$23","v":60428.681600000004},{"$f":"H66*(1-Оглавление!$D$41)","v":60428.681600000004},602.84,"шт",null,0,0]
[null,"FSIV032D1X1600M","Ротаметр для жидкости плотностью - 1 кг/л, 20°C; окончания под клеевое соединение.  Колба: Трогамид; Поплавок: нержавеющая сталь AISI 316 + Магнит",32,"150-1600 л/ч","FIP","RUB",{"$f":"J67*Оглавление!$E$23","v":60428.681600000004},{"$f":"H67*(1-Оглавление!$D$41)","v":60428.681600000004},602.84,"шт",null,0,0]
[null,"FSIV040D1X1600M","Ротаметр для жидкости плотностью - 1 кг/л, 20°C; окончания под клеевое соединение.  Колба: Трогамид; Поплавок: нержавеющая сталь AISI 316 + Магнит",40,"150-1600 л/ч","FIP","RUB",{"$f":"J68*Оглавление!$E$23","v":77226.900799999989},{"$f":"H68*(1-Оглавление!$D$41)","v":77226.900799999989},770.42,"шт",null,0,0]
[null,"FSIV040D1X2500M","Ротаметр для жидкости плотностью - 1 кг/л, 20°C; окончания под клеевое соединение.  Колба: Трогамид; Поплавок: нержавеющая сталь AISI 316 + Магнит",40,"200-2500 л/ч","FIP","RUB",{"$f":"J69*Оглавление!$E$23","v":77226.900799999989},{"$f":"H69*(1-Оглавление!$D$41)","v":77226.900799999989},770.42,"шт",null,0,0]
[null,"FSIV040D1X4000M","Ротаметр для жидкости плотностью - 1 кг/л, 20°C; окончания под клеевое соединение.  Колба: Трогамид; Поплавок: нержавеющая сталь AISI 316 + Магнит",40,"400-4000 л/ч","FIP","RUB",{"$f":"J70*Оглавление!$E$23","v":77226.900799999989},{"$f":"H70*(1-Оглавление!$D$41)","v":77226.900799999989},770.42,"шт",null,0,0]
[null,"FSIV050D1X2500M","Ротаметр для жидкости плотностью - 1 кг/л, 20°C; окончания под клеевое соединение.  Колба: Трогамид; Поплавок: нержавеющая сталь AISI 316 + Магнит",50,"200-2500 л/ч","FIP","RUB",{"$f":"J71*Оглавление!$E$23","v":89492.267199999987},{"$f":"H71*(1-Оглавление!$D$41)","v":89492.267199999987},892.78,"шт",null,0,0]
[null,"FSIV050D1X4000M","Ротаметр для жидкости плотностью - 1 кг/л, 20°C; окончания под клеевое соединение.  Колба: Трогамид; Поплавок: нержавеющая сталь AISI 316 + Магнит",50,"400-4000 л/ч","FIP","RUB",{"$f":"J72*Оглавление!$E$23","v":89492.267199999987},{"$f":"H72*(1-Оглавление!$D$41)","v":89492.267199999987},892.78,"шт",null,0,0]
[null,"FSIV050D1X5000M","Ротаметр для жидкости плотностью - 1 кг/л, 20°C; окончания под клеевое соединение.  Колба: Трогамид; Поплавок: нержавеющая сталь AISI 316 + Магнит",50,"500-5000 л/ч","FIP","RUB",{"$f":"J73*Оглавление!$E$23","v":89492.267199999987},{"$f":"H73*(1-Оглавление!$D$41)","v":89492.267199999987},892.78,"шт",null,0,0]
[null,"FSIV063D1X4000M","Ротаметр для жидкости плотностью - 1 кг/л, 20°C; окончания под клеевое соединение.  Колба: Трогамид; Поплавок: нержавеющая сталь AISI 316 + Магнит",63,"400-4000 л/ч","FIP","RUB",{"$f":"J74*Оглавление!$E$23","v":116298.448},{"$f":"H74*(1-Оглавление!$D$41)","v":116298.448},1160.2,"шт",null,0,0]
[null,"FSIV063D1X6000M","Ротаметр для жидкости плотностью - 1 кг/л, 20°C; окончания под клеевое соединение.  Колба: Трогамид; Поплавок: нержавеющая сталь AISI 316 + Магнит",63,"600-6000 л/ч","FIP","RUB",{"$f":"J75*Оглавление!$E$23","v":116298.448},{"$f":"H75*(1-Оглавление!$D$41)","v":116298.448},1160.2,"шт",null,0,0]
[null,"FSIV063D1X0010M","Ротаметр для жидкости плотностью - 1 кг/л, 20°C; окончания под клеевое соединение.  Колба: Трогамид; Поплавок: нержавеющая сталь AISI 316 + Магнит",63,"1000-10000 л/ч","FIP","RUB",{"$f":"J76*Оглавление!$E$23","v":116298.448},{"$f":"H76*(1-Оглавление!$D$41)","v":116298.448},1160.2,"шт",null,0,0]
[null,"FSIV075D1X0015M","Ротаметр для жидкости плотностью - 1 кг/л, 20°C; окончания под клеевое соединение.  Колба: Трогамид; Поплавок: нержавеющая сталь AISI 316 + Магнит",75,"1500-15000 л/ч","FIP","RUB",{"$f":"J77*Оглавление!$E$23","v":210323.56799999997},{"$f":"H77*(1-Оглавление!$D$41)","v":210323.56799999997},2098.1999999999998,"шт",null,0,0]
[null,"FSIV075D1X0020M","Ротаметр для жидкости плотностью - 1 кг/л, 20°C; окончания под клеевое соединение.  Колба: Трогамид; Поплавок: нержавеющая сталь AISI 316 + Магнит",75,"2000-20000 л/ч","FIP","RUB",{"$f":"J78*Оглавление!$E$23","v":210323.56799999997},{"$f":"H78*(1-Оглавление!$D$41)","v":210323.56799999997},2098.1999999999998,"шт",null,0,0]
[null,"FSIV075D1X0050M","Ротаметр для жидкости плотностью - 1 кг/л, 20°C; окончания под клеевое соединение.  Колба: Трогамид; Поплавок: нержавеющая сталь AISI 316 + Магнит",75,"10000-50000 л/ч","FIP","RUB",{"$f":"J79*Оглавление!$E$23","v":210323.56799999997},{"$f":"H79*(1-Оглавление!$D$41)","v":210323.56799999997},2098.1999999999998,"шт",null,0,0]
[null,"FSIV025P1X0250M","Ротаметр для жидкости плотностью - 1 кг/л, 20°C; окончания под клеевое соединение.  Материал колбы - Полисульфон; материал поплавка - нержавеющая сталь AISI 316 + Магнит",25,"25-250 л/ч","FIP","RUB",{"$f":"J80*Оглавление!$E$23","v":65418.628799999999},{"$f":"H80*(1-Оглавление!$D$41)","v":65418.628799999999},652.62,"шт",null,0,0]
[null,"FSIV025P1X0640M","Ротаметр для жидкости плотностью - 1 кг/л, 20°C; окончания под клеевое соединение.  Материал колбы - Полисульфон; материал поплавка - нержавеющая сталь AISI 316 + Магнит",25,"60-640 л/ч","FIP","RUB",{"$f":"J81*Оглавление!$E$23","v":65418.628799999999},{"$f":"H81*(1-Оглавление!$D$41)","v":65418.628799999999},652.62,"шт",null,0,0]
[null,"FSIV025P1X1000M","Ротаметр для жидкости плотностью - 1 кг/л, 20°C; окончания под клеевое соединение.  Материал колбы - Полисульфон; материал поплавка - нержавеющая сталь AISI 316 + Магнит",25,"100-1000 л/ч","FIP","RUB",{"$f":"J82*Оглавление!$E$23","v":65418.628799999999},{"$f":"H82*(1-Оглавление!$D$41)","v":65418.628799999999},652.62,"шт",null,0,0]
[null,"FSIV032P1X0640M","Ротаметр для жидкости плотностью - 1 кг/л, 20°C; окончания под клеевое соединение.  Материал колбы - Полисульфон; материал поплавка - нержавеющая сталь AISI 316 + Магнит",32,"60-640 л/ч","FIP","RUB",{"$f":"J83*Оглавление!$E$23","v":71779.859200000006},{"$f":"H83*(1-Оглавление!$D$41)","v":71779.859200000006},716.08,"шт",null,0,0]
[null,"FSIV032P1X1000M","Ротаметр для жидкости плотностью - 1 кг/л, 20°C; окончания под клеевое соединение.  Материал колбы - Полисульфон; материал поплавка - нержавеющая сталь AISI 316 + Магнит",32,"100-1000 л/ч","FIP","RUB",{"$f":"J84*Оглавление!$E$23","v":71779.859200000006},{"$f":"H84*(1-Оглавление!$D$41)","v":71779.859200000006},716.08,"шт",null,{"$f":"L84*H84","v":0},{"$f":"L84*I84","v":0}]
[null,"FSIV032P1X1600M","Ротаметр для жидкости плотностью - 1 кг/л, 20°C; окончания под клеевое соединение.  Материал колбы - Полисульфон; материал поплавка - нержавеющая сталь AISI 316 + Магнит",32,"150-1600 л/ч","FIP","RUB",{"$f":"J85*Оглавление!$E$23","v":71779.859200000006},{"$f":"H85*(1-Оглавление!$D$41)","v":71779.859200000006},716.08,"шт",null,0,0]
[null,"FSIV040P1X2500M","Ротаметр для жидкости плотностью - 1 кг/л, 20°C; окончания под клеевое соединение.  Материал колбы - Полисульфон; материал поплавка - нержавеющая сталь AISI 316 + Магнит",40,"200-2500 л/ч","FIP","RUB",{"$f":"J86*Оглавление!$E$23","v":89492.267199999987},{"$f":"H86*(1-Оглавление!$D$41)","v":89492.267199999987},892.78,"шт",null,0,0]
[null,"FSIV040P1X4000M","Ротаметр для жидкости плотностью - 1 кг/л, 20°C; окончания под клеевое соединение.  Материал колбы - Полисульфон; материал поплавка - нержавеющая сталь AISI 316 + Магнит",40,"400-4000 л/ч","FIP","RUB",{"$f":"J87*Оглавление!$E$23","v":89492.267199999987},{"$f":"H87*(1-Оглавление!$D$41)","v":89492.267199999987},892.78,"шт",null,0,0]
[null,"FSIV050P1X2500M","Ротаметр для жидкости плотностью - 1 кг/л, 20°C; окончания под клеевое соединение.  Материал колбы - Полисульфон; материал поплавка - нержавеющая сталь AISI 316 + Магнит",50,"200-2500 л/ч","FIP","RUB",{"$f":"J88*Оглавление!$E$23","v":107210.6896},{"$f":"H88*(1-Оглавление!$D$41)","v":107210.6896},1069.54,"шт",null,0,0]
[null,"FSIV050P1X4000M","Ротаметр для жидкости плотностью - 1 кг/л, 20°C; окончания под клеевое соединение.  Материал колбы - Полисульфон; материал поплавка - нержавеющая сталь AISI 316 + Магнит",50,"400-4000 л/ч","FIP","RUB",{"$f":"J89*Оглавление!$E$23","v":107210.6896},{"$f":"H89*(1-Оглавление!$D$41)","v":107210.6896},1069.54,"шт",null,0,0]
[null,"FSIV050P1X5000M","Ротаметр для жидкости плотностью - 1 кг/л, 20°C; окончания под клеевое соединение.  Материал колбы - Полисульфон; материал поплавка - нержавеющая сталь AISI 316 + Магнит",50,"500-5000 л/ч","FIP","RUB",{"$f":"J90*Оглавление!$E$23","v":107210.6896},{"$f":"H90*(1-Оглавление!$D$41)","v":107210.6896},1069.54,"шт",null,0,0]
[null,"FSIV063P1X6000M","Ротаметр для жидкости плотностью - 1 кг/л, 20°C; окончания под клеевое соединение.  Материал колбы - Полисульфон; материал поплавка - нержавеющая сталь AISI 316 + Магнит",63,"600-6000 л/ч","FIP","RUB",{"$f":"J91*Оглавление!$E$23","v":139912.9872},{"$f":"H91*(1-Оглавление!$D$41)","v":139912.9872},1395.78,"шт",null,0,0]
[null,"FSIV063P1X0010M","Ротаметр для жидкости плотностью - 1 кг/л, 20°C; окончания под клеевое соединение.  Материал колбы - Полисульфон; материал поплавка - нержавеющая сталь AISI 316 + Магнит",63,"1000-10000 л/ч","FIP","RUB",{"$f":"J92*Оглавление!$E$23","v":139912.9872},{"$f":"H92*(1-Оглавление!$D$41)","v":139912.9872},1395.78,"шт",null,0,0]
[null,"FSIV075P1X0015M","Ротаметр для жидкости плотностью - 1 кг/л, 20°C; окончания под клеевое соединение.  Материал колбы - Полисульфон; материал поплавка - нержавеющая сталь AISI 316 + Магнит",75,"1500-15000 л/ч","FIP","RUB",{"$f":"J93*Оглавление!$E$23","v":251664.54879999999},{"$f":"H93*(1-Оглавление!$D$41)","v":251664.54879999999},2510.62,"шт",null,0,0]
[null,"FSIV075P1X0020M","Ротаметр для жидкости плотностью - 1 кг/л, 20°C; окончания под клеевое соединение.  Материал колбы - Полисульфон; материал поплавка - нержавеющая сталь AISI 316 + Магнит",75,"2000-20000 л/ч","FIP","RUB",{"$f":"J94*Оглавление!$E$23","v":251664.54879999999},{"$f":"H94*(1-Оглавление!$D$41)","v":251664.54879999999},2510.62,"шт",null,0,0]
[null,"FSIV075P1X0050M","Ротаметр для жидкости плотностью - 1 кг/л, 20°C; окончания под клеевое соединение.  Материал колбы - Полисульфон; материал поплавка - нержавеющая сталь AISI 316 + Магнит",75,"10000-50000 л/ч","FIP","RUB",{"$f":"J95*Оглавление!$E$23","v":251664.54879999999},{"$f":"H95*(1-Оглавление!$D$41)","v":251664.54879999999},2510.62,"шт",null,0,0]
[null,"FSIV025D1M0150","Ротаметр для жидкости плотностью - 1 кг/л, 20°C; окончания под клеевое соединение.  Материал колбы - Трогамид; материал поплавка -  PP(Полипропилен) красный",25,"15 - 150 л/ч","FIP","RUB",{"$f":"J96*Оглавление!$E$23","v":39069.542399999998},{"$f":"H96*(1-Оглавление!$D$41)","v":39069.542399999998},389.76,"шт",null,0,0]
[null,"FSIV025D1M0250","Ротаметр для жидкости плотностью - 1 кг/л, 20°C; окончания под клеевое соединение.  Материал колбы - Трогамид; материал поплавка -  PP(Полипропилен) красный",25,"25 - 250 л/ч","FIP","RUB",{"$f":"J97*Оглавление!$E$23","v":39069.542399999998},{"$f":"H97*(1-Оглавление!$D$41)","v":39069.542399999998},389.76,"шт",null,0,0]
[null,"FSIV025D1M0450","Ротаметр для жидкости плотностью - 1 кг/л, 20°C; окончания под клеевое соединение.  Материал колбы - Трогамид; материал поплавка -  PP(Полипропилен) красный",25,"45 - 450 л/ч","FIP","RUB",{"$f":"J98*Оглавление!$E$23","v":39069.542399999998},{"$f":"H98*(1-Оглавление!$D$41)","v":39069.542399999998},389.76,"шт",null,0,0]
[null,"FSIV025D1M0700","Ротаметр для жидкости плотностью - 1 кг/л, 20°C; окончания под клеевое соединение.  Материал колбы - Трогамид; материал поплавка -  PP(Полипропилен) красный",25,"70 - 700 л/ч","FIP","RUB",{"$f":"J99*Оглавление!$E$23","v":39069.542399999998},{"$f":"H99*(1-Оглавление!$D$41)","v":39069.542399999998},389.76,"шт",null,0,0]
[null,"FSIV032D1M0250","Ротаметр для жидкости плотностью - 1 кг/л, 20°C; окончания под клеевое соединение.  Материал колбы - Трогамид; материал поплавка -  PP(Полипропилен) красный",32,"25 - 250 л/ч","FIP","RUB",{"$f":"J100*Оглавление!$E$23","v":44524.603199999998},{"$f":"H100*(1-Оглавление!$D$41)","v":44524.603199999998},444.18,"шт",null,0,0]
[null,"FSIV032D1M0400","Ротаметр для жидкости плотностью - 1 кг/л, 20°C; окончания под клеевое соединение.  Материал колбы - Трогамид; материал поплавка -  PP(Полипропилен) красный",32,"40 - 400 л/ч","FIP","RUB",{"$f":"J101*Оглавление!$E$23","v":44524.603199999998},{"$f":"H101*(1-Оглавление!$D$41)","v":44524.603199999998},444.18,"шт",null,0,0]
[null,"FSIV032D1M0650","Ротаметр для жидкости плотностью - 1 кг/л, 20°C; окончания под клеевое соединение.  Материал колбы - Трогамид; материал поплавка -  PP(Полипропилен) красный",32,"65 - 650 л/ч","FIP","RUB",{"$f":"J102*Оглавление!$E$23","v":44524.603199999998},{"$f":"H102*(1-Оглавление!$D$41)","v":44524.603199999998},444.18,"шт",null,0,0]
[null,"FSIV032D1M1000","Ротаметр для жидкости плотностью - 1 кг/л, 20°C; окончания под клеевое соединение.  Материал колбы - Трогамид; материал поплавка -  PP(Полипропилен) красный",32,"100 - 1000 л/ч","FIP","RUB",{"$f":"J103*Оглавление!$E$23","v":44524.603199999998},{"$f":"H103*(1-Оглавление!$D$41)","v":44524.603199999998},444.18,"шт",null,0,0]
[null,"FSIV040D1M1000","Ротаметр для жидкости плотностью - 1 кг/л, 20°C; окончания под клеевое соединение.  Материал колбы - Трогамид; материал поплавка -  PP(Полипропилен) красный",40,"100 - 1000 л/ч","FIP","RUB",{"$f":"J104*Оглавление!$E$23","v":59971.587199999994},{"$f":"H104*(1-Оглавление!$D$41)","v":59971.587199999994},598.28,"шт",null,0,0]
[null,"FSIV040D1M1600","Ротаметр для жидкости плотностью - 1 кг/л, 20°C; окончания под клеевое соединение.  Материал колбы - Трогамид; материал поплавка -  PP(Полипропилен) красный",40,"160 - 1600 л/ч","FIP","RUB",{"$f":"J105*Оглавление!$E$23","v":59971.587199999994},{"$f":"H105*(1-Оглавление!$D$41)","v":59971.587199999994},598.28,"шт",null,0,0]
[null,"FSIV040D1M2500","Ротаметр для жидкости плотностью - 1 кг/л, 20°C; окончания под клеевое соединение.  Материал колбы - Трогамид; материал поплавка -  PP(Полипропилен) красный",40,"200 - 2500 л/ч","FIP","RUB",{"$f":"J106*Оглавление!$E$23","v":59971.587199999994},{"$f":"H106*(1-Оглавление!$D$41)","v":59971.587199999994},598.28,"шт",null,0,0]
[null,"FSIV050D1M1600","Ротаметр для жидкости плотностью - 1 кг/л, 20°C; окончания под клеевое соединение.  Материал колбы - Трогамид; материал поплавка -  PP(Полипропилен) красный",50,"150 - 1600 л/ч","FIP","RUB",{"$f":"J107*Оглавление!$E$23","v":70867.675199999998},{"$f":"H107*(1-Оглавление!$D$41)","v":70867.675199999998},706.98,"шт",null,0,0]
[null,"FSIV050D1M2200","Ротаметр для жидкости плотностью - 1 кг/л, 20°C; окончания под клеевое соединение.  Материал колбы - Трогамид; материал поплавка -  PP(Полипропилен) красный",50,"200 - 2200 л/ч","FIP","RUB",{"$f":"J108*Оглавление!$E$23","v":70867.675199999998},{"$f":"H108*(1-Оглавление!$D$41)","v":70867.675199999998},706.98,"шт",null,0,0]
[null,"FSIV050D1M2500","Ротаметр для жидкости плотностью - 1 кг/л, 20°C; окончания под клеевое соединение.  Материал колбы - Трогамид; материал поплавка -  PP(Полипропилен) красный",50,"250 - 2500 л/ч","FIP","RUB",{"$f":"J109*Оглавление!$E$23","v":70867.675199999998},{"$f":"H109*(1-Оглавление!$D$41)","v":70867.675199999998},706.98,"шт",null,0,0]
[null,"FSIV063D1M2500","Ротаметр для жидкости плотностью - 1 кг/л, 20°C; окончания под клеевое соединение.  Материал колбы - Трогамид; материал поплавка -  PP(Полипропилен) красный",63,"250 - 2500 л/ч","FIP","RUB",{"$f":"J110*Оглавление!$E$23","v":94945.323199999984},{"$f":"H110*(1-Оглавление!$D$41)","v":94945.323199999984},947.18,"шт",null,0,0]
[null,"FSIV063D1M3500","Ротаметр для жидкости плотностью - 1 кг/л, 20°C; окончания под клеевое соединение.  Материал колбы - Трогамид; материал поплавка -  PP(Полипропилен) красный",63,"350 - 3500 л/ч","FIP","RUB",{"$f":"J111*Оглавление!$E$23","v":94945.323199999984},{"$f":"H111*(1-Оглавление!$D$41)","v":94945.323199999984},947.18,"шт",null,0,0]
[null,"FSIV063D1M5000","Ротаметр для жидкости плотностью - 1 кг/л, 20°C; окончания под клеевое соединение.  Материал колбы - Трогамид; материал поплавка -  PP(Полипропилен) красный",63,"500 - 5000 л/ч","FIP","RUB",{"$f":"J112*Оглавление!$E$23","v":94945.323199999984},{"$f":"H112*(1-Оглавление!$D$41)","v":94945.323199999984},947.18,"шт",null,0,0]
[null,"FSIV075D1M8000","Ротаметр для жидкости плотностью - 1 кг/л, 20°C; окончания под клеевое соединение.  Материал колбы - Трогамид; материал поплавка -  PP(Полипропилен) красный",75,"1000 - 8000 л/ч","FIP","RUB",{"$f":"J113*Оглавление!$E$23","v":164904.82399999999},{"$f":"H113*(1-Оглавление!$D$41)","v":164904.82399999999},1645.1,"шт",null,0,0]
[null,"FSIV075D1M0010","Ротаметр для жидкости плотностью - 1 кг/л, 20°C; окончания под клеевое соединение.  Материал колбы - Трогамид; материал поплавка -  PP(Полипропилен) красный",75,"1000 - 10000 л/ч","FIP","RUB",{"$f":"J114*Оглавление!$E$23","v":164904.82399999999},{"$f":"H114*(1-Оглавление!$D$41)","v":164904.82399999999},1645.1,"шт",null,0,0]
[null,"FSIV075D1M0025","Ротаметр для жидкости плотностью - 1 кг/л, 20°C; окончания под клеевое соединение.  Материал колбы - Трогамид; материал поплавка -  PP(Полипропилен) красный",75,"5000 - 25000 л/ч","FIP","RUB",{"$f":"J115*Оглавление!$E$23","v":164904.82399999999},{"$f":"H115*(1-Оглавление!$D$41)","v":164904.82399999999},1645.1,"шт",null,0,0]
[null,"FSIV025P1M0150","Ротаметр для жидкости плотностью - 1 кг/л, 20°C; окончания под клеевое соединение.  Материал колбы - Полисульфон; материал поплавка -  PP(Полипропилен) красный",25,"15 - 150 л/ч","FIP","RUB",{"$f":"J116*Оглавление!$E$23","v":48606.375999999997},{"$f":"H116*(1-Оглавление!$D$41)","v":48606.375999999997},484.9,"шт",null,0,0]
[null,"FSIV025P1M0250","Ротаметр для жидкости плотностью - 1 кг/л, 20°C; окончания под клеевое соединение.  Материал колбы - Полисульфон; материал поплавка -  PP(Полипропилен) красный",25,"25 - 250 л/ч","FIP","RUB",{"$f":"J117*Оглавление!$E$23","v":48606.375999999997},{"$f":"H117*(1-Оглавление!$D$41)","v":48606.375999999997},484.9,"шт",null,0,0]
[null,"FSIV025P1M0450","Ротаметр для жидкости плотностью - 1 кг/л, 20°C; окончания под клеевое соединение.  Материал колбы - Полисульфон; материал поплавка -  PP(Полипропилен) красный",25,"45 - 450 л/ч","FIP","RUB",{"$f":"J118*Оглавление!$E$23","v":48606.375999999997},{"$f":"H118*(1-Оглавление!$D$41)","v":48606.375999999997},484.9,"шт",null,0,0]
[null,"FSIV025P1M0700","Ротаметр для жидкости плотностью - 1 кг/л, 20°C; окончания под клеевое соединение.  Материал колбы - Полисульфон; материал поплавка -  PP(Полипропилен) красный",25,"70 - 700 л/ч","FIP","RUB",{"$f":"J119*Оглавление!$E$23","v":48606.375999999997},{"$f":"H119*(1-Оглавление!$D$41)","v":48606.375999999997},484.9,"шт",null,0,0]
[null,"FSIV032P1M0250","Ротаметр для жидкости плотностью - 1 кг/л, 20°C; окончания под клеевое соединение.  Материал колбы - Полисульфон; материал поплавка -  PP(Полипропилен) красный",32,"25 - 250 л/ч","FIP","RUB",{"$f":"J120*Оглавление!$E$23","v":55875.780799999993},{"$f":"H120*(1-Оглавление!$D$41)","v":55875.780799999993},557.41999999999996,"шт",null,0,0]
[null,"FSIV032P1M0400","Ротаметр для жидкости плотностью - 1 кг/л, 20°C; окончания под клеевое соединение.  Материал колбы - Полисульфон; материал поплавка -  PP(Полипропилен) красный",32,"40 - 400 л/ч","FIP","RUB",{"$f":"J121*Оглавление!$E$23","v":55875.780799999993},{"$f":"H121*(1-Оглавление!$D$41)","v":55875.780799999993},557.41999999999996,"шт",null,0,0]
[null,"FSIV032P1M0650","Ротаметр для жидкости плотностью - 1 кг/л, 20°C; окончания под клеевое соединение.  Материал колбы - Полисульфон; материал поплавка -  PP(Полипропилен) красный",32,"65 - 650 л/ч","FIP","RUB",{"$f":"J122*Оглавление!$E$23","v":55875.780799999993},{"$f":"H122*(1-Оглавление!$D$41)","v":55875.780799999993},557.41999999999996,"шт",null,0,0]
[null,"FSIV032P1M1000","Ротаметр для жидкости плотностью - 1 кг/л, 20°C; окончания под клеевое соединение.  Материал колбы - Полисульфон; материал поплавка -  PP(Полипропилен) красный",32,"100 - 1000 л/ч","FIP","RUB",{"$f":"J123*Оглавление!$E$23","v":55875.780799999993},{"$f":"H123*(1-Оглавление!$D$41)","v":55875.780799999993},557.41999999999996,"шт",null,0,0]
[null,"FSIV040P1M1000","Ротаметр для жидкости плотностью - 1 кг/л, 20°C; окончания под клеевое соединение.  Материал колбы - Полисульфон; материал поплавка -  PP(Полипропилен) красный",40,"100 - 1000 л/ч","FIP","RUB",{"$f":"J124*Оглавление!$E$23","v":72236.953599999993},{"$f":"H124*(1-Оглавление!$D$41)","v":72236.953599999993},720.64,"шт",null,0,0]
[null,"FSIV040P1M1600","Ротаметр для жидкости плотностью - 1 кг/л, 20°C; окончания под клеевое соединение.  Материал колбы - Полисульфон; материал поплавка -  PP(Полипропилен) красный",40,"160 - 1600 л/ч","FIP","RUB",{"$f":"J125*Оглавление!$E$23","v":72236.953599999993},{"$f":"H125*(1-Оглавление!$D$41)","v":72236.953599999993},720.64,"шт",null,0,0]
[null,"FSIV040P1M2500","Ротаметр для жидкости плотностью - 1 кг/л, 20°C; окончания под клеевое соединение.  Материал колбы - Полисульфон; материал поплавка -  PP(Полипропилен) красный",40,"200 - 2500 л/ч","FIP","RUB",{"$f":"J126*Оглавление!$E$23","v":72236.953599999993},{"$f":"H126*(1-Оглавление!$D$41)","v":72236.953599999993},720.64,"шт",null,0,0]
[null,"FSIV050P1M1600","Ротаметр для жидкости плотностью - 1 кг/л, 20°C; окончания под клеевое соединение.  Материал колбы - Полисульфон; материал поплавка -  PP(Полипропилен) красный",50,"150 - 1600 л/ч","FIP","RUB",{"$f":"J127*Оглавление!$E$23","v":88578.078399999999},{"$f":"H127*(1-Оглавление!$D$41)","v":88578.078399999999},883.66,"шт",null,0,0]
[null,"FSIV050P1M2200","Ротаметр для жидкости плотностью - 1 кг/л, 20°C; окончания под клеевое соединение.  Материал колбы - Полисульфон; материал поплавка -  PP(Полипропилен) красный",50,"200 - 2200 л/ч","FIP","RUB",{"$f":"J128*Оглавление!$E$23","v":88578.078399999999},{"$f":"H128*(1-Оглавление!$D$41)","v":88578.078399999999},883.66,"шт",null,0,0]
[null,"FSIV050P1M2500","Ротаметр для жидкости плотностью - 1 кг/л, 20°C; окончания под клеевое соединение.  Материал колбы - Полисульфон; материал поплавка -  PP(Полипропилен) красный",50,"250 - 2500 л/ч","FIP","RUB",{"$f":"J129*Оглавление!$E$23","v":88578.078399999999},{"$f":"H129*(1-Оглавление!$D$41)","v":88578.078399999999},883.66,"шт",null,0,0]
[null,"FSIV063P1M2500","Ротаметр для жидкости плотностью - 1 кг/л, 20°C; окончания под клеевое соединение.  Материал колбы - Полисульфон; материал поплавка -  PP(Полипропилен) красный",63,"250 - 2500 л/ч","FIP","RUB",{"$f":"J130*Оглавление!$E$23","v":118559.8624},{"$f":"H130*(1-Оглавление!$D$41)","v":118559.8624},1182.76,"шт",null,0,0]
[null,"FSIV063P1M3500","Ротаметр для жидкости плотностью - 1 кг/л, 20°C; окончания под клеевое соединение.  Материал колбы - Полисульфон; материал поплавка -  PP(Полипропилен) красный",63,"350 - 3500 л/ч","FIP","RUB",{"$f":"J131*Оглавление!$E$23","v":118559.8624},{"$f":"H131*(1-Оглавление!$D$41)","v":118559.8624},1182.76,"шт",null,0,0]
[null,"FSIV063P1M5000","Ротаметр для жидкости плотностью - 1 кг/л, 20°C; окончания под клеевое соединение.  Материал колбы - Полисульфон; материал поплавка -  PP(Полипропилен) красный",63,"500 - 5000 л/ч","FIP","RUB",{"$f":"J132*Оглавление!$E$23","v":118559.8624},{"$f":"H132*(1-Оглавление!$D$41)","v":118559.8624},1182.76,"шт",null,0,0]
[null,"FSIV075P1M8000","Ротаметр для жидкости плотностью - 1 кг/л, 20°C; окончания под клеевое соединение.  Материал колбы - Полисульфон; материал поплавка -  PP(Полипропилен) красный",75,"1000 - 8000 л/ч","FIP","RUB",{"$f":"J133*Оглавление!$E$23","v":206233.77600000001},{"$f":"H133*(1-Оглавление!$D$41)","v":206233.77600000001},2057.4,"шт",null,0,0]
[null,"FSIV075P1M0010","Ротаметр для жидкости плотностью - 1 кг/л, 20°C; окончания под клеевое соединение.  Материал колбы - Полисульфон; материал поплавка -  PP(Полипропилен) красный",75,"1000 - 10000 л/ч","FIP","RUB",{"$f":"J134*Оглавление!$E$23","v":206233.77600000001},{"$f":"H134*(1-Оглавление!$D$41)","v":206233.77600000001},2057.4,"шт",null,0,0]
[null,"FSIV075P1M0025","Ротаметр для жидкости плотностью - 1 кг/л, 20°C; окончания под клеевое соединение.  Материал колбы - Полисульфон; материал поплавка -  PP(Полипропилен) красный",75,"5000 - 25000 л/ч","FIP","RUB",{"$f":"J135*Оглавление!$E$23","v":206233.77600000001},{"$f":"H135*(1-Оглавление!$D$41)","v":206233.77600000001},2057.4,"шт",null,0,0]
[null,"FSIV025D1M0150M","Ротаметр для жидкости плотностью - 1 кг/л, 20°C; окончания под клеевое соединение.  Материал колбы - Трогамид; материал поплавка - PP(Полипропилен) красный c магнитом",25,"15 - 150 л/ч","FIP","RUB",{"$f":"J136*Оглавление!$E$23","v":55875.780799999993},{"$f":"H136*(1-Оглавление!$D$41)","v":55875.780799999993},557.41999999999996,"шт",null,0,0]
[null,"FSIV025D1M0250M","Ротаметр для жидкости плотностью - 1 кг/л, 20°C; окончания под клеевое соединение.  Материал колбы - Трогамид; материал поплавка - PP(Полипропилен) красный c магнитом",25,"25 - 250 л/ч","FIP","RUB",{"$f":"J137*Оглавление!$E$23","v":55875.780799999993},{"$f":"H137*(1-Оглавление!$D$41)","v":55875.780799999993},557.41999999999996,"шт",null,0,0]
[null,"FSIV025D1M0450M","Ротаметр для жидкости плотностью - 1 кг/л, 20°C; окончания под клеевое соединение.  Материал колбы - Трогамид; материал поплавка - PP(Полипропилен) красный c магнитом",25,"45 - 450 л/ч","FIP","RUB",{"$f":"J138*Оглавление!$E$23","v":55875.780799999993},{"$f":"H138*(1-Оглавление!$D$41)","v":55875.780799999993},557.41999999999996,"шт",null,0,0]
[null,"FSIV025D1M0700M","Ротаметр для жидкости плотностью - 1 кг/л, 20°C; окончания под клеевое соединение.  Материал колбы - Трогамид; материал поплавка - PP(Полипропилен) красный c магнитом",25,"70 - 700 л/ч","FIP","RUB",{"$f":"J139*Оглавление!$E$23","v":55875.780799999993},{"$f":"H139*(1-Оглавление!$D$41)","v":55875.780799999993},557.41999999999996,"шт",null,0,0]
[null,"FSIV032D1M0400M","Ротаметр для жидкости плотностью - 1 кг/л, 20°C; окончания под клеевое соединение.  Материал колбы - Трогамид; материал поплавка - PP(Полипропилен) красный c магнитом",32,"40 - 400 л/ч","FIP","RUB",{"$f":"J140*Оглавление!$E$23","v":60421.745863865122},{"$f":"H140*(1-Оглавление!$D$41)","v":60421.745863865122},602.7708086977766,"шт",null,0,0]
[null,"FSIV032D1M0650M","Ротаметр для жидкости плотностью - 1 кг/л, 20°C; окончания под клеевое соединение.  Материал колбы - Трогамид; материал поплавка - PP(Полипропилен) красный c магнитом",32,"65 - 650 л/ч","FIP","RUB",{"$f":"J141*Оглавление!$E$23","v":60421.745863865122},{"$f":"H141*(1-Оглавление!$D$41)","v":60421.745863865122},602.7708086977766,"шт",null,0,0]
[null,"FSIV032D1M1000M","Ротаметр для жидкости плотностью - 1 кг/л, 20°C; окончания под клеевое соединение.  Материал колбы - Трогамид; материал поплавка - PP(Полипропилен) красный c магнитом",32,"100 - 1000 л/ч","FIP","RUB",{"$f":"J142*Оглавление!$E$23","v":60428.681600000004},{"$f":"H142*(1-Оглавление!$D$41)","v":60428.681600000004},602.84,"шт",null,0,0]
[null,"FSIV040D1M1000M","Ротаметр для жидкости плотностью - 1 кг/л, 20°C; окончания под клеевое соединение.  Материал колбы - Трогамид; материал поплавка - PP(Полипропилен) красный c магнитом",40,"100 - 1000 л/ч","FIP","RUB",{"$f":"J143*Оглавление!$E$23","v":77226.900799999989},{"$f":"H143*(1-Оглавление!$D$41)","v":77226.900799999989},770.42,"шт",null,0,0]
[null,"FSIV040D1M1600M","Ротаметр для жидкости плотностью - 1 кг/л, 20°C; окончания под клеевое соединение.  Материал колбы - Трогамид; материал поплавка - PP(Полипропилен) красный c магнитом",40,"160 - 1600 л/ч","FIP","RUB",{"$f":"J144*Оглавление!$E$23","v":77226.900799999989},{"$f":"H144*(1-Оглавление!$D$41)","v":77226.900799999989},770.42,"шт",null,0,0]
[null,"FSIV040D1M2500M","Ротаметр для жидкости плотностью - 1 кг/л, 20°C; окончания под клеевое соединение.  Материал колбы - Трогамид; материал поплавка - PP(Полипропилен) красный c магнитом",40,"200 - 2500 л/ч","FIP","RUB",{"$f":"J145*Оглавление!$E$23","v":77226.900799999989},{"$f":"H145*(1-Оглавление!$D$41)","v":77226.900799999989},770.42,"шт",null,{"$f":"L145*H145","v":0},{"$f":"L145*I145","v":0}]
[null,"FSIV050D1M2200M","Ротаметр для жидкости плотностью - 1 кг/л, 20°C; окончания под клеевое соединение.  Материал колбы - Трогамид; материал поплавка - PP(Полипропилен) красный c магнитом",50,"200 - 2200 л/ч","FIP","RUB",{"$f":"J146*Оглавление!$E$23","v":89492.267199999987},{"$f":"H146*(1-Оглавление!$D$41)","v":89492.267199999987},892.78,"шт",null,0,0]
[null,"FSIV050D1M2500M","Ротаметр для жидкости плотностью - 1 кг/л, 20°C; окончания под клеевое соединение.  Материал колбы - Трогамид; материал поплавка - PP(Полипропилен) красный c магнитом",50,"250 - 2500 л/ч","FIP","RUB",{"$f":"J147*Оглавление!$E$23","v":89492.267199999987},{"$f":"H147*(1-Оглавление!$D$41)","v":89492.267199999987},892.78,"шт",null,0,0]
[null,"FSIV063D1M2500M","Ротаметр для жидкости плотностью - 1 кг/л, 20°C; окончания под клеевое соединение.  Материал колбы - Трогамид; материал поплавка - PP(Полипропилен) красный c магнитом",63,"250 - 2500 л/ч","FIP","RUB",{"$f":"J148*Оглавление!$E$23","v":116298.448},{"$f":"H148*(1-Оглавление!$D$41)","v":116298.448},1160.2,"шт",null,0,0]
[null,"FSIV063D1M3500M","Ротаметр для жидкости плотностью - 1 кг/л, 20°C; окончания под клеевое соединение.  Материал колбы - Трогамид; материал поплавка - PP(Полипропилен) красный c магнитом",63,"350 - 3500 л/ч","FIP","RUB",{"$f":"J149*Оглавление!$E$23","v":116298.448},{"$f":"H149*(1-Оглавление!$D$41)","v":116298.448},1160.2,"шт",null,0,0]
[null,"FSIV063D1M5000M","Ротаметр для жидкости плотностью - 1 кг/л, 20°C; окончания под клеевое соединение.  Материал колбы - Трогамид; материал поплавка - PP(Полипропилен) красный c магнитом",63,"500 - 5000 л/ч","FIP","RUB",{"$f":"J150*Оглавление!$E$23","v":116298.448},{"$f":"H150*(1-Оглавление!$D$41)","v":116298.448},1160.2,"шт",null,0,0]
[null,"FSIV075D1M0010M","Ротаметр для жидкости плотностью - 1 кг/л, 20°C; окончания под клеевое соединение.  Материал колбы - Трогамид; материал поплавка - PP(Полипропилен) красный c магнитом",75,"1000 - 10000 л/ч","FIP","RUB",{"$f":"J151*Оглавление!$E$23","v":210323.56799999997},{"$f":"H151*(1-Оглавление!$D$41)","v":210323.56799999997},2098.1999999999998,"шт",null,0,0]
[null,"FSIV075D1M0025M","Ротаметр для жидкости плотностью - 1 кг/л, 20°C; окончания под клеевое соединение.  Материал колбы - Трогамид; материал поплавка - PP(Полипропилен) красный c магнитом",75,"5000 - 25000 л/ч","FIP","RUB",{"$f":"J152*Оглавление!$E$23","v":210323.56799999997},{"$f":"H152*(1-Оглавление!$D$41)","v":210323.56799999997},2098.1999999999998,"шт",null,0,0]
[null,"FSIV025P1M0150M","Ротаметр для жидкости плотностью - 1 кг/л, 20°C; окончания под клеевое соединение.  Материал колбы - Трогамид; материал поплавка -  PP(Полипропилен) красный c магнитом",25,"15 - 150 л/ч","FIP","RUB",{"$f":"J153*Оглавление!$E$23","v":65418.628799999999},{"$f":"H153*(1-Оглавление!$D$41)","v":65418.628799999999},652.62,"шт",null,0,0]
[null,"FSIV025P1M0250M","Ротаметр для жидкости плотностью - 1 кг/л, 20°C; окончания под клеевое соединение.  Материал колбы - Трогамид; материал поплавка -  PP(Полипропилен) красный c магнитом",25,"25 - 250 л/ч","FIP","RUB",{"$f":"J154*Оглавление!$E$23","v":65418.628799999999},{"$f":"H154*(1-Оглавление!$D$41)","v":65418.628799999999},652.62,"шт",null,0,0]
[null,"FSIV025P1M0700M","Ротаметр для жидкости плотностью - 1 кг/л, 20°C; окончания под клеевое соединение.  Материал колбы - Трогамид; материал поплавка -  PP(Полипропилен) красный c магнитом",25,"70 - 700 л/ч","FIP","RUB",{"$f":"J155*Оглавление!$E$23","v":65418.628799999999},{"$f":"H155*(1-Оглавление!$D$41)","v":65418.628799999999},652.62,"шт",null,0,0]
[null,"FSIV032P1M0250M","Ротаметр для жидкости плотностью - 1 кг/л, 20°C; окончания под клеевое соединение.  Материал колбы - Трогамид; материал поплавка -  PP(Полипропилен) красный c магнитом",32,"25 - 250 л/ч","FIP","RUB",{"$f":"J156*Оглавление!$E$23","v":71779.859200000006},{"$f":"H156*(1-Оглавление!$D$41)","v":71779.859200000006},716.08,"шт",null,0,0]
[null,"FSIV032P1M0650M","Ротаметр для жидкости плотностью - 1 кг/л, 20°C; окончания под клеевое соединение.  Материал колбы - Трогамид; материал поплавка -  PP(Полипропилен) красный c магнитом",32,"65 - 650 л/ч","FIP","RUB",{"$f":"J157*Оглавление!$E$23","v":71779.859200000006},{"$f":"H157*(1-Оглавление!$D$41)","v":71779.859200000006},716.08,"шт",null,0,0]
[null,"FSIV032P1M1000M","Ротаметр для жидкости плотностью - 1 кг/л, 20°C; окончания под клеевое соединение.  Материал колбы - Трогамид; материал поплавка -  PP(Полипропилен) красный c магнитом",32,"100 - 1000 л/ч","FIP","RUB",{"$f":"J158*Оглавление!$E$23","v":71779.859200000006},{"$f":"H158*(1-Оглавление!$D$41)","v":71779.859200000006},716.08,"шт",null,0,0]
[null,"FSIV040P1M1600M","Ротаметр для жидкости плотностью - 1 кг/л, 20°C; окончания под клеевое соединение.  Материал колбы - Трогамид; материал поплавка -  PP(Полипропилен) красный c магнитом",40,"160 - 1600 л/ч","FIP","RUB",{"$f":"J159*Оглавление!$E$23","v":89492.267199999987},{"$f":"H159*(1-Оглавление!$D$41)","v":89492.267199999987},892.78,"шт",null,0,0]
[null,"FSIV040P1M2500M","Ротаметр для жидкости плотностью - 1 кг/л, 20°C; окончания под клеевое соединение.  Материал колбы - Трогамид; материал поплавка -  PP(Полипропилен) красный c магнитом",40,"200 - 2500 л/ч","FIP","RUB",{"$f":"J160*Оглавление!$E$23","v":89492.267199999987},{"$f":"H160*(1-Оглавление!$D$41)","v":89492.267199999987},892.78,"шт",null,0,0]
[null,"FSIV050P1M2500M","Ротаметр для жидкости плотностью - 1 кг/л, 20°C; окончания под клеевое соединение.  Материал колбы - Трогамид; материал поплавка -  PP(Полипропилен) красный c магнитом",50,"250 - 2500 л/ч","FIP","RUB",{"$f":"J161*Оглавление!$E$23","v":107210.6896},{"$f":"H161*(1-Оглавление!$D$41)","v":107210.6896},1069.54,"шт",null,0,0]
[null,"FSIV063P1M3500M","Ротаметр для жидкости плотностью - 1 кг/л, 20°C; окончания под клеевое соединение.  Материал колбы - Трогамид; материал поплавка -  PP(Полипропилен) красный c магнитом",63,"350 - 3500 л/ч","FIP","RUB",{"$f":"J162*Оглавление!$E$23","v":139912.9872},{"$f":"H162*(1-Оглавление!$D$41)","v":139912.9872},1395.78,"шт",null,0,0]
[null,"FSIV063P1M5000M","Ротаметр для жидкости плотностью - 1 кг/л, 20°C; окончания под клеевое соединение.  Материал колбы - Трогамид; материал поплавка -  PP(Полипропилен) красный c магнитом",63,"500 - 5000 л/ч","FIP","RUB",{"$f":"J163*Оглавление!$E$23","v":139912.9872},{"$f":"H163*(1-Оглавление!$D$41)","v":139912.9872},1395.78,"шт",null,0,0]
[null,"FSIV075P1M8000M","Ротаметр для жидкости плотностью - 1 кг/л, 20°C; окончания под клеевое соединение.  Материал колбы - Трогамид; материал поплавка -  PP(Полипропилен) красный c магнитом",75,"1000 - 8000 л/ч","FIP","RUB",{"$f":"J164*Оглавление!$E$23","v":251664.54879999999},{"$f":"H164*(1-Оглавление!$D$41)","v":251664.54879999999},2510.62,"шт",null,0,0]
[null,"FSIV075P1M0010M","Ротаметр для жидкости плотностью - 1 кг/л, 20°C; окончания под клеевое соединение.  Материал колбы - Трогамид; материал поплавка -  PP(Полипропилен) красный c магнитом",75,"1000 - 10000 л/ч","FIP","RUB",{"$f":"J165*Оглавление!$E$23","v":251664.54879999999},{"$f":"H165*(1-Оглавление!$D$41)","v":251664.54879999999},2510.62,"шт",null,0,0]
[null,"FSIV075P1M0025M","Ротаметр для жидкости плотностью - 1 кг/л, 20°C; окончания под клеевое соединение.  Материал колбы - Трогамид; материал поплавка -  PP(Полипропилен) красный c магнитом",75,"5000 - 25000 л/ч","FIP","RUB",{"$f":"J166*Оглавление!$E$23","v":251664.54879999999},{"$f":"H166*(1-Оглавление!$D$41)","v":251664.54879999999},2510.62,"шт",null,0,0]
[null,"FSIV025P2M0420M","Ротаметр для жидкости плотностью - 1,16 кг/л, 20°C; окончания метрической серии под холодную сварку; материал колбы - Полисульфон; материал поплавка - красный полипропилен (PP)  с магнитом",25,"42 - 420 л/ч","FIP","RUB",{"$f":"J167*Оглавление!$E$23","v":65419.54041875829},{"$f":"H167*(1-Оглавление!$D$41)","v":65419.54041875829},652.62909436111624,"шт",null,{"$f":"L167*H167","v":0},{"$f":"L167*I167","v":0}]
[null,"FSIV032P2M0230M","Ротаметр для жидкости плотностью - 1,16 кг/л, 20°C; окончания метрической серии под холодную сварку; материал колбы - Полисульфон; материал поплавка - красный полипропилен (PP)  с магнитом",32,"23 - 230 л/ч","FIP","RUB",{"$f":"J168*Оглавление!$E$23","v":71779.859200000006},{"$f":"H168*(1-Оглавление!$D$41)","v":71779.859200000006},716.08,"шт",null,0,0]
[null,"FSIV032P2M0370M","Ротаметр для жидкости плотностью - 1,16 кг/л, 20°C; окончания метрической серии под холодную сварку; материал колбы - Полисульфон; материал поплавка - красный полипропилен (PP)  с магнитом",32,"37 - 370 л/ч","FIP","RUB",{"$f":"J169*Оглавление!$E$23","v":71779.859200000006},{"$f":"H169*(1-Оглавление!$D$41)","v":71779.859200000006},716.08,"шт",null,0,0]
[null,"FSIV032P2M0600M","Ротаметр для жидкости плотностью - 1,16 кг/л, 20°C; окончания метрической серии под холодную сварку; материал колбы - Полисульфон; материал поплавка - красный полипропилен (PP)  с магнитом",32,"60 - 600 л/ч","FIP","RUB",{"$f":"J170*Оглавление!$E$23","v":71779.859200000006},{"$f":"H170*(1-Оглавление!$D$41)","v":71779.859200000006},716.08,"шт",null,0,0]
[null,"FSIV032P2M0900M","Ротаметр для жидкости плотностью - 1,16 кг/л, 20°C; окончания метрической серии под холодную сварку; материал колбы - Полисульфон; материал поплавка - красный полипропилен (PP)  с магнитом",32,"90 - 900 л/ч","FIP","RUB",{"$f":"J171*Оглавление!$E$23","v":71779.859200000006},{"$f":"H171*(1-Оглавление!$D$41)","v":71779.859200000006},716.08,"шт",null,0,0]
[null,"FSIV040P2M2300M","Ротаметр для жидкости плотностью - 1,16 кг/л, 20°C; окончания метрической серии под холодную сварку; материал колбы - Полисульфон; материал поплавка - красный полипропилен (PP)  с магнитом",40,"200 - 2300 л/ч","FIP","RUB",{"$f":"J172*Оглавление!$E$23","v":89492.267199999987},{"$f":"H172*(1-Оглавление!$D$41)","v":89492.267199999987},892.78,"шт",null,0,0]
[null,"FSIV050P2M2300M","Ротаметр для жидкости плотностью - 1,16 кг/л, 20°C; окончания метрической серии под холодную сварку; материал колбы - Полисульфон; материал поплавка - красный полипропилен (PP)  с магнитом",50,"230 - 2300 л/ч","FIP","RUB",{"$f":"J173*Оглавление!$E$23","v":107210.6896},{"$f":"H173*(1-Оглавление!$D$41)","v":107210.6896},1069.54,"шт",null,0,0]
[null,"FSIV063P2M4600M","Ротаметр для жидкости плотностью - 1,16 кг/л, 20°C; окончания метрической серии под холодную сварку; материал колбы - Полисульфон; материал поплавка - красный полипропилен (PP)  с магнитом",63,"470 - 4600 л/ч","FIP","RUB",{"$f":"J174*Оглавление!$E$23","v":139912.9872},{"$f":"H174*(1-Оглавление!$D$41)","v":139912.9872},1395.78,"шт",null,0,0]
[null,"FSIV025D0M0025","Ротаметр для воздуха; абсолютное давление: 1,013 бар, 20°C; окончания под клеевое соедиенение; материал колбы - Трогамид; материал поплавка - красный полипропилен (PP) ",25,"0.2 - 2.5 Nм3/ч","FIP","RUB",{"$f":"J175*Оглавление!$E$23","v":40891.905599999998},{"$f":"H175*(1-Оглавление!$D$41)","v":40891.905599999998},407.94,"шт",null,0,0]
[null,"FSIV025D0M0004","Ротаметр для воздуха; абсолютное давление: 1,013 бар, 20°C; окончания под клеевое соедиенение; материал колбы - Трогамид; материал поплавка - красный полипропилен (PP) ",25,"0.3 - 4 Nм3/ч","FIP","RUB",{"$f":"J176*Оглавление!$E$23","v":40891.905599999998},{"$f":"H176*(1-Оглавление!$D$41)","v":40891.905599999998},407.94,"шт",null,0,0]
[null,"FSIV025D0M0065","Ротаметр для воздуха; абсолютное давление: 1,013 бар, 20°C; окончания под клеевое соедиенение; материал колбы - Трогамид; материал поплавка - красный полипропилен (PP) ",25,"0.5 - 6.5 Nм3/ч","FIP","RUB",{"$f":"J177*Оглавление!$E$23","v":40891.905599999998},{"$f":"H177*(1-Оглавление!$D$41)","v":40891.905599999998},407.94,"шт",null,0,0]
[null,"FSIV025D0M0010","Ротаметр для воздуха; абсолютное давление: 1,013 бар, 20°C; окончания под клеевое соедиенение; материал колбы - Трогамид; материал поплавка - красный полипропилен (PP) ",25,"1-10 Nм3/ч","FIP","RUB",{"$f":"J178*Оглавление!$E$23","v":40891.905599999998},{"$f":"H178*(1-Оглавление!$D$41)","v":40891.905599999998},407.94,"шт",null,0,0]
[null,"FSIV032D0M0004","Ротаметр для воздуха; абсолютное давление: 1,013 бар, 20°C; окончания под клеевое соедиенение; материал колбы - Трогамид; материал поплавка - красный полипропилен (PP) ",25,"0.4 - 4 Nм3/ч","FIP","RUB",{"$f":"J179*Оглавление!$E$23","v":45887.867199999993},{"$f":"H179*(1-Оглавление!$D$41)","v":45887.867199999993},457.78,"шт",null,0,0]
[null,"FSIV032D0M0065","Ротаметр для воздуха; абсолютное давление: 1,013 бар, 20°C; окончания под клеевое соедиенение; материал колбы - Трогамид; материал поплавка - красный полипропилен (PP) ",32,"0.5 - 6.5 Nм3/ч","FIP","RUB",{"$f":"J180*Оглавление!$E$23","v":45887.867199999993},{"$f":"H180*(1-Оглавление!$D$41)","v":45887.867199999993},457.78,"шт",null,0,0]
[null,"FSIV032D0M0010","Ротаметр для воздуха; абсолютное давление: 1,013 бар, 20°C; окончания под клеевое соедиенение; материал колбы - Трогамид; материал поплавка - красный полипропилен (PP) ",32,"1-10 Nм3/ч","FIP","RUB",{"$f":"J181*Оглавление!$E$23","v":45887.867199999993},{"$f":"H181*(1-Оглавление!$D$41)","v":45887.867199999993},457.78,"шт",null,0,0]
[null,"FSIV032D0M0016","Ротаметр для воздуха; абсолютное давление: 1,013 бар, 20°C; окончания под клеевое соедиенение; материал колбы - Трогамид; материал поплавка - красный полипропилен (PP) ",32,"1.5 - 16 Nм3/ч","FIP","RUB",{"$f":"J182*Оглавление!$E$23","v":45887.867199999993},{"$f":"H182*(1-Оглавление!$D$41)","v":45887.867199999993},457.78,"шт",null,0,0]
[null,"FSIV040D0M0016","Ротаметр для воздуха; абсолютное давление: 1,013 бар, 20°C; окончания под клеевое соедиенение; материал колбы - Трогамид; материал поплавка - красный полипропилен (PP) ",40,"1.5 - 16 Nм3/ч","FIP","RUB",{"$f":"J183*Оглавление!$E$23","v":61328.836800000005},{"$f":"H183*(1-Оглавление!$D$41)","v":61328.836800000005},611.82000000000005,"шт",null,0,0]
[null,"FSIV040D0M0025","Ротаметр для воздуха; абсолютное давление: 1,013 бар, 20°C; окончания под клеевое соедиенение; материал колбы - Трогамид; материал поплавка - красный полипропилен (PP) ",40,"2-25 Nм3/ч","FIP","RUB",{"$f":"J184*Оглавление!$E$23","v":61328.836800000005},{"$f":"H184*(1-Оглавление!$D$41)","v":61328.836800000005},611.82000000000005,"шт",null,0,0]
[null,"FSIV040D0M0040","Ротаметр для воздуха; абсолютное давление: 1,013 бар, 20°C; окончания под клеевое соедиенение; материал колбы - Трогамид; материал поплавка - красный полипропилен (PP) ",40,"4-40 Nм3/ч","FIP","RUB",{"$f":"J185*Оглавление!$E$23","v":61328.836800000005},{"$f":"H185*(1-Оглавление!$D$41)","v":61328.836800000005},611.82000000000005,"шт",null,0,0]
[null,"FSIV050D0M0025","Ротаметр для воздуха; абсолютное давление: 1,013 бар, 20°C; окончания под клеевое соедиенение; материал колбы - Трогамид; материал поплавка - красный полипропилен (PP) ",50,"2-25 Nм3/ч","FIP","RUB",{"$f":"J186*Оглавление!$E$23","v":71328.779200000004},{"$f":"H186*(1-Оглавление!$D$41)","v":71328.779200000004},711.58,"шт",null,0,0]
[null,"FSIV050D0M0040","Ротаметр для воздуха; абсолютное давление: 1,013 бар, 20°C; окончания под клеевое соедиенение; материал колбы - Трогамид; материал поплавка - красный полипропилен (PP) ",50,"4-40 Nм3/ч","FIP","RUB",{"$f":"J187*Оглавление!$E$23","v":71328.779200000004},{"$f":"H187*(1-Оглавление!$D$41)","v":71328.779200000004},711.58,"шт",null,0,0]
[null,"FSIV050D0M0050","Ротаметр для воздуха; абсолютное давление: 1,013 бар, 20°C; окончания под клеевое соедиенение; материал колбы - Трогамид; материал поплавка - красный полипропилен (PP) ",50,"5-50 Nм3/ч","FIP","RUB",{"$f":"J188*Оглавление!$E$23","v":71328.779200000004},{"$f":"H188*(1-Оглавление!$D$41)","v":71328.779200000004},711.58,"шт",null,0,0]
[null,"FSIV063D0M0040","Ротаметр для воздуха; абсолютное давление: 1,013 бар, 20°C; окончания под клеевое соедиенение; материал колбы - Трогамид; материал поплавка - красный полипропилен (PP) ",63,"4-40 Nм3/ч","FIP","RUB",{"$f":"J189*Оглавление!$E$23","v":93814.615999999995},{"$f":"H189*(1-Оглавление!$D$41)","v":93814.615999999995},935.9,"шт",null,0,0]
[null,"FSIV063D0M0064","Ротаметр для воздуха; абсолютное давление: 1,013 бар, 20°C; окончания под клеевое соедиенение; материал колбы - Трогамид; материал поплавка - красный полипропилен (PP) ",63,"6-64 Nм3/ч","FIP","RUB",{"$f":"J190*Оглавление!$E$23","v":93814.615999999995},{"$f":"H190*(1-Оглавление!$D$41)","v":93814.615999999995},935.9,"шт",null,0,0]
[null,"FSIV063D0M0100","Ротаметр для воздуха; абсолютное давление: 1,013 бар, 20°C; окончания под клеевое соедиенение; материал колбы - Трогамид; материал поплавка - красный полипропилен (PP) ",63,"10 - 100 Nм3/ч","FIP","RUB",{"$f":"J191*Оглавление!$E$23","v":93814.615999999995},{"$f":"H191*(1-Оглавление!$D$41)","v":93814.615999999995},935.9,"шт",null,0,0]
[null,"FSIV075D0M0140","Ротаметр для воздуха; абсолютное давление: 1,013 бар, 20°C; окончания под клеевое соедиенение; материал колбы - Трогамид; материал поплавка - красный полипропилен (PP) ",75,"15 - 140 Nм3/ч","FIP","RUB",{"$f":"J192*Оглавление!$E$23","v":166075.62719999999},{"$f":"H192*(1-Оглавление!$D$41)","v":166075.62719999999},1656.78,"шт",null,0,0]
[null,"FSIV075D0M0200","Ротаметр для воздуха; абсолютное давление: 1,013 бар, 20°C; окончания под клеевое соедиенение; материал колбы - Трогамид; материал поплавка - красный полипропилен (PP) ",75,"20 - 200 Nм3/ч","FIP","RUB",{"$f":"J193*Оглавление!$E$23","v":166075.62719999999},{"$f":"H193*(1-Оглавление!$D$41)","v":166075.62719999999},1656.78,"шт",null,0,0]
[null,"FSIV075D0M0500","Ротаметр для воздуха; абсолютное давление: 1,013 бар, 20°C; окончания под клеевое соедиенение; материал колбы - Трогамид; материал поплавка - красный полипропилен (PP) ",75,"50 - 500 Nм3/ч","FIP","RUB",{"$f":"J194*Оглавление!$E$23","v":166075.62719999999},{"$f":"H194*(1-Оглавление!$D$41)","v":166075.62719999999},1656.78,"шт",null,0,0]
[null,"FSIV025D0M0006M","Ротаметр для воздуха; абсолютное давление: 1,013 бар, 20°C; окончания под клеевое соедиенение; материал колбы - Трогамид; материал поплавка - красный полипропилен (PP) с магнитом",25,"0.6 - 6 Nм3/ч","FIP","RUB",{"$f":"J195*Оглавление!$E$23","v":57702.153599999998},{"$f":"H195*(1-Оглавление!$D$41)","v":57702.153599999998},575.64,"шт",null,0,0]
[null,"FSIV025D0M0010M","Ротаметр для воздуха; абсолютное давление: 1,013 бар, 20°C; окончания под клеевое соедиенение; материал колбы - Трогамид; материал поплавка - красный полипропилен (PP) с магнитом",25,"1-10 Nм3/ч","FIP","RUB",{"$f":"J196*Оглавление!$E$23","v":57702.153599999998},{"$f":"H196*(1-Оглавление!$D$41)","v":57702.153599999998},575.64,"шт",null,0,0]
[null,"FSIV025D0M0025M","Ротаметр для воздуха; абсолютное давление: 1,013 бар, 20°C; окончания под клеевое соедиенение; материал колбы - Трогамид; материал поплавка - красный полипропилен (PP) с магнитом",25,"2.5 - 25 Nм3/ч","FIP","RUB",{"$f":"J197*Оглавление!$E$23","v":57702.153599999998},{"$f":"H197*(1-Оглавление!$D$41)","v":57702.153599999998},575.64,"шт",null,0,0]
[null,"FSIV032D0M0010M","Ротаметр для воздуха; абсолютное давление: 1,013 бар, 20°C; окончания под клеевое соедиенение; материал колбы - Трогамид; материал поплавка - красный полипропилен (PP) с магнитом",32,"1-10 Nм3/ч","FIP","RUB",{"$f":"J198*Оглавление!$E$23","v":61777.911999999989},{"$f":"H198*(1-Оглавление!$D$41)","v":61777.911999999989},616.29999999999995,"шт",null,0,0]
[null,"FSIV032D0M0016M","Ротаметр для воздуха; абсолютное давление: 1,013 бар, 20°C; окончания под клеевое соедиенение; материал колбы - Трогамид; материал поплавка - красный полипропилен (PP) с магнитом",32,"1.6 - 16 Nм3/ч","FIP","RUB",{"$f":"J199*Оглавление!$E$23","v":61777.911999999989},{"$f":"H199*(1-Оглавление!$D$41)","v":61777.911999999989},616.29999999999995,"шт",null,0,0]
[null,"FSIV032D0M0025M","Ротаметр для воздуха; абсолютное давление: 1,013 бар, 20°C; окончания под клеевое соедиенение; материал колбы - Трогамид; материал поплавка - красный полипропилен (PP) с магнитом",32,"2.5 - 25 Nм3/ч","FIP","RUB",{"$f":"J200*Оглавление!$E$23","v":61777.911999999989},{"$f":"H200*(1-Оглавление!$D$41)","v":61777.911999999989},616.29999999999995,"шт",null,{"$f":"L200*H200","v":0},{"$f":"L200*I200","v":0}]
[null,"FSIV032D0M0040M","Ротаметр для воздуха; абсолютное давление: 1,013 бар, 20°C; окончания под клеевое соедиенение; материал колбы - Трогамид; материал поплавка - красный полипропилен (PP) с магнитом",32,"4-40 Nм3/ч","FIP","RUB",{"$f":"J201*Оглавление!$E$23","v":61777.911999999989},{"$f":"H201*(1-Оглавление!$D$41)","v":61777.911999999989},616.29999999999995,"шт",null,0,0]
[null,"FSIV040D0M0040M","Ротаметр для воздуха; абсолютное давление: 1,013 бар, 20°C; окончания под клеевое соедиенение; материал колбы - Трогамид; материал поплавка - красный полипропилен (PP) с магнитом",40,"4-40 Nм3/ч","FIP","RUB",{"$f":"J202*Оглавление!$E$23","v":78596.179199999999},{"$f":"H202*(1-Оглавление!$D$41)","v":78596.179199999999},784.08,"шт",null,0,0]
[null,"FSIV040D0M0060M","Ротаметр для воздуха; абсолютное давление: 1,013 бар, 20°C; окончания под клеевое соедиенение; материал колбы - Трогамид; материал поплавка - красный полипропилен (PP) с магнитом",40,"6-60 Nм3/ч","FIP","RUB",{"$f":"J203*Оглавление!$E$23","v":78596.179199999999},{"$f":"H203*(1-Оглавление!$D$41)","v":78596.179199999999},784.08,"шт",null,0,0]
[null,"FSIV040D0M0100M","Ротаметр для воздуха; абсолютное давление: 1,013 бар, 20°C; окончания под клеевое соедиенение; материал колбы - Трогамид; материал поплавка - красный полипропилен (PP) с магнитом",40,"10 - 100 Nм3/ч","FIP","RUB",{"$f":"J204*Оглавление!$E$23","v":78596.179199999999},{"$f":"H204*(1-Оглавление!$D$41)","v":78596.179199999999},784.08,"шт",null,0,0]
[null,"FSIV050D0M0100M","Ротаметр для воздуха; абсолютное давление: 1,013 бар, 20°C; окончания под клеевое соедиенение; материал колбы - Трогамид; материал поплавка - красный полипропилен (PP) с магнитом",50,"10 - 100 Nм3/ч","FIP","RUB",{"$f":"J205*Оглавление!$E$23","v":89748.881599999993},{"$f":"H205*(1-Оглавление!$D$41)","v":89748.881599999993},895.34,"шт",null,0,0]
[null,"FSIV063D0M0100M","Ротаметр для воздуха; абсолютное давление: 1,013 бар, 20°C; окончания под клеевое соедиенение; материал колбы - Трогамид; материал поплавка - красный полипропилен (PP) с магнитом",63,"10 - 100 Nм3/ч","FIP","RUB",{"$f":"J206*Оглавление!$E$23","v":117122.42080000001},{"$f":"H206*(1-Оглавление!$D$41)","v":117122.42080000001},1168.42,"шт",null,0,0]
[null,"FSIV063D0M0160M","Ротаметр для воздуха; абсолютное давление: 1,013 бар, 20°C; окончания под клеевое соедиенение; материал колбы - Трогамид; материал поплавка - красный полипропилен (PP) с магнитом",63,"16 - 160 Nм3/ч","FIP","RUB",{"$f":"J207*Оглавление!$E$23","v":117122.42080000001},{"$f":"H207*(1-Оглавление!$D$41)","v":117122.42080000001},1168.42,"шт",null,0,0]
[null,"FSIV063D0M0250M","Ротаметр для воздуха; абсолютное давление: 1,013 бар, 20°C; окончания под клеевое соедиенение; материал колбы - Трогамид; материал поплавка - красный полипропилен (PP) с магнитом",63,"25 - 250 Nм3/ч","FIP","RUB",{"$f":"J208*Оглавление!$E$23","v":117122.42080000001},{"$f":"H208*(1-Оглавление!$D$41)","v":117122.42080000001},1168.42,"шт",null,0,0]
[null,"FSIV075D0M0350M","Ротаметр для воздуха; абсолютное давление: 1,013 бар, 20°C; окончания под клеевое соедиенение; материал колбы - Трогамид; материал поплавка - красный полипропилен (PP) с магнитом",75,"35 - 350 Nм3/ч","FIP","RUB",{"$f":"J209*Оглавление!$E$23","v":211819.14879999997},{"$f":"H209*(1-Оглавление!$D$41)","v":211819.14879999997},2113.12,"шт",null,0,0]
[null,"FSIV075D0M0500M","Ротаметр для воздуха; абсолютное давление: 1,013 бар, 20°C; окончания под клеевое соедиенение; материал колбы - Трогамид; материал поплавка - красный полипропилен (PP) с магнитом",75,"50 - 5 00 Nм3/ч","FIP","RUB",{"$f":"J210*Оглавление!$E$23","v":211819.14879999997},{"$f":"H210*(1-Оглавление!$D$41)","v":211819.14879999997},2113.12,"шт",null,0,0]
[null,"FCIV016D1X0030","Компактный ротаметр для жидкости плотностью: 1 кг/л, 20°C; окончания под клеевое соединение; материал колбы - Трогамид; материал поплавка - нерж.сталь AISI316",16,"3-30 л/ч","FIP","RUB",{"$f":"J211*Оглавление!$E$23","v":26812.195200000002},{"$f":"H211*(1-Оглавление!$D$41)","v":26812.195200000002},267.48,"шт",null,0,0]
[null,"FCIV016D1X0040","Компактный ротаметр для жидкости плотностью: 1 кг/л, 20°C; окончания под клеевое соединение; материал колбы - Трогамид; материал поплавка - нерж.сталь AISI316",16,"4-40 л/ч","FIP","RUB",{"$f":"J212*Оглавление!$E$23","v":26812.195200000002},{"$f":"H212*(1-Оглавление!$D$41)","v":26812.195200000002},267.48,"шт",null,0,0]
[null,"FCIV016D1X0100","Компактный ротаметр для жидкости плотностью: 1 кг/л, 20°C; окончания под клеевое соединение; материал колбы - Трогамид; материал поплавка - нерж.сталь AISI316",16,"10 - 100 л/ч","FIP","RUB",{"$f":"J213*Оглавление!$E$23","v":26812.195200000002},{"$f":"H213*(1-Оглавление!$D$41)","v":26812.195200000002},267.48,"шт",null,0,0]
[null,"FCIV016D1X0200","Компактный ротаметр для жидкости плотностью: 1 кг/л, 20°C; окончания под клеевое соединение; материал колбы - Трогамид; материал поплавка - нерж.сталь AISI316",16,"20 - 200 л/ч","FIP","RUB",{"$f":"J214*Оглавление!$E$23","v":26812.195200000002},{"$f":"H214*(1-Оглавление!$D$41)","v":26812.195200000002},267.48,"шт",null,0,0]
[null,"FCIV016D1X0300","Компактный ротаметр для жидкости плотностью: 1 кг/л, 20°C; окончания под клеевое соединение; материал колбы - Трогамид; материал поплавка - нерж.сталь AISI316",16,"30 - 300 л/ч","FIP","RUB",{"$f":"J215*Оглавление!$E$23","v":26812.195200000002},{"$f":"H215*(1-Оглавление!$D$41)","v":26812.195200000002},267.48,"шт",null,0,0]
[null,"FCIV020D1X0050","Компактный ротаметр для жидкости плотностью: 1 кг/л, 20°C; окончания под клеевое соединение; материал колбы - Трогамид; материал поплавка - нерж.сталь AISI316",20,"5-50 л/ч","FIP","RUB",{"$f":"J216*Оглавление!$E$23","v":28167.439999999999},{"$f":"H216*(1-Оглавление!$D$41)","v":28167.439999999999},281,"шт",null,0,0]
[null,"FCIV020D1X0100","Компактный ротаметр для жидкости плотностью: 1 кг/л, 20°C; окончания под клеевое соединение; материал колбы - Трогамид; материал поплавка - нерж.сталь AISI316",20,"10 - 100 л/ч","FIP","RUB",{"$f":"J217*Оглавление!$E$23","v":28167.439999999999},{"$f":"H217*(1-Оглавление!$D$41)","v":28167.439999999999},281,"шт",null,0,0]
[null,"FCIV020D1X0160","Компактный ротаметр для жидкости плотностью: 1 кг/л, 20°C; окончания под клеевое соединение; материал колбы - Трогамид; материал поплавка - нерж.сталь AISI316",20,"15 - 160 л/ч","FIP","RUB",{"$f":"J218*Оглавление!$E$23","v":28167.439999999999},{"$f":"H218*(1-Оглавление!$D$41)","v":28167.439999999999},281,"шт",null,0,0]
[null,"FCIV020D1X0250","Компактный ротаметр для жидкости плотностью: 1 кг/л, 20°C; окончания под клеевое соединение; материал колбы - Трогамид; материал поплавка - нерж.сталь AISI316",20,"20 - 250 л/ч","FIP","RUB",{"$f":"J219*Оглавление!$E$23","v":28167.439999999999},{"$f":"H219*(1-Оглавление!$D$41)","v":28167.439999999999},281,"шт",null,0,0]
[null,"FCIV020D1X0350","Компактный ротаметр для жидкости плотностью: 1 кг/л, 20°C; окончания под клеевое соединение; материал колбы - Трогамид; материал поплавка - нерж.сталь AISI316",20,"35 - 350 л/ч","FIP","RUB",{"$f":"J220*Оглавление!$E$23","v":28167.439999999999},{"$f":"H220*(1-Оглавление!$D$41)","v":28167.439999999999},281,"шт",null,0,0]
[null,"FCIV020D1X0600","Компактный ротаметр для жидкости плотностью: 1 кг/л, 20°C; окончания под клеевое соединение; материал колбы - Трогамид; материал поплавка - нерж.сталь AISI316",20,"60 - 600 л/ч","FIP","RUB",{"$f":"J221*Оглавление!$E$23","v":28167.439999999999},{"$f":"H221*(1-Оглавление!$D$41)","v":28167.439999999999},281,"шт",null,0,0]
[null,"FCIV025D1X0150","Компактный ротаметр для жидкости плотностью: 1 кг/л, 20°C; окончания под клеевое соединение; материал колбы - Трогамид; материал поплавка - нерж.сталь AISI316",25,"15 - 150 л/ч","FIP","RUB",{"$f":"J222*Оглавление!$E$23","v":29526.6944},{"$f":"H222*(1-Оглавление!$D$41)","v":29526.6944},294.56,"шт",null,0,0]
[null,"FCIV025D1X0250","Компактный ротаметр для жидкости плотностью: 1 кг/л, 20°C; окончания под клеевое соединение; материал колбы - Трогамид; материал поплавка - нерж.сталь AISI316",25,"25 - 250 л/ч","FIP","RUB",{"$f":"J223*Оглавление!$E$23","v":29526.6944},{"$f":"H223*(1-Оглавление!$D$41)","v":29526.6944},294.56,"шт",null,0,0]
[null,"FCIV025D1X0400","Компактный ротаметр для жидкости плотностью: 1 кг/л, 20°C; окончания под клеевое соединение; материал колбы - Трогамид; материал поплавка - нерж.сталь AISI316",25,"40 - 400 л/ч","FIP","RUB",{"$f":"J224*Оглавление!$E$23","v":29526.6944},{"$f":"H224*(1-Оглавление!$D$41)","v":29526.6944},294.56,"шт",null,0,0]
[null,"FCIV025D1X0600","Компактный ротаметр для жидкости плотностью: 1 кг/л, 20°C; окончания под клеевое соединение; материал колбы - Трогамид; материал поплавка - нерж.сталь AISI316",25,"50 - 600 л/ч","FIP","RUB",{"$f":"J225*Оглавление!$E$23","v":29526.6944},{"$f":"H225*(1-Оглавление!$D$41)","v":29526.6944},294.56,"шт",null,0,0]
[null,"FCIV025D1X1100","Компактный ротаметр для жидкости плотностью: 1 кг/л, 20°C; окончания под клеевое соединение; материал колбы - Трогамид; материал поплавка - нерж.сталь AISI316",25,"100 - 1100 л/ч","FIP","RUB",{"$f":"J226*Оглавление!$E$23","v":29526.6944},{"$f":"H226*(1-Оглавление!$D$41)","v":29526.6944},294.56,"шт",null,0,0]
[null,"FCIV032D1X0400","Компактный ротаметр для жидкости плотностью: 1 кг/л, 20°C; окончания под клеевое соединение; материал колбы - Трогамид; материал поплавка - нерж.сталь AISI316",32,"40 - 400 л/ч","FIP","RUB",{"$f":"J227*Оглавление!$E$23","v":32716.331199999997},{"$f":"H227*(1-Оглавление!$D$41)","v":32716.331199999997},326.38,"шт",null,0,0]
[null,"FCIV032D1X0600","Компактный ротаметр для жидкости плотностью: 1 кг/л, 20°C; окончания под клеевое соединение; материал колбы - Трогамид; материал поплавка - нерж.сталь AISI316",32,"50 - 600 л/ч","FIP","RUB",{"$f":"J228*Оглавление!$E$23","v":32716.331199999997},{"$f":"H228*(1-Оглавление!$D$41)","v":32716.331199999997},326.38,"шт",null,0,0]
[null,"FCIV032D1X1000","Компактный ротаметр для жидкости плотностью: 1 кг/л, 20°C; окончания под клеевое соединение; материал колбы - Трогамид; материал поплавка - нерж.сталь AISI316",32,"100 - 1000 л/ч","FIP","RUB",{"$f":"J229*Оглавление!$E$23","v":32716.331199999997},{"$f":"H229*(1-Оглавление!$D$41)","v":32716.331199999997},326.38,"шт",null,0,0]
[null,"FCIV032D1X1500","Компактный ротаметр для жидкости плотностью: 1 кг/л, 20°C; окончания под клеевое соединение; материал колбы - Трогамид; материал поплавка - нерж.сталь AISI316",32,"150 - 1500 л/ч","FIP","RUB",{"$f":"J230*Оглавление!$E$23","v":32716.331199999997},{"$f":"H230*(1-Оглавление!$D$41)","v":32716.331199999997},326.38,"шт",null,0,0]
[null,"FCIV016P1X0030","Компактный ротаметр для жидкости плотностью: 1 кг/л, 20°C; окончания под клеевое соединение; материал колбы - Полисульфон; материал поплавка - нерж.сталь AISI316",16,"3-30 л/ч","FIP","RUB",{"$f":"J231*Оглавление!$E$23","v":29526.6944},{"$f":"H231*(1-Оглавление!$D$41)","v":29526.6944},294.56,"шт",null,0,0]
[null,"FCIV016P1X0040","Компактный ротаметр для жидкости плотностью: 1 кг/л, 20°C; окончания под клеевое соединение; материал колбы - Полисульфон; материал поплавка - нерж.сталь AISI316",16,"4-40 л/ч","FIP","RUB",{"$f":"J232*Оглавление!$E$23","v":29526.6944},{"$f":"H232*(1-Оглавление!$D$41)","v":29526.6944},294.56,"шт",null,0,0]
[null,"FCIV016P1X0100","Компактный ротаметр для жидкости плотностью: 1 кг/л, 20°C; окончания под клеевое соединение; материал колбы - Полисульфон; материал поплавка - нерж.сталь AISI316",16,"10 - 100 л/ч","FIP","RUB",{"$f":"J233*Оглавление!$E$23","v":29526.6944},{"$f":"H233*(1-Оглавление!$D$41)","v":29526.6944},294.56,"шт",null,0,0]
[null,"FCIV016P1X0200","Компактный ротаметр для жидкости плотностью: 1 кг/л, 20°C; окончания под клеевое соединение; материал колбы - Полисульфон; материал поплавка - нерж.сталь AISI316",16,"20 - 200 л/ч","FIP","RUB",{"$f":"J234*Оглавление!$E$23","v":29526.6944},{"$f":"H234*(1-Оглавление!$D$41)","v":29526.6944},294.56,"шт",null,0,0]
[null,"FCIV016P1X0300","Компактный ротаметр для жидкости плотностью: 1 кг/л, 20°C; окончания под клеевое соединение; материал колбы - Полисульфон; материал поплавка - нерж.сталь AISI316",16,"30 - 300 л/ч","FIP","RUB",{"$f":"J235*Оглавление!$E$23","v":29526.6944},{"$f":"H235*(1-Оглавление!$D$41)","v":29526.6944},294.56,"шт",null,0,0]
[null,"FCIV020P1X0050","Компактный ротаметр для жидкости плотностью: 1 кг/л, 20°C; окончания под клеевое соединение; материал колбы - Полисульфон; материал поплавка - нерж.сталь AISI316",20,"5-50 л/ч","FIP","RUB",{"$f":"J236*Оглавление!$E$23","v":31347.052800000001},{"$f":"H236*(1-Оглавление!$D$41)","v":31347.052800000001},312.72000000000003,"шт",null,0,0]
[null,"FCIV020P1X0100","Компактный ротаметр для жидкости плотностью: 1 кг/л, 20°C; окончания под клеевое соединение; материал колбы - Полисульфон; материал поплавка - нерж.сталь AISI316",20,"10 - 100 л/ч","FIP","RUB",{"$f":"J237*Оглавление!$E$23","v":31347.052800000001},{"$f":"H237*(1-Оглавление!$D$41)","v":31347.052800000001},312.72000000000003,"шт",null,0,0]
[null,"FCIV020P1X0160","Компактный ротаметр для жидкости плотностью: 1 кг/л, 20°C; окончания под клеевое соединение; материал колбы - Полисульфон; материал поплавка - нерж.сталь AISI316",20,"15 - 160 л/ч","FIP","RUB",{"$f":"J238*Оглавление!$E$23","v":31347.052800000001},{"$f":"H238*(1-Оглавление!$D$41)","v":31347.052800000001},312.72000000000003,"шт",null,0,0]
[null,"FCIV020P1X0250","Компактный ротаметр для жидкости плотностью: 1 кг/л, 20°C; окончания под клеевое соединение; материал колбы - Полисульфон; материал поплавка - нерж.сталь AISI316",20,"20 - 250 л/ч","FIP","RUB",{"$f":"J239*Оглавление!$E$23","v":31347.052800000001},{"$f":"H239*(1-Оглавление!$D$41)","v":31347.052800000001},312.72000000000003,"шт",null,0,0]
[null,"FCIV020P1X0350","Компактный ротаметр для жидкости плотностью: 1 кг/л, 20°C; окончания под клеевое соединение; материал колбы - Полисульфон; материал поплавка - нерж.сталь AISI316",20,"35 - 350 л/ч","FIP","RUB",{"$f":"J240*Оглавление!$E$23","v":31347.052800000001},{"$f":"H240*(1-Оглавление!$D$41)","v":31347.052800000001},312.72000000000003,"шт",null,0,0]
[null,"FCIV020P1X0600","Компактный ротаметр для жидкости плотностью: 1 кг/л, 20°C; окончания под клеевое соединение; материал колбы - Полисульфон; материал поплавка - нерж.сталь AISI316",20,"60 - 600 л/ч","FIP","RUB",{"$f":"J241*Оглавление!$E$23","v":31347.052800000001},{"$f":"H241*(1-Оглавление!$D$41)","v":31347.052800000001},312.72000000000003,"шт",null,0,0]
[null,"FCIV025P1X0150","Компактный ротаметр для жидкости плотностью: 1 кг/л, 20°C; окончания под клеевое соединение; материал колбы - Полисульфон; материал поплавка - нерж.сталь AISI316",25,"15 - 150 л/ч","FIP","RUB",{"$f":"J242*Оглавление!$E$23","v":33622.500800000002},{"$f":"H242*(1-Оглавление!$D$41)","v":33622.500800000002},335.42,"шт",null,0,0]
[null,"FCIV025P1X0250","Компактный ротаметр для жидкости плотностью: 1 кг/л, 20°C; окончания под клеевое соединение; материал колбы - Полисульфон; материал поплавка - нерж.сталь AISI316",25,"25 - 250 л/ч","FIP","RUB",{"$f":"J243*Оглавление!$E$23","v":33622.500800000002},{"$f":"H243*(1-Оглавление!$D$41)","v":33622.500800000002},335.42,"шт",null,0,0]
[null,"FCIV025P1X0400","Компактный ротаметр для жидкости плотностью: 1 кг/л, 20°C; окончания под клеевое соединение; материал колбы - Полисульфон; материал поплавка - нерж.сталь AISI316",25,"40 - 400 л/ч","FIP","RUB",{"$f":"J244*Оглавление!$E$23","v":33622.500800000002},{"$f":"H244*(1-Оглавление!$D$41)","v":33622.500800000002},335.42,"шт",null,0,0]
[null,"FCIV025P1X0600","Компактный ротаметр для жидкости плотностью: 1 кг/л, 20°C; окончания под клеевое соединение; материал колбы - Полисульфон; материал поплавка - нерж.сталь AISI316",25,"50 - 600 л/ч","FIP","RUB",{"$f":"J245*Оглавление!$E$23","v":33622.500800000002},{"$f":"H245*(1-Оглавление!$D$41)","v":33622.500800000002},335.42,"шт",null,0,0]
[null,"FCIV025P1X1100","Компактный ротаметр для жидкости плотностью: 1 кг/л, 20°C; окончания под клеевое соединение; материал колбы - Полисульфон; материал поплавка - нерж.сталь AISI316",25,"100 - 1100 л/ч","FIP","RUB",{"$f":"J246*Оглавление!$E$23","v":33622.500800000002},{"$f":"H246*(1-Оглавление!$D$41)","v":33622.500800000002},335.42,"шт",null,0,0]
[null,"FCIV032P1X0400","Компактный ротаметр для жидкости плотностью: 1 кг/л, 20°C; окончания под клеевое соединение; материал колбы - Полисульфон; материал поплавка - нерж.сталь AISI316",32,"40 - 400 л/ч","FIP","RUB",{"$f":"J247*Оглавление!$E$23","v":37714.297599999998},{"$f":"H247*(1-Оглавление!$D$41)","v":37714.297599999998},376.24,"шт",null,0,0]
[null,"FCIV032P1X0600","Компактный ротаметр для жидкости плотностью: 1 кг/л, 20°C; окончания под клеевое соединение; материал колбы - Полисульфон; материал поплавка - нерж.сталь AISI316",32,"50 - 600 л/ч","FIP","RUB",{"$f":"J248*Оглавление!$E$23","v":37714.297599999998},{"$f":"H248*(1-Оглавление!$D$41)","v":37714.297599999998},376.24,"шт",null,0,0]
[null,"FCIV032P1X1000","Компактный ротаметр для жидкости плотностью: 1 кг/л, 20°C; окончания под клеевое соединение; материал колбы - Полисульфон; материал поплавка - нерж.сталь AISI316",32,"100 - 1000 л/ч","FIP","RUB",{"$f":"J249*Оглавление!$E$23","v":37714.297599999998},{"$f":"H249*(1-Оглавление!$D$41)","v":37714.297599999998},376.24,"шт",null,0,0]
[null,"FCIV032P1X1500","Компактный ротаметр для жидкости плотностью: 1 кг/л, 20°C; окончания под клеевое соединение; материал колбы - Полисульфон; материал поплавка - нерж.сталь AISI316",32,"150 - 1500 л/ч","FIP","RUB",{"$f":"J250*Оглавление!$E$23","v":37714.297599999998},{"$f":"H250*(1-Оглавление!$D$41)","v":37714.297599999998},376.24,"шт",null,0,0]
[null,"FCIV016D1M0015","Компактный ротаметр для жидкости плотностью: 1 кг/л, 20°C; окончания под клеевое соединение; материал колбы - Трогамид; Материал поплавка - красный полипропилен (PP)",16,"1.5 - 15 л/ч","FIP","RUB",{"$f":"J251*Оглавление!$E$23","v":26812.195200000002},{"$f":"H251*(1-Оглавление!$D$41)","v":26812.195200000002},267.48,"шт",null,{"$f":"L251*H251","v":0},{"$f":"L251*I251","v":0}]
[null,"FCIV016D1M0020","Компактный ротаметр для жидкости плотностью: 1 кг/л, 20°C; окончания под клеевое соединение; материал колбы - Трогамид; Материал поплавка - красный полипропилен (PP)",16,"2-20 л/ч","FIP","RUB",{"$f":"J252*Оглавление!$E$23","v":26812.195200000002},{"$f":"H252*(1-Оглавление!$D$41)","v":26812.195200000002},267.48,"шт",null,0,0]
[null,"FCIV016D1M0050","Компактный ротаметр для жидкости плотностью: 1 кг/л, 20°C; окончания под клеевое соединение; материал колбы - Трогамид; Материал поплавка - красный полипропилен (PP)",16,"5-50 л/ч","FIP","RUB",{"$f":"J253*Оглавление!$E$23","v":26812.195200000002},{"$f":"H253*(1-Оглавление!$D$41)","v":26812.195200000002},267.48,"шт",null,0,0]
[null,"FCIV016D1M0100","Компактный ротаметр для жидкости плотностью: 1 кг/л, 20°C; окончания под клеевое соединение; материал колбы - Трогамид; Материал поплавка - красный полипропилен (PP)",16,"10 - 100 л/ч","FIP","RUB",{"$f":"J254*Оглавление!$E$23","v":26812.195200000002},{"$f":"H254*(1-Оглавление!$D$41)","v":26812.195200000002},267.48,"шт",null,0,0]
[null,"FCIV016D1M0150","Компактный ротаметр для жидкости плотностью: 1 кг/л, 20°C; окончания под клеевое соединение; материал колбы - Трогамид; Материал поплавка - красный полипропилен (PP)",16,"15 - 150 л/ч","FIP","RUB",{"$f":"J255*Оглавление!$E$23","v":26812.195200000002},{"$f":"H255*(1-Оглавление!$D$41)","v":26812.195200000002},267.48,"шт",null,0,0]
[null,"FCIV020D1M0025","Компактный ротаметр для жидкости плотностью: 1 кг/л, 20°C; окончания под клеевое соединение; материал колбы - Трогамид; Материал поплавка - красный полипропилен (PP)",20,"2-25 л/ч","FIP","RUB",{"$f":"J256*Оглавление!$E$23","v":28167.439999999999},{"$f":"H256*(1-Оглавление!$D$41)","v":28167.439999999999},281,"шт",null,0,0]
[null,"FCIV020D1M0050","Компактный ротаметр для жидкости плотностью: 1 кг/л, 20°C; окончания под клеевое соединение; материал колбы - Трогамид; Материал поплавка - красный полипропилен (PP)",20,"5-50 л/ч","FIP","RUB",{"$f":"J257*Оглавление!$E$23","v":28167.439999999999},{"$f":"H257*(1-Оглавление!$D$41)","v":28167.439999999999},281,"шт",null,0,0]
[null,"FCIV020D1M0100","Компактный ротаметр для жидкости плотностью: 1 кг/л, 20°C; окончания под клеевое соединение; материал колбы - Трогамид; Материал поплавка - красный полипропилен (PP)",20,"10 - 100 л/ч","FIP","RUB",{"$f":"J258*Оглавление!$E$23","v":28167.439999999999},{"$f":"H258*(1-Оглавление!$D$41)","v":28167.439999999999},281,"шт",null,0,0]
[null,"FCIV020D1M0150","Компактный ротаметр для жидкости плотностью: 1 кг/л, 20°C; окончания под клеевое соединение; материал колбы - Трогамид; Материал поплавка - красный полипропилен (PP)",20,"15 - 150 л/ч","FIP","RUB",{"$f":"J259*Оглавление!$E$23","v":28167.439999999999},{"$f":"H259*(1-Оглавление!$D$41)","v":28167.439999999999},281,"шт",null,0,0]
[null,"FCIV020D1M0200","Компактный ротаметр для жидкости плотностью: 1 кг/л, 20°C; окончания под клеевое соединение; материал колбы - Трогамид; Материал поплавка - красный полипропилен (PP)",20,"20 - 200 л/ч","FIP","RUB",{"$f":"J260*Оглавление!$E$23","v":28167.439999999999},{"$f":"H260*(1-Оглавление!$D$41)","v":28167.439999999999},281,"шт",null,0,0]
[null,"FCIV020D1M0320","Компактный ротаметр для жидкости плотностью: 1 кг/л, 20°C; окончания под клеевое соединение; материал колбы - Трогамид; Материал поплавка - красный полипропилен (PP)",20,"30 - 320 л/ч","FIP","RUB",{"$f":"J261*Оглавление!$E$23","v":28167.439999999999},{"$f":"H261*(1-Оглавление!$D$41)","v":28167.439999999999},281,"шт",null,0,0]
[null,"FCIV025D1M0080","Компактный ротаметр для жидкости плотностью: 1 кг/л, 20°C; окончания под клеевое соединение; материал колбы - Трогамид; Материал поплавка - красный полипропилен (PP)",25,"8-80 л/ч","FIP","RUB",{"$f":"J262*Оглавление!$E$23","v":29526.6944},{"$f":"H262*(1-Оглавление!$D$41)","v":29526.6944},294.56,"шт",null,0,0]
[null,"FCIV025D1M0150","Компактный ротаметр для жидкости плотностью: 1 кг/л, 20°C; окончания под клеевое соединение; материал колбы - Трогамид; Материал поплавка - красный полипропилен (PP)",25,"15 - 150 л/ч","FIP","RUB",{"$f":"J263*Оглавление!$E$23","v":29526.6944},{"$f":"H263*(1-Оглавление!$D$41)","v":29526.6944},294.56,"шт",null,0,0]
[null,"FCIV025D1M0200","Компактный ротаметр для жидкости плотностью: 1 кг/л, 20°C; окончания под клеевое соединение; материал колбы - Трогамид; Материал поплавка - красный полипропилен (PP)",25,"20 - 200 л/ч","FIP","RUB",{"$f":"J264*Оглавление!$E$23","v":29526.6944},{"$f":"H264*(1-Оглавление!$D$41)","v":29526.6944},294.56,"шт",null,0,0]
[null,"FCIV025D1M0350","Компактный ротаметр для жидкости плотностью: 1 кг/л, 20°C; окончания под клеевое соединение; материал колбы - Трогамид; Материал поплавка - красный полипропилен (PP)",25,"30 - 350 л/ч","FIP","RUB",{"$f":"J265*Оглавление!$E$23","v":29526.6944},{"$f":"H265*(1-Оглавление!$D$41)","v":29526.6944},294.56,"шт",null,0,0]
[null,"FCIV025D1M0650","Компактный ротаметр для жидкости плотностью: 1 кг/л, 20°C; окончания под клеевое соединение; материал колбы - Трогамид; Материал поплавка - красный полипропилен (PP)",25,"50 - 650 л/ч","FIP","RUB",{"$f":"J266*Оглавление!$E$23","v":29526.6944},{"$f":"H266*(1-Оглавление!$D$41)","v":29526.6944},294.56,"шт",null,0,0]
[null,"FCIV032D1M0200","Компактный ротаметр для жидкости плотностью: 1 кг/л, 20°C; окончания под клеевое соединение; материал колбы - Трогамид; Материал поплавка - красный полипропилен (PP)",32,"20 - 200 л/ч","FIP","RUB",{"$f":"J267*Оглавление!$E$23","v":32716.331199999997},{"$f":"H267*(1-Оглавление!$D$41)","v":32716.331199999997},326.38,"шт",null,0,0]
[null,"FCIV032D1M0300","Компактный ротаметр для жидкости плотностью: 1 кг/л, 20°C; окончания под клеевое соединение; материал колбы - Трогамид; Материал поплавка - красный полипропилен (PP)",32,"30 - 300 л/ч","FIP","RUB",{"$f":"J268*Оглавление!$E$23","v":32716.331199999997},{"$f":"H268*(1-Оглавление!$D$41)","v":32716.331199999997},326.38,"шт",null,0,0]
[null,"FCIV032D1M0600","Компактный ротаметр для жидкости плотностью: 1 кг/л, 20°C; окончания под клеевое соединение; материал колбы - Трогамид; Материал поплавка - красный полипропилен (PP)",32,"60 - 600 л/ч","FIP","RUB",{"$f":"J269*Оглавление!$E$23","v":32716.331199999997},{"$f":"H269*(1-Оглавление!$D$41)","v":32716.331199999997},326.38,"шт",null,0,0]
[null,"FCIV032D1M1000","Компактный ротаметр для жидкости плотностью: 1 кг/л, 20°C; окончания под клеевое соединение; материал колбы - Трогамид; Материал поплавка - красный полипропилен (PP)",32,"100 - 1000 л/ч","FIP","RUB",{"$f":"J270*Оглавление!$E$23","v":32716.331199999997},{"$f":"H270*(1-Оглавление!$D$41)","v":32716.331199999997},326.38,"шт",null,0,0]
[null,"FCIV016P1M0015","Компактный ротаметр для жидкости плотностью: 1 кг/л, 20°C; окончания под клеевое соединение; материал колбы - Полисульфон; материал поплавка: красный полипропилен (PP)",16,"1.5 - 15 л/ч","FIP","RUB",{"$f":"J271*Оглавление!$E$23","v":29526.6944},{"$f":"H271*(1-Оглавление!$D$41)","v":29526.6944},294.56,"шт",null,0,0]
[null,"FCIV016P1M0020","Компактный ротаметр для жидкости плотностью: 1 кг/л, 20°C; окончания под клеевое соединение; материал колбы - Полисульфон; материал поплавка: красный полипропилен (PP)",16,"2-20 л/ч","FIP","RUB",{"$f":"J272*Оглавление!$E$23","v":29526.6944},{"$f":"H272*(1-Оглавление!$D$41)","v":29526.6944},294.56,"шт",null,0,0]
[null,"FCIV016P1M0050","Компактный ротаметр для жидкости плотностью: 1 кг/л, 20°C; окончания под клеевое соединение; материал колбы - Полисульфон; материал поплавка: красный полипропилен (PP)",16,"5-50 л/ч","FIP","RUB",{"$f":"J273*Оглавление!$E$23","v":29526.6944},{"$f":"H273*(1-Оглавление!$D$41)","v":29526.6944},294.56,"шт",null,0,0]
[null,"FCIV016P1M0100","Компактный ротаметр для жидкости плотностью: 1 кг/л, 20°C; окончания под клеевое соединение; материал колбы - Полисульфон; материал поплавка: красный полипропилен (PP)",16,"10 - 100 л/ч","FIP","RUB",{"$f":"J274*Оглавление!$E$23","v":29526.6944},{"$f":"H274*(1-Оглавление!$D$41)","v":29526.6944},294.56,"шт",null,0,0]
[null,"FCIV016P1M0150","Компактный ротаметр для жидкости плотностью: 1 кг/л, 20°C; окончания под клеевое соединение; материал колбы - Полисульфон; материал поплавка: красный полипропилен (PP)",16,"15 - 150 л/ч","FIP","RUB",{"$f":"J275*Оглавление!$E$23","v":29526.6944},{"$f":"H275*(1-Оглавление!$D$41)","v":29526.6944},294.56,"шт",null,0,0]
[null,"FCIV020P1M0025","Компактный ротаметр для жидкости плотностью: 1 кг/л, 20°C; окончания под клеевое соединение; материал колбы - Полисульфон; материал поплавка: красный полипропилен (PP)",20,"2-25 л/ч","FIP","RUB",{"$f":"J276*Оглавление!$E$23","v":31347.052800000001},{"$f":"H276*(1-Оглавление!$D$41)","v":31347.052800000001},312.72000000000003,"шт",null,0,0]
[null,"FCIV020P1M0050","Компактный ротаметр для жидкости плотностью: 1 кг/л, 20°C; окончания под клеевое соединение; материал колбы - Полисульфон; материал поплавка: красный полипропилен (PP)",20,"5-50 л/ч","FIP","RUB",{"$f":"J277*Оглавление!$E$23","v":31347.052800000001},{"$f":"H277*(1-Оглавление!$D$41)","v":31347.052800000001},312.72000000000003,"шт",null,0,0]
[null,"FCIV020P1M0100","Компактный ротаметр для жидкости плотностью: 1 кг/л, 20°C; окончания под клеевое соединение; материал колбы - Полисульфон; материал поплавка: красный полипропилен (PP)",20,"10 - 100 л/ч","FIP","RUB",{"$f":"J278*Оглавление!$E$23","v":31347.052800000001},{"$f":"H278*(1-Оглавление!$D$41)","v":31347.052800000001},312.72000000000003,"шт",null,0,0]
[null,"FCIV020P1M0150","Компактный ротаметр для жидкости плотностью: 1 кг/л, 20°C; окончания под клеевое соединение; материал колбы - Полисульфон; материал поплавка: красный полипропилен (PP)",20,"15 - 150 л/ч","FIP","RUB",{"$f":"J279*Оглавление!$E$23","v":31347.052800000001},{"$f":"H279*(1-Оглавление!$D$41)","v":31347.052800000001},312.72000000000003,"шт",null,0,0]
[null,"FCIV020P1M0200","Компактный ротаметр для жидкости плотностью: 1 кг/л, 20°C; окончания под клеевое соединение; материал колбы - Полисульфон; материал поплавка: красный полипропилен (PP)",20,"20 - 200 л/ч","FIP","RUB",{"$f":"J280*Оглавление!$E$23","v":31347.052800000001},{"$f":"H280*(1-Оглавление!$D$41)","v":31347.052800000001},312.72000000000003,"шт",null,0,0]
[null,"FCIV020P1M0320","Компактный ротаметр для жидкости плотностью: 1 кг/л, 20°C; окончания под клеевое соединение; материал колбы - Полисульфон; материал поплавка: красный полипропилен (PP)",20,"30 - 320 л/ч","FIP","RUB",{"$f":"J281*Оглавление!$E$23","v":31347.052800000001},{"$f":"H281*(1-Оглавление!$D$41)","v":31347.052800000001},312.72000000000003,"шт",null,0,0]
[null,"FCIV025P1M0080","Компактный ротаметр для жидкости плотностью: 1 кг/л, 20°C; окончания под клеевое соединение; материал колбы - Полисульфон; материал поплавка: красный полипропилен (PP)",25,"8-80 л/ч","FIP","RUB",{"$f":"J282*Оглавление!$E$23","v":33612.940352710655},{"$f":"H282*(1-Оглавление!$D$41)","v":33612.940352710655},335.32462442847822,"шт",null,0,0]
[null,"FCIV025P1M0150","Компактный ротаметр для жидкости плотностью: 1 кг/л, 20°C; окончания под клеевое соединение; материал колбы - Полисульфон; материал поплавка: красный полипропилен (PP)",25,"15 - 150 л/ч","FIP","RUB",{"$f":"J283*Оглавление!$E$23","v":33622.500800000002},{"$f":"H283*(1-Оглавление!$D$41)","v":33622.500800000002},335.42,"шт",null,0,0]
[null,"FCIV025P1M0200","Компактный ротаметр для жидкости плотностью: 1 кг/л, 20°C; окончания под клеевое соединение; материал колбы - Полисульфон; материал поплавка: красный полипропилен (PP)",25,"20 - 200 л/ч","FIP","RUB",{"$f":"J284*Оглавление!$E$23","v":33622.500800000002},{"$f":"H284*(1-Оглавление!$D$41)","v":33622.500800000002},335.42,"шт",null,0,0]
[null,"FCIV025P1M0350","Компактный ротаметр для жидкости плотностью: 1 кг/л, 20°C; окончания под клеевое соединение; материал колбы - Полисульфон; материал поплавка: красный полипропилен (PP)",25,"30 - 350 л/ч","FIP","RUB",{"$f":"J285*Оглавление!$E$23","v":33622.500800000002},{"$f":"H285*(1-Оглавление!$D$41)","v":33622.500800000002},335.42,"шт",null,0,0]
[null,"FCIV025P1M0650","Компактный ротаметр для жидкости плотностью: 1 кг/л, 20°C; окончания под клеевое соединение; материал колбы - Полисульфон; материал поплавка: красный полипропилен (PP)",25,"50 - 650 л/ч","FIP","RUB",{"$f":"J286*Оглавление!$E$23","v":33622.500800000002},{"$f":"H286*(1-Оглавление!$D$41)","v":33622.500800000002},335.42,"шт",null,{"$f":"L286*H286","v":0},{"$f":"L286*I286","v":0}]
[null,"FCIV032P1M0200","Компактный ротаметр для жидкости плотностью: 1 кг/л, 20°C; окончания под клеевое соединение; материал колбы - Полисульфон; материал поплавка: красный полипропилен (PP)",32,"20 - 200 л/ч","FIP","RUB",{"$f":"J287*Оглавление!$E$23","v":37714.297599999998},{"$f":"H287*(1-Оглавление!$D$41)","v":37714.297599999998},376.24,"шт",null,0,0]
[null,"FCIV032P1M0300","Компактный ротаметр для жидкости плотностью: 1 кг/л, 20°C; окончания под клеевое соединение; материал колбы - Полисульфон; материал поплавка: красный полипропилен (PP)",32,"30 - 300 л/ч","FIP","RUB",{"$f":"J288*Оглавление!$E$23","v":37714.297599999998},{"$f":"H288*(1-Оглавление!$D$41)","v":37714.297599999998},376.24,"шт",null,0,0]
[null,"FCIV032P1M0600","Компактный ротаметр для жидкости плотностью: 1 кг/л, 20°C; окончания под клеевое соединение; материал колбы - Полисульфон; материал поплавка: красный полипропилен (PP)",32,"60 - 600 л/ч","FIP","RUB",{"$f":"J289*Оглавление!$E$23","v":37714.297599999998},{"$f":"H289*(1-Оглавление!$D$41)","v":37714.297599999998},376.24,"шт",null,0,0]
[null,"FCIV032P1M1000","Компактный ротаметр для жидкости плотностью: 1 кг/л, 20°C; окончания под клеевое соединение; материал колбы - Полисульфон; материал поплавка: красный полипропилен (PP)",32,"100 - 1000 л/ч","FIP","RUB",{"$f":"J290*Оглавление!$E$23","v":37714.297599999998},{"$f":"H290*(1-Оглавление!$D$41)","v":37714.297599999998},376.24,"шт",null,0,0]
[null,"FCIV016D1M0015M","Компактный ротаметр для жидкости плотностью: 1 кг/л, 20°C; окончания под клеевое соединение; материал колбы - Трогамид; материал полавка - красный полипропилен (PP) с магнитом",16,"1.5 - 15 л/ч","FIP","RUB",{"$f":"J291*Оглавление!$E$23","v":40434.811199999996},{"$f":"H291*(1-Оглавление!$D$41)","v":40434.811199999996},403.38,"шт",null,0,0]
[null,"FCIV016D1M0020M","Компактный ротаметр для жидкости плотностью: 1 кг/л, 20°C; окончания под клеевое соединение; материал колбы - Трогамид; материал полавка - красный полипропилен (PP) с магнитом",16,"2-20 л/ч","FIP","RUB",{"$f":"J292*Оглавление!$E$23","v":40434.811199999996},{"$f":"H292*(1-Оглавление!$D$41)","v":40434.811199999996},403.38,"шт",null,0,0]
[null,"FCIV016D1M0050M","Компактный ротаметр для жидкости плотностью: 1 кг/л, 20°C; окончания под клеевое соединение; материал колбы - Трогамид; материал полавка - красный полипропилен (PP) с магнитом",16,"5-50 л/ч","FIP","RUB",{"$f":"J293*Оглавление!$E$23","v":40434.811199999996},{"$f":"H293*(1-Оглавление!$D$41)","v":40434.811199999996},403.38,"шт",null,0,0]
[null,"FCIV016D1M0100M","Компактный ротаметр для жидкости плотностью: 1 кг/л, 20°C; окончания под клеевое соединение; материал колбы - Трогамид; материал полавка - красный полипропилен (PP) с магнитом",16,"10 - 100 л/ч","FIP","RUB",{"$f":"J294*Оглавление!$E$23","v":40434.811199999996},{"$f":"H294*(1-Оглавление!$D$41)","v":40434.811199999996},403.38,"шт",null,0,0]
[null,"FCIV016D1M0150M","Компактный ротаметр для жидкости плотностью: 1 кг/л, 20°C; окончания под клеевое соединение; материал колбы - Трогамид; материал полавка - красный полипропилен (PP) с магнитом",16,"15 - 150 л/ч","FIP","RUB",{"$f":"J295*Оглавление!$E$23","v":40434.811199999996},{"$f":"H295*(1-Оглавление!$D$41)","v":40434.811199999996},403.38,"шт",null,0,0]
[null,"FCIV020D1M0025M","Компактный ротаметр для жидкости плотностью: 1 кг/л, 20°C; окончания под клеевое соединение; материал колбы - Трогамид; материал полавка - красный полипропилен (PP) с магнитом",20,"2-25 л/ч","FIP","RUB",{"$f":"J296*Оглавление!$E$23","v":41334.966399999998},{"$f":"H296*(1-Оглавление!$D$41)","v":41334.966399999998},412.36,"шт",null,0,0]
[null,"FCIV020D1M0050M","Компактный ротаметр для жидкости плотностью: 1 кг/л, 20°C; окончания под клеевое соединение; материал колбы - Трогамид; материал полавка - красный полипропилен (PP) с магнитом",20,"5-50 л/ч","FIP","RUB",{"$f":"J297*Оглавление!$E$23","v":41334.966399999998},{"$f":"H297*(1-Оглавление!$D$41)","v":41334.966399999998},412.36,"шт",null,0,0]
[null,"FCIV020D1M0100M","Компактный ротаметр для жидкости плотностью: 1 кг/л, 20°C; окончания под клеевое соединение; материал колбы - Трогамид; материал полавка - красный полипропилен (PP) с магнитом",20,"10 - 100 л/ч","FIP","RUB",{"$f":"J298*Оглавление!$E$23","v":41334.966399999998},{"$f":"H298*(1-Оглавление!$D$41)","v":41334.966399999998},412.36,"шт",null,0,0]
[null,"FCIV020D1M0150M","Компактный ротаметр для жидкости плотностью: 1 кг/л, 20°C; окончания под клеевое соединение; материал колбы - Трогамид; материал полавка - красный полипропилен (PP) с магнитом",20,"15 - 150 л/ч","FIP","RUB",{"$f":"J299*Оглавление!$E$23","v":41334.966399999998},{"$f":"H299*(1-Оглавление!$D$41)","v":41334.966399999998},412.36,"шт",null,0,0]
[null,"FCIV020D1M0200M","Компактный ротаметр для жидкости плотностью: 1 кг/л, 20°C; окончания под клеевое соединение; материал колбы - Трогамид; материал полавка - красный полипропилен (PP) с магнитом",20,"20 - 200 л/ч","FIP","RUB",{"$f":"J300*Оглавление!$E$23","v":41334.966399999998},{"$f":"H300*(1-Оглавление!$D$41)","v":41334.966399999998},412.36,"шт",null,0,0]
[null,"FCIV020D1M0320M","Компактный ротаметр для жидкости плотностью: 1 кг/л, 20°C; окончания под клеевое соединение; материал колбы - Трогамид; материал полавка - красный полипропилен (PP) с магнитом",20,"30 - 320 л/ч","FIP","RUB",{"$f":"J301*Оглавление!$E$23","v":41334.966399999998},{"$f":"H301*(1-Оглавление!$D$41)","v":41334.966399999998},412.36,"шт",null,0,0]
[null,"FCIV025D1M0080M","Компактный ротаметр для жидкости плотностью: 1 кг/л, 20°C; окончания под клеевое соединение; материал колбы - Трогамид; материал полавка - красный полипропилен (PP) с магнитом",25,"8-80 л/ч","FIP","RUB",{"$f":"J302*Оглавление!$E$23","v":43161.339199999995},{"$f":"H302*(1-Оглавление!$D$41)","v":43161.339199999995},430.58,"шт",null,0,0]
[null,"FCIV025D1M0150M","Компактный ротаметр для жидкости плотностью: 1 кг/л, 20°C; окончания под клеевое соединение; материал колбы - Трогамид; материал полавка - красный полипропилен (PP) с магнитом",25,"15 - 150 л/ч","FIP","RUB",{"$f":"J303*Оглавление!$E$23","v":43161.339199999995},{"$f":"H303*(1-Оглавление!$D$41)","v":43161.339199999995},430.58,"шт",null,0,0]
[null,"FCIV025D1M0200M","Компактный ротаметр для жидкости плотностью: 1 кг/л, 20°C; окончания под клеевое соединение; материал колбы - Трогамид; материал полавка - красный полипропилен (PP) с магнитом",25,"20 - 200 л/ч","FIP","RUB",{"$f":"J304*Оглавление!$E$23","v":43161.339199999995},{"$f":"H304*(1-Оглавление!$D$41)","v":43161.339199999995},430.58,"шт",null,0,0]
[null,"FCIV025D1M0350M","Компактный ротаметр для жидкости плотностью: 1 кг/л, 20°C; окончания под клеевое соединение; материал колбы - Трогамид; материал полавка - красный полипропилен (PP) с магнитом",25,"30 - 350 л/ч","FIP","RUB",{"$f":"J305*Оглавление!$E$23","v":43161.339199999995},{"$f":"H305*(1-Оглавление!$D$41)","v":43161.339199999995},430.58,"шт",null,0,0]
[null,"FCIV025D1M0650M","Компактный ротаметр для жидкости плотностью: 1 кг/л, 20°C; окончания под клеевое соединение; материал колбы - Трогамид; материал полавка - красный полипропилен (PP) с магнитом",25,"50 - 650 л/ч","FIP","RUB",{"$f":"J306*Оглавление!$E$23","v":43161.339199999995},{"$f":"H306*(1-Оглавление!$D$41)","v":43161.339199999995},430.58,"шт",null,0,0]
[null,"FCIV032D1M0200M","Компактный ротаметр для жидкости плотностью: 1 кг/л, 20°C; окончания под клеевое соединение; материал колбы - Трогамид; материал полавка - красный полипропилен (PP) с магнитом",32,"20 - 200 л/ч","FIP","RUB",{"$f":"J307*Оглавление!$E$23","v":48606.375999999997},{"$f":"H307*(1-Оглавление!$D$41)","v":48606.375999999997},484.9,"шт",null,0,0]
[null,"FCIV032D1M0300M","Компактный ротаметр для жидкости плотностью: 1 кг/л, 20°C; окончания под клеевое соединение; материал колбы - Трогамид; материал полавка - красный полипропилен (PP) с магнитом",32,"30 - 300 л/ч","FIP","RUB",{"$f":"J308*Оглавление!$E$23","v":48606.375999999997},{"$f":"H308*(1-Оглавление!$D$41)","v":48606.375999999997},484.9,"шт",null,0,0]
[null,"FCIV032D1M0600M","Компактный ротаметр для жидкости плотностью: 1 кг/л, 20°C; окончания под клеевое соединение; материал колбы - Трогамид; материал полавка - красный полипропилен (PP) с магнитом",32,"60 - 600 л/ч","FIP","RUB",{"$f":"J309*Оглавление!$E$23","v":48606.375999999997},{"$f":"H309*(1-Оглавление!$D$41)","v":48606.375999999997},484.9,"шт",null,0,0]
[null,"FCIV032D1M1000M","Компактный ротаметр для жидкости плотностью: 1 кг/л, 20°C; окончания под клеевое соединение; материал колбы - Трогамид; материал полавка - красный полипропилен (PP) с магнитом",32,"100 - 1000 л/ч","FIP","RUB",{"$f":"J310*Оглавление!$E$23","v":48606.375999999997},{"$f":"H310*(1-Оглавление!$D$41)","v":48606.375999999997},484.9,"шт",null,0,0]
[null,"FCIV016P2M0014","Компактный ротаметр для жидкости плотностью: 1,16 кг/л, 20°C; окончания под клеевое соединение; материал колбы -  Полисульфон; материал поплавка - красный полипропилен (PP) ",16,"1.4 - 14 л/ч","FIP","RUB",{"$f":"J311*Оглавление!$E$23","v":29526.6944},{"$f":"H311*(1-Оглавление!$D$41)","v":29526.6944},294.56,"шт",null,{"$f":"L311*H311","v":0},{"$f":"L311*I311","v":0}]
[null,"FCIV016P2M0018","Компактный ротаметр для жидкости плотностью: 1,16 кг/л, 20°C; окончания под клеевое соединение; материал колбы -  Полисульфон; материал поплавка - красный полипропилен (PP) ",16,"2-18 л/ч","FIP","RUB",{"$f":"J312*Оглавление!$E$23","v":29526.6944},{"$f":"H312*(1-Оглавление!$D$41)","v":29526.6944},294.56,"шт",null,0,0]
[null,"FCIV016P2M0090","Компактный ротаметр для жидкости плотностью: 1,16 кг/л, 20°C; окончания под клеевое соединение; материал колбы -  Полисульфон; материал поплавка - красный полипропилен (PP) ",16,"10-90 л/ч","FIP","RUB",{"$f":"J313*Оглавление!$E$23","v":29526.6944},{"$f":"H313*(1-Оглавление!$D$41)","v":29526.6944},294.56,"шт",null,0,0]
[null,"FCIV016P2M0140","Компактный ротаметр для жидкости плотностью: 1,16 кг/л, 20°C; окончания под клеевое соединение; материал колбы -  Полисульфон; материал поплавка - красный полипропилен (PP) ",16,"14 - 140 л/ч","FIP","RUB",{"$f":"J314*Оглавление!$E$23","v":29526.6944},{"$f":"H314*(1-Оглавление!$D$41)","v":29526.6944},294.56,"шт",null,0,0]
[null,"FCIV020P2M0023","Компактный ротаметр для жидкости плотностью: 1,16 кг/л, 20°C; окончания под клеевое соединение; материал колбы -  Полисульфон; материал поплавка - красный полипропилен (PP) ",20,"2-23 л/ч","FIP","RUB",{"$f":"J315*Оглавление!$E$23","v":31347.052800000001},{"$f":"H315*(1-Оглавление!$D$41)","v":31347.052800000001},312.72000000000003,"шт",null,0,0]
[null,"FCIV020P2M0045","Компактный ротаметр для жидкости плотностью: 1,16 кг/л, 20°C; окончания под клеевое соединение; материал колбы -  Полисульфон; материал поплавка - красный полипропилен (PP) ",20,"5-45 л/ч","FIP","RUB",{"$f":"J316*Оглавление!$E$23","v":31347.052800000001},{"$f":"H316*(1-Оглавление!$D$41)","v":31347.052800000001},312.72000000000003,"шт",null,0,0]
[null,"FCIV020P2M0090","Компактный ротаметр для жидкости плотностью: 1,16 кг/л, 20°C; окончания под клеевое соединение; материал колбы -  Полисульфон; материал поплавка - красный полипропилен (PP) ",20,"10-90 л/ч","FIP","RUB",{"$f":"J317*Оглавление!$E$23","v":31347.052800000001},{"$f":"H317*(1-Оглавление!$D$41)","v":31347.052800000001},312.72000000000003,"шт",null,0,0]
[null,"FCIV020P2M0140","Компактный ротаметр для жидкости плотностью: 1,16 кг/л, 20°C; окончания под клеевое соединение; материал колбы -  Полисульфон; материал поплавка - красный полипропилен (PP) ",20,"14 - 140 л/ч","FIP","RUB",{"$f":"J318*Оглавление!$E$23","v":31347.052800000001},{"$f":"H318*(1-Оглавление!$D$41)","v":31347.052800000001},312.72000000000003,"шт",null,0,0]
[null,"FCIV020P2M0185","Компактный ротаметр для жидкости плотностью: 1,16 кг/л, 20°C; окончания под клеевое соединение; материал колбы -  Полисульфон; материал поплавка - красный полипропилен (PP) ",20,"19 - 185 л/ч","FIP","RUB",{"$f":"J319*Оглавление!$E$23","v":31347.052800000001},{"$f":"H319*(1-Оглавление!$D$41)","v":31347.052800000001},312.72000000000003,"шт",null,0,0]
[null,"FCIV020P2M0300","Компактный ротаметр для жидкости плотностью: 1,16 кг/л, 20°C; окончания под клеевое соединение; материал колбы -  Полисульфон; материал поплавка - красный полипропилен (PP) ",20,"30 - 300 л/ч","FIP","RUB",{"$f":"J320*Оглавление!$E$23","v":31347.052800000001},{"$f":"H320*(1-Оглавление!$D$41)","v":31347.052800000001},312.72000000000003,"шт",null,0,0]
[null,"FCIV025P2M0075","Компактный ротаметр для жидкости плотностью: 1,16 кг/л, 20°C; окончания под клеевое соединение; материал колбы -  Полисульфон; материал поплавка - красный полипропилен (PP) ",25,"7.5 - 75 л/ч","FIP","RUB",{"$f":"J321*Оглавление!$E$23","v":33622.500800000002},{"$f":"H321*(1-Оглавление!$D$41)","v":33622.500800000002},335.42,"шт",null,{"$f":"L321*H321","v":0},{"$f":"L321*I321","v":0}]
[null,"FCIV025P2M0140","Компактный ротаметр для жидкости плотностью: 1,16 кг/л, 20°C; окончания под клеевое соединение; материал колбы -  Полисульфон; материал поплавка - красный полипропилен (PP) ",25,"14 - 140 л/ч","FIP","RUB",{"$f":"J322*Оглавление!$E$23","v":33622.500800000002},{"$f":"H322*(1-Оглавление!$D$41)","v":33622.500800000002},335.42,"шт",null,0,0]
[null,"FCIV025P2M0185","Компактный ротаметр для жидкости плотностью: 1,16 кг/л, 20°C; окончания под клеевое соединение; материал колбы -  Полисульфон; материал поплавка - красный полипропилен (PP) ",25,"19 - 185 л/ч","FIP","RUB",{"$f":"J323*Оглавление!$E$23","v":33622.500800000002},{"$f":"H323*(1-Оглавление!$D$41)","v":33622.500800000002},335.42,"шт",null,0,0]
[null,"FCIV025P2M0325","Компактный ротаметр для жидкости плотностью: 1,16 кг/л, 20°C; окончания под клеевое соединение; материал колбы -  Полисульфон; материал поплавка - красный полипропилен (PP) ",25,"30 - 325 л/ч","FIP","RUB",{"$f":"J324*Оглавление!$E$23","v":33622.500800000002},{"$f":"H324*(1-Оглавление!$D$41)","v":33622.500800000002},335.42,"шт",null,0,0]
[null,"FCIV025P2M0600","Компактный ротаметр для жидкости плотностью: 1,16 кг/л, 20°C; окончания под клеевое соединение; материал колбы -  Полисульфон; материал поплавка - красный полипропилен (PP) ",25,"45 - 600 л/ч","FIP","RUB",{"$f":"J325*Оглавление!$E$23","v":33622.500800000002},{"$f":"H325*(1-Оглавление!$D$41)","v":33622.500800000002},335.42,"шт",null,0,0]
[null,"FCIV032P2M0185","Компактный ротаметр для жидкости плотностью: 1,16 кг/л, 20°C; окончания под клеевое соединение; материал колбы -  Полисульфон; материал поплавка - красный полипропилен (PP) ",32,"19 - 185 л/ч","FIP","RUB",{"$f":"J326*Оглавление!$E$23","v":37714.297599999998},{"$f":"H326*(1-Оглавление!$D$41)","v":37714.297599999998},376.24,"шт",null,0,0]
[null,"FCIV032P2M0280","Компактный ротаметр для жидкости плотностью: 1,16 кг/л, 20°C; окончания под клеевое соединение; материал колбы -  Полисульфон; материал поплавка - красный полипропилен (PP) ",32,"28 - 280 л/ч","FIP","RUB",{"$f":"J327*Оглавление!$E$23","v":37714.297599999998},{"$f":"H327*(1-Оглавление!$D$41)","v":37714.297599999998},376.24,"шт",null,0,0]
[null,"FCIV032P2M0550","Компактный ротаметр для жидкости плотностью: 1,16 кг/л, 20°C; окончания под клеевое соединение; материал колбы -  Полисульфон; материал поплавка - красный полипропилен (PP) ",32,"55 - 550 л/ч","FIP","RUB",{"$f":"J328*Оглавление!$E$23","v":37714.297599999998},{"$f":"H328*(1-Оглавление!$D$41)","v":37714.297599999998},376.24,"шт",null,0,0]
[null,"FCIV032P2M0900","Компактный ротаметр для жидкости плотностью: 1,16 кг/л, 20°C; окончания под клеевое соединение; материал колбы -  Полисульфон; материал поплавка - красный полипропилен (PP) ",32,"90 - 900 л/ч","FIP","RUB",{"$f":"J329*Оглавление!$E$23","v":37714.297599999998},{"$f":"H329*(1-Оглавление!$D$41)","v":37714.297599999998},376.24,"шт",null,0,0]

{"sheet":"Муфты STRAUB","index":11,"n_rows":370,"n_cols":12,"rows_kept":370,"cut":false,"hidden":false,"merged":[[285,0,369,0],[9,0,284,0]]}
[null,null,null,null,null,null,null,null,{"$f":"COUNT(J10:J370)","v":0},"Товаров в заказе"]
[null,null,null,null,null,null,null,null,{"$f":"SUM(L10:L370)","v":0},"Сумма заказа со скидкой с НДС"]
[]
[]
[]
[]
[]
[]
["Фото","Код","Наименование","Категория","Валюта\nПРОДАЖИ","Цена\nПРОДАЖИ с НДС ","Цена с НДС\nсо скидкой","Цена\nEUR","Ед. измерения","Заказ (метры/штуки)","Сумма рубли","Сумма со скидкой"]
[null,"381-044-200","Муфта ремонтная из нержавеющей стали STRAUB-CLAMP 44.0мм, L=200мм, 1 замок, NBR W4 PN16","STRAUB-CLAMP","RUB",{"$f":"IFERROR(H10*Оглавление!$E$23,\"по запросу\")","v":21451.360000000001},{"$f":"IFERROR(F10*(1-Оглавление!$D$42),\"по запросу\")","v":21451.360000000001},214,"шт",null,{"$f":"IFERROR(J10*F10,\"0 ₽\")","v":0},{"$f":"IFERROR(J10*G10,\"0 ₽\")","v":0}]
[null,"381-044-300","Муфта ремонтная из нержавеющей стали STRAUB-CLAMP 44.0мм, L=300мм, 1 замок, NBR W4 PN16","STRAUB-CLAMP","RUB",{"$f":"IFERROR(H11*Оглавление!$E$23,\"по запросу\")","v":23456.16},{"$f":"IFERROR(F11*(1-Оглавление!$D$42),\"по запросу\")","v":23456.16},234,"шт",null,{"$f":"IFERROR(J11*F11,\"0 ₽\")","v":0},{"$f":"IFERROR(J11*G11,\"0 ₽\")","v":0}]
[null,"381-048-200","Муфта ремонтная из нержавеющей стали STRAUB-CLAMP 48.0мм, L=200мм, 1 замок, NBR W4 PN16","STRAUB-CLAMP","RUB",{"$f":"IFERROR(H12*Оглавление!$E$23,\"по запросу\")","v":19145.84},{"$f":"IFERROR(F12*(1-Оглавление!$D$42),\"по запросу\")","v":19145.84},191,"шт",null,0,0]
[null,"381-048-300","Муфта ремонтная из нержавеющей стали STRAUB-CLAMP 48.0мм, L=300мм, 1 замок, NBR W4 PN16","STRAUB-CLAMP","RUB",{"$f":"IFERROR(H13*Оглавление!$E$23,\"по запросу\")","v":24258.079999999998},{"$f":"IFERROR(F13*(1-Оглавление!$D$42),\"по запросу\")","v":24258.079999999998},242,"шт",null,0,0]
[null,"381-054-200","Муфта ремонтная из нержавеющей стали STRAUB-CLAMP 54.0мм, L=200мм, 1 замок, NBR W4 PN16","STRAUB-CLAMP","RUB",{"$f":"IFERROR(H14*Оглавление!$E$23,\"по запросу\")","v":19145.84},{"$f":"IFERROR(F14*(1-Оглавление!$D$42),\"по запросу\")","v":19145.84},191,"шт",null,0,0]
[null,"381-054-300","Муфта ремонтная из нержавеющей стали STRAUB-CLAMP 54.0мм, L=300мм, 1 замок, NBR W4 PN16","STRAUB-CLAMP","RUB",{"$f":"IFERROR(H15*Оглавление!$E$23,\"по запросу\")","v":24959.759999999998},{"$f":"IFERROR(F15*(1-Оглавление!$D$42),\"по запросу\")","v":24959.759999999998},249,"шт",null,0,0]
[null,"381-060-200","Муфта ремонтная из нержавеющей стали STRAUB-CLAMP 60.0мм, L=200мм, 1 замок, NBR W4 PN16","STRAUB-CLAMP","RUB",{"$f":"IFERROR(H16*Оглавление!$E$23,\"по запросу\")","v":20749.68},{"$f":"IFERROR(F16*(1-Оглавление!$D$42),\"по запросу\")","v":20749.68},207,"шт",null,0,0]
[null,"381-060-300","Муфта ремонтная из нержавеющей стали STRAUB-CLAMP 60.0мм, L=300мм, 1 замок, NBR W4 PN16","STRAUB-CLAMP","RUB",{"$f":"IFERROR(H17*Оглавление!$E$23,\"по запросу\")","v":31274.879999999997},{"$f":"IFERROR(F17*(1-Оглавление!$D$42),\"по запросу\")","v":31274.879999999997},312,"шт",null,0,0]
[null,"381-060-400","Муфта ремонтная из нержавеющей стали STRAUB-CLAMP 60.0мм, L=400мм, 1 замок, NBR W4 PN16","STRAUB-CLAMP","RUB",{"$f":"IFERROR(H18*Оглавление!$E$23,\"по запросу\")","v":40296.479999999996},{"$f":"IFERROR(F18*(1-Оглавление!$D$42),\"по запросу\")","v":40296.479999999996},402,"шт",null,0,0]
[null,"381-067-200","Муфта ремонтная из нержавеющей стали STRAUB-CLAMP 67.0мм, L=200мм, 1 замок, NBR W4 PN16","STRAUB-CLAMP","RUB",{"$f":"IFERROR(H19*Оглавление!$E$23,\"по запросу\")","v":22654.239999999998},{"$f":"IFERROR(F19*(1-Оглавление!$D$42),\"по запросу\")","v":22654.239999999998},226,"шт",null,0,0]
[null,"381-067-300","Муфта ремонтная из нержавеющей стали STRAUB-CLAMP 67.0мм, L=300мм, 1 замок, NBR W4 PN16","STRAUB-CLAMP","RUB",{"$f":"IFERROR(H20*Оглавление!$E$23,\"по запросу\")","v":32778.479999999996},{"$f":"IFERROR(F20*(1-Оглавление!$D$42),\"по запросу\")","v":32778.479999999996},327,"шт",null,0,0]
[null,"381-070-200","Муфта ремонтная из нержавеющей стали STRAUB-CLAMP 70.0мм, L=200мм, 1 замок, NBR W4 PN16","STRAUB-CLAMP","RUB",{"$f":"IFERROR(H21*Оглавление!$E$23,\"по запросу\")","v":23055.199999999997},{"$f":"IFERROR(F21*(1-Оглавление!$D$42),\"по запросу\")","v":23055.199999999997},230,"шт",null,0,0]
[null,"381-070-300","Муфта ремонтная из нержавеющей стали STRAUB-CLAMP 70.0мм, L=300мм, 1 замок, NBR W4 PN16","STRAUB-CLAMP","RUB",{"$f":"IFERROR(H22*Оглавление!$E$23,\"по запросу\")","v":33981.360000000001},{"$f":"IFERROR(F22*(1-Оглавление!$D$42),\"по запросу\")","v":33981.360000000001},339,"шт",null,0,0]
[null,"381-075-200","Муфта ремонтная из нержавеющей стали STRAUB-CLAMP 75.0мм, L=200мм, 1 замок, NBR W4 PN16","STRAUB-CLAMP","RUB",{"$f":"IFERROR(H23*Оглавление!$E$23,\"по запросу\")","v":24258.079999999998},{"$f":"IFERROR(F23*(1-Оглавление!$D$42),\"по запросу\")","v":24258.079999999998},242,"шт",null,0,0]
[null,"381-075-300","Муфта ремонтная из нержавеющей стали STRAUB-CLAMP 75.0мм, L=300мм, 1 замок, NBR W4 PN16","STRAUB-CLAMP","RUB",{"$f":"IFERROR(H24*Оглавление!$E$23,\"по запросу\")","v":34783.279999999999},{"$f":"IFERROR(F24*(1-Оглавление!$D$42),\"по запросу\")","v":34783.279999999999},347,"шт",null,0,0]
[null,"381-082-200","Муфта ремонтная из нержавеющей стали STRAUB-CLAMP 82.0мм, L=200мм, 1 замок, NBR W4 PN16","STRAUB-CLAMP","RUB",{"$f":"IFERROR(H25*Оглавление!$E$23,\"по запросу\")","v":24558.799999999999},{"$f":"IFERROR(F25*(1-Оглавление!$D$42),\"по запросу\")","v":24558.799999999999},245,"шт",null,0,0]
[null,"381-082-300","Муфта ремонтная из нержавеющей стали STRAUB-CLAMP 82.0мм, L=300мм, 1 замок, NBR W4 PN16","STRAUB-CLAMP","RUB",{"$f":"IFERROR(H26*Оглавление!$E$23,\"по запросу\")","v":35484.959999999999},{"$f":"IFERROR(F26*(1-Оглавление!$D$42),\"по запросу\")","v":35484.959999999999},354,"шт",null,0,0]
[null,"381-082-400","Муфта ремонтная из нержавеющей стали STRAUB-CLAMP 82.0мм, L=400мм, 1 замок, NBR W4 PN16","STRAUB-CLAMP","RUB",{"$f":"IFERROR(H27*Оглавление!$E$23,\"по запросу\")","v":47213.04},{"$f":"IFERROR(F27*(1-Оглавление!$D$42),\"по запросу\")","v":47213.04},471,"шт",null,0,0]
[null,"381-087-200","Муфта ремонтная из нержавеющей стали STRAUB-CLAMP 87.0мм, L=200мм, 1 замок, NBR W4 PN16","STRAUB-CLAMP","RUB",{"$f":"IFERROR(H28*Оглавление!$E$23,\"по запросу\")","v":24959.759999999998},{"$f":"IFERROR(F28*(1-Оглавление!$D$42),\"по запросу\")","v":24959.759999999998},249,"шт",null,0,0]
[null,"381-087-300","Муфта ремонтная из нержавеющей стали STRAUB-CLAMP 87.0мм, L=300мм, 1 замок, NBR W4 PN16","STRAUB-CLAMP","RUB",{"$f":"IFERROR(H29*Оглавление!$E$23,\"по запросу\")","v":35885.919999999998},{"$f":"IFERROR(F29*(1-Оглавление!$D$42),\"по запросу\")","v":35885.919999999998},358,"шт",null,0,0]
[null,"381-087-400","Муфта ремонтная из нержавеющей стали STRAUB-CLAMP 87.0мм, L=400мм, 1 замок, NBR W4 PN16","STRAUB-CLAMP","RUB",{"$f":"IFERROR(H30*Оглавление!$E$23,\"по запросу\")","v":48014.96},{"$f":"IFERROR(F30*(1-Оглавление!$D$42),\"по запросу\")","v":48014.96},479,"шт",null,0,0]
[null,"381-088-200","Муфта ремонтная из нержавеющей стали STRAUB-CLAMP 88.0мм, L=200мм, 1 замок, NBR W4 PN16","STRAUB-CLAMP","RUB",{"$f":"IFERROR(H31*Оглавление!$E$23,\"по запросу\")","v":26162.639999999999},{"$f":"IFERROR(F31*(1-Оглавление!$D$42),\"по запросу\")","v":26162.639999999999},261,"шт",null,0,0]
[null,"381-088-300","Муфта ремонтная из нержавеющей стали STRAUB-CLAMP 88.0мм, L=300мм, 1 замок, NBR W4 PN16","STRAUB-CLAMP","RUB",{"$f":"IFERROR(H32*Оглавление!$E$23,\"по запросу\")","v":36687.839999999997},{"$f":"IFERROR(F32*(1-Оглавление!$D$42),\"по запросу\")","v":36687.839999999997},366,"шт",null,0,0]
[null,"381-088-400","Муфта ремонтная из нержавеющей стали STRAUB-CLAMP 88.0мм, L=400мм, 1 замок, NBR W4 PN16","STRAUB-CLAMP","RUB",{"$f":"IFERROR(H33*Оглавление!$E$23,\"по запросу\")","v":48415.92},{"$f":"IFERROR(F33*(1-Оглавление!$D$42),\"по запросу\")","v":48415.92},483,"шт",null,0,0]
[null,"381-095-200","Муфта ремонтная из нержавеющей стали STRAUB-CLAMP 95.0мм, L=200мм, 1 замок, NBR W4 PN16","STRAUB-CLAMP","RUB",{"$f":"IFERROR(H34*Оглавление!$E$23,\"по запросу\")","v":26563.599999999999},{"$f":"IFERROR(F34*(1-Оглавление!$D$42),\"по запросу\")","v":26563.599999999999},265,"шт",null,0,0]
[null,"381-095-300","Муфта ремонтная из нержавеющей стали STRAUB-CLAMP 95.0мм, L=300мм, 1 замок, NBR W4 PN16","STRAUB-CLAMP","RUB",{"$f":"IFERROR(H35*Оглавление!$E$23,\"по запросу\")","v":38291.68},{"$f":"IFERROR(F35*(1-Оглавление!$D$42),\"по запросу\")","v":38291.68},382,"шт",null,0,0]
[null,"381-095-400","Муфта ремонтная из нержавеющей стали STRAUB-CLAMP 95.0мм, L=400мм, 1 замок, NBR W4 PN16","STRAUB-CLAMP","RUB",{"$f":"IFERROR(H36*Оглавление!$E$23,\"по запросу\")","v":49518.559999999998},{"$f":"IFERROR(F36*(1-Оглавление!$D$42),\"по запросу\")","v":49518.559999999998},494,"шт",null,0,0]
[null,"381-108-200","Муфта ремонтная из нержавеющей стали STRAUB-CLAMP 108.0мм, L=200мм, 1 замок, NBR W4 PN16","STRAUB-CLAMP","RUB",{"$f":"IFERROR(H37*Оглавление!$E$23,\"по запросу\")","v":27766.48},{"$f":"IFERROR(F37*(1-Оглавление!$D$42),\"по запросу\")","v":27766.48},277,"шт",null,0,0]
[null,"381-108-300","Муфта ремонтная из нержавеющей стали STRAUB-CLAMP 108.0мм, L=300мм, 1 замок, NBR W4 PN16","STRAUB-CLAMP","RUB",{"$f":"IFERROR(H38*Оглавление!$E$23,\"по запросу\")","v":39795.279999999999},{"$f":"IFERROR(F38*(1-Оглавление!$D$42),\"по запросу\")","v":39795.279999999999},397,"шт",null,0,0]
[null,"381-108-400","Муфта ремонтная из нержавеющей стали STRAUB-CLAMP 108.0мм, L=400мм, 1 замок, NBR W4 PN16","STRAUB-CLAMP","RUB",{"$f":"IFERROR(H39*Оглавление!$E$23,\"по запросу\")","v":53427.92},{"$f":"IFERROR(F39*(1-Оглавление!$D$42),\"по запросу\")","v":53427.92},533,"шт",null,0,0]
[null,"381-113-200","Муфта ремонтная из нержавеющей стали STRAUB-CLAMP 113.0мм, L=200мм, 1 замок, NBR W4 PN16","STRAUB-CLAMP","RUB",{"$f":"IFERROR(H40*Оглавление!$E$23,\"по запросу\")","v":28468.16},{"$f":"IFERROR(F40*(1-Оглавление!$D$42),\"по запросу\")","v":28468.16},284,"шт",null,0,0]
[null,"381-113-300","Муфта ремонтная из нержавеющей стали STRAUB-CLAMP 113.0мм, L=300мм, 1 замок, NBR W4 PN16","STRAUB-CLAMP","RUB",{"$f":"IFERROR(H41*Оглавление!$E$23,\"по запросу\")","v":40998.159999999996},{"$f":"IFERROR(F41*(1-Оглавление!$D$42),\"по запросу\")","v":40998.159999999996},409,"шт",null,0,0]
[null,"381-113-400","Муфта ремонтная из нержавеющей стали STRAUB-CLAMP 113.0мм, L=400мм, 1 замок, NBR W4 PN16","STRAUB-CLAMP","RUB",{"$f":"IFERROR(H42*Оглавление!$E$23,\"по запросу\")","v":53828.88},{"$f":"IFERROR(F42*(1-Оглавление!$D$42),\"по запросу\")","v":53828.88},537,"шт",null,0,0]
[null,"381-118-200","Муфта ремонтная из нержавеющей стали STRAUB-CLAMP 118.0мм, L=200мм, 1 замок, NBR W4 PN16","STRAUB-CLAMP","RUB",{"$f":"IFERROR(H43*Оглавление!$E$23,\"по запросу\")","v":28869.119999999999},{"$f":"IFERROR(F43*(1-Оглавление!$D$42),\"по запросу\")","v":28869.119999999999},288,"шт",null,0,0]
[null,"381-118-300","Муфта ремонтная из нержавеющей стали STRAUB-CLAMP 118.0мм, L=300мм, 1 замок, NBR W4 PN16","STRAUB-CLAMP","RUB",{"$f":"IFERROR(H44*Оглавление!$E$23,\"по запросу\")","v":43303.68},{"$f":"IFERROR(F44*(1-Оглавление!$D$42),\"по запросу\")","v":43303.68},432,"шт",null,0,0]
[null,"381-118-400","Муфта ремонтная из нержавеющей стали STRAUB-CLAMP 118.0мм, L=400мм, 1 замок, NBR W4 PN16","STRAUB-CLAMP","RUB",{"$f":"IFERROR(H45*Оглавление!$E$23,\"по запросу\")","v":55031.759999999995},{"$f":"IFERROR(F45*(1-Оглавление!$D$42),\"по запросу\")","v":55031.759999999995},549,"шт",null,0,0]
[null,"381-120-200","Муфта ремонтная из нержавеющей стали STRAUB-CLAMP 120.0мм, L=200мм, 1 замок, NBR W4 PN16","STRAUB-CLAMP","RUB",{"$f":"IFERROR(H46*Оглавление!$E$23,\"по запросу\")","v":29671.039999999997},{"$f":"IFERROR(F46*(1-Оглавление!$D$42),\"по запросу\")","v":29671.039999999997},296,"шт",null,0,0]
[null,"381-120-300","Муфта ремонтная из нержавеющей стали STRAUB-CLAMP 120.0мм, L=300мм, 1 замок, NBR W4 PN16","STRAUB-CLAMP","RUB",{"$f":"IFERROR(H47*Оглавление!$E$23,\"по запросу\")","v":44105.599999999999},{"$f":"IFERROR(F47*(1-Оглавление!$D$42),\"по запросу\")","v":44105.599999999999},440,"шт",null,0,0]
[null,"381-120-400","Муфта ремонтная из нержавеющей стали STRAUB-CLAMP 120.0мм, L=400мм, 1 замок, NBR W4 PN16","STRAUB-CLAMP","RUB",{"$f":"IFERROR(H48*Оглавление!$E$23,\"по запросу\")","v":55432.719999999994},{"$f":"IFERROR(F48*(1-Оглавление!$D$42),\"по запросу\")","v":55432.719999999994},553,"шт",null,0,0]
[null,"381-132-200","Муфта ремонтная из нержавеющей стали STRAUB-CLAMP 132.0мм, L=200мм, 1 замок, NBR W4 PN16","STRAUB-CLAMP","RUB",{"$f":"IFERROR(H49*Оглавление!$E$23,\"по запросу\")","v":31274.879999999997},{"$f":"IFERROR(F49*(1-Оглавление!$D$42),\"по запросу\")","v":31274.879999999997},312,"шт",null,0,0]
[null,"381-132-300","Муфта ремонтная из нержавеющей стали STRAUB-CLAMP 132.0мм, L=300мм, 1 замок, NBR W4 PN16","STRAUB-CLAMP","RUB",{"$f":"IFERROR(H50*Оглавление!$E$23,\"по запросу\")","v":45609.2},{"$f":"IFERROR(F50*(1-Оглавление!$D$42),\"по запросу\")","v":45609.2},455,"шт",null,0,0]
[null,"381-132-400","Муфта ремонтная из нержавеющей стали STRAUB-CLAMP 132.0мм, L=400мм, 1 замок, NBR W4 PN16","STRAUB-CLAMP","RUB",{"$f":"IFERROR(H51*Оглавление!$E$23,\"по запросу\")","v":58540.159999999996},{"$f":"IFERROR(F51*(1-Оглавление!$D$42),\"по запросу\")","v":58540.159999999996},584,"шт",null,0,0]
[null,"381-135-200","Муфта ремонтная из нержавеющей стали STRAUB-CLAMP 135.0мм, L=200мм, 1 замок, NBR W4 PN16","STRAUB-CLAMP","RUB",{"$f":"IFERROR(H52*Оглавление!$E$23,\"по запросу\")","v":32778.479999999996},{"$f":"IFERROR(F52*(1-Оглавление!$D$42),\"по запросу\")","v":32778.479999999996},327,"шт",null,0,0]
[null,"381-135-300","Муфта ремонтная из нержавеющей стали STRAUB-CLAMP 135.0мм, L=300мм, 1 замок, NBR W4 PN16","STRAUB-CLAMP","RUB",{"$f":"IFERROR(H53*Оглавление!$E$23,\"по запросу\")","v":48014.96},{"$f":"IFERROR(F53*(1-Оглавление!$D$42),\"по запросу\")","v":48014.96},479,"шт",null,0,0]
[null,"381-135-400","Муфта ремонтная из нержавеющей стали STRAUB-CLAMP 135.0мм, L=400мм, 1 замок, NBR W4 PN16","STRAUB-CLAMP","RUB",{"$f":"IFERROR(H54*Оглавление!$E$23,\"по запросу\")","v":58941.119999999995},{"$f":"IFERROR(F54*(1-Оглавление!$D$42),\"по запросу\")","v":58941.119999999995},588,"шт",null,0,0]
[null,"381-139-200","Муфта ремонтная из нержавеющей стали STRAUB-CLAMP 139.0мм, L=200мм, 1 замок, NBR W4 PN16","STRAUB-CLAMP","RUB",{"$f":"IFERROR(H55*Оглавление!$E$23,\"по запросу\")","v":32778.479999999996},{"$f":"IFERROR(F55*(1-Оглавление!$D$42),\"по запросу\")","v":32778.479999999996},327,"шт",null,0,0]
[null,"381-139-300","Муфта ремонтная из нержавеющей стали STRAUB-CLAMP 139.0мм, L=300мм, 1 замок, NBR W4 PN16","STRAUB-CLAMP","RUB",{"$f":"IFERROR(H56*Оглавление!$E$23,\"по запросу\")","v":48014.96},{"$f":"IFERROR(F56*(1-Оглавление!$D$42),\"по запросу\")","v":48014.96},479,"шт",null,0,0]
[null,"381-139-400","Муфта ремонтная из нержавеющей стали STRAUB-CLAMP 139.0мм, L=400мм, 1 замок, NBR W4 PN16","STRAUB-CLAMP","RUB",{"$f":"IFERROR(H57*Оглавление!$E$23,\"по запросу\")","v":60444.719999999994},{"$f":"IFERROR(F57*(1-Оглавление!$D$42),\"по запросу\")","v":60444.719999999994},603,"шт",null,0,0]
[null,"381-145-200","Муфта ремонтная из нержавеющей стали STRAUB-CLAMP 145.0мм, L=200мм, 1 замок, NBR W4 PN16","STRAUB-CLAMP","RUB",{"$f":"IFERROR(H58*Оглавление!$E$23,\"по запросу\")","v":33179.439999999995},{"$f":"IFERROR(F58*(1-Оглавление!$D$42),\"по запросу\")","v":33179.439999999995},331,"шт",null,0,0]
[null,"381-145-300","Муфта ремонтная из нержавеющей стали STRAUB-CLAMP 145.0мм, L=300мм, 1 замок, NBR W4 PN16","STRAUB-CLAMP","RUB",{"$f":"IFERROR(H59*Оглавление!$E$23,\"по запросу\")","v":48415.92},{"$f":"IFERROR(F59*(1-Оглавление!$D$42),\"по запросу\")","v":48415.92},483,"шт",null,0,0]
[null,"381-145-400","Муфта ремонтная из нержавеющей стали STRAUB-CLAMP 145.0мм, L=400мм, 1 замок, NBR W4 PN16","STRAUB-CLAMP","RUB",{"$f":"IFERROR(H60*Оглавление!$E$23,\"по запросу\")","v":61647.6},{"$f":"IFERROR(F60*(1-Оглавление!$D$42),\"по запросу\")","v":61647.6},615,"шт",null,0,0]
[null,"381-159-200","Муфта ремонтная из нержавеющей стали STRAUB-CLAMP 159.0мм, L=200мм, 1 замок, NBR W4 PN16","STRAUB-CLAMP","RUB",{"$f":"IFERROR(H61*Оглавление!$E$23,\"по запросу\")","v":34382.32},{"$f":"IFERROR(F61*(1-Оглавление!$D$42),\"по запросу\")","v":34382.32},343,"шт",null,0,0]
[null,"381-159-300","Муфта ремонтная из нержавеющей стали STRAUB-CLAMP 159.0мм, L=300мм, 1 замок, NBR W4 PN16","STRAUB-CLAMP","RUB",{"$f":"IFERROR(H62*Оглавление!$E$23,\"по запросу\")","v":50320.479999999996},{"$f":"IFERROR(F62*(1-Оглавление!$D$42),\"по запросу\")","v":50320.479999999996},502,"шт",null,0,0]
[null,"381-159-400","Муфта ремонтная из нержавеющей стали STRAUB-CLAMP 159.0мм, L=400мм, 1 замок, NBR W4 PN16","STRAUB-CLAMP","RUB",{"$f":"IFERROR(H63*Оглавление!$E$23,\"по запросу\")","v":65957.919999999998},{"$f":"IFERROR(F63*(1-Оглавление!$D$42),\"по запросу\")","v":65957.919999999998},658,"шт",null,0,0]
[null,"381-167-200","Муфта ремонтная из нержавеющей стали STRAUB-CLAMP 167.0мм, L=200мм, 1 замок, NBR W4 PN16","STRAUB-CLAMP","RUB",{"$f":"IFERROR(H64*Оглавление!$E$23,\"по запросу\")","v":35084},{"$f":"IFERROR(F64*(1-Оглавление!$D$42),\"по запросу\")","v":35084},350,"шт",null,0,0]
[null,"381-167-300","Муфта ремонтная из нержавеющей стали STRAUB-CLAMP 167.0мм, L=300мм, 1 замок, NBR W4 PN16","STRAUB-CLAMP","RUB",{"$f":"IFERROR(H65*Оглавление!$E$23,\"по запросу\")","v":51924.32},{"$f":"IFERROR(F65*(1-Оглавление!$D$42),\"по запросу\")","v":51924.32},518,"шт",null,0,0]
[null,"381-167-400","Муфта ремонтная из нержавеющей стали STRAUB-CLAMP 167.0мм, L=400мм, 1 замок, NBR W4 PN16","STRAUB-CLAMP","RUB",{"$f":"IFERROR(H66*Оглавление!$E$23,\"по запросу\")","v":67862.48},{"$f":"IFERROR(F66*(1-Оглавление!$D$42),\"по запросу\")","v":67862.48},677,"шт",null,0,0]
[null,"381-176-200","Муфта ремонтная из нержавеющей стали STRAUB-CLAMP 176.0мм, L=200мм, 1 замок, NBR W4 PN16","STRAUB-CLAMP","RUB",{"$f":"IFERROR(H67*Оглавление!$E$23,\"по запросу\")","v":35885.919999999998},{"$f":"IFERROR(F67*(1-Оглавление!$D$42),\"по запросу\")","v":35885.919999999998},358,"шт",null,0,0]
[null,"381-176-300","Муфта ремонтная из нержавеющей стали STRAUB-CLAMP 176.0мм, L=300мм, 1 замок, NBR W4 PN16","STRAUB-CLAMP","RUB",{"$f":"IFERROR(H68*Оглавление!$E$23,\"по запросу\")","v":53828.88},{"$f":"IFERROR(F68*(1-Оглавление!$D$42),\"по запросу\")","v":53828.88},537,"шт",null,0,0]
[null,"381-176-400","Муфта ремонтная из нержавеющей стали STRAUB-CLAMP 176.0мм, L=400мм, 1 замок, NBR W4 PN16","STRAUB-CLAMP","RUB",{"$f":"IFERROR(H69*Оглавление!$E$23,\"по запросу\")","v":69065.36},{"$f":"IFERROR(F69*(1-Оглавление!$D$42),\"по запросу\")","v":69065.36},689,"шт",null,0,0]
[null,"381-193-200","Муфта ремонтная из нержавеющей стали STRAUB-CLAMP 193.0мм, L=200мм, 1 замок, NBR W4 PN10","STRAUB-CLAMP","RUB",{"$f":"IFERROR(H70*Оглавление!$E$23,\"по запросу\")","v":38291.68},{"$f":"IFERROR(F70*(1-Оглавление!$D$42),\"по запросу\")","v":38291.68},382,"шт",null,0,0]
[null,"381-193-300","Муфта ремонтная из нержавеющей стали STRAUB-CLAMP 193.0мм, L=300мм, 1 замок, NBR W4 PN10","STRAUB-CLAMP","RUB",{"$f":"IFERROR(H71*Оглавление!$E$23,\"по запросу\")","v":55833.68},{"$f":"IFERROR(F71*(1-Оглавление!$D$42),\"по запросу\")","v":55833.68},557,"шт",null,0,0]
[null,"381-193-400","Муфта ремонтная из нержавеющей стали STRAUB-CLAMP 193.0мм, L=400мм, 1 замок, NBR W4 PN10","STRAUB-CLAMP","RUB",{"$f":"IFERROR(H72*Оглавление!$E$23,\"по запросу\")","v":73375.679999999993},{"$f":"IFERROR(F72*(1-Оглавление!$D$42),\"по запросу\")","v":73375.679999999993},732,"шт",null,0,0]
[null,"381-215-200","Муфта ремонтная из нержавеющей стали STRAUB-CLAMP 215.0мм, L=200мм, 1 замок, NBR W4 PN10","STRAUB-CLAMP","RUB",{"$f":"IFERROR(H73*Оглавление!$E$23,\"по запросу\")","v":39795.279999999999},{"$f":"IFERROR(F73*(1-Оглавление!$D$42),\"по запросу\")","v":39795.279999999999},397,"шт",null,0,0]
[null,"381-215-300","Муфта ремонтная из нержавеющей стали STRAUB-CLAMP 215.0мм, L=300мм, 1 замок, NBR W4 PN10","STRAUB-CLAMP","RUB",{"$f":"IFERROR(H74*Оглавление!$E$23,\"по запросу\")","v":59642.799999999996},{"$f":"IFERROR(F74*(1-Оглавление!$D$42),\"по запросу\")","v":59642.799999999996},595,"шт",null,0,0]
[null,"381-215-400","Муфта ремонтная из нержавеющей стали STRAUB-CLAMP 215.0мм, L=400мм, 1 замок, NBR W4 PN10","STRAUB-CLAMP","RUB",{"$f":"IFERROR(H75*Оглавление!$E$23,\"по запросу\")","v":78387.679999999993},{"$f":"IFERROR(F75*(1-Оглавление!$D$42),\"по запросу\")","v":78387.679999999993},782,"шт",null,{"$f":"IFERROR(J75*F75,\"0 ₽\")","v":0},{"$f":"IFERROR(J75*G75,\"0 ₽\")","v":0}]
[null,"381-228-200","Муфта ремонтная из нержавеющей стали STRAUB-CLAMP 228.0мм, L=200мм, 1 замок, NBR W4 PN10","STRAUB-CLAMP","RUB",{"$f":"IFERROR(H76*Оглавление!$E$23,\"по запросу\")","v":40597.199999999997},{"$f":"IFERROR(F76*(1-Оглавление!$D$42),\"по запросу\")","v":40597.199999999997},405,"шт",null,0,0]
[null,"381-228-300","Муфта ремонтная из нержавеющей стали STRAUB-CLAMP 228.0мм, L=300мм, 1 замок, NBR W4 PN10","STRAUB-CLAMP","RUB",{"$f":"IFERROR(H77*Оглавление!$E$23,\"по запросу\")","v":63552.159999999996},{"$f":"IFERROR(F77*(1-Оглавление!$D$42),\"по запросу\")","v":63552.159999999996},634,"шт",null,0,0]
[null,"381-240-200","Муфта ремонтная из нержавеющей стали STRAUB-CLAMP 240.0мм, L=200мм, 1 замок, NBR W4 PN10","STRAUB-CLAMP","RUB",{"$f":"IFERROR(H78*Оглавление!$E$23,\"по запросу\")","v":41800.079999999994},{"$f":"IFERROR(F78*(1-Оглавление!$D$42),\"по запросу\")","v":41800.079999999994},417,"шт",null,0,0]
[null,"381-240-300","Муфта ремонтная из нержавеющей стали STRAUB-CLAMP 240.0мм, L=300мм, 1 замок, NBR W4 PN10","STRAUB-CLAMP","RUB",{"$f":"IFERROR(H79*Оглавление!$E$23,\"по запросу\")","v":67862.48},{"$f":"IFERROR(F79*(1-Оглавление!$D$42),\"по запросу\")","v":67862.48},677,"шт",null,0,0]
[null,"381-240-400","Муфта ремонтная из нержавеющей стали STRAUB-CLAMP 240.0мм, L=400мм, 1 замок, NBR W4 PN10","STRAUB-CLAMP","RUB",{"$f":"IFERROR(H80*Оглавление!$E$23,\"по запросу\")","v":84402.08},{"$f":"IFERROR(F80*(1-Оглавление!$D$42),\"по запросу\")","v":84402.08},842,"шт",null,0,0]
[null,"381-261-200","Муфта ремонтная из нержавеющей стали STRAUB-CLAMP 261.0мм, L=200мм, 1 замок, NBR W4 PN10","STRAUB-CLAMP","RUB",{"$f":"IFERROR(H81*Оглавление!$E$23,\"по запросу\")","v":42902.720000000001},{"$f":"IFERROR(F81*(1-Оглавление!$D$42),\"по запросу\")","v":42902.720000000001},428,"шт",null,0,0]
[null,"381-261-300","Муфта ремонтная из нержавеющей стали STRAUB-CLAMP 261.0мм, L=300мм, 1 замок, NBR W4 PN10","STRAUB-CLAMP","RUB",{"$f":"IFERROR(H82*Оглавление!$E$23,\"по запросу\")","v":70568.959999999992},{"$f":"IFERROR(F82*(1-Оглавление!$D$42),\"по запросу\")","v":70568.959999999992},704,"шт",null,0,0]
[null,"381-269-200","Муфта ремонтная из нержавеющей стали STRAUB-CLAMP 269.0мм, L=200мм, 1 замок, NBR W4 PN10","STRAUB-CLAMP","RUB",{"$f":"IFERROR(H83*Оглавление!$E$23,\"по запросу\")","v":43704.639999999999},{"$f":"IFERROR(F83*(1-Оглавление!$D$42),\"по запросу\")","v":43704.639999999999},436,"шт",null,0,0]
[null,"381-269-300","Муфта ремонтная из нержавеющей стали STRAUB-CLAMP 269.0мм, L=300мм, 1 замок, NBR W4 PN10","STRAUB-CLAMP","RUB",{"$f":"IFERROR(H84*Оглавление!$E$23,\"по запросу\")","v":75681.2},{"$f":"IFERROR(F84*(1-Оглавление!$D$42),\"по запросу\")","v":75681.2},755,"шт",null,0,0]
[null,"381-269-400","Муфта ремонтная  из нержавеющей стали STRAUB-CLAMP 269.0 мм, L=400мм, 1 замок, NBR W4 PN10","STRAUB-CLAMP","RUB",{"$f":"IFERROR(H85*Оглавление!$E$23,\"по запросу\")","v":91218.4},{"$f":"IFERROR(F85*(1-Оглавление!$D$42),\"по запросу\")","v":91218.4},910,"шт",null,0,0]
[null,"381-280-300","Муфта ремонтная из нержавеющей стали STRAUB-CLAMP 280.0мм, L=300мм, 1 замок, NBR W4 PN10","STRAUB-CLAMP","RUB",{"$f":"IFERROR(H86*Оглавление!$E$23,\"по запросу\")","v":76483.12},{"$f":"IFERROR(F86*(1-Оглавление!$D$42),\"по запросу\")","v":76483.12},763,"шт",null,0,0]
[null,"381-315-300","Муфта ремонтная из нержавеющей стали STRAUB-CLAMP 315.0мм, L=300мм, 1 замок, NBR W4 PN10","STRAUB-CLAMP","RUB",{"$f":"IFERROR(H87*Оглавление!$E$23,\"по запросу\")","v":90115.76},{"$f":"IFERROR(F87*(1-Оглавление!$D$42),\"по запросу\")","v":90115.76},899,"шт",null,0,0]
[null,"381-315-400","Муфта ремонтная из нержавеющей стали STRAUB-CLAMP 315.0мм, L=400мм, 1 замок, NBR W4 PN10","STRAUB-CLAMP","RUB",{"$f":"IFERROR(H88*Оглавление!$E$23,\"по запросу\")","v":127304.79999999999},{"$f":"IFERROR(F88*(1-Оглавление!$D$42),\"по запросу\")","v":127304.79999999999},1270,"шт",null,0,0]
[null,"381-320-300","Муфта ремонтная из нержавеющей стали STRAUB-CLAMP 320.0мм, L=300мм, 1 замок, NBR W4 PN10","STRAUB-CLAMP","RUB",{"$f":"IFERROR(H89*Оглавление!$E$23,\"по запросу\")","v":92822.239999999991},{"$f":"IFERROR(F89*(1-Оглавление!$D$42),\"по запросу\")","v":92822.239999999991},926,"шт",null,0,0]
[null,"382-088-200","Муфта ремонтная из нержавеющей стали STRAUB-CLAMP 88.0мм, L=200мм, 2 замка, NBR W4 PN16","STRAUB-CLAMP","RUB",{"$f":"IFERROR(H90*Оглавление!$E$23,\"по запросу\")","v":43303.68},{"$f":"IFERROR(F90*(1-Оглавление!$D$42),\"по запросу\")","v":43303.68},432,"шт",null,0,0]
[null,"382-088-300","Муфта ремонтная из нержавеющей стали STRAUB-CLAMP 88.0мм, L=300мм, 2 замка, NBR W4 PN16","STRAUB-CLAMP","RUB",{"$f":"IFERROR(H91*Оглавление!$E$23,\"по запросу\")","v":62449.52},{"$f":"IFERROR(F91*(1-Оглавление!$D$42),\"по запросу\")","v":62449.52},623,"шт",null,0,0]
[null,"382-088-400","Муфта ремонтная из нержавеющей стали STRAUB-CLAMP 88.0мм, L=400мм, 2 замка, NBR W4 PN16","STRAUB-CLAMP","RUB",{"$f":"IFERROR(H92*Оглавление!$E$23,\"по запросу\")","v":81896.08},{"$f":"IFERROR(F92*(1-Оглавление!$D$42),\"по запросу\")","v":81896.08},817,"шт",null,0,0]
[null,"382-100-200","Муфта ремонтная из нержавеющей стали STRAUB-CLAMP 100.0мм, L=200мм, 2 замка, NBR W4 PN16","STRAUB-CLAMP","RUB",{"$f":"IFERROR(H93*Оглавление!$E$23,\"по запросу\")","v":44506.559999999998},{"$f":"IFERROR(F93*(1-Оглавление!$D$42),\"по запросу\")","v":44506.559999999998},444,"шт",null,0,0]
[null,"382-100-300","Муфта ремонтная из нержавеющей стали STRAUB-CLAMP 100.0мм, L=300мм, 2 замка, NBR W4 PN16","STRAUB-CLAMP","RUB",{"$f":"IFERROR(H94*Оглавление!$E$23,\"по запросу\")","v":64354.079999999994},{"$f":"IFERROR(F94*(1-Оглавление!$D$42),\"по запросу\")","v":64354.079999999994},642,"шт",null,0,0]
[null,"382-100-400","Муфта ремонтная из нержавеющей стали STRAUB-CLAMP 100.0мм, L=400мм, 2 замка, NBR W4 PN16","STRAUB-CLAMP","RUB",{"$f":"IFERROR(H95*Оглавление!$E$23,\"по запросу\")","v":84201.599999999991},{"$f":"IFERROR(F95*(1-Оглавление!$D$42),\"по запросу\")","v":84201.599999999991},840,"шт",null,0,0]
[null,"382-108-200","Муфта ремонтная из нержавеющей стали STRAUB-CLAMP 108.0мм, L=200мм, 2 замка, NBR W4 PN16","STRAUB-CLAMP","RUB",{"$f":"IFERROR(H96*Оглавление!$E$23,\"по запросу\")","v":45308.479999999996},{"$f":"IFERROR(F96*(1-Оглавление!$D$42),\"по запросу\")","v":45308.479999999996},452,"шт",null,0,0]
[null,"382-108-300","Муфта ремонтная из нержавеющей стали STRAUB-CLAMP 108.0мм, L=300мм, 2 замка, NBR W4 PN16","STRAUB-CLAMP","RUB",{"$f":"IFERROR(H97*Оглавление!$E$23,\"по запросу\")","v":64755.039999999994},{"$f":"IFERROR(F97*(1-Оглавление!$D$42),\"по запросу\")","v":64755.039999999994},646,"шт",null,0,0]
[null,"382-108-400","Муфта ремонтная из нержавеющей стали STRAUB-CLAMP 108.0мм, L=400мм, 2 замка, NBR W4 PN16","STRAUB-CLAMP","RUB",{"$f":"IFERROR(H98*Оглавление!$E$23,\"по запросу\")","v":85003.51999999999},{"$f":"IFERROR(F98*(1-Оглавление!$D$42),\"по запросу\")","v":85003.51999999999},848,"шт",null,0,0]
[null,"382-114-200","Муфта ремонтная из нержавеющей стали STRAUB-CLAMP 114.0мм, L=200мм, 2 замка, NBR W4 PN16","STRAUB-CLAMP","RUB",{"$f":"IFERROR(H99*Оглавление!$E$23,\"по запросу\")","v":45609.2},{"$f":"IFERROR(F99*(1-Оглавление!$D$42),\"по запросу\")","v":45609.2},455,"шт",null,0,0]
[null,"382-114-300","Муфта ремонтная из нержавеющей стали STRAUB-CLAMP 114.0мм, L=300мм, 2 замка, NBR W4 PN16","STRAUB-CLAMP","RUB",{"$f":"IFERROR(H100*Оглавление!$E$23,\"по запросу\")","v":66659.599999999991},{"$f":"IFERROR(F100*(1-Оглавление!$D$42),\"по запросу\")","v":66659.599999999991},665,"шт",null,0,0]
[null,"382-114-400","Муфта ремонтная из нержавеющей стали STRAUB-CLAMP 114.0мм, L=400мм, 2 замка, NBR W4 PN16","STRAUB-CLAMP","RUB",{"$f":"IFERROR(H101*Оглавление!$E$23,\"по запросу\")","v":86206.399999999994},{"$f":"IFERROR(F101*(1-Оглавление!$D$42),\"по запросу\")","v":86206.399999999994},860,"шт",null,0,0]
[null,"382-120-200","Муфта ремонтная из нержавеющей стали STRAUB-CLAMP 120.0мм, L=200мм, 2 замка, NBR W4 PN16","STRAUB-CLAMP","RUB",{"$f":"IFERROR(H102*Оглавление!$E$23,\"по запросу\")","v":46411.119999999995},{"$f":"IFERROR(F102*(1-Оглавление!$D$42),\"по запросу\")","v":46411.119999999995},463,"шт",null,0,0]
[null,"382-120-300","Муфта ремонтная из нержавеющей стали STRAUB-CLAMP 120.0мм, L=300мм, 2 замка, NBR W4 PN16","STRAUB-CLAMP","RUB",{"$f":"IFERROR(H103*Оглавление!$E$23,\"по запросу\")","v":67862.48},{"$f":"IFERROR(F103*(1-Оглавление!$D$42),\"по запросу\")","v":67862.48},677,"шт",null,0,0]
[null,"382-120-400","Муфта ремонтная из нержавеющей стали STRAUB-CLAMP 120.0мм, L=400мм, 2 замка, NBR W4 PN16","STRAUB-CLAMP","RUB",{"$f":"IFERROR(H104*Оглавление!$E$23,\"по запросу\")","v":88110.959999999992},{"$f":"IFERROR(F104*(1-Оглавление!$D$42),\"по запросу\")","v":88110.959999999992},879,"шт",null,0,0]
[null,"382-130-200","Муфта ремонтная из нержавеющей стали STRAUB-CLAMP 130.0мм, L=200мм, 2 замка, NBR W4 PN16","STRAUB-CLAMP","RUB",{"$f":"IFERROR(H105*Оглавление!$E$23,\"по запросу\")","v":47614},{"$f":"IFERROR(F105*(1-Оглавление!$D$42),\"по запросу\")","v":47614},475,"шт",null,0,0]
[null,"382-130-300","Муфта ремонтная из нержавеющей стали STRAUB-CLAMP 130.0мм, L=300мм, 2 замка, NBR W4 PN16","STRAUB-CLAMP","RUB",{"$f":"IFERROR(H106*Оглавление!$E$23,\"по запросу\")","v":69065.36},{"$f":"IFERROR(F106*(1-Оглавление!$D$42),\"по запросу\")","v":69065.36},689,"шт",null,0,0]
[null,"382-130-400","Муфта ремонтная из нержавеющей стали STRAUB-CLAMP 130.0мм, L=400мм, 2 замка, NBR W4 PN16","STRAUB-CLAMP","RUB",{"$f":"IFERROR(H107*Оглавление!$E$23,\"по запросу\")","v":90115.76},{"$f":"IFERROR(F107*(1-Оглавление!$D$42),\"по запросу\")","v":90115.76},899,"шт",null,0,0]
[null,"382-140-200","Муфта ремонтная из нержавеющей стали STRAUB-CLAMP 140.0мм, L=200мм, 2 замка, NBR W4 PN16","STRAUB-CLAMP","RUB",{"$f":"IFERROR(H108*Оглавление!$E$23,\"по запросу\")","v":48415.92},{"$f":"IFERROR(F108*(1-Оглавление!$D$42),\"по запросу\")","v":48415.92},483,"шт",null,0,0]
[null,"382-140-300","Муфта ремонтная из нержавеющей стали STRAUB-CLAMP 140.0мм, L=300мм, 2 замка, NBR W4 PN16","STRAUB-CLAMP","RUB",{"$f":"IFERROR(H109*Оглавление!$E$23,\"по запросу\")","v":71771.839999999997},{"$f":"IFERROR(F109*(1-Оглавление!$D$42),\"по запросу\")","v":71771.839999999997},716,"шт",null,0,0]
[null,"382-140-400","Муфта ремонтная из нержавеющей стали STRAUB-CLAMP 140.0мм, L=400мм, 2 замка, NBR W4 PN16","STRAUB-CLAMP","RUB",{"$f":"IFERROR(H110*Оглавление!$E$23,\"по запросу\")","v":92822.239999999991},{"$f":"IFERROR(F110*(1-Оглавление!$D$42),\"по запросу\")","v":92822.239999999991},926,"шт",null,0,0]
[null,"382-159-200","Муфта ремонтная из нержавеющей стали STRAUB-CLAMP 159.0мм, L=200мм, 2 замка, NBR W4 PN16","STRAUB-CLAMP","RUB",{"$f":"IFERROR(H111*Оглавление!$E$23,\"по запросу\")","v":49117.599999999999},{"$f":"IFERROR(F111*(1-Оглавление!$D$42),\"по запросу\")","v":49117.599999999999},490,"шт",null,0,0]
[null,"382-159-300","Муфта ремонтная из нержавеющей стали STRAUB-CLAMP 159.0мм, L=300мм, 2 замка, NBR W4 PN16","STRAUB-CLAMP","RUB",{"$f":"IFERROR(H112*Оглавление!$E$23,\"по запросу\")","v":72974.720000000001},{"$f":"IFERROR(F112*(1-Оглавление!$D$42),\"по запросу\")","v":72974.720000000001},728,"шт",null,0,0]
[null,"382-159-400","Муфта ремонтная из нержавеющей стали STRAUB-CLAMP 159.0мм, L=400мм, 2 замка, NBR W4 PN16","STRAUB-CLAMP","RUB",{"$f":"IFERROR(H113*Оглавление!$E$23,\"по запросу\")","v":94726.799999999988},{"$f":"IFERROR(F113*(1-Оглавление!$D$42),\"по запросу\")","v":94726.799999999988},945,"шт",null,0,0]
[null,"382-168-200","Муфта ремонтная из нержавеющей стали STRAUB-CLAMP 168.0мм, L=200мм, 2 замка, NBR W4 PN16","STRAUB-CLAMP","RUB",{"$f":"IFERROR(H114*Оглавление!$E$23,\"по запросу\")","v":50320.479999999996},{"$f":"IFERROR(F114*(1-Оглавление!$D$42),\"по запросу\")","v":50320.479999999996},502,"шт",null,0,0]
[null,"382-168-300","Муфта ремонтная из нержавеющей стали STRAUB-CLAMP 168.0мм, L=300мм, 2 замка, NBR W4 PN16","STRAUB-CLAMP","RUB",{"$f":"IFERROR(H115*Оглавление!$E$23,\"по запросу\")","v":74879.28},{"$f":"IFERROR(F115*(1-Оглавление!$D$42),\"по запросу\")","v":74879.28},747,"шт",null,0,0]
[null,"382-168-400","Муфта ремонтная из нержавеющей стали STRAUB-CLAMP 168.0мм, L=400мм, 2 замка, NBR W4 PN16","STRAUB-CLAMP","RUB",{"$f":"IFERROR(H116*Оглавление!$E$23,\"по запросу\")","v":97533.51999999999},{"$f":"IFERROR(F116*(1-Оглавление!$D$42),\"по запросу\")","v":97533.51999999999},973,"шт",null,0,0]
[null,"382-190-200","Муфта ремонтная из нержавеющей стали STRAUB-CLAMP 190.0мм, L=200мм, 2 замка, NBR W4 PN16","STRAUB-CLAMP","RUB",{"$f":"IFERROR(H117*Оглавление!$E$23,\"по запросу\")","v":53828.88},{"$f":"IFERROR(F117*(1-Оглавление!$D$42),\"по запросу\")","v":53828.88},537,"шт",null,0,0]
[null,"382-190-300","Муфта ремонтная из нержавеющей стали STRAUB-CLAMP 190.0мм, L=300мм, 2 замка, NBR W4 PN16","STRAUB-CLAMP","RUB",{"$f":"IFERROR(H118*Оглавление!$E$23,\"по запросу\")","v":80292.239999999991},{"$f":"IFERROR(F118*(1-Оглавление!$D$42),\"по запросу\")","v":80292.239999999991},801,"шт",null,0,0]
[null,"382-190-400","Муфта ремонтная из нержавеющей стали STRAUB-CLAMP 190.0мм, L=400мм, 2 замка, NBR W4 PN16","STRAUB-CLAMP","RUB",{"$f":"IFERROR(H119*Оглавление!$E$23,\"по запросу\")","v":102946.48},{"$f":"IFERROR(F119*(1-Оглавление!$D$42),\"по запросу\")","v":102946.48},1027,"шт",null,0,0]
[null,"382-210-200","Муфта ремонтная из нержавеющей стали STRAUB-CLAMP 210.0мм, L=200мм, 2 замка, NBR W4 PN10","STRAUB-CLAMP","RUB",{"$f":"IFERROR(H120*Оглавление!$E$23,\"по запросу\")","v":56134.399999999994},{"$f":"IFERROR(F120*(1-Оглавление!$D$42),\"по запросу\")","v":56134.399999999994},560,"шт",null,0,0]
[null,"382-210-300","Муфта ремонтная из нержавеющей стали STRAUB-CLAMP 210.0мм, L=300мм, 2 замка, NBR W4 PN10","STRAUB-CLAMP","RUB",{"$f":"IFERROR(H121*Оглавление!$E$23,\"по запросу\")","v":83098.959999999992},{"$f":"IFERROR(F121*(1-Оглавление!$D$42),\"по запросу\")","v":83098.959999999992},829,"шт",null,0,0]
[null,"382-210-400","Муфта ремонтная из нержавеющей стали STRAUB-CLAMP 210.0мм, L=400мм, 2 замка, NBR W4 PN10","STRAUB-CLAMP","RUB",{"$f":"IFERROR(H122*Оглавление!$E$23,\"по запросу\")","v":107256.79999999999},{"$f":"IFERROR(F122*(1-Оглавление!$D$42),\"по запросу\")","v":107256.79999999999},1070,"шт",null,0,0]
[null,"382-218-200","Муфта ремонтная из нержавеющей стали STRAUB-CLAMP 218.0мм, L=200мм, 2 замка, NBR W4 PN10","STRAUB-CLAMP","RUB",{"$f":"IFERROR(H123*Оглавление!$E$23,\"по запросу\")","v":57738.239999999998},{"$f":"IFERROR(F123*(1-Оглавление!$D$42),\"по запросу\")","v":57738.239999999998},576,"шт",null,0,0]
[null,"382-218-300","Муфта ремонтная из нержавеющей стали STRAUB-CLAMP 218.0мм, L=300мм, 2 замка, NBR W4 PN10","STRAUB-CLAMP","RUB",{"$f":"IFERROR(H124*Оглавление!$E$23,\"по запросу\")","v":84602.559999999998},{"$f":"IFERROR(F124*(1-Оглавление!$D$42),\"по запросу\")","v":84602.559999999998},844,"шт",null,0,0]
[null,"382-218-400","Муфта ремонтная из нержавеющей стали STRAUB-CLAMP 218.0мм, L=400мм, 2 замка, NBR W4 PN10","STRAUB-CLAMP","RUB",{"$f":"IFERROR(H125*Оглавление!$E$23,\"по запросу\")","v":110364.23999999999},{"$f":"IFERROR(F125*(1-Оглавление!$D$42),\"по запросу\")","v":110364.23999999999},1101,"шт",null,0,0]
[null,"382-240-200","Муфта ремонтная из нержавеющей стали STRAUB-CLAMP 240.0мм, L=200мм, 2 замка, NBR W4 PN10","STRAUB-CLAMP","RUB",{"$f":"IFERROR(H126*Оглавление!$E$23,\"по запросу\")","v":62449.52},{"$f":"IFERROR(F126*(1-Оглавление!$D$42),\"по запросу\")","v":62449.52},623,"шт",null,0,0]
[null,"382-240-300","Муфта ремонтная из нержавеющей стали STRAUB-CLAMP 240.0мм, L=300мм, 2 замка, NBR W4 PN10","STRAUB-CLAMP","RUB",{"$f":"IFERROR(H127*Оглавление!$E$23,\"по запросу\")","v":90516.72},{"$f":"IFERROR(F127*(1-Оглавление!$D$42),\"по запросу\")","v":90516.72},903,"шт",null,0,0]
[null,"382-240-400","Муфта ремонтная из нержавеющей стали STRAUB-CLAMP 240.0мм, L=400мм, 2 замка, NBR W4 PN10","STRAUB-CLAMP","RUB",{"$f":"IFERROR(H128*Оглавление!$E$23,\"по запросу\")","v":119285.59999999999},{"$f":"IFERROR(F128*(1-Оглавление!$D$42),\"по запросу\")","v":119285.59999999999},1190,"шт",null,0,0]
[null,"382-269-200","Муфта ремонтная из нержавеющей стали STRAUB-CLAMP 269.0мм, L=200мм, 2 замка, NBR W4 PN10","STRAUB-CLAMP","RUB",{"$f":"IFERROR(H129*Оглавление!$E$23,\"по запросу\")","v":72974.720000000001},{"$f":"IFERROR(F129*(1-Оглавление!$D$42),\"по запросу\")","v":72974.720000000001},728,"шт",null,0,0]
[null,"382-269-300","Муфта ремонтная из нержавеющей стали STRAUB-CLAMP 269.0мм, L=300мм, 2 замка, NBR W4 PN10","STRAUB-CLAMP","RUB",{"$f":"IFERROR(H130*Оглавление!$E$23,\"по запросу\")","v":106454.87999999999},{"$f":"IFERROR(F130*(1-Оглавление!$D$42),\"по запросу\")","v":106454.87999999999},1062,"шт",null,0,0]
[null,"382-269-400","Муфта ремонтная из нержавеющей стали STRAUB-CLAMP 269.0мм, L=400мм, 2 замка, NBR W4 PN10","STRAUB-CLAMP","RUB",{"$f":"IFERROR(H131*Оглавление!$E$23,\"по запросу\")","v":138431.44},{"$f":"IFERROR(F131*(1-Оглавление!$D$42),\"по запросу\")","v":138431.44},1381,"шт",null,0,0]
[null,"382-282-200","Муфта ремонтная из нержавеющей стали STRAUB-CLAMP 282.0мм, L=200мм, 2 замка, NBR W4 PN10","STRAUB-CLAMP","RUB",{"$f":"IFERROR(H132*Оглавление!$E$23,\"по запросу\")","v":74879.28},{"$f":"IFERROR(F132*(1-Оглавление!$D$42),\"по запросу\")","v":74879.28},747,"шт",null,0,0]
[null,"382-282-300","Муфта ремонтная из нержавеющей стали STRAUB-CLAMP 282.0мм, L=300мм, 2 замка, NBR W4 PN10","STRAUB-CLAMP","RUB",{"$f":"IFERROR(H133*Оглавление!$E$23,\"по запросу\")","v":109963.28},{"$f":"IFERROR(F133*(1-Оглавление!$D$42),\"по запросу\")","v":109963.28},1097,"шт",null,0,0]
[null,"382-282-400","Муфта ремонтная из нержавеющей стали STRAUB-CLAMP 282.0мм, L=400мм, 2 замка, NBR W4 PN10","STRAUB-CLAMP","RUB",{"$f":"IFERROR(H134*Оглавление!$E$23,\"по запросу\")","v":143844.4},{"$f":"IFERROR(F134*(1-Оглавление!$D$42),\"по запросу\")","v":143844.4},1435,"шт",null,0,0]
[null,"382-315-200","Муфта ремонтная из нержавеющей стали STRAUB-CLAMP 315.0мм, L=200мм, 2 замка, NBR W4 PN10","STRAUB-CLAMP","RUB",{"$f":"IFERROR(H135*Оглавление!$E$23,\"по запросу\")","v":80292.239999999991},{"$f":"IFERROR(F135*(1-Оглавление!$D$42),\"по запросу\")","v":80292.239999999991},801,"шт",null,0,0]
[null,"382-315-300","Муфта ремонтная из нержавеющей стали STRAUB-CLAMP 315.0мм, L=300мм, 2 замка, NBR W4 PN10","STRAUB-CLAMP","RUB",{"$f":"IFERROR(H136*Оглавление!$E$23,\"по запросу\")","v":114674.56},{"$f":"IFERROR(F136*(1-Оглавление!$D$42),\"по запросу\")","v":114674.56},1144,"шт",null,0,0]
[null,"382-315-400","Муфта ремонтная из нержавеющей стали STRAUB-CLAMP 315.0мм, L=400мм, 2 замка, NBR W4 PN10","STRAUB-CLAMP","RUB",{"$f":"IFERROR(H137*Оглавление!$E$23,\"по запросу\")","v":147753.75999999998},{"$f":"IFERROR(F137*(1-Оглавление!$D$42),\"по запросу\")","v":147753.75999999998},1474,"шт",null,0,0]
[null,"382-322-300","Муфта ремонтная из нержавеющей стали STRAUB-CLAMP 322.0мм, L=300мм, 2 замка, NBR W4 PN10","STRAUB-CLAMP","RUB",{"$f":"IFERROR(H138*Оглавление!$E$23,\"по запросу\")","v":116579.12},{"$f":"IFERROR(F138*(1-Оглавление!$D$42),\"по запросу\")","v":116579.12},1163,"шт",null,0,0]
[null,"382-322-400","Муфта ремонтная из нержавеющей стали STRAUB-CLAMP 322.0мм, L=400мм, 2 замка, NBR W4 PN10","STRAUB-CLAMP","RUB",{"$f":"IFERROR(H139*Оглавление!$E$23,\"по запросу\")","v":149758.56},{"$f":"IFERROR(F139*(1-Оглавление!$D$42),\"по запросу\")","v":149758.56},1494,"шт",null,{"$f":"IFERROR(J139*F139,\"0 ₽\")","v":0},{"$f":"IFERROR(J139*G139,\"0 ₽\")","v":0}]
[null,"382-337-300","Муфта ремонтная из нержавеющей стали STRAUB-CLAMP 337.0мм, L=300мм, 2 замка, NBR W4 PN6","STRAUB-CLAMP","RUB",{"$f":"IFERROR(H140*Оглавление!$E$23,\"по запросу\")","v":118884.64},{"$f":"IFERROR(F140*(1-Оглавление!$D$42),\"по запросу\")","v":118884.64},1186,"шт",null,0,0]
[null,"382-337-400","Муфта ремонтная из нержавеющей стали STRAUB-CLAMP 337.0мм, L=400мм, 2 замка, NBR W4 PN6","STRAUB-CLAMP","RUB",{"$f":"IFERROR(H141*Оглавление!$E$23,\"по запросу\")","v":154369.60000000001},{"$f":"IFERROR(F141*(1-Оглавление!$D$42),\"по запросу\")","v":154369.60000000001},1540,"шт",null,0,0]
[null,"382-347-300","Муфта ремонтная из нержавеющей стали STRAUB-CLAMP 347.0мм, L=300мм, 2 замка, NBR W4 PN6","STRAUB-CLAMP","RUB",{"$f":"IFERROR(H142*Оглавление!$E$23,\"по запросу\")","v":120889.43999999999},{"$f":"IFERROR(F142*(1-Оглавление!$D$42),\"по запросу\")","v":120889.43999999999},1206,"шт",null,{"$f":"IFERROR(J142*F142,\"0 ₽\")","v":0},{"$f":"IFERROR(J142*G142,\"0 ₽\")","v":0}]
[null,"382-347-400","Муфта ремонтная из нержавеющей стали STRAUB-CLAMP 347.0мм, L=400мм, 2 замка, NBR W4 PN6","STRAUB-CLAMP","RUB",{"$f":"IFERROR(H143*Оглавление!$E$23,\"по запросу\")","v":157176.31999999998},{"$f":"IFERROR(F143*(1-Оглавление!$D$42),\"по запросу\")","v":157176.31999999998},1568,"шт",null,0,0]
[null,"382-365-400","Муфта ремонтная из нержавеющей стали STRAUB-CLAMP 365.0мм, L=400мм, 2 замка, NBR W4 PN5","STRAUB-CLAMP","RUB",{"$f":"IFERROR(H144*Оглавление!$E$23,\"по запросу\")","v":165295.75999999998},{"$f":"IFERROR(F144*(1-Оглавление!$D$42),\"по запросу\")","v":165295.75999999998},1649,"шт",null,0,0]
[null,"382-390-400","Муфта ремонтная из нержавеющей стали STRAUB-CLAMP 390.0мм, L=400мм, 2 замка, NBR W4 PN5","STRAUB-CLAMP","RUB",{"$f":"IFERROR(H145*Оглавление!$E$23,\"по запросу\")","v":171109.68},{"$f":"IFERROR(F145*(1-Оглавление!$D$42),\"по запросу\")","v":171109.68},1707,"шт",null,0,0]
[null,"382-410-400","Муфта ремонтная из нержавеющей стали STRAUB-CLAMP 410.0мм, L=400мм, 2 замка, NBR W4 PN5","STRAUB-CLAMP","RUB",{"$f":"IFERROR(H146*Оглавление!$E$23,\"по запросу\")","v":175420},{"$f":"IFERROR(F146*(1-Оглавление!$D$42),\"по запросу\")","v":175420},1750,"шт",null,0,0]
[null,"382-420-400","Муфта ремонтная из нержавеющей стали STRAUB-CLAMP 420.0мм, L=400мм, 2 замка, NBR W4 PN5","STRAUB-CLAMP","RUB",{"$f":"IFERROR(H147*Оглавление!$E$23,\"по запросу\")","v":177825.75999999998},{"$f":"IFERROR(F147*(1-Оглавление!$D$42),\"по запросу\")","v":177825.75999999998},1774,"шт",null,0,0]
[null,"391-044-200","Муфта ремонтная из нержавеющей стали STRAUB-CLAMP 44.0мм, L=200мм, 1 замок, EPDM W4 PN16","STRAUB-CLAMP","RUB",{"$f":"IFERROR(H148*Оглавление!$E$23,\"по запросу\")","v":24558.799999999999},{"$f":"IFERROR(F148*(1-Оглавление!$D$42),\"по запросу\")","v":24558.799999999999},245,"шт",null,0,0]
[null,"391-044-300","Муфта ремонтная из нержавеющей стали STRAUB-CLAMP 44.0мм, L=300мм, 1 замок, EPDM W4 PN16","STRAUB-CLAMP","RUB",{"$f":"IFERROR(H149*Оглавление!$E$23,\"по запросу\")","v":26964.559999999998},{"$f":"IFERROR(F149*(1-Оглавление!$D$42),\"по запросу\")","v":26964.559999999998},269,"шт",null,0,0]
[null,"391-048-200","Муфта ремонтная из нержавеющей стали STRAUB-CLAMP 48.0мм, L=200мм, 1 замок, EPDM W4 PN16","STRAUB-CLAMP","RUB",{"$f":"IFERROR(H150*Оглавление!$E$23,\"по запросу\")","v":22253.279999999999},{"$f":"IFERROR(F150*(1-Оглавление!$D$42),\"по запросу\")","v":22253.279999999999},222,"шт",null,0,0]
[null,"391-048-300","Муфта ремонтная из нержавеющей стали STRAUB-CLAMP 48.0мм, L=300мм, 1 замок, EPDM W4 PN16","STRAUB-CLAMP","RUB",{"$f":"IFERROR(H151*Оглавление!$E$23,\"по запросу\")","v":27766.48},{"$f":"IFERROR(F151*(1-Оглавление!$D$42),\"по запросу\")","v":27766.48},277,"шт",null,0,0]
[null,"391-054-200","Муфта ремонтная из нержавеющей стали STRAUB-CLAMP 54.0мм, L=200мм, 1 замок, EPDM W4 PN16","STRAUB-CLAMP","RUB",{"$f":"IFERROR(H152*Оглавление!$E$23,\"по запросу\")","v":22253.279999999999},{"$f":"IFERROR(F152*(1-Оглавление!$D$42),\"по запросу\")","v":22253.279999999999},222,"шт",null,0,0]
[null,"391-054-300","Муфта ремонтная из нержавеющей стали STRAUB-CLAMP 54.0мм, L=300мм, 1 замок, EPDM W4 PN16","STRAUB-CLAMP","RUB",{"$f":"IFERROR(H153*Оглавление!$E$23,\"по запросу\")","v":28067.199999999997},{"$f":"IFERROR(F153*(1-Оглавление!$D$42),\"по запросу\")","v":28067.199999999997},280,"шт",null,0,0]
[null,"391-060-200","Муфта ремонтная из нержавеющей стали STRAUB-CLAMP 60.0мм, L=200мм, 1 замок, EPDM W4 PN16","STRAUB-CLAMP","RUB",{"$f":"IFERROR(H154*Оглавление!$E$23,\"по запросу\")","v":24558.799999999999},{"$f":"IFERROR(F154*(1-Оглавление!$D$42),\"по запросу\")","v":24558.799999999999},245,"шт",null,0,0]
[null,"391-060-300","Муфта ремонтная из нержавеющей стали STRAUB-CLAMP 60.0мм, L=300мм, 1 замок, EPDM W4 PN16","STRAUB-CLAMP","RUB",{"$f":"IFERROR(H155*Оглавление!$E$23,\"по запросу\")","v":35084},{"$f":"IFERROR(F155*(1-Оглавление!$D$42),\"по запросу\")","v":35084},350,"шт",null,0,0]
[null,"391-067-200","Муфта ремонтная из нержавеющей стали STRAUB-CLAMP 67.0мм, L=200мм, 1 замок, EPDM W4 PN16","STRAUB-CLAMP","RUB",{"$f":"IFERROR(H156*Оглавление!$E$23,\"по запросу\")","v":25761.68},{"$f":"IFERROR(F156*(1-Оглавление!$D$42),\"по запросу\")","v":25761.68},257,"шт",null,0,0]
[null,"391-067-300","Муфта ремонтная из нержавеющей стали STRAUB-CLAMP 67.0мм, L=300мм, 1 замок, EPDM W4 PN16","STRAUB-CLAMP","RUB",{"$f":"IFERROR(H157*Оглавление!$E$23,\"по запросу\")","v":36687.839999999997},{"$f":"IFERROR(F157*(1-Оглавление!$D$42),\"по запросу\")","v":36687.839999999997},366,"шт",null,0,0]
[null,"391-070-200","Муфта ремонтная из нержавеющей стали STRAUB-CLAMP 70.0мм, L=200мм, 1 замок, EPDM W4 PN16","STRAUB-CLAMP","RUB",{"$f":"IFERROR(H158*Оглавление!$E$23,\"по запросу\")","v":26162.639999999999},{"$f":"IFERROR(F158*(1-Оглавление!$D$42),\"по запросу\")","v":26162.639999999999},261,"шт",null,0,0]
[null,"391-070-300","Муфта ремонтная из нержавеющей стали STRAUB-CLAMP 70.0мм, L=300мм, 1 замок, EPDM W4 PN16","STRAUB-CLAMP","RUB",{"$f":"IFERROR(H159*Оглавление!$E$23,\"по запросу\")","v":37088.799999999996},{"$f":"IFERROR(F159*(1-Оглавление!$D$42),\"по запросу\")","v":37088.799999999996},370,"шт",null,0,0]
[null,"391-075-200","Муфта ремонтная из нержавеющей стали STRAUB-CLAMP 75.0мм, L=200мм, 1 замок, EPDM W4 PN16","STRAUB-CLAMP","RUB",{"$f":"IFERROR(H160*Оглавление!$E$23,\"по запросу\")","v":26563.599999999999},{"$f":"IFERROR(F160*(1-Оглавление!$D$42),\"по запросу\")","v":26563.599999999999},265,"шт",null,0,0]
[null,"391-075-300","Муфта ремонтная из нержавеющей стали STRAUB-CLAMP 75.0мм, L=300мм, 1 замок, EPDM W4 PN16","STRAUB-CLAMP","RUB",{"$f":"IFERROR(H161*Оглавление!$E$23,\"по запросу\")","v":38592.400000000001},{"$f":"IFERROR(F161*(1-Оглавление!$D$42),\"по запросу\")","v":38592.400000000001},385,"шт",null,0,0]
[null,"391-082-200","Муфта ремонтная из нержавеющей стали STRAUB-CLAMP 82.0мм, L=200мм, 1 замок, EPDM W4 PN16","STRAUB-CLAMP","RUB",{"$f":"IFERROR(H162*Оглавление!$E$23,\"по запросу\")","v":26964.559999999998},{"$f":"IFERROR(F162*(1-Оглавление!$D$42),\"по запросу\")","v":26964.559999999998},269,"шт",null,0,0]
[null,"391-082-300","Муфта ремонтная из нержавеющей стали STRAUB-CLAMP 82.0мм, L=300мм, 1 замок, EPDM W4 PN16","STRAUB-CLAMP","RUB",{"$f":"IFERROR(H163*Оглавление!$E$23,\"по запросу\")","v":39394.32},{"$f":"IFERROR(F163*(1-Оглавление!$D$42),\"по запросу\")","v":39394.32},393,"шт",null,0,0]
[null,"391-082-400","Муфта ремонтная из нержавеющей стали STRAUB-CLAMP 82.0мм, L=400мм, 1 замок, EPDM W4 PN16","STRAUB-CLAMP","RUB",{"$f":"IFERROR(H164*Оглавление!$E$23,\"по запросу\")","v":51924.32},{"$f":"IFERROR(F164*(1-Оглавление!$D$42),\"по запросу\")","v":51924.32},518,"шт",null,0,0]
[null,"391-087-200","Муфта ремонтная из нержавеющей стали STRAUB-CLAMP 87.0мм, L=200мм, 1 замок, EPDM W4 PN16","STRAUB-CLAMP","RUB",{"$f":"IFERROR(H165*Оглавление!$E$23,\"по запросу\")","v":27365.519999999997},{"$f":"IFERROR(F165*(1-Оглавление!$D$42),\"по запросу\")","v":27365.519999999997},273,"шт",null,0,0]
[null,"391-087-300","Муфта ремонтная из нержавеющей стали STRAUB-CLAMP 87.0мм, L=300мм, 1 замок, EPDM W4 PN16","STRAUB-CLAMP","RUB",{"$f":"IFERROR(H166*Оглавление!$E$23,\"по запросу\")","v":39795.279999999999},{"$f":"IFERROR(F166*(1-Оглавление!$D$42),\"по запросу\")","v":39795.279999999999},397,"шт",null,0,0]
[null,"391-087-400","Муфта ремонтная из нержавеющей стали STRAUB-CLAMP 87.0мм, L=400мм, 1 замок, EPDM W4 PN16","STRAUB-CLAMP","RUB",{"$f":"IFERROR(H167*Оглавление!$E$23,\"по запросу\")","v":52626},{"$f":"IFERROR(F167*(1-Оглавление!$D$42),\"по запросу\")","v":52626},525,"шт",null,0,0]
[null,"391-088-200","Муфта ремонтная из нержавеющей стали STRAUB-CLAMP 88.0мм, L=200мм, 1 замок, EPDM W4 PN16","STRAUB-CLAMP","RUB",{"$f":"IFERROR(H168*Оглавление!$E$23,\"по запросу\")","v":27766.48},{"$f":"IFERROR(F168*(1-Оглавление!$D$42),\"по запросу\")","v":27766.48},277,"шт",null,0,0]
[null,"391-088-300","Муфта ремонтная из нержавеющей стали STRAUB-CLAMP 88.0мм, L=300мм, 1 замок, EPDM W4 PN16","STRAUB-CLAMP","RUB",{"$f":"IFERROR(H169*Оглавление!$E$23,\"по запросу\")","v":40196.239999999998},{"$f":"IFERROR(F169*(1-Оглавление!$D$42),\"по запросу\")","v":40196.239999999998},401,"шт",null,0,0]
[null,"391-088-400","Муфта ремонтная из нержавеющей стали STRAUB-CLAMP 88.0мм, L=400мм, 1 замок, EPDM W4 PN16","STRAUB-CLAMP","RUB",{"$f":"IFERROR(H170*Оглавление!$E$23,\"по запросу\")","v":53026.96},{"$f":"IFERROR(F170*(1-Оглавление!$D$42),\"по запросу\")","v":53026.96},529,"шт",null,0,0]
[null,"391-095-200","Муфта ремонтная из нержавеющей стали STRAUB-CLAMP 95.0мм, L=200мм, 1 замок, EPDM W4 PN16","STRAUB-CLAMP","RUB",{"$f":"IFERROR(H171*Оглавление!$E$23,\"по запросу\")","v":28067.199999999997},{"$f":"IFERROR(F171*(1-Оглавление!$D$42),\"по запросу\")","v":28067.199999999997},280,"шт",null,0,0]
[null,"391-095-300","Муфта ремонтная из нержавеющей стали STRAUB-CLAMP 95.0мм, L=300мм, 1 замок, EPDM W4 PN16","STRAUB-CLAMP","RUB",{"$f":"IFERROR(H172*Оглавление!$E$23,\"по запросу\")","v":41399.119999999995},{"$f":"IFERROR(F172*(1-Оглавление!$D$42),\"по запросу\")","v":41399.119999999995},413,"шт",null,0,0]
[null,"391-095-400","Муфта ремонтная из нержавеющей стали STRAUB-CLAMP 95.0мм, L=400мм, 1 замок, EPDM W4 PN16","STRAUB-CLAMP","RUB",{"$f":"IFERROR(H173*Оглавление!$E$23,\"по запросу\")","v":54229.84},{"$f":"IFERROR(F173*(1-Оглавление!$D$42),\"по запросу\")","v":54229.84},541,"шт",null,0,0]
[null,"391-108-200","Муфта ремонтная из нержавеющей стали STRAUB-CLAMP 108.0мм, L=200мм, 1 замок, EPDM W4 PN16","STRAUB-CLAMP","RUB",{"$f":"IFERROR(H174*Оглавление!$E$23,\"по запросу\")","v":30072},{"$f":"IFERROR(F174*(1-Оглавление!$D$42),\"по запросу\")","v":30072},300,"шт",null,0,0]
[null,"391-108-300","Муфта ремонтная из нержавеющей стали STRAUB-CLAMP 108.0мм, L=300мм, 1 замок, EPDM W4 PN16","STRAUB-CLAMP","RUB",{"$f":"IFERROR(H175*Оглавление!$E$23,\"по запросу\")","v":44105.599999999999},{"$f":"IFERROR(F175*(1-Оглавление!$D$42),\"по запросу\")","v":44105.599999999999},440,"шт",null,0,0]
[null,"391-108-400","Муфта ремонтная из нержавеющей стали STRAUB-CLAMP 108.0мм, L=400мм, 1 замок, EPDM W4 PN16","STRAUB-CLAMP","RUB",{"$f":"IFERROR(H176*Оглавление!$E$23,\"по запросу\")","v":58139.199999999997},{"$f":"IFERROR(F176*(1-Оглавление!$D$42),\"по запросу\")","v":58139.199999999997},580,"шт",null,0,0]
[null,"391-113-200","Муфта ремонтная из нержавеющей стали STRAUB-CLAMP 113.0мм, L=200мм, 1 замок, EPDM W4 PN16","STRAUB-CLAMP","RUB",{"$f":"IFERROR(H177*Оглавление!$E$23,\"по запросу\")","v":30873.919999999998},{"$f":"IFERROR(F177*(1-Оглавление!$D$42),\"по запросу\")","v":30873.919999999998},308,"шт",null,0,0]
[null,"391-113-300","Муфта ремонтная из нержавеющей стали STRAUB-CLAMP 113.0мм, L=300мм, 1 замок, EPDM W4 PN16","STRAUB-CLAMP","RUB",{"$f":"IFERROR(H178*Оглавление!$E$23,\"по запросу\")","v":45308.479999999996},{"$f":"IFERROR(F178*(1-Оглавление!$D$42),\"по запросу\")","v":45308.479999999996},452,"шт",null,0,0]
[null,"391-113-400","Муфта ремонтная из нержавеющей стали STRAUB-CLAMP 113.0мм, L=400мм, 1 замок, EPDM W4 PN16","STRAUB-CLAMP","RUB",{"$f":"IFERROR(H179*Оглавление!$E$23,\"по запросу\")","v":58941.119999999995},{"$f":"IFERROR(F179*(1-Оглавление!$D$42),\"по запросу\")","v":58941.119999999995},588,"шт",null,0,0]
[null,"391-118-200","Муфта ремонтная из нержавеющей стали STRAUB-CLAMP 118.0мм, L=200мм, 1 замок, EPDM W4 PN16","STRAUB-CLAMP","RUB",{"$f":"IFERROR(H180*Оглавление!$E$23,\"по запросу\")","v":31575.599999999999},{"$f":"IFERROR(F180*(1-Оглавление!$D$42),\"по запросу\")","v":31575.599999999999},315,"шт",null,0,0]
[null,"391-118-300","Муфта ремонтная из нержавеющей стали STRAUB-CLAMP 118.0мм, L=300мм, 1 замок, EPDM W4 PN16","STRAUB-CLAMP","RUB",{"$f":"IFERROR(H181*Оглавление!$E$23,\"по запросу\")","v":47614},{"$f":"IFERROR(F181*(1-Оглавление!$D$42),\"по запросу\")","v":47614},475,"шт",null,0,0]
[null,"391-118-400","Муфта ремонтная из нержавеющей стали STRAUB-CLAMP 118.0мм, L=400мм, 1 замок, EPDM W4 PN16","STRAUB-CLAMP","RUB",{"$f":"IFERROR(H182*Оглавление!$E$23,\"по запросу\")","v":59642.799999999996},{"$f":"IFERROR(F182*(1-Оглавление!$D$42),\"по запросу\")","v":59642.799999999996},595,"шт",null,0,0]
[null,"391-120-200","Муфта ремонтная из нержавеющей стали STRAUB-CLAMP 120.0мм, L=200мм, 1 замок, EPDM W4 PN16","STRAUB-CLAMP","RUB",{"$f":"IFERROR(H183*Оглавление!$E$23,\"по запросу\")","v":32778.479999999996},{"$f":"IFERROR(F183*(1-Оглавление!$D$42),\"по запросу\")","v":32778.479999999996},327,"шт",null,0,0]
[null,"391-120-300","Муфта ремонтная из нержавеющей стали STRAUB-CLAMP 120.0мм, L=300мм, 1 замок, EPDM W4 PN16","STRAUB-CLAMP","RUB",{"$f":"IFERROR(H184*Оглавление!$E$23,\"по запросу\")","v":48014.96},{"$f":"IFERROR(F184*(1-Оглавление!$D$42),\"по запросу\")","v":48014.96},479,"шт",null,0,0]
[null,"391-120-400","Муфта ремонтная из нержавеющей стали STRAUB-CLAMP 120.0мм, L=400мм, 1 замок, EPDM W4 PN16","STRAUB-CLAMP","RUB",{"$f":"IFERROR(H185*Оглавление!$E$23,\"по запросу\")","v":60444.719999999994},{"$f":"IFERROR(F185*(1-Оглавление!$D$42),\"по запросу\")","v":60444.719999999994},603,"шт",null,0,0]
[null,"391-132-200","Муфта ремонтная из нержавеющей стали STRAUB-CLAMP 132.0мм, L=200мм, 1 замок, EPDM W4 PN16","STRAUB-CLAMP","RUB",{"$f":"IFERROR(H186*Оглавление!$E$23,\"по запросу\")","v":33981.360000000001},{"$f":"IFERROR(F186*(1-Оглавление!$D$42),\"по запросу\")","v":33981.360000000001},339,"шт",null,0,0]
[null,"391-132-300","Муфта ремонтная из нержавеющей стали STRAUB-CLAMP 132.0мм, L=300мм, 1 замок, EPDM W4 PN16","STRAUB-CLAMP","RUB",{"$f":"IFERROR(H187*Оглавление!$E$23,\"по запросу\")","v":49919.519999999997},{"$f":"IFERROR(F187*(1-Оглавление!$D$42),\"по запросу\")","v":49919.519999999997},498,"шт",null,0,0]
[null,"391-132-400","Муфта ремонтная из нержавеющей стали STRAUB-CLAMP 132.0мм, L=400мм, 1 замок, EPDM W4 PN16","STRAUB-CLAMP","RUB",{"$f":"IFERROR(H188*Оглавление!$E$23,\"по запросу\")","v":63953.119999999995},{"$f":"IFERROR(F188*(1-Оглавление!$D$42),\"по запросу\")","v":63953.119999999995},638,"шт",null,0,0]
[null,"391-135-200","Муфта ремонтная из нержавеющей стали STRAUB-CLAMP 135.0мм, L=200мм, 1 замок, EPDM W4 PN16","STRAUB-CLAMP","RUB",{"$f":"IFERROR(H189*Оглавление!$E$23,\"по запросу\")","v":35084},{"$f":"IFERROR(F189*(1-Оглавление!$D$42),\"по запросу\")","v":35084},350,"шт",null,0,0]
[null,"391-135-300","Муфта ремонтная из нержавеющей стали STRAUB-CLAMP 135.0мм, L=300мм, 1 замок, EPDM W4 PN16","STRAUB-CLAMP","RUB",{"$f":"IFERROR(H190*Оглавление!$E$23,\"по запросу\")","v":52626},{"$f":"IFERROR(F190*(1-Оглавление!$D$42),\"по запросу\")","v":52626},525,"шт",null,0,0]
[null,"391-135-400","Муфта ремонтная из нержавеющей стали STRAUB-CLAMP 135.0мм, L=400мм, 1 замок, EPDM W4 PN16","STRAUB-CLAMP","RUB",{"$f":"IFERROR(H191*Оглавление!$E$23,\"по запросу\")","v":64755.039999999994},{"$f":"IFERROR(F191*(1-Оглавление!$D$42),\"по запросу\")","v":64755.039999999994},646,"шт",null,0,0]
[null,"391-139-200","Муфта ремонтная из нержавеющей стали STRAUB-CLAMP 139.0мм, L=200мм, 1 замок, EPDM W4 PN16","STRAUB-CLAMP","RUB",{"$f":"IFERROR(H192*Оглавление!$E$23,\"по запросу\")","v":35084},{"$f":"IFERROR(F192*(1-Оглавление!$D$42),\"по запросу\")","v":35084},350,"шт",null,0,0]
[null,"391-139-300","Муфта ремонтная из нержавеющей стали STRAUB-CLAMP 139.0мм, L=300мм, 1 замок, EPDM W4 PN16","STRAUB-CLAMP","RUB",{"$f":"IFERROR(H193*Оглавление!$E$23,\"по запросу\")","v":52626},{"$f":"IFERROR(F193*(1-Оглавление!$D$42),\"по запросу\")","v":52626},525,"шт",null,0,0]
[null,"391-139-400","Муфта ремонтная из нержавеющей стали STRAUB-CLAMP 139.0мм, L=400мм, 1 замок, EPDM W4 PN16","STRAUB-CLAMP","RUB",{"$f":"IFERROR(H194*Оглавление!$E$23,\"по запросу\")","v":66358.87999999999},{"$f":"IFERROR(F194*(1-Оглавление!$D$42),\"по запросу\")","v":66358.87999999999},662,"шт",null,0,0]
[null,"391-145-200","Муфта ремонтная из нержавеющей стали STRAUB-CLAMP 145.0мм, L=200мм, 1 замок, EPDM W4 PN16","STRAUB-CLAMP","RUB",{"$f":"IFERROR(H195*Оглавление!$E$23,\"по запросу\")","v":35484.959999999999},{"$f":"IFERROR(F195*(1-Оглавление!$D$42),\"по запросу\")","v":35484.959999999999},354,"шт",null,0,0]
[null,"391-145-300","Муфта ремонтная из нержавеющей стали STRAUB-CLAMP 145.0мм, L=300мм, 1 замок, EPDM W4 PN16","STRAUB-CLAMP","RUB",{"$f":"IFERROR(H196*Оглавление!$E$23,\"по запросу\")","v":53026.96},{"$f":"IFERROR(F196*(1-Оглавление!$D$42),\"по запросу\")","v":53026.96},529,"шт",null,0,0]
[null,"391-145-400","Муфта ремонтная из нержавеющей стали STRAUB-CLAMP 145.0мм, L=400мм, 1 замок, EPDM W4 PN16","STRAUB-CLAMP","RUB",{"$f":"IFERROR(H197*Оглавление!$E$23,\"по запросу\")","v":67862.48},{"$f":"IFERROR(F197*(1-Оглавление!$D$42),\"по запросу\")","v":67862.48},677,"шт",null,0,0]
[null,"391-159-200","Муфта ремонтная из нержавеющей стали STRAUB-CLAMP 159.0мм, L=200мм, 1 замок, EPDM W4 PN16","STRAUB-CLAMP","RUB",{"$f":"IFERROR(H198*Оглавление!$E$23,\"по запросу\")","v":37088.799999999996},{"$f":"IFERROR(F198*(1-Оглавление!$D$42),\"по запросу\")","v":37088.799999999996},370,"шт",null,0,0]
[null,"391-159-300","Муфта ремонтная из нержавеющей стали STRAUB-CLAMP 159.0мм, L=300мм, 1 замок, EPDM W4 PN16","STRAUB-CLAMP","RUB",{"$f":"IFERROR(H199*Оглавление!$E$23,\"по запросу\")","v":55833.68},{"$f":"IFERROR(F199*(1-Оглавление!$D$42),\"по запросу\")","v":55833.68},557,"шт",null,0,0]
[null,"391-159-400","Муфта ремонтная из нержавеющей стали STRAUB-CLAMP 159.0мм, L=400мм, 1 замок, EPDM W4 PN16","STRAUB-CLAMP","RUB",{"$f":"IFERROR(H200*Оглавление!$E$23,\"по запросу\")","v":71771.839999999997},{"$f":"IFERROR(F200*(1-Оглавление!$D$42),\"по запросу\")","v":71771.839999999997},716,"шт",null,0,0]
[null,"391-167-200","Муфта ремонтная из нержавеющей стали STRAUB-CLAMP 167.0мм, L=200мм, 1 замок, EPDM W4 PN16","STRAUB-CLAMP","RUB",{"$f":"IFERROR(H201*Оглавление!$E$23,\"по запросу\")","v":38592.400000000001},{"$f":"IFERROR(F201*(1-Оглавление!$D$42),\"по запросу\")","v":38592.400000000001},385,"шт",null,0,0]
[null,"391-167-300","Муфта ремонтная из нержавеющей стали STRAUB-CLAMP 167.0мм, L=300мм, 1 замок, EPDM W4 PN16","STRAUB-CLAMP","RUB",{"$f":"IFERROR(H202*Оглавление!$E$23,\"по запросу\")","v":56535.360000000001},{"$f":"IFERROR(F202*(1-Оглавление!$D$42),\"по запросу\")","v":56535.360000000001},564,"шт",null,0,0]
[null,"391-167-400","Муфта ремонтная из нержавеющей стали STRAUB-CLAMP 167.0мм, L=400мм, 1 замок, EPDM W4 PN16","STRAUB-CLAMP","RUB",{"$f":"IFERROR(H203*Оглавление!$E$23,\"по запросу\")","v":72974.720000000001},{"$f":"IFERROR(F203*(1-Оглавление!$D$42),\"по запросу\")","v":72974.720000000001},728,"шт",null,0,0]
[null,"391-176-200","Муфта ремонтная из нержавеющей стали STRAUB-CLAMP 176.0мм, L=200мм, 1 замок, EPDM W4 PN16","STRAUB-CLAMP","RUB",{"$f":"IFERROR(H204*Оглавление!$E$23,\"по запросу\")","v":39394.32},{"$f":"IFERROR(F204*(1-Оглавление!$D$42),\"по запросу\")","v":39394.32},393,"шт",null,0,0]
[null,"391-176-300","Муфта ремонтная из нержавеющей стали STRAUB-CLAMP 176.0мм, L=300мм, 1 замок, EPDM W4 PN16","STRAUB-CLAMP","RUB",{"$f":"IFERROR(H205*Оглавление!$E$23,\"по запросу\")","v":58941.119999999995},{"$f":"IFERROR(F205*(1-Оглавление!$D$42),\"по запросу\")","v":58941.119999999995},588,"шт",null,0,0]
[null,"391-176-400","Муфта ремонтная из нержавеющей стали STRAUB-CLAMP 176.0мм, L=400мм, 1 замок, EPDM W4 PN16","STRAUB-CLAMP","RUB",{"$f":"IFERROR(H206*Оглавление!$E$23,\"по запросу\")","v":74478.319999999992},{"$f":"IFERROR(F206*(1-Оглавление!$D$42),\"по запросу\")","v":74478.319999999992},743,"шт",null,{"$f":"IFERROR(J206*F206,\"0 ₽\")","v":0},{"$f":"IFERROR(J206*G206,\"0 ₽\")","v":0}]
[null,"391-193-200","Муфта ремонтная из нержавеющей стали STRAUB-CLAMP 193.0мм, L=200мм, 1 замок, EPDM W4 PN10","STRAUB-CLAMP","RUB",{"$f":"IFERROR(H207*Оглавление!$E$23,\"по запросу\")","v":40597.199999999997},{"$f":"IFERROR(F207*(1-Оглавление!$D$42),\"по запросу\")","v":40597.199999999997},405,"шт",null,0,0]
[null,"391-193-300","Муфта ремонтная из нержавеющей стали STRAUB-CLAMP 193.0мм, L=300мм, 1 замок, EPDM W4 PN10","STRAUB-CLAMP","RUB",{"$f":"IFERROR(H208*Оглавление!$E$23,\"по запросу\")","v":60444.719999999994},{"$f":"IFERROR(F208*(1-Оглавление!$D$42),\"по запросу\")","v":60444.719999999994},603,"шт",null,0,0]
[null,"391-193-400","Муфта ремонтная из нержавеющей стали STRAUB-CLAMP 193.0мм, L=400мм, 1 замок, EPDM W4 PN10","STRAUB-CLAMP","RUB",{"$f":"IFERROR(H209*Оглавление!$E$23,\"по запросу\")","v":78788.639999999999},{"$f":"IFERROR(F209*(1-Оглавление!$D$42),\"по запросу\")","v":78788.639999999999},786,"шт",null,0,0]
[null,"391-215-200","Муфта ремонтная из нержавеющей стали STRAUB-CLAMP 215.0мм, L=200мм, 1 замок, EPDM W4 PN10","STRAUB-CLAMP","RUB",{"$f":"IFERROR(H210*Оглавление!$E$23,\"по запросу\")","v":42501.759999999995},{"$f":"IFERROR(F210*(1-Оглавление!$D$42),\"по запросу\")","v":42501.759999999995},424,"шт",null,0,0]
[null,"391-215-300","Муфта ремонтная из нержавеющей стали STRAUB-CLAMP 215.0мм, L=300мм, 1 замок, EPDM W4 PN10","STRAUB-CLAMP","RUB",{"$f":"IFERROR(H211*Оглавление!$E$23,\"по запросу\")","v":64755.039999999994},{"$f":"IFERROR(F211*(1-Оглавление!$D$42),\"по запросу\")","v":64755.039999999994},646,"шт",null,0,0]
[null,"391-215-400","Муфта ремонтная из нержавеющей стали STRAUB-CLAMP 215.0мм, L=400мм, 1 замок, EPDM W4 PN10","STRAUB-CLAMP","RUB",{"$f":"IFERROR(H212*Оглавление!$E$23,\"по запросу\")","v":85003.51999999999},{"$f":"IFERROR(F212*(1-Оглавление!$D$42),\"по запросу\")","v":85003.51999999999},848,"шт",null,0,0]
[null,"391-228-200","Муфта ремонтная из нержавеющей стали STRAUB-CLAMP 228.0мм, L=200мм, 1 замок, EPDM W4 PN10","STRAUB-CLAMP","RUB",{"$f":"IFERROR(H213*Оглавление!$E$23,\"по запросу\")","v":43704.639999999999},{"$f":"IFERROR(F213*(1-Оглавление!$D$42),\"по запросу\")","v":43704.639999999999},436,"шт",null,0,0]
[null,"391-228-300","Муфта ремонтная из нержавеющей стали STRAUB-CLAMP 228.0мм, L=300мм, 1 замок, EPDM W4 PN10","STRAUB-CLAMP","RUB",{"$f":"IFERROR(H214*Оглавление!$E$23,\"по запросу\")","v":69065.36},{"$f":"IFERROR(F214*(1-Оглавление!$D$42),\"по запросу\")","v":69065.36},689,"шт",null,0,0]
[null,"391-240-200","Муфта ремонтная из нержавеющей стали STRAUB-CLAMP 240.0мм, L=200мм, 1 замок, EPDM W4 PN10","STRAUB-CLAMP","RUB",{"$f":"IFERROR(H215*Оглавление!$E$23,\"по запросу\")","v":44907.519999999997},{"$f":"IFERROR(F215*(1-Оглавление!$D$42),\"по запросу\")","v":44907.519999999997},448,"шт",null,0,0]
[null,"391-240-300","Муфта ремонтная из нержавеющей стали STRAUB-CLAMP 240.0мм, L=300мм, 1 замок, EPDM W4 PN10","STRAUB-CLAMP","RUB",{"$f":"IFERROR(H216*Оглавление!$E$23,\"по запросу\")","v":72974.720000000001},{"$f":"IFERROR(F216*(1-Оглавление!$D$42),\"по запросу\")","v":72974.720000000001},728,"шт",null,0,0]
[null,"391-240-400","Муфта ремонтная  из нержавеющей стали STRAUB-CLAMP 240.0 мм, L=400мм, 1 замок, EPDM W4 PN10","STRAUB-CLAMP","RUB",{"$f":"IFERROR(H217*Оглавление!$E$23,\"по запросу\")","v":99438.080000000002},{"$f":"IFERROR(F217*(1-Оглавление!$D$42),\"по запросу\")","v":99438.080000000002},992,"шт",null,0,0]
[null,"391-261-200","Муфта ремонтная из нержавеющей стали STRAUB-CLAMP 261.0мм, L=200мм, 1 замок, EPDM W4 PN10","STRAUB-CLAMP","RUB",{"$f":"IFERROR(H218*Оглавление!$E$23,\"по запросу\")","v":47213.04},{"$f":"IFERROR(F218*(1-Оглавление!$D$42),\"по запросу\")","v":47213.04},471,"шт",null,0,0]
[null,"391-261-300","Муфта ремонтная из нержавеющей стали STRAUB-CLAMP 261.0мм, L=300мм, 1 замок, EPDM W4 PN10","STRAUB-CLAMP","RUB",{"$f":"IFERROR(H219*Оглавление!$E$23,\"по запросу\")","v":76483.12},{"$f":"IFERROR(F219*(1-Оглавление!$D$42),\"по запросу\")","v":76483.12},763,"шт",null,0,0]
[null,"391-269-200","Муфта ремонтная из нержавеющей стали STRAUB-CLAMP 269.0мм, L=200мм, 1 замок, EPDM W4 PN10","STRAUB-CLAMP","RUB",{"$f":"IFERROR(H220*Оглавление!$E$23,\"по запросу\")","v":48014.96},{"$f":"IFERROR(F220*(1-Оглавление!$D$42),\"по запросу\")","v":48014.96},479,"шт",null,0,0]
[null,"391-269-300","Муфта ремонтная из нержавеющей стали STRAUB-CLAMP 269.0мм, L=300мм, 1 замок, EPDM W4 PN10","STRAUB-CLAMP","RUB",{"$f":"IFERROR(H221*Оглавление!$E$23,\"по запросу\")","v":81896.08},{"$f":"IFERROR(F221*(1-Оглавление!$D$42),\"по запросу\")","v":81896.08},817,"шт",null,0,0]
[null,"391-269-400","Муфта ремонтная из нержавеющей стали STRAUB-CLAMP 269.0мм, L=400мм, 1 замок, EPDM W4 PN10","STRAUB-CLAMP","RUB",{"$f":"IFERROR(H222*Оглавление!$E$23,\"по запросу\")","v":124197.36},{"$f":"IFERROR(F222*(1-Оглавление!$D$42),\"по запросу\")","v":124197.36},1239,"шт",null,0,0]
[null,"391-280-300","Муфта ремонтная из нержавеющей стали STRAUB-CLAMP 280.0мм, L=300мм, 1 замок, EPDM W4 PN10","STRAUB-CLAMP","RUB",{"$f":"IFERROR(H223*Оглавление!$E$23,\"по запросу\")","v":83098.959999999992},{"$f":"IFERROR(F223*(1-Оглавление!$D$42),\"по запросу\")","v":83098.959999999992},829,"шт",null,0,0]
[null,"391-315-300","Муфта ремонтная из нержавеющей стали STRAUB-CLAMP 315.0мм, L=300мм, 1 замок, EPDM W4 PN10","STRAUB-CLAMP","RUB",{"$f":"IFERROR(H224*Оглавление!$E$23,\"по запросу\")","v":95528.72},{"$f":"IFERROR(F224*(1-Оглавление!$D$42),\"по запросу\")","v":95528.72},953,"шт",null,0,0]
[null,"391-315-400","Муфта ремонтная из нержавеющей стали STRAUB-CLAMP 315.0мм, L=400мм, 1 замок, EPDM W4 PN10","STRAUB-CLAMP","RUB",{"$f":"IFERROR(H225*Оглавление!$E$23,\"по запросу\")","v":128808.4},{"$f":"IFERROR(F225*(1-Оглавление!$D$42),\"по запросу\")","v":128808.4},1285,"шт",null,0,0]
[null,"391-320-300","Муфта ремонтная из нержавеющей стали STRAUB-CLAMP 320.0мм, L=300мм, 1 замок, EPDM W4 PN10","STRAUB-CLAMP","RUB",{"$f":"IFERROR(H226*Оглавление!$E$23,\"по запросу\")","v":96330.64},{"$f":"IFERROR(F226*(1-Оглавление!$D$42),\"по запросу\")","v":96330.64},961,"шт",null,0,0]
[null,"391-320-400","Муфта ремонтная из нержавеющей стали STRAUB-CLAMP 320.0мм, L=400мм, 1 замок, EPDM W4 PN10","STRAUB-CLAMP","RUB",{"$f":"IFERROR(H227*Оглавление!$E$23,\"по запросу\")","v":130712.95999999999},{"$f":"IFERROR(F227*(1-Оглавление!$D$42),\"по запросу\")","v":130712.95999999999},1304,"шт",null,0,0]
[null,"392-088-200","Муфта ремонтная из нержавеющей стали STRAUB-CLAMP 88.0мм, L=200мм, 2 замка, EPDM W4 PN16","STRAUB-CLAMP","RUB",{"$f":"IFERROR(H228*Оглавление!$E$23,\"по запросу\")","v":47213.04},{"$f":"IFERROR(F228*(1-Оглавление!$D$42),\"по запросу\")","v":47213.04},471,"шт",null,0,0]
[null,"392-088-300","Муфта ремонтная из нержавеющей стали STRAUB-CLAMP 88.0мм, L=300мм, 2 замка, EPDM W4 PN16","STRAUB-CLAMP","RUB",{"$f":"IFERROR(H229*Оглавление!$E$23,\"по запросу\")","v":68664.399999999994},{"$f":"IFERROR(F229*(1-Оглавление!$D$42),\"по запросу\")","v":68664.399999999994},685,"шт",null,0,0]
[null,"392-088-400","Муфта ремонтная из нержавеющей стали STRAUB-CLAMP 88.0мм, L=400мм, 2 замка, EPDM W4 PN16","STRAUB-CLAMP","RUB",{"$f":"IFERROR(H230*Оглавление!$E$23,\"по запросу\")","v":88912.87999999999},{"$f":"IFERROR(F230*(1-Оглавление!$D$42),\"по запросу\")","v":88912.87999999999},887,"шт",null,0,0]
[null,"392-100-200","Муфта ремонтная из нержавеющей стали STRAUB-CLAMP 100.0мм, L=200мм, 2 замка, EPDM W4 PN16","STRAUB-CLAMP","RUB",{"$f":"IFERROR(H231*Оглавление!$E$23,\"по запросу\")","v":48415.92},{"$f":"IFERROR(F231*(1-Оглавление!$D$42),\"по запросу\")","v":48415.92},483,"шт",null,0,0]
[null,"392-100-300","Муфта ремонтная из нержавеющей стали STRAUB-CLAMP 100.0мм, L=300мм, 2 замка, EPDM W4 PN16","STRAUB-CLAMP","RUB",{"$f":"IFERROR(H232*Оглавление!$E$23,\"по запросу\")","v":70568.959999999992},{"$f":"IFERROR(F232*(1-Оглавление!$D$42),\"по запросу\")","v":70568.959999999992},704,"шт",null,0,0]
[null,"392-100-400","Муфта ремонтная из нержавеющей стали STRAUB-CLAMP 100.0мм, L=400мм, 2 замка, EPDM W4 PN16","STRAUB-CLAMP","RUB",{"$f":"IFERROR(H233*Оглавление!$E$23,\"по запросу\")","v":91218.4},{"$f":"IFERROR(F233*(1-Оглавление!$D$42),\"по запросу\")","v":91218.4},910,"шт",null,0,0]
[null,"392-108-200","Муфта ремонтная из нержавеющей стали STRAUB-CLAMP 108.0мм, L=200мм, 2 замка, EPDM W4 PN16","STRAUB-CLAMP","RUB",{"$f":"IFERROR(H234*Оглавление!$E$23,\"по запросу\")","v":49117.599999999999},{"$f":"IFERROR(F234*(1-Оглавление!$D$42),\"по запросу\")","v":49117.599999999999},490,"шт",null,0,0]
[null,"392-108-300","Муфта ремонтная из нержавеющей стали STRAUB-CLAMP 108.0мм, L=300мм, 2 замка, EPDM W4 PN16","STRAUB-CLAMP","RUB",{"$f":"IFERROR(H235*Оглавление!$E$23,\"по запросу\")","v":70969.919999999998},{"$f":"IFERROR(F235*(1-Оглавление!$D$42),\"по запросу\")","v":70969.919999999998},708,"шт",null,0,0]
[null,"392-108-400","Муфта ремонтная из нержавеющей стали STRAUB-CLAMP 108.0мм, L=400мм, 2 замка, EPDM W4 PN16","STRAUB-CLAMP","RUB",{"$f":"IFERROR(H236*Оглавление!$E$23,\"по запросу\")","v":93223.2},{"$f":"IFERROR(F236*(1-Оглавление!$D$42),\"по запросу\")","v":93223.2},930,"шт",null,0,0]
[null,"392-114-200","Муфта ремонтная из нержавеющей стали STRAUB-CLAMP 114.0мм, L=200мм, 2 замка, EPDM W4 PN16","STRAUB-CLAMP","RUB",{"$f":"IFERROR(H237*Оглавление!$E$23,\"по запросу\")","v":49919.519999999997},{"$f":"IFERROR(F237*(1-Оглавление!$D$42),\"по запросу\")","v":49919.519999999997},498,"шт",null,0,0]
[null,"392-114-300","Муфта ремонтная из нержавеющей стали STRAUB-CLAMP 114.0мм, L=300мм, 2 замка, EPDM W4 PN16","STRAUB-CLAMP","RUB",{"$f":"IFERROR(H238*Оглавление!$E$23,\"по запросу\")","v":72974.720000000001},{"$f":"IFERROR(F238*(1-Оглавление!$D$42),\"по запросу\")","v":72974.720000000001},728,"шт",null,0,0]
[null,"392-114-400","Муфта ремонтная из нержавеющей стали STRAUB-CLAMP 114.0мм, L=400мм, 2 замка, EPDM W4 PN16","STRAUB-CLAMP","RUB",{"$f":"IFERROR(H239*Оглавление!$E$23,\"по запросу\")","v":94726.799999999988},{"$f":"IFERROR(F239*(1-Оглавление!$D$42),\"по запросу\")","v":94726.799999999988},945,"шт",null,0,0]
[null,"392-120-200","Муфта ремонтная из нержавеющей стали STRAUB-CLAMP 120.0мм, L=200мм, 2 замка, EPDM W4 PN16","STRAUB-CLAMP","RUB",{"$f":"IFERROR(H240*Оглавление!$E$23,\"по запросу\")","v":50320.479999999996},{"$f":"IFERROR(F240*(1-Оглавление!$D$42),\"по запросу\")","v":50320.479999999996},502,"шт",null,0,0]
[null,"392-120-300","Муфта ремонтная из нержавеющей стали STRAUB-CLAMP 120.0мм, L=300мм, 2 замка, EPDM W4 PN16","STRAUB-CLAMP","RUB",{"$f":"IFERROR(H241*Оглавление!$E$23,\"по запросу\")","v":73375.679999999993},{"$f":"IFERROR(F241*(1-Оглавление!$D$42),\"по запросу\")","v":73375.679999999993},732,"шт",null,0,0]
[null,"392-120-400","Муфта ремонтная из нержавеющей стали STRAUB-CLAMP 120.0мм, L=400мм, 2 замка, EPDM W4 PN16","STRAUB-CLAMP","RUB",{"$f":"IFERROR(H242*Оглавление!$E$23,\"по запросу\")","v":96330.64},{"$f":"IFERROR(F242*(1-Оглавление!$D$42),\"по запросу\")","v":96330.64},961,"шт",null,0,0]
[null,"392-130-200","Муфта ремонтная из нержавеющей стали STRAUB-CLAMP 130.0мм, L=200мм, 2 замка, EPDM W4 PN16","STRAUB-CLAMP","RUB",{"$f":"IFERROR(H243*Оглавление!$E$23,\"по запросу\")","v":51924.32},{"$f":"IFERROR(F243*(1-Оглавление!$D$42),\"по запросу\")","v":51924.32},518,"шт",null,0,0]
[null,"392-130-300","Муфта ремонтная из нержавеющей стали STRAUB-CLAMP 130.0мм, L=300мм, 2 замка, EPDM W4 PN16","STRAUB-CLAMP","RUB",{"$f":"IFERROR(H244*Оглавление!$E$23,\"по запросу\")","v":74879.28},{"$f":"IFERROR(F244*(1-Оглавление!$D$42),\"по запросу\")","v":74879.28},747,"шт",null,0,0]
[null,"392-130-400","Муфта ремонтная из нержавеющей стали STRAUB-CLAMP 130.0мм, L=400мм, 2 замка, EPDM W4 PN16","STRAUB-CLAMP","RUB",{"$f":"IFERROR(H245*Оглавление!$E$23,\"по запросу\")","v":98235.199999999997},{"$f":"IFERROR(F245*(1-Оглавление!$D$42),\"по запросу\")","v":98235.199999999997},980,"шт",null,0,0]
[null,"392-140-200","Муфта ремонтная из нержавеющей стали STRAUB-CLAMP 140.0мм, L=200мм, 2 замка, EPDM W4 PN16","STRAUB-CLAMP","RUB",{"$f":"IFERROR(H246*Оглавление!$E$23,\"по запросу\")","v":53026.96},{"$f":"IFERROR(F246*(1-Оглавление!$D$42),\"по запросу\")","v":53026.96},529,"шт",null,0,0]
[null,"392-140-300","Муфта ремонтная из нержавеющей стали STRAUB-CLAMP 140.0мм, L=300мм, 2 замка, EPDM W4 PN16","STRAUB-CLAMP","RUB",{"$f":"IFERROR(H247*Оглавление!$E$23,\"по запросу\")","v":77184.800000000003},{"$f":"IFERROR(F247*(1-Оглавление!$D$42),\"по запросу\")","v":77184.800000000003},770,"шт",null,0,0]
[null,"392-140-400","Муфта ремонтная из нержавеющей стали STRAUB-CLAMP 140.0мм, L=400мм, 2 замка, EPDM W4 PN16","STRAUB-CLAMP","RUB",{"$f":"IFERROR(H248*Оглавление!$E$23,\"по запросу\")","v":101342.64},{"$f":"IFERROR(F248*(1-Оглавление!$D$42),\"по запросу\")","v":101342.64},1011,"шт",null,0,0]
[null,"392-159-200","Муфта ремонтная из нержавеющей стали STRAUB-CLAMP 159.0мм, L=200мм, 2 замка, EPDM W4 PN16","STRAUB-CLAMP","RUB",{"$f":"IFERROR(H249*Оглавление!$E$23,\"по запросу\")","v":53828.88},{"$f":"IFERROR(F249*(1-Оглавление!$D$42),\"по запросу\")","v":53828.88},537,"шт",null,0,0]
[null,"392-159-300","Муфта ремонтная из нержавеющей стали STRAUB-CLAMP 159.0мм, L=300мм, 2 замка, EPDM W4 PN16","STRAUB-CLAMP","RUB",{"$f":"IFERROR(H250*Оглавление!$E$23,\"по запросу\")","v":78387.679999999993},{"$f":"IFERROR(F250*(1-Оглавление!$D$42),\"по запросу\")","v":78387.679999999993},782,"шт",null,0,0]
[null,"392-159-400","Муфта ремонтная из нержавеющей стали STRAUB-CLAMP 159.0мм, L=400мм, 2 замка, EPDM W4 PN16","STRAUB-CLAMP","RUB",{"$f":"IFERROR(H251*Оглавление!$E$23,\"по запросу\")","v":102545.51999999999},{"$f":"IFERROR(F251*(1-Оглавление!$D$42),\"по запросу\")","v":102545.51999999999},1023,"шт",null,0,0]
[null,"392-168-200","Муфта ремонтная из нержавеющей стали STRAUB-CLAMP 168.0мм, L=200мм, 2 замка, EPDM W4 PN16","STRAUB-CLAMP","RUB",{"$f":"IFERROR(H252*Оглавление!$E$23,\"по запросу\")","v":55833.68},{"$f":"IFERROR(F252*(1-Оглавление!$D$42),\"по запросу\")","v":55833.68},557,"шт",null,0,0]
[null,"392-168-300","Муфта ремонтная из нержавеющей стали STRAUB-CLAMP 168.0мм, L=300мм, 2 замка, EPDM W4 PN16","STRAUB-CLAMP","RUB",{"$f":"IFERROR(H253*Оглавление!$E$23,\"по запросу\")","v":81896.08},{"$f":"IFERROR(F253*(1-Оглавление!$D$42),\"по запросу\")","v":81896.08},817,"шт",null,0,0]
[null,"392-168-400","Муфта ремонтная из нержавеющей стали STRAUB-CLAMP 168.0мм, L=400мм, 2 замка, EPDM W4 PN16","STRAUB-CLAMP","RUB",{"$f":"IFERROR(H254*Оглавление!$E$23,\"по запросу\")","v":104851.04},{"$f":"IFERROR(F254*(1-Оглавление!$D$42),\"по запросу\")","v":104851.04},1046,"шт",null,0,0]
[null,"392-190-200","Муфта ремонтная из нержавеющей стали STRAUB-CLAMP 190.0мм, L=200мм, 2 замка, EPDM W4 PN16","STRAUB-CLAMP","RUB",{"$f":"IFERROR(H255*Оглавление!$E$23,\"по запросу\")","v":58139.199999999997},{"$f":"IFERROR(F255*(1-Оглавление!$D$42),\"по запросу\")","v":58139.199999999997},580,"шт",null,0,0]
[null,"392-190-300","Муфта ремонтная из нержавеющей стали STRAUB-CLAMP 190.0мм, L=300мм, 2 замка, EPDM W4 PN16","STRAUB-CLAMP","RUB",{"$f":"IFERROR(H256*Оглавление!$E$23,\"по запросу\")","v":86206.399999999994},{"$f":"IFERROR(F256*(1-Оглавление!$D$42),\"по запросу\")","v":86206.399999999994},860,"шт",null,0,0]
[null,"392-190-400","Муфта ремонтная из нержавеющей стали STRAUB-CLAMP 190.0мм, L=400мм, 2 замка, EPDM W4 PN16","STRAUB-CLAMP","RUB",{"$f":"IFERROR(H257*Оглавление!$E$23,\"по запросу\")","v":111867.84},{"$f":"IFERROR(F257*(1-Оглавление!$D$42),\"по запросу\")","v":111867.84},1116,"шт",null,0,0]
[null,"392-210-200","Муфта ремонтная из нержавеющей стали STRAUB-CLAMP 210.0мм, L=200мм, 2 замка, EPDM W4 PN10","STRAUB-CLAMP","RUB",{"$f":"IFERROR(H258*Оглавление!$E$23,\"по запросу\")","v":61246.64},{"$f":"IFERROR(F258*(1-Оглавление!$D$42),\"по запросу\")","v":61246.64},611,"шт",null,0,0]
[null,"392-210-300","Муфта ремонтная из нержавеющей стали STRAUB-CLAMP 210.0мм, L=300мм, 2 замка, EPDM W4 PN10","STRAUB-CLAMP","RUB",{"$f":"IFERROR(H259*Оглавление!$E$23,\"по запросу\")","v":89714.799999999988},{"$f":"IFERROR(F259*(1-Оглавление!$D$42),\"по запросу\")","v":89714.799999999988},895,"шт",null,0,0]
[null,"392-210-400","Муфта ремонтная из нержавеющей стали STRAUB-CLAMP 210.0мм, L=400мм, 2 замка, EPDM W4 PN10","STRAUB-CLAMP","RUB",{"$f":"IFERROR(H260*Оглавление!$E$23,\"по запросу\")","v":116980.07999999999},{"$f":"IFERROR(F260*(1-Оглавление!$D$42),\"по запросу\")","v":116980.07999999999},1167,"шт",null,0,0]
[null,"392-218-200","Муфта ремонтная из нержавеющей стали STRAUB-CLAMP 218.0мм, L=200мм, 2 замка, EPDM W4 PN10","STRAUB-CLAMP","RUB",{"$f":"IFERROR(H261*Оглавление!$E$23,\"по запросу\")","v":62750.239999999998},{"$f":"IFERROR(F261*(1-Оглавление!$D$42),\"по запросу\")","v":62750.239999999998},626,"шт",null,0,0]
[null,"392-218-300","Муфта ремонтная из нержавеющей стали STRAUB-CLAMP 218.0мм, L=300мм, 2 замка, EPDM W4 PN10","STRAUB-CLAMP","RUB",{"$f":"IFERROR(H262*Оглавление!$E$23,\"по запросу\")","v":91218.4},{"$f":"IFERROR(F262*(1-Оглавление!$D$42),\"по запросу\")","v":91218.4},910,"шт",null,0,0]
[null,"392-218-400","Муфта ремонтная из нержавеющей стали STRAUB-CLAMP 218.0мм, L=400мм, 2 замка, EPDM W4 PN10","STRAUB-CLAMP","RUB",{"$f":"IFERROR(H263*Оглавление!$E$23,\"по запросу\")","v":119285.59999999999},{"$f":"IFERROR(F263*(1-Оглавление!$D$42),\"по запросу\")","v":119285.59999999999},1190,"шт",null,0,0]
[null,"392-240-200","Муфта ремонтная из нержавеющей стали STRAUB-CLAMP 240.0мм, L=200мм, 2 замка, EPDM W4 PN10","STRAUB-CLAMP","RUB",{"$f":"IFERROR(H264*Оглавление!$E$23,\"по запросу\")","v":68263.44},{"$f":"IFERROR(F264*(1-Оглавление!$D$42),\"по запросу\")","v":68263.44},681,"шт",null,0,0]
[null,"392-240-300","Муфта ремонтная из нержавеющей стали STRAUB-CLAMP 240.0мм, L=300мм, 2 замка, EPDM W4 PN10","STRAUB-CLAMP","RUB",{"$f":"IFERROR(H265*Оглавление!$E$23,\"по запросу\")","v":98235.199999999997},{"$f":"IFERROR(F265*(1-Оглавление!$D$42),\"по запросу\")","v":98235.199999999997},980,"шт",null,0,0]
[null,"392-240-400","Муфта ремонтная из нержавеющей стали STRAUB-CLAMP 240.0мм, L=400мм, 2 замка, EPDM W4 PN10","STRAUB-CLAMP","RUB",{"$f":"IFERROR(H266*Оглавление!$E$23,\"по запросу\")","v":129409.84},{"$f":"IFERROR(F266*(1-Оглавление!$D$42),\"по запросу\")","v":129409.84},1291,"шт",null,0,0]
[null,"392-269-200","Муфта ремонтная из нержавеющей стали STRAUB-CLAMP 269.0мм, L=200мм, 2 замка, EPDM W4 PN10","STRAUB-CLAMP","RUB",{"$f":"IFERROR(H267*Оглавление!$E$23,\"по запросу\")","v":78387.679999999993},{"$f":"IFERROR(F267*(1-Оглавление!$D$42),\"по запросу\")","v":78387.679999999993},782,"шт",null,0,0]
[null,"392-269-300","Муфта ремонтная из нержавеющей стали STRAUB-CLAMP 269.0мм, L=300мм, 2 замка, EPDM W4 PN10","STRAUB-CLAMP","RUB",{"$f":"IFERROR(H268*Оглавление!$E$23,\"по запросу\")","v":115376.23999999999},{"$f":"IFERROR(F268*(1-Оглавление!$D$42),\"по запросу\")","v":115376.23999999999},1151,"шт",null,0,0]
[null,"392-269-400","Муфта ремонтная из нержавеющей стали STRAUB-CLAMP 269.0мм, L=400мм, 2 замка, EPDM W4 PN10","STRAUB-CLAMP","RUB",{"$f":"IFERROR(H269*Оглавление!$E$23,\"по запросу\")","v":149758.56},{"$f":"IFERROR(F269*(1-Оглавление!$D$42),\"по запросу\")","v":149758.56},1494,"шт",null,0,0]
[null,"392-282-200","Муфта ремонтная из нержавеющей стали STRAUB-CLAMP 282.0мм, L=200мм, 2 замка, EPDM W4 PN10","STRAUB-CLAMP","RUB",{"$f":"IFERROR(H270*Оглавление!$E$23,\"по запросу\")","v":81495.12},{"$f":"IFERROR(F270*(1-Оглавление!$D$42),\"по запросу\")","v":81495.12},813,"шт",null,{"$f":"IFERROR(J270*F270,\"0 ₽\")","v":0},{"$f":"IFERROR(J270*G270,\"0 ₽\")","v":0}]
[null,"392-282-300","Муфта ремонтная из нержавеющей стали STRAUB-CLAMP 282.0мм, L=300мм, 2 замка, EPDM W4 PN10","STRAUB-CLAMP","RUB",{"$f":"IFERROR(H271*Оглавление!$E$23,\"по запросу\")","v":118884.64},{"$f":"IFERROR(F271*(1-Оглавление!$D$42),\"по запросу\")","v":118884.64},1186,"шт",null,0,0]
[null,"392-282-400","Муфта ремонтная из нержавеющей стали STRAUB-CLAMP 282.0мм, L=400мм, 2 замка, EPDM W4 PN10","STRAUB-CLAMP","RUB",{"$f":"IFERROR(H272*Оглавление!$E$23,\"по запросу\")","v":155171.51999999999},{"$f":"IFERROR(F272*(1-Оглавление!$D$42),\"по запросу\")","v":155171.51999999999},1548,"шт",null,0,0]
[null,"392-315-200","Муфта ремонтная из нержавеющей стали STRAUB-CLAMP 315.0мм, L=200мм, 2 замка, EPDM W4 PN10","STRAUB-CLAMP","RUB",{"$f":"IFERROR(H273*Оглавление!$E$23,\"по запросу\")","v":85805.440000000002},{"$f":"IFERROR(F273*(1-Оглавление!$D$42),\"по запросу\")","v":85805.440000000002},856,"шт",null,0,0]
[null,"392-315-300","Муфта ремонтная из нержавеющей стали STRAUB-CLAMP 315.0мм, L=300мм, 2 замка, EPDM W4 PN10","STRAUB-CLAMP","RUB",{"$f":"IFERROR(H274*Оглавление!$E$23,\"по запросу\")","v":123595.92},{"$f":"IFERROR(F274*(1-Оглавление!$D$42),\"по запросу\")","v":123595.92},1233,"шт",null,0,0]
[null,"392-315-400","Муфта ремонтная из нержавеющей стали STRAUB-CLAMP 315.0мм, L=400мм, 2 замка, EPDM W4 PN10","STRAUB-CLAMP","RUB",{"$f":"IFERROR(H275*Оглавление!$E$23,\"по запросу\")","v":159882.79999999999},{"$f":"IFERROR(F275*(1-Оглавление!$D$42),\"по запросу\")","v":159882.79999999999},1595,"шт",null,0,0]
[null,"392-322-300","Муфта ремонтная из нержавеющей стали STRAUB-CLAMP 322.0мм, L=300мм, 2 замка, EPDM W4 PN10","STRAUB-CLAMP","RUB",{"$f":"IFERROR(H276*Оглавление!$E$23,\"по запросу\")","v":125500.48},{"$f":"IFERROR(F276*(1-Оглавление!$D$42),\"по запросу\")","v":125500.48},1252,"шт",null,0,0]
[null,"392-322-400","Муфта ремонтная из нержавеющей стали STRAUB-CLAMP 322.0мм, L=400мм, 2 замка, EPDM W4 PN10","STRAUB-CLAMP","RUB",{"$f":"IFERROR(H277*Оглавление!$E$23,\"по запросу\")","v":165696.72},{"$f":"IFERROR(F277*(1-Оглавление!$D$42),\"по запросу\")","v":165696.72},1653,"шт",null,0,0]
[null,"392-337-300","Муфта ремонтная из нержавеющей стали STRAUB-CLAMP 337.0мм, L=300мм, 2 замка, EPDM W4 PN6","STRAUB-CLAMP","RUB",{"$f":"IFERROR(H278*Оглавление!$E$23,\"по запросу\")","v":129008.87999999999},{"$f":"IFERROR(F278*(1-Оглавление!$D$42),\"по запросу\")","v":129008.87999999999},1287,"шт",null,0,0]
[null,"392-337-400","Муфта ремонтная из нержавеющей стали STRAUB-CLAMP 337.0мм, L=400мм, 2 замка, EPDM W4 PN6","STRAUB-CLAMP","RUB",{"$f":"IFERROR(H279*Оглавление!$E$23,\"по запросу\")","v":167601.28},{"$f":"IFERROR(F279*(1-Оглавление!$D$42),\"по запросу\")","v":167601.28},1672,"шт",null,0,0]
[null,"392-347-300","Муфта ремонтная из нержавеющей стали STRAUB-CLAMP 347.0мм, L=300мм, 2 замка, EPDM W4 PN6","STRAUB-CLAMP","RUB",{"$f":"IFERROR(H280*Оглавление!$E$23,\"по запросу\")","v":131414.63999999998},{"$f":"IFERROR(F280*(1-Оглавление!$D$42),\"по запросу\")","v":131414.63999999998},1311,"шт",null,0,0]
[null,"392-347-400","Муфта ремонтная из нержавеющей стали STRAUB-CLAMP 347.0мм, L=400мм, 2 замка, EPDM W4 PN6","STRAUB-CLAMP","RUB",{"$f":"IFERROR(H281*Оглавление!$E$23,\"по запросу\")","v":168804.16},{"$f":"IFERROR(F281*(1-Оглавление!$D$42),\"по запросу\")","v":168804.16},1684,"шт",null,0,0]
[null,"392-365-400","Муфта ремонтная из нержавеющей стали STRAUB-CLAMP 365.0мм, L=400мм, 2 замка, EPDM W4 PN5","STRAUB-CLAMP","RUB",{"$f":"IFERROR(H282*Оглавление!$E$23,\"по запросу\")","v":178126.47999999998},{"$f":"IFERROR(F282*(1-Оглавление!$D$42),\"по запросу\")","v":178126.47999999998},1777,"шт",null,0,0]
[null,"392-390-400","Муфта ремонтная из нержавеющей стали STRAUB-CLAMP 390.0мм, L=400мм, 2 замка, EPDM W4 PN5","STRAUB-CLAMP","RUB",{"$f":"IFERROR(H283*Оглавление!$E$23,\"по запросу\")","v":184842.56},{"$f":"IFERROR(F283*(1-Оглавление!$D$42),\"по запросу\")","v":184842.56},1844,"шт",null,0,0]
[null,"392-410-400","Муфта ремонтная из нержавеющей стали STRAUB-CLAMP 410.0мм, L=400мм, 2 замка, EPDM W4 PN5","STRAUB-CLAMP","RUB",{"$f":"IFERROR(H284*Оглавление!$E$23,\"по запросу\")","v":189854.56},{"$f":"IFERROR(F284*(1-Оглавление!$D$42),\"по запросу\")","v":189854.56},1894,"шт",null,0,0]
[null,"392-420-400","Муфта ремонтная из нержавеющей стали STRAUB-CLAMP 420.0мм, L=400мм, 2 замка, EPDM W4 PN5","STRAUB-CLAMP","RUB",{"$f":"IFERROR(H285*Оглавление!$E$23,\"по запросу\")","v":191458.4},{"$f":"IFERROR(F285*(1-Оглавление!$D$42),\"по запросу\")","v":191458.4},1910,"шт",null,0,0]
[null,"481-046-200","Муфта ремонтная из нержавеющей стали STRAUB-REP-FLEX 46 мм (46-53), L=200мм, NBR W4","STRAUB-REP-FLEX","RUB",{"$f":"IFERROR(H286*Оглавление!$E$23,\"по запросу\")","v":89414.080000000002},{"$f":"IFERROR(F286*(1-Оглавление!$D$42),\"по запросу\")","v":89414.080000000002},892,"шт",null,0,0]
[null,"481-053-200","Муфта ремонтная из нержавеющей стали STRAUB-REP-FLEX 53 мм (53-60), L=200мм, NBR W4","STRAUB-REP-FLEX","RUB",{"$f":"IFERROR(H287*Оглавление!$E$23,\"по запросу\")","v":93624.159999999989},{"$f":"IFERROR(F287*(1-Оглавление!$D$42),\"по запросу\")","v":93624.159999999989},934,"шт",null,0,0]
[null,"481-056-200","Муфта ремонтная из нержавеющей стали STRAUB-REP-FLEX 56 мм (56-64), L=200мм, NBR W4","STRAUB-REP-FLEX","RUB",{"$f":"IFERROR(H288*Оглавление!$E$23,\"по запросу\")","v":98335.439999999988},{"$f":"IFERROR(F288*(1-Оглавление!$D$42),\"по запросу\")","v":98335.439999999988},981,"шт",null,0,0]
[null,"481-063-200","Муфта ремонтная из нержавеющей стали STRAUB-REP-FLEX 63 мм (63-71), L=200мм, NBR W4","STRAUB-REP-FLEX","RUB",{"$f":"IFERROR(H289*Оглавление!$E$23,\"по запросу\")","v":101843.84},{"$f":"IFERROR(F289*(1-Оглавление!$D$42),\"по запросу\")","v":101843.84},1016,"шт",null,0,0]
[null,"481-072-200","Муфта ремонтная из нержавеющей стали STRAUB-REP-FLEX 72 мм (72-80), L=200мм, NBR W4","STRAUB-REP-FLEX","RUB",{"$f":"IFERROR(H290*Оглавление!$E$23,\"по запросу\")","v":106855.84},{"$f":"IFERROR(F290*(1-Оглавление!$D$42),\"по запросу\")","v":106855.84},1066,"шт",null,0,0]
[null,"481-076-200","Муфта ремонтная из нержавеющей стали STRAUB-REP-FLEX 76 мм (76-83), L=200мм, NBR W4","STRAUB-REP-FLEX","RUB",{"$f":"IFERROR(H291*Оглавление!$E$23,\"по запросу\")","v":110364.23999999999},{"$f":"IFERROR(F291*(1-Оглавление!$D$42),\"по запросу\")","v":110364.23999999999},1101,"шт",null,0,0]
[null,"481-082-200","Муфта ремонтная из нержавеющей стали STRAUB-REP-FLEX 82 мм (82-89), L=200мм, NBR W4","STRAUB-REP-FLEX","RUB",{"$f":"IFERROR(H292*Оглавление!$E$23,\"по запросу\")","v":111466.87999999999},{"$f":"IFERROR(F292*(1-Оглавление!$D$42),\"по запросу\")","v":111466.87999999999},1112,"шт",null,0,0]
[null,"481-088-200","Муфта ремонтная из нержавеющей стали STRAUB-REP-FLEX 88 мм (88-98), L=200мм, NBR W4","STRAUB-REP-FLEX","RUB",{"$f":"IFERROR(H293*Оглавление!$E$23,\"по запросу\")","v":116980.07999999999},{"$f":"IFERROR(F293*(1-Оглавление!$D$42),\"по запросу\")","v":116980.07999999999},1167,"шт",null,0,0]
[null,"481-097-200","Муфта ремонтная из нержавеющей стали STRAUB-REP-FLEX 97 мм (97-108), L=200мм, NBR W4","STRAUB-REP-FLEX","RUB",{"$f":"IFERROR(H294*Оглавление!$E$23,\"по запросу\")","v":120488.48},{"$f":"IFERROR(F294*(1-Оглавление!$D$42),\"по запросу\")","v":120488.48},1202,"шт",null,0,0]
[null,"481-108-200","Муфта ремонтная из нержавеющей стали STRAUB-REP-FLEX 108 мм (108-118), L=200мм, NBR W4","STRAUB-REP-FLEX","RUB",{"$f":"IFERROR(H295*Оглавление!$E$23,\"по запросу\")","v":126302.39999999999},{"$f":"IFERROR(F295*(1-Оглавление!$D$42),\"по запросу\")","v":126302.39999999999},1260,"шт",null,0,0]
[null,"481-108-300","Муфта ремонтная из нержавеющей стали STRAUB-REP-FLEX 108 мм (108-118), L=300мм, NBR W4","STRAUB-REP-FLEX","RUB",{"$f":"IFERROR(H296*Оглавление!$E$23,\"по запросу\")","v":158880.4},{"$f":"IFERROR(F296*(1-Оглавление!$D$42),\"по запросу\")","v":158880.4},1585,"шт",null,0,0]
[null,"481-120-200","Муфта ремонтная из нержавеющей стали STRAUB-REP-FLEX 120 мм (120-130), L=200мм, NBR W4","STRAUB-REP-FLEX","RUB",{"$f":"IFERROR(H297*Оглавление!$E$23,\"по запросу\")","v":133319.19999999998},{"$f":"IFERROR(F297*(1-Оглавление!$D$42),\"по запросу\")","v":133319.19999999998},1330,"шт",null,0,0]
[null,"481-120-300","Муфта ремонтная из нержавеющей стали STRAUB-REP-FLEX 120 мм (120-130), L=300мм, NBR W4","STRAUB-REP-FLEX","RUB",{"$f":"IFERROR(H298*Оглавление!$E$23,\"по запросу\")","v":174818.56},{"$f":"IFERROR(F298*(1-Оглавление!$D$42),\"по запросу\")","v":174818.56},1744,"шт",null,0,0]
[null,"481-128-200","Муфта ремонтная из нержавеющей стали STRAUB-REP-FLEX 128 мм (128-138), L=200мм, NBR W4","STRAUB-REP-FLEX","RUB",{"$f":"IFERROR(H299*Оглавление!$E$23,\"по запросу\")","v":136025.68},{"$f":"IFERROR(F299*(1-Оглавление!$D$42),\"по запросу\")","v":136025.68},1357,"шт",null,0,0]
[null,"481-128-300","Муфта ремонтная из нержавеющей стали STRAUB-REP-FLEX 128 мм (128-138), L=300мм, NBR W4","STRAUB-REP-FLEX","RUB",{"$f":"IFERROR(H300*Оглавление!$E$23,\"по запросу\")","v":184541.84},{"$f":"IFERROR(F300*(1-Оглавление!$D$42),\"по запросу\")","v":184541.84},1841,"шт",null,0,0]
[null,"481-139-200","Муфта ремонтная из нержавеющей стали STRAUB-REP-FLEX 139 мм (139-149), L=200мм, NBR W4","STRAUB-REP-FLEX","RUB",{"$f":"IFERROR(H301*Оглавление!$E$23,\"по запросу\")","v":144947.03999999998},{"$f":"IFERROR(F301*(1-Оглавление!$D$42),\"по запросу\")","v":144947.03999999998},1446,"шт",null,0,0]
[null,"481-139-300","Муфта ремонтная из нержавеющей стали STRAUB-REP-FLEX 139 мм (139-149), L=300мм, NBR W4","STRAUB-REP-FLEX","RUB",{"$f":"IFERROR(H302*Оглавление!$E$23,\"по запросу\")","v":188050.24},{"$f":"IFERROR(F302*(1-Оглавление!$D$42),\"по запросу\")","v":188050.24},1876,"шт",null,0,0]
[null,"481-150-200","Муфта ремонтная из нержавеющей стали STRAUB-REP-FLEX 150 мм (150-160), L=200мм, NBR W4","STRAUB-REP-FLEX","RUB",{"$f":"IFERROR(H303*Оглавление!$E$23,\"по запросу\")","v":126603.12},{"$f":"IFERROR(F303*(1-Оглавление!$D$42),\"по запросу\")","v":126603.12},1263,"шт",null,0,0]
[null,"481-150-300","Муфта ремонтная из нержавеющей стали STRAUB-REP-FLEX 150 мм (150-160), L=300мм, NBR W4","STRAUB-REP-FLEX","RUB",{"$f":"IFERROR(H304*Оглавление!$E$23,\"по запросу\")","v":176823.36},{"$f":"IFERROR(F304*(1-Оглавление!$D$42),\"по запросу\")","v":176823.36},1764,"шт",null,0,0]
[null,"481-159-300","Муфта ремонтная из нержавеющей стали STRAUB-REP-FLEX 159 мм (159-170), L=300мм, NBR W4","STRAUB-REP-FLEX","RUB",{"$f":"IFERROR(H305*Оглавление!$E$23,\"по запросу\")","v":218723.68},{"$f":"IFERROR(F305*(1-Оглавление!$D$42),\"по запросу\")","v":218723.68},2182,"шт",null,0,0]
[null,"481-175-300","Муфта ремонтная из нержавеющей стали STRAUB-REP-FLEX 175 мм (175-185), L=300мм, NBR W4","STRAUB-REP-FLEX","RUB",{"$f":"IFERROR(H306*Оглавление!$E$23,\"по запросу\")","v":224738.08},{"$f":"IFERROR(F306*(1-Оглавление!$D$42),\"по запросу\")","v":224738.08},2242,"шт",null,0,0]
[null,"481-186-300","Муфта ремонтная из нержавеющей стали STRAUB-REP-FLEX 186 мм (186-196), L=300мм, NBR W4","STRAUB-REP-FLEX","RUB",{"$f":"IFERROR(H307*Оглавление!$E$23,\"по запросу\")","v":229750.08},{"$f":"IFERROR(F307*(1-Оглавление!$D$42),\"по запросу\")","v":229750.08},2292,"шт",null,0,0]
[null,"481-196-300","Муфта ремонтная из нержавеющей стали STRAUB-REP-FLEX 196 мм (196-206), L=300мм, NBR W4","STRAUB-REP-FLEX","RUB",{"$f":"IFERROR(H308*Оглавление!$E$23,\"по запросу\")","v":233759.68},{"$f":"IFERROR(F308*(1-Оглавление!$D$42),\"по запросу\")","v":233759.68},2332,"шт",null,0,0]
[null,"481-206-300","Муфта ремонтная из нержавеющей стали STRAUB-REP-FLEX 206 мм (206-216), L=300мм, NBR W4","STRAUB-REP-FLEX","RUB",{"$f":"IFERROR(H309*Оглавление!$E$23,\"по запросу\")","v":237368.31999999998},{"$f":"IFERROR(F309*(1-Оглавление!$D$42),\"по запросу\")","v":237368.31999999998},2368,"шт",null,0,0]
[null,"481-216-300","Муфта ремонтная из нержавеющей стали STRAUB-REP-FLEX 216 мм (216-226), L=300мм, NBR W4","STRAUB-REP-FLEX","RUB",{"$f":"IFERROR(H310*Оглавление!$E$23,\"по запросу\")","v":241778.87999999998},{"$f":"IFERROR(F310*(1-Оглавление!$D$42),\"по запросу\")","v":241778.87999999998},2412,"шт",null,0,0]
[null,"481-241-300","Муфта ремонтная из нержавеющей стали STRAUB-REP-FLEX 241 мм (241-251), L=300мм, NBR W4","STRAUB-REP-FLEX","RUB",{"$f":"IFERROR(H311*Оглавление!$E$23,\"по запросу\")","v":250399.52},{"$f":"IFERROR(F311*(1-Оглавление!$D$42),\"по запросу\")","v":250399.52},2498,"шт",null,0,0]
[null,"481-264-300","Муфта ремонтная из нержавеющей стали STRAUB-REP-FLEX 264 мм (264-274), L=300мм, NBR W4","STRAUB-REP-FLEX","RUB",{"$f":"IFERROR(H312*Оглавление!$E$23,\"по запросу\")","v":259421.12},{"$f":"IFERROR(F312*(1-Оглавление!$D$42),\"по запросу\")","v":259421.12},2588,"шт",null,0,0]
[null,"481-274-300","Муфта ремонтная из нержавеющей стали STRAUB-REP-FLEX 274 мм (274-284), L=300мм, NBR W4","STRAUB-REP-FLEX","RUB",{"$f":"IFERROR(H313*Оглавление!$E$23,\"по запросу\")","v":263430.71999999997},{"$f":"IFERROR(F313*(1-Оглавление!$D$42),\"по запросу\")","v":263430.71999999997},2628,"шт",null,0,0]
[null,"481-315-300","Муфта ремонтная из нержавеющей стали STRAUB-REP-FLEX 315 мм (315-325), L=300мм, NBR W4","STRAUB-REP-FLEX","RUB",{"$f":"IFERROR(H314*Оглавление!$E$23,\"по запросу\")","v":280371.27999999997},{"$f":"IFERROR(F314*(1-Оглавление!$D$42),\"по запросу\")","v":280371.27999999997},2797,"шт",null,0,0]
[null,"481-355-300","Муфта ремонтная из нержавеющей стали STRAUB-REP-FLEX 355 мм (355-365), L=300мм, NBR W4","STRAUB-REP-FLEX","RUB",{"$f":"IFERROR(H315*Оглавление!$E$23,\"по запросу\")","v":296008.71999999997},{"$f":"IFERROR(F315*(1-Оглавление!$D$42),\"по запросу\")","v":296008.71999999997},2953,"шт",null,0,0]
[null,"481-368-300","Муфта ремонтная из нержавеющей стали STRAUB-REP-FLEX 368 мм (368-379), L=300мм, NBR W4","STRAUB-REP-FLEX","RUB",{"$f":"IFERROR(H316*Оглавление!$E$23,\"по запросу\")","v":301020.71999999997},{"$f":"IFERROR(F316*(1-Оглавление!$D$42),\"по запросу\")","v":301020.71999999997},3003,"шт",null,0,0]
[null,"481-398-300","Муфта ремонтная из нержавеющей стали STRAUB-REP-FLEX 398 мм (398-408), L=300мм, NBR W4","STRAUB-REP-FLEX","RUB",{"$f":"IFERROR(H317*Оглавление!$E$23,\"по запросу\")","v":311946.88},{"$f":"IFERROR(F317*(1-Оглавление!$D$42),\"по запросу\")","v":311946.88},3112,"шт",null,0,0]
[null,"481-419-300","Муфта ремонтная из нержавеющей стали STRAUB-REP-FLEX 419 мм (419-429), L=300мм, NBR W4","STRAUB-REP-FLEX","RUB",{"$f":"IFERROR(H318*Оглавление!$E$23,\"по запросу\")","v":337006.88},{"$f":"IFERROR(F318*(1-Оглавление!$D$42),\"по запросу\")","v":337006.88},3362,"шт",null,0,0]
[null,"481-445-300","Муфта ремонтная из нержавеющей стали STRAUB-REP-FLEX 445 мм (445-455), L=300мм, NBR W4","STRAUB-REP-FLEX","RUB",{"$f":"IFERROR(H319*Оглавление!$E$23,\"по запросу\")","v":368883.19999999995},{"$f":"IFERROR(F319*(1-Оглавление!$D$42),\"по запросу\")","v":368883.19999999995},3680,"шт",null,0,0]
[null,"481-495-300","Муфта ремонтная из нержавеющей стали STRAUB-REP-FLEX 495 мм (495-505), L=300мм, NBR W4","STRAUB-REP-FLEX","RUB",{"$f":"IFERROR(H320*Оглавление!$E$23,\"по запросу\")","v":369584.88},{"$f":"IFERROR(F320*(1-Оглавление!$D$42),\"по запросу\")","v":369584.88},3687,"шт",null,0,0]
[null,"481-525-300","Муфта ремонтная из нержавеющей стали STRAUB-REP-FLEX 525 мм (525-535), L=300мм, NBR W4","STRAUB-REP-FLEX","RUB",{"$f":"IFERROR(H321*Оглавление!$E$23,\"по запросу\")","v":382215.12},{"$f":"IFERROR(F321*(1-Оглавление!$D$42),\"по запросу\")","v":382215.12},3813,"шт",null,0,0]
[null,"481-558-300","Муфта ремонтная из нержавеющей стали STRAUB-REP-FLEX 558 мм (558-568), L=300мм, NBR W4","STRAUB-REP-FLEX","RUB",{"$f":"IFERROR(H322*Оглавление!$E$23,\"по запросу\")","v":393442},{"$f":"IFERROR(F322*(1-Оглавление!$D$42),\"по запросу\")","v":393442},3925,"шт",null,0,0]
[null,"481-625-300","Муфта ремонтная из нержавеющей стали STRAUB-REP-FLEX 625 мм (625-635), L=300мм, NBR W4","STRAUB-REP-FLEX","RUB",{"$f":"IFERROR(H323*Оглавление!$E$23,\"по запросу\")","v":422511.6},{"$f":"IFERROR(F323*(1-Оглавление!$D$42),\"по запросу\")","v":422511.6},4215,"шт",null,0,0]
[null,"481-710-300","Муфта ремонтная из нержавеющей стали STRAUB-REP-FLEX 710 мм (710-720), L=300мм, NBR W4","STRAUB-REP-FLEX","RUB",{"$f":"IFERROR(H324*Оглавление!$E$23,\"по запросу\")","v":487366.87999999995},{"$f":"IFERROR(F324*(1-Оглавление!$D$42),\"по запросу\")","v":487366.87999999995},4862,"шт",null,0,0]
[null,"481-795-300","Муфта ремонтная из нержавеющей стали STRAUB-REP-FLEX 795 мм (795-805), L=300мм, NBR W4","STRAUB-REP-FLEX","RUB",{"$f":"IFERROR(H325*Оглавление!$E$23,\"по запросу\")","v":528064.31999999995},{"$f":"IFERROR(F325*(1-Оглавление!$D$42),\"по запросу\")","v":528064.31999999995},5268,"шт",null,0,0]
[null,"481-815-300","Муфта ремонтная из нержавеющей стали STRAUB-REP-FLEX 815 мм (815-915), L=300мм, NBR W4","STRAUB-REP-FLEX","RUB",{"$f":"IFERROR(H326*Оглавление!$E$23,\"по запросу\")","v":536885.43999999994},{"$f":"IFERROR(F326*(1-Оглавление!$D$42),\"по запросу\")","v":536885.43999999994},5356,"шт",null,0,0]
[null,"481-895-300","Муфта ремонтная из нержавеющей стали STRAUB-REP-FLEX 895 мм (895-905), L=300мм, NBR W4","STRAUB-REP-FLEX","RUB",{"$f":"IFERROR(H327*Оглавление!$E$23,\"по запросу\")","v":572971.84},{"$f":"IFERROR(F327*(1-Оглавление!$D$42),\"по запросу\")","v":572971.84},5716,"шт",null,0,0]
[null,"491-046-200","Муфта ремонтная из нержавеющей стали STRAUB-REP-FLEX 46 мм (46-53), L=200мм, EPDM W4","STRAUB-REP-FLEX","RUB",{"$f":"IFERROR(H328*Оглавление!$E$23,\"по запросу\")","v":81194.399999999994},{"$f":"IFERROR(F328*(1-Оглавление!$D$42),\"по запросу\")","v":81194.399999999994},810,"шт",null,0,0]
[null,"491-053-200","Муфта ремонтная из нержавеющей стали STRAUB-REP-FLEX 53 мм (53-60), L=200мм, EPDM W4","STRAUB-REP-FLEX","RUB",{"$f":"IFERROR(H329*Оглавление!$E$23,\"по запросу\")","v":85103.76},{"$f":"IFERROR(F329*(1-Оглавление!$D$42),\"по запросу\")","v":85103.76},849,"шт",null,0,0]
[null,"491-056-200","Муфта ремонтная из нержавеющей стали STRAUB-REP-FLEX 56 мм (56-64), L=200мм, EPDM W4","STRAUB-REP-FLEX","RUB",{"$f":"IFERROR(H330*Оглавление!$E$23,\"по запросу\")","v":89414.080000000002},{"$f":"IFERROR(F330*(1-Оглавление!$D$42),\"по запросу\")","v":89414.080000000002},892,"шт",null,0,0]
[null,"491-063-200","Муфта ремонтная из нержавеющей стали STRAUB-REP-FLEX 63 мм (63-71), L=200мм, EPDM W4","STRAUB-REP-FLEX","RUB",{"$f":"IFERROR(H331*Оглавление!$E$23,\"по запросу\")","v":92521.51999999999},{"$f":"IFERROR(F331*(1-Оглавление!$D$42),\"по запросу\")","v":92521.51999999999},923,"шт",null,0,0]
[null,"491-072-200","Муфта ремонтная из нержавеющей стали STRAUB-REP-FLEX 72 мм (72-80), L=200мм, EPDM W4","STRAUB-REP-FLEX","RUB",{"$f":"IFERROR(H332*Оглавление!$E$23,\"по запросу\")","v":97132.56},{"$f":"IFERROR(F332*(1-Оглавление!$D$42),\"по запросу\")","v":97132.56},969,"шт",null,0,0]
[null,"491-076-200","Муфта ремонтная из нержавеющей стали STRAUB-REP-FLEX 76 мм (76-83), L=200мм, EPDM W4","STRAUB-REP-FLEX","RUB",{"$f":"IFERROR(H333*Оглавление!$E$23,\"по запросу\")","v":100240},{"$f":"IFERROR(F333*(1-Оглавление!$D$42),\"по запросу\")","v":100240},1000,"шт",null,0,0]
[null,"491-082-200","Муфта ремонтная из нержавеющей стали STRAUB-REP-FLEX 82 мм (82-89), L=200мм, EPDM W4","STRAUB-REP-FLEX","RUB",{"$f":"IFERROR(H334*Оглавление!$E$23,\"по запросу\")","v":101442.87999999999},{"$f":"IFERROR(F334*(1-Оглавление!$D$42),\"по запросу\")","v":101442.87999999999},1012,"шт",null,{"$f":"IFERROR(J334*F334,\"0 ₽\")","v":0},{"$f":"IFERROR(J334*G334,\"0 ₽\")","v":0}]
[null,"491-088-200","Муфта ремонтная из нержавеющей стали STRAUB-REP-FLEX 88 мм (88-98), L=200мм, EPDM W4","STRAUB-REP-FLEX","RUB",{"$f":"IFERROR(H335*Оглавление!$E$23,\"по запросу\")","v":106454.87999999999},{"$f":"IFERROR(F335*(1-Оглавление!$D$42),\"по запросу\")","v":106454.87999999999},1062,"шт",null,0,0]
[null,"491-097-200","Муфта ремонтная из нержавеющей стали STRAUB-REP-FLEX 97 мм (97-108), L=200мм, EPDM W4","STRAUB-REP-FLEX","RUB",{"$f":"IFERROR(H336*Оглавление!$E$23,\"по запросу\")","v":109562.31999999999},{"$f":"IFERROR(F336*(1-Оглавление!$D$42),\"по запросу\")","v":109562.31999999999},1093,"шт",null,0,0]
[null,"491-108-200","Муфта ремонтная из нержавеющей стали STRAUB-REP-FLEX 108 мм (108-118), L=200мм, EPDM W4","STRAUB-REP-FLEX","RUB",{"$f":"IFERROR(H337*Оглавление!$E$23,\"по запросу\")","v":114674.56},{"$f":"IFERROR(F337*(1-Оглавление!$D$42),\"по запросу\")","v":114674.56},1144,"шт",null,0,0]
[null,"491-108-300","Муфта ремонтная из нержавеющей стали STRAUB-REP-FLEX 108 мм (108-118), L=300мм, EPDM W4","STRAUB-REP-FLEX","RUB",{"$f":"IFERROR(H338*Оглавление!$E$23,\"по запросу\")","v":144546.07999999999},{"$f":"IFERROR(F338*(1-Оглавление!$D$42),\"по запросу\")","v":144546.07999999999},1442,"шт",null,0,0]
[null,"491-120-200","Муфта ремонтная из нержавеющей стали STRAUB-REP-FLEX 120 мм (120-130), L=200мм, EPDM W4","STRAUB-REP-FLEX","RUB",{"$f":"IFERROR(H339*Оглавление!$E$23,\"по запросу\")","v":121190.15999999999},{"$f":"IFERROR(F339*(1-Оглавление!$D$42),\"по запросу\")","v":121190.15999999999},1209,"шт",null,0,0]
[null,"491-120-300","Муфта ремонтная из нержавеющей стали STRAUB-REP-FLEX 120 мм (120-130), L=300мм, EPDM W4","STRAUB-REP-FLEX","RUB",{"$f":"IFERROR(H340*Оглавление!$E$23,\"по запросу\")","v":158880.4},{"$f":"IFERROR(F340*(1-Оглавление!$D$42),\"по запросу\")","v":158880.4},1585,"шт",null,0,0]
[null,"491-128-200","Муфта ремонтная из нержавеющей стали STRAUB-REP-FLEX 128 мм (128-138), L=200мм, EPDM W4","STRAUB-REP-FLEX","RUB",{"$f":"IFERROR(H341*Оглавление!$E$23,\"по запросу\")","v":123595.92},{"$f":"IFERROR(F341*(1-Оглавление!$D$42),\"по запросу\")","v":123595.92},1233,"шт",null,0,0]
[null,"491-128-300","Муфта ремонтная из нержавеющей стали STRAUB-REP-FLEX 128 мм (128-138), L=300мм, EPDM W4","STRAUB-REP-FLEX","RUB",{"$f":"IFERROR(H342*Оглавление!$E$23,\"по запросу\")","v":167801.75999999998},{"$f":"IFERROR(F342*(1-Оглавление!$D$42),\"по запросу\")","v":167801.75999999998},1674,"шт",null,0,0]
[null,"491-139-200","Муфта ремонтная из нержавеющей стали STRAUB-REP-FLEX 139 мм (139-149), L=200мм, EPDM W4","STRAUB-REP-FLEX","RUB",{"$f":"IFERROR(H343*Оглавление!$E$23,\"по запросу\")","v":131715.35999999999},{"$f":"IFERROR(F343*(1-Оглавление!$D$42),\"по запросу\")","v":131715.35999999999},1314,"шт",null,0,0]
[null,"491-139-300","Муфта ремонтная из нержавеющей стали STRAUB-REP-FLEX 139 мм (139-149), L=300мм, EPDM W4","STRAUB-REP-FLEX","RUB",{"$f":"IFERROR(H344*Оглавление!$E$23,\"по запросу\")","v":170909.19999999998},{"$f":"IFERROR(F344*(1-Оглавление!$D$42),\"по запросу\")","v":170909.19999999998},1705,"шт",null,0,0]
[null,"491-150-200","Муфта ремонтная из нержавеющей стали STRAUB-REP-FLEX 150 мм (150-160), L=200мм, EPDM W4","STRAUB-REP-FLEX","RUB",{"$f":"IFERROR(H345*Оглавление!$E$23,\"по запросу\")","v":114875.04},{"$f":"IFERROR(F345*(1-Оглавление!$D$42),\"по запросу\")","v":114875.04},1146,"шт",null,0,0]
[null,"491-150-300","Муфта ремонтная из нержавеющей стали STRAUB-REP-FLEX 150 мм (150-160), L=300мм, EPDM W4","STRAUB-REP-FLEX","RUB",{"$f":"IFERROR(H346*Оглавление!$E$23,\"по запросу\")","v":160885.19999999998},{"$f":"IFERROR(F346*(1-Оглавление!$D$42),\"по запросу\")","v":160885.19999999998},1605,"шт",null,0,0]
[null,"491-159-300","Муфта ремонтная из нержавеющей стали STRAUB-REP-FLEX 159 мм (159-170), L=300мм, EPDM W4","STRAUB-REP-FLEX","RUB",{"$f":"IFERROR(H347*Оглавление!$E$23,\"по запросу\")","v":198775.91999999998},{"$f":"IFERROR(F347*(1-Оглавление!$D$42),\"по запросу\")","v":198775.91999999998},1983,"шт",null,0,0]
[null,"491-175-300","Муфта ремонтная из нержавеющей стали STRAUB-REP-FLEX 175 мм (175-185), L=300мм, EPDM W4","STRAUB-REP-FLEX","RUB",{"$f":"IFERROR(H348*Оглавление!$E$23,\"по запросу\")","v":204489.59999999998},{"$f":"IFERROR(F348*(1-Оглавление!$D$42),\"по запросу\")","v":204489.59999999998},2040,"шт",null,0,0]
[null,"491-186-300","Муфта ремонтная из нержавеющей стали STRAUB-REP-FLEX 186 мм (186-196), L=300мм, EPDM W4","STRAUB-REP-FLEX","RUB",{"$f":"IFERROR(H349*Оглавление!$E$23,\"по запросу\")","v":208799.91999999998},{"$f":"IFERROR(F349*(1-Оглавление!$D$42),\"по запросу\")","v":208799.91999999998},2083,"шт",null,0,0]
[null,"491-196-300","Муфта ремонтная из нержавеющей стали STRAUB-REP-FLEX 196 мм (196-206), L=300мм, EPDM W4","STRAUB-REP-FLEX","RUB",{"$f":"IFERROR(H350*Оглавление!$E$23,\"по запросу\")","v":212408.56},{"$f":"IFERROR(F350*(1-Оглавление!$D$42),\"по запросу\")","v":212408.56},2119,"шт",null,0,0]
[null,"491-206-300","Муфта ремонтная из нержавеющей стали STRAUB-REP-FLEX 206 мм (206-216), L=300мм, EPDM W4","STRAUB-REP-FLEX","RUB",{"$f":"IFERROR(H351*Оглавление!$E$23,\"по запросу\")","v":215816.72},{"$f":"IFERROR(F351*(1-Оглавление!$D$42),\"по запросу\")","v":215816.72},2153,"шт",null,0,0]
[null,"491-216-300","Муфта ремонтная из нержавеющей стали STRAUB-REP-FLEX 216 мм (216-226), L=300мм, EPDM W4","STRAUB-REP-FLEX","RUB",{"$f":"IFERROR(H352*Оглавление!$E$23,\"по запросу\")","v":219726.07999999999},{"$f":"IFERROR(F352*(1-Оглавление!$D$42),\"по запросу\")","v":219726.07999999999},2192,"шт",null,0,0]
[null,"491-241-300","Муфта ремонтная из нержавеющей стали STRAUB-REP-FLEX 241 мм (241-251), L=300мм, EPDM W4","STRAUB-REP-FLEX","RUB",{"$f":"IFERROR(H353*Оглавление!$E$23,\"по запросу\")","v":227745.28},{"$f":"IFERROR(F353*(1-Оглавление!$D$42),\"по запросу\")","v":227745.28},2272,"шт",null,0,0]
[null,"491-264-300","Муфта ремонтная из нержавеющей стали STRAUB-REP-FLEX 264 мм (264-274), L=300мм, EPDM W4","STRAUB-REP-FLEX","RUB",{"$f":"IFERROR(H354*Оглавление!$E$23,\"по запросу\")","v":253907.91999999998},{"$f":"IFERROR(F354*(1-Оглавление!$D$42),\"по запросу\")","v":253907.91999999998},2533,"шт",null,0,0]
[null,"491-274-300","Муфта ремонтная из нержавеющей стали STRAUB-REP-FLEX 274 мм (274-284), L=300мм, EPDM W4","STRAUB-REP-FLEX","RUB",{"$f":"IFERROR(H355*Оглавление!$E$23,\"по запросу\")","v":239373.12},{"$f":"IFERROR(F355*(1-Оглавление!$D$42),\"по запросу\")","v":239373.12},2388,"шт",null,0,0]
[null,"491-315-300","Муфта ремонтная из нержавеющей стали STRAUB-REP-FLEX 315 мм (315-325), L=300мм, EPDM W4","STRAUB-REP-FLEX","RUB",{"$f":"IFERROR(H356*Оглавление!$E$23,\"по запросу\")","v":254709.84},{"$f":"IFERROR(F356*(1-Оглавление!$D$42),\"по запросу\")","v":254709.84},2541,"шт",null,0,0]
[null,"491-355-300","Муфта ремонтная из нержавеющей стали STRAUB-REP-FLEX 355 мм (355-365), L=300мм, EPDM W4","STRAUB-REP-FLEX","RUB",{"$f":"IFERROR(H357*Оглавление!$E$23,\"по запросу\")","v":269044.15999999997},{"$f":"IFERROR(F357*(1-Оглавление!$D$42),\"по запросу\")","v":269044.15999999997},2684,"шт",null,0,0]
[null,"491-368-300","Муфта ремонтная из нержавеющей стали STRAUB-REP-FLEX 368 мм (368-379), L=300мм, EPDM W4","STRAUB-REP-FLEX","RUB",{"$f":"IFERROR(H358*Оглавление!$E$23,\"по запросу\")","v":273655.2},{"$f":"IFERROR(F358*(1-Оглавление!$D$42),\"по запросу\")","v":273655.2},2730,"шт",null,0,0]
[null,"491-398-300","Муфта ремонтная из нержавеющей стали STRAUB-REP-FLEX 398 мм (398-408), L=300мм, EPDM W4","STRAUB-REP-FLEX","RUB",{"$f":"IFERROR(H359*Оглавление!$E$23,\"по запросу\")","v":283679.2},{"$f":"IFERROR(F359*(1-Оглавление!$D$42),\"по запросу\")","v":283679.2},2830,"шт",null,0,0]
[null,"491-419-300","Муфта ремонтная из нержавеющей стали STRAUB-REP-FLEX 419 мм (419-429), L=300мм, EPDM W4","STRAUB-REP-FLEX","RUB",{"$f":"IFERROR(H360*Оглавление!$E$23,\"по запросу\")","v":306533.92},{"$f":"IFERROR(F360*(1-Оглавление!$D$42),\"по запросу\")","v":306533.92},3058,"шт",null,0,0]
[null,"491-442-300","Муфта ремонтная из нержавеющей стали STRAUB-REP-FLEX 445 мм (442-452), L=300 мм, EPDM/ES","STRAUB-REP-FLEX","RUB",{"$f":"IFERROR(H361*Оглавление!$E$23,\"по запросу\")","v":341216.95999999996},{"$f":"IFERROR(F361*(1-Оглавление!$D$42),\"по запросу\")","v":341216.95999999996},3404,"шт",null,0,0]
[null,"491-445-300","Муфта ремонтная из нержавеющей стали STRAUB-REP-FLEX 445 мм (445-455), L=300мм, EPDM W4","STRAUB-REP-FLEX","RUB",{"$f":"IFERROR(H362*Оглавление!$E$23,\"по запросу\")","v":336605.92},{"$f":"IFERROR(F362*(1-Оглавление!$D$42),\"по запросу\")","v":336605.92},3358,"шт",null,0,0]
[null,"491-495-300","Муфта ремонтная из нержавеющей стали STRAUB-REP-FLEX 495 мм (495-505), L=300мм, EPDM W4","STRAUB-REP-FLEX","RUB",{"$f":"IFERROR(H363*Оглавление!$E$23,\"по запросу\")","v":335904.24},{"$f":"IFERROR(F363*(1-Оглавление!$D$42),\"по запросу\")","v":335904.24},3351,"шт",null,0,0]
[null,"491-525-300","Муфта ремонтная из нержавеющей стали STRAUB-REP-FLEX 525 мм (525-535), L=300мм, EPDM W4","STRAUB-REP-FLEX","RUB",{"$f":"IFERROR(H364*Оглавление!$E$23,\"по запросу\")","v":347532.07999999996},{"$f":"IFERROR(F364*(1-Оглавление!$D$42),\"по запросу\")","v":347532.07999999996},3467,"шт",null,0,0]
[null,"491-558-300","Муфта ремонтная из нержавеющей стали STRAUB-REP-FLEX 558 мм (558-568), L=300мм, EPDM W4","STRAUB-REP-FLEX","RUB",{"$f":"IFERROR(H365*Оглавление!$E$23,\"по запросу\")","v":357656.32000000001},{"$f":"IFERROR(F365*(1-Оглавление!$D$42),\"по запросу\")","v":357656.32000000001},3568,"шт",null,0,0]
[null,"491-625-300","Муфта ремонтная из нержавеющей стали STRAUB-REP-FLEX 625 мм (625-635), L=300мм, EPDM W4","STRAUB-REP-FLEX","RUB",{"$f":"IFERROR(H366*Оглавление!$E$23,\"по запросу\")","v":384019.44},{"$f":"IFERROR(F366*(1-Оглавление!$D$42),\"по запросу\")","v":384019.44},3831,"шт",null,0,0]
[null,"491-710-300","Муфта ремонтная из нержавеющей стали STRAUB-REP-FLEX 710 мм (710-720), L=300мм, EPDM W4","STRAUB-REP-FLEX","RUB",{"$f":"IFERROR(H367*Оглавление!$E$23,\"по запросу\")","v":443261.27999999997},{"$f":"IFERROR(F367*(1-Оглавление!$D$42),\"по запросу\")","v":443261.27999999997},4422,"шт",null,0,0]
[null,"491-795-300","Муфта ремонтная из нержавеющей стали STRAUB-REP-FLEX 795 мм (795-805), L=300мм, EPDM W4","STRAUB-REP-FLEX","RUB",{"$f":"IFERROR(H368*Оглавление!$E$23,\"по запросу\")","v":480049.36},{"$f":"IFERROR(F368*(1-Оглавление!$D$42),\"по запросу\")","v":480049.36},4789,"шт",null,0,0]
[null,"491-815-300","Муфта ремонтная из нержавеющей стали STRAUB-REP-FLEX 800 мм (815-825), L=300мм, EPDM W4","STRAUB-REP-FLEX","RUB",{"$f":"IFERROR(H369*Оглавление!$E$23,\"по запросу\")","v":488068.56},{"$f":"IFERROR(F369*(1-Оглавление!$D$42),\"по запросу\")","v":488068.56},4869,"шт",null,0,0]
[null,"491-895-300","Муфта ремонтная из нержавеющей стали STRAUB-REP-FLEX 895 мм (895-905), L=300мм, EPDM W4","STRAUB-REP-FLEX","RUB",{"$f":"IFERROR(H370*Оглавление!$E$23,\"по запросу\")","v":520746.8},{"$f":"IFERROR(F370*(1-Оглавление!$D$42),\"по запросу\")","v":520746.8},5195,"шт",null,0,0]

{"sheet":"Аксессуары, клей","index":12,"n_rows":103,"n_cols":12,"rows_kept":103,"cut":false,"hidden":false,"merged":[[79,0,102,0],[10,0,27,0],[28,0,45,0],[46,0,51,0],[52,0,69,0],[70,0,78,0]]}
[null,null,null,null,null,null,null,null,{"$f":"COUNT(J10:J103)","v":0},"Товаров в заказе"]
[null,null,null,null,null,null,null,null,{"$f":"SUM(L10:L103)","v":0},"Сумма заказа со скидкой с НДС"]
[]
[]
[]
[]
[]
[]
["Фото","Код","Наименование","Категория","Валюта\nпродажи","Цена\nПРОДАЖИ с НДС ","Цена с НДС\nсо скидкой","Цена\nEUR","Ед. измерения","Заказ (метры/штуки)","Сумма рубли","Сумма со скидкой"]
[null,"130110008","Клей PVC-U Pimtas, 1000 г (с кистью)","Клей","RUB",{"$f":"IFERROR(H10*Оглавление!$E$23,\"по запросу\")","v":2666.384},{"$f":"IFERROR(F10*(1-Оглавление!$D$43),\"по запросу\")","v":2666.384},26.6,"шт",null,{"$f":"IFERROR(J10*F10,\"0 ₽\")","v":0},{"$f":"IFERROR(J10*G10,\"0 ₽\")","v":0}]
[null,"ISETVKD020E","Комплект уплотнений для шарового крана EPM 20 IPS","Аксессуары","RUB",{"$f":"IFERROR(H11*Оглавление!$E$23,\"по запросу\")","v":"по запросу"},{"$f":"IFERROR(F11*(1-Оглавление!$D$43),\"по запросу\")","v":"по запросу"},"по запросу","шт",null,"0 ₽","0 ₽"]
[null,"ISETVKD025E","Комплект уплотнений для шарового крана EPM 25 IPS","Аксессуары","RUB",{"$f":"IFERROR(H12*Оглавление!$E$23,\"по запросу\")","v":"по запросу"},{"$f":"IFERROR(F12*(1-Оглавление!$D$43),\"по запросу\")","v":"по запросу"},"по запросу","шт",null,"0 ₽","0 ₽"]
[null,"ISETVKD032E","Комплект уплотнений для шарового крана EPM 32 IPS","Аксессуары","RUB",{"$f":"IFERROR(H13*Оглавление!$E$23,\"по запросу\")","v":"по запросу"},{"$f":"IFERROR(F13*(1-Оглавление!$D$43),\"по запросу\")","v":"по запросу"},"по запросу","шт",null,"0 ₽","0 ₽"]
[null,"ISETVKD040E","Комплект уплотнений для шарового крана EPM 40 IPS","Аксессуары","RUB",{"$f":"IFERROR(H14*Оглавление!$E$23,\"по запросу\")","v":"по запросу"},{"$f":"IFERROR(F14*(1-Оглавление!$D$43),\"по запросу\")","v":"по запросу"},"по запросу","шт",null,"0 ₽","0 ₽"]
[null,"ISETVKD050E","Комплект уплотнений для шарового крана EPM 50 IPS","Аксессуары","RUB",{"$f":"IFERROR(H15*Оглавление!$E$23,\"по запросу\")","v":"по запросу"},{"$f":"IFERROR(F15*(1-Оглавление!$D$43),\"по запросу\")","v":"по запросу"},"по запросу","шт",null,"0 ₽","0 ₽"]
[null,"ISETVKD063E","Комплект уплотнений для шарового крана EPM 63 IPS","Аксессуары","RUB",{"$f":"IFERROR(H16*Оглавление!$E$23,\"по запросу\")","v":"по запросу"},{"$f":"IFERROR(F16*(1-Оглавление!$D$43),\"по запросу\")","v":"по запросу"},"по запросу","шт",null,"0 ₽","0 ₽"]
[null,"ISETVKD075E","Комплект уплотнений для шарового крана EPM 75 IPS","Аксессуары","RUB",{"$f":"IFERROR(H17*Оглавление!$E$23,\"по запросу\")","v":"по запросу"},{"$f":"IFERROR(F17*(1-Оглавление!$D$43),\"по запросу\")","v":"по запросу"},"по запросу","шт",null,"0 ₽","0 ₽"]
[null,"ISETVKD090E","Комплект уплотнений для шарового крана EPM 90 IPS","Аксессуары","RUB",{"$f":"IFERROR(H18*Оглавление!$E$23,\"по запросу\")","v":"по запросу"},{"$f":"IFERROR(F18*(1-Оглавление!$D$43),\"по запросу\")","v":"по запросу"},"по запросу","шт",null,"0 ₽","0 ₽"]
[null,"ISETVKD110E","Комплект уплотнений для шарового крана EPM 110 IPS","Аксессуары","RUB",{"$f":"IFERROR(H19*Оглавление!$E$23,\"по запросу\")","v":"по запросу"},{"$f":"IFERROR(F19*(1-Оглавление!$D$43),\"по запросу\")","v":"по запросу"},"по запросу","шт",null,"0 ₽","0 ₽"]
[null,"ISETVKD020F","Комплект уплотнений для шарового крана FKM 20 IPS","Аксессуары","RUB",{"$f":"IFERROR(H20*Оглавление!$E$23,\"по запросу\")","v":"по запросу"},{"$f":"IFERROR(F20*(1-Оглавление!$D$43),\"по запросу\")","v":"по запросу"},"по запросу","шт",null,"0 ₽","0 ₽"]
[null,"ISETVKD025F","Комплект уплотнений для шарового крана FKM 25 IPS","Аксессуары","RUB",{"$f":"IFERROR(H21*Оглавление!$E$23,\"по запросу\")","v":"по запросу"},{"$f":"IFERROR(F21*(1-Оглавление!$D$43),\"по запросу\")","v":"по запросу"},"по запросу","шт",null,"0 ₽","0 ₽"]
[null,"ISETVKD032F","Комплект уплотнений для шарового крана FKM 32 IPS","Аксессуары","RUB",{"$f":"IFERROR(H22*Оглавление!$E$23,\"по запросу\")","v":"по запросу"},{"$f":"IFERROR(F22*(1-Оглавление!$D$43),\"по запросу\")","v":"по запросу"},"по запросу","шт",null,"0 ₽","0 ₽"]
[null,"ISETVKD040F","Комплект уплотнений для шарового крана FKM 40 IPS","Аксессуары","RUB",{"$f":"IFERROR(H23*Оглавление!$E$23,\"по запросу\")","v":"по запросу"},{"$f":"IFERROR(F23*(1-Оглавление!$D$43),\"по запросу\")","v":"по запросу"},"по запросу","шт",null,"0 ₽","0 ₽"]
[null,"ISETVKD050F","Комплект уплотнений для шарового крана FKM 50 IPS","Аксессуары","RUB",{"$f":"IFERROR(H24*Оглавление!$E$23,\"по запросу\")","v":"по запросу"},{"$f":"IFERROR(F24*(1-Оглавление!$D$43),\"по запросу\")","v":"по запросу"},"по запросу","шт",null,"0 ₽","0 ₽"]
[null,"ISETVKD063F","Комплект уплотнений для шарового крана FKM 63 IPS","Аксессуары","RUB",{"$f":"IFERROR(H25*Оглавление!$E$23,\"по запросу\")","v":"по запросу"},{"$f":"IFERROR(F25*(1-Оглавление!$D$43),\"по запросу\")","v":"по запросу"},"по запросу","шт",null,"0 ₽","0 ₽"]
[null,"ISETVKD075F","Комплект уплотнений для шарового крана FKM 75 IPS","Аксессуары","RUB",{"$f":"IFERROR(H26*Оглавление!$E$23,\"по запросу\")","v":"по запросу"},{"$f":"IFERROR(F26*(1-Оглавление!$D$43),\"по запросу\")","v":"по запросу"},"по запросу","шт",null,"0 ₽","0 ₽"]
[null,"ISETVKD090F","Комплект уплотнений для шарового крана FKM 90 IPS","Аксессуары","RUB",{"$f":"IFERROR(H27*Оглавление!$E$23,\"по запросу\")","v":"по запросу"},{"$f":"IFERROR(F27*(1-Оглавление!$D$43),\"по запросу\")","v":"по запросу"},"по запросу","шт",null,"0 ₽","0 ₽"]
[null,"ISETVKD110F","Комплект уплотнений для шарового крана FKM 110 IPS","Аксессуары","RUB",{"$f":"IFERROR(H28*Оглавление!$E$23,\"по запросу\")","v":"по запросу"},{"$f":"IFERROR(F28*(1-Оглавление!$D$43),\"по запросу\")","v":"по запросу"},"по запросу","шт",null,"0 ₽","0 ₽"]
[null,"ISETFK063E*","Комплект уплотнений для дискового затвора EPM 20 IPS","Аксессуары","RUB",{"$f":"IFERROR(H29*Оглавление!$E$23,\"по запросу\")","v":"по запросу"},{"$f":"IFERROR(F29*(1-Оглавление!$D$43),\"по запросу\")","v":"по запросу"},"по запросу","шт",null,"0 ₽","0 ₽"]
[null,"ISETFK075E*","Комплект уплотнений для дискового затвора EPM 25 IPS","Аксессуары","RUB",{"$f":"IFERROR(H30*Оглавление!$E$23,\"по запросу\")","v":"по запросу"},{"$f":"IFERROR(F30*(1-Оглавление!$D$43),\"по запросу\")","v":"по запросу"},"по запросу","шт",null,"0 ₽","0 ₽"]
[null,"ISETFK090E*","Комплект уплотнений для дискового затвора EPM 32 IPS","Аксессуары","RUB",{"$f":"IFERROR(H31*Оглавление!$E$23,\"по запросу\")","v":"по запросу"},{"$f":"IFERROR(F31*(1-Оглавление!$D$43),\"по запросу\")","v":"по запросу"},"по запросу","шт",null,"0 ₽","0 ₽"]
[null,"ISETFK110E*","Комплект уплотнений для дискового затвора EPM 40 IPS","Аксессуары","RUB",{"$f":"IFERROR(H32*Оглавление!$E$23,\"по запросу\")","v":"по запросу"},{"$f":"IFERROR(F32*(1-Оглавление!$D$43),\"по запросу\")","v":"по запросу"},"по запросу","шт",null,"0 ₽","0 ₽"]
[null,"ISETFK140E*","Комплект уплотнений для дискового затвора EPM 50 IPS","Аксессуары","RUB",{"$f":"IFERROR(H33*Оглавление!$E$23,\"по запросу\")","v":"по запросу"},{"$f":"IFERROR(F33*(1-Оглавление!$D$43),\"по запросу\")","v":"по запросу"},"по запросу","шт",null,"0 ₽","0 ₽"]
[null,"ISETFK160E*","Комплект уплотнений для дискового затвора EPM 63 IPS","Аксессуары","RUB",{"$f":"IFERROR(H34*Оглавление!$E$23,\"по запросу\")","v":"по запросу"},{"$f":"IFERROR(F34*(1-Оглавление!$D$43),\"по запросу\")","v":"по запросу"},"по запросу","шт",null,"0 ₽","0 ₽"]
[null,"ISETFK225E*","Комплект уплотнений для дискового затвора EPM 75 IPS","Аксессуары","RUB",{"$f":"IFERROR(H35*Оглавление!$E$23,\"по запросу\")","v":"по запросу"},{"$f":"IFERROR(F35*(1-Оглавление!$D$43),\"по запросу\")","v":"по запросу"},"по запросу","шт",null,"0 ₽","0 ₽"]
[null,"ISETFK250E*","Комплект уплотнений для дискового затвора EPM 90 IPS","Аксессуары","RUB",{"$f":"IFERROR(H36*Оглавление!$E$23,\"по запросу\")","v":"по запросу"},{"$f":"IFERROR(F36*(1-Оглавление!$D$43),\"по запросу\")","v":"по запросу"},"по запросу","шт",null,"0 ₽","0 ₽"]
[null,"ISETFK315E*","Комплект уплотнений для дискового затвора EPM 110 IPS","Аксессуары","RUB",{"$f":"IFERROR(H37*Оглавление!$E$23,\"по запросу\")","v":"по запросу"},{"$f":"IFERROR(F37*(1-Оглавление!$D$43),\"по запросу\")","v":"по запросу"},"по запросу","шт",null,"0 ₽","0 ₽"]
[null,"ISETFK063F*","Комплект уплотнений для дискового затвора FKM 20 IPS","Аксессуары","RUB",{"$f":"IFERROR(H38*Оглавление!$E$23,\"по запросу\")","v":"по запросу"},{"$f":"IFERROR(F38*(1-Оглавление!$D$43),\"по запросу\")","v":"по запросу"},"по запросу","шт",null,"0 ₽","0 ₽"]
[null,"ISETFK075F*","Комплект уплотнений для дискового затвора FKM 25 IPS","Аксессуары","RUB",{"$f":"IFERROR(H39*Оглавление!$E$23,\"по запросу\")","v":"по запросу"},{"$f":"IFERROR(F39*(1-Оглавление!$D$43),\"по запросу\")","v":"по запросу"},"по запросу","шт",null,"0 ₽","0 ₽"]
[null,"ISETFK090F*","Комплект уплотнений для дискового затвора FKM 32 IPS","Аксессуары","RUB",{"$f":"IFERROR(H40*Оглавление!$E$23,\"по запросу\")","v":"по запросу"},{"$f":"IFERROR(F40*(1-Оглавление!$D$43),\"по запросу\")","v":"по запросу"},"по запросу","шт",null,"0 ₽","0 ₽"]
[null,"ISETFK110F*","Комплект уплотнений для дискового затвора FKM 40 IPS","Аксессуары","RUB",{"$f":"IFERROR(H41*Оглавление!$E$23,\"по запросу\")","v":"по запросу"},{"$f":"IFERROR(F41*(1-Оглавление!$D$43),\"по запросу\")","v":"по запросу"},"по запросу","шт",null,"0 ₽","0 ₽"]
[null,"ISETFK140F*","Комплект уплотнений для дискового затвора FKM 50 IPS","Аксессуары","RUB",{"$f":"IFERROR(H42*Оглавление!$E$23,\"по запросу\")","v":"по запросу"},{"$f":"IFERROR(F42*(1-Оглавление!$D$43),\"по запросу\")","v":"по запросу"},"по запросу","шт",null,"0 ₽","0 ₽"]
[null,"ISETFK160F*","Комплект уплотнений для дискового затвора FKM 63 IPS","Аксессуары","RUB",{"$f":"IFERROR(H43*Оглавление!$E$23,\"по запросу\")","v":"по запросу"},{"$f":"IFERROR(F43*(1-Оглавление!$D$43),\"по запросу\")","v":"по запросу"},"по запросу","шт",null,"0 ₽","0 ₽"]
[null,"ISETFK225F*","Комплект уплотнений для дискового затвора FKM 75 IPS","Аксессуары","RUB",{"$f":"IFERROR(H44*Оглавление!$E$23,\"по запросу\")","v":"по запросу"},{"$f":"IFERROR(F44*(1-Оглавление!$D$43),\"по запросу\")","v":"по запросу"},"по запросу","шт",null,"0 ₽","0 ₽"]
[null,"ISETFK250F*","Комплект уплотнений для дискового затвора FKM 90 IPS","Аксессуары","RUB",{"$f":"IFERROR(H45*Оглавление!$E$23,\"по запросу\")","v":"по запросу"},{"$f":"IFERROR(F45*(1-Оглавление!$D$43),\"по запросу\")","v":"по запросу"},"по запросу","шт",null,"0 ₽","0 ₽"]
[null,"ISETFK315F*","Комплект уплотнений для дискового затвора FKM 110 IPS","Аксессуары","RUB",{"$f":"IFERROR(H46*Оглавление!$E$23,\"по запросу\")","v":"по запросу"},{"$f":"IFERROR(F46*(1-Оглавление!$D$43),\"по запросу\")","v":"по запросу"},"по запросу","шт",null,"0 ₽","0 ₽"]
[null,"IOR4081F*","Уплотнительное кольцо для мембранного клапана FKM 20 IPS","Аксессуары","RUB",{"$f":"IFERROR(H47*Оглавление!$E$23,\"по запросу\")","v":"по запросу"},{"$f":"IFERROR(F47*(1-Оглавление!$D$43),\"по запросу\")","v":"по запросу"},"по запросу","шт",null,"0 ₽","0 ₽"]
[null,"IOR4112F*","Уплотнительное кольцо для мембранного клапана FKM 25 IPS","Аксессуары","RUB",{"$f":"IFERROR(H48*Оглавление!$E$23,\"по запросу\")","v":"по запросу"},{"$f":"IFERROR(F48*(1-Оглавление!$D$43),\"по запросу\")","v":"по запросу"},"по запросу","шт",null,"0 ₽","0 ₽"]
[null,"IOR4131F*","Уплотнительное кольцо для мембранного клапана FKM 32 IPS","Аксессуары","RUB",{"$f":"IFERROR(H49*Оглавление!$E$23,\"по запросу\")","v":"по запросу"},{"$f":"IFERROR(F49*(1-Оглавление!$D$43),\"по запросу\")","v":"по запросу"},"по запросу","шт",null,"0 ₽","0 ₽"]
[null,"IOR6162F*","Уплотнительное кольцо для мембранного клапана FKM 40 IPS","Аксессуары","RUB",{"$f":"IFERROR(H50*Оглавление!$E$23,\"по запросу\")","v":"по запросу"},{"$f":"IFERROR(F50*(1-Оглавление!$D$43),\"по запросу\")","v":"по запросу"},"по запросу","шт",null,"0 ₽","0 ₽"]
[null,"IOR6187F*","Уплотнительное кольцо для мембранного клапана FKM 50 IPS","Аксессуары","RUB",{"$f":"IFERROR(H51*Оглавление!$E$23,\"по запросу\")","v":"по запросу"},{"$f":"IFERROR(F51*(1-Оглавление!$D$43),\"по запросу\")","v":"по запросу"},"по запросу","шт",null,"0 ₽","0 ₽"]
[null,"IOR6237F*","Уплотнительное кольцо для мембранного клапана FKM 63 IPS","Аксессуары","RUB",{"$f":"IFERROR(H52*Оглавление!$E$23,\"по запросу\")","v":"по запросу"},{"$f":"IFERROR(F52*(1-Оглавление!$D$43),\"по запросу\")","v":"по запросу"},"по запросу","шт",null,"0 ₽","0 ₽"]
[null,"IDIADK020P","Мембрана для мембранного клапана PTFE 20 IPS","Аксессуары","RUB",{"$f":"IFERROR(H53*Оглавление!$E$23,\"по запросу\")","v":"по запросу"},{"$f":"IFERROR(F53*(1-Оглавление!$D$43),\"по запросу\")","v":"по запросу"},"по запросу","шт",null,"0 ₽","0 ₽"]
[null,"IDIADK025P","Мембрана для мембранного клапана PTFE 25 IPS","Аксессуары","RUB",{"$f":"IFERROR(H54*Оглавление!$E$23,\"по запросу\")","v":"по запросу"},{"$f":"IFERROR(F54*(1-Оглавление!$D$43),\"по запросу\")","v":"по запросу"},"по запросу","шт",null,{"$f":"IFERROR(J54*F54,\"0 ₽\")","v":"0 ₽"},{"$f":"IFERROR(J54*G54,\"0 ₽\")","v":"0 ₽"}]
[null,"IDIADK032P","Мембрана для мембранного клапана PTFE 32 IPS","Аксессуары","RUB",{"$f":"IFERROR(H55*Оглавление!$E$23,\"по запросу\")","v":"по запросу"},{"$f":"IFERROR(F55*(1-Оглавление!$D$43),\"по запросу\")","v":"по запросу"},"по запросу","шт",null,"0 ₽","0 ₽"]
[null,"IDIADK040P","Мембрана для мембранного клапана PTFE 40 IPS","Аксессуары","RUB",{"$f":"IFERROR(H56*Оглавление!$E$23,\"по запросу\")","v":"по запросу"},{"$f":"IFERROR(F56*(1-Оглавление!$D$43),\"по запросу\")","v":"по запросу"},"по запросу","шт",null,"0 ₽","0 ₽"]
[null,"IDIADK050P","Мембрана для мембранного клапана PTFE 50 IPS","Аксессуары","RUB",{"$f":"IFERROR(H57*Оглавление!$E$23,\"по запросу\")","v":"по запросу"},{"$f":"IFERROR(F57*(1-Оглавление!$D$43),\"по запросу\")","v":"по запросу"},"по запросу","шт",null,"0 ₽","0 ₽"]
[null,"IDIADK063P","Мембрана для мембранного клапана PTFE 63 IPS","Аксессуары","RUB",{"$f":"IFERROR(H58*Оглавление!$E$23,\"по запросу\")","v":"по запросу"},{"$f":"IFERROR(F58*(1-Оглавление!$D$43),\"по запросу\")","v":"по запросу"},"по запросу","шт",null,"0 ₽","0 ₽"]
[null,"IDIADK075P*","Мембрана для мембранного клапана PTFE 75 IPS","Аксессуары","RUB",{"$f":"IFERROR(H59*Оглавление!$E$23,\"по запросу\")","v":"по запросу"},{"$f":"IFERROR(F59*(1-Оглавление!$D$43),\"по запросу\")","v":"по запросу"},"по запросу","шт",null,"0 ₽","0 ₽"]
[null,"IDIADK090P*","Мембрана для мембранного клапана PTFE 90 IPS","Аксессуары","RUB",{"$f":"IFERROR(H60*Оглавление!$E$23,\"по запросу\")","v":"по запросу"},{"$f":"IFERROR(F60*(1-Оглавление!$D$43),\"по запросу\")","v":"по запросу"},"по запросу","шт",null,"0 ₽","0 ₽"]
[null,"IDIADK110P*","Мембрана для мембранного клапана PTFE 110 IPS","Аксессуары","RUB",{"$f":"IFERROR(H61*Оглавление!$E$23,\"по запросу\")","v":"по запросу"},{"$f":"IFERROR(F61*(1-Оглавление!$D$43),\"по запросу\")","v":"по запросу"},"по запросу","шт",null,"0 ₽","0 ₽"]
[null,"IDIADK020F","Мембрана для мембранного клапана FKM 20 IPS","Аксессуары","RUB",{"$f":"IFERROR(H62*Оглавление!$E$23,\"по запросу\")","v":"по запросу"},{"$f":"IFERROR(F62*(1-Оглавление!$D$43),\"по запросу\")","v":"по запросу"},"по запросу","шт",null,"0 ₽","0 ₽"]
[null,"IDIADK025F","Мембрана для мембранного клапана FKM 25 IPS","Аксессуары","RUB",{"$f":"IFERROR(H63*Оглавление!$E$23,\"по запросу\")","v":"по запросу"},{"$f":"IFERROR(F63*(1-Оглавление!$D$43),\"по запросу\")","v":"по запросу"},"по запросу","шт",null,"0 ₽","0 ₽"]
[null,"IDIADK032F","Мембрана для мембранного клапана FKM 32 IPS","Аксессуары","RUB",{"$f":"IFERROR(H64*Оглавление!$E$23,\"по запросу\")","v":"по запросу"},{"$f":"IFERROR(F64*(1-Оглавление!$D$43),\"по запросу\")","v":"по запросу"},"по запросу","шт",null,"0 ₽","0 ₽"]
[null,"IDIADK040F","Мембрана для мембранного клапана FKM 40 IPS","Аксессуары","RUB",{"$f":"IFERROR(H65*Оглавление!$E$23,\"по запросу\")","v":"по запросу"},{"$f":"IFERROR(F65*(1-Оглавление!$D$43),\"по запросу\")","v":"по запросу"},"по запросу","шт",null,"0 ₽","0 ₽"]
[null,"IDIADK050F","Мембрана для мембранного клапана FKM 50 IPS","Аксессуары","RUB",{"$f":"IFERROR(H66*Оглавление!$E$23,\"по запросу\")","v":"по запросу"},{"$f":"IFERROR(F66*(1-Оглавление!$D$43),\"по запросу\")","v":"по запросу"},"по запросу","шт",null,"0 ₽","0 ₽"]
[null,"IDIADK063F","Мембрана для мембранного клапана FKM 63 IPS","Аксессуары","RUB",{"$f":"IFERROR(H67*Оглавление!$E$23,\"по запросу\")","v":"по запросу"},{"$f":"IFERROR(F67*(1-Оглавление!$D$43),\"по запросу\")","v":"по запросу"},"по запросу","шт",null,"0 ₽","0 ₽"]
[null,"IDIADK075F*","Мембрана для мембранного клапана FKM 75 IPS","Аксессуары","RUB",{"$f":"IFERROR(H68*Оглавление!$E$23,\"по запросу\")","v":"по запросу"},{"$f":"IFERROR(F68*(1-Оглавление!$D$43),\"по запросу\")","v":"по запросу"},"по запросу","шт",null,"0 ₽","0 ₽"]
[null,"IDIADK090F*","Мембрана для мембранного клапана FKM 90 IPS","Аксессуары","RUB",{"$f":"IFERROR(H69*Оглавление!$E$23,\"по запросу\")","v":"по запросу"},{"$f":"IFERROR(F69*(1-Оглавление!$D$43),\"по запросу\")","v":"по запросу"},"по запросу","шт",null,"0 ₽","0 ₽"]
[null,"IDIADK110F*","Мембрана для мембранного клапана FKM 110 IPS","Аксессуары","RUB",{"$f":"IFERROR(H70*Оглавление!$E$23,\"по запросу\")","v":"по запросу"},{"$f":"IFERROR(F70*(1-Оглавление!$D$43),\"по запросу\")","v":"по запросу"},"по запросу","шт",null,"0 ₽","0 ₽"]
[null,"IPQ020*","Площадка под привод 20 IPS","Аксессуары","RUB",{"$f":"IFERROR(H71*Оглавление!$E$23,\"по запросу\")","v":"по запросу"},{"$f":"IFERROR(F71*(1-Оглавление!$D$43),\"по запросу\")","v":"по запросу"},"по запросу","шт",null,"0 ₽","0 ₽"]
[null,"IPQ025*","Площадка под привод 25 IPS","Аксессуары","RUB",{"$f":"IFERROR(H72*Оглавление!$E$23,\"по запросу\")","v":"по запросу"},{"$f":"IFERROR(F72*(1-Оглавление!$D$43),\"по запросу\")","v":"по запросу"},"по запросу","шт",null,"0 ₽","0 ₽"]
[null,"IPQ032*","Площадка под привод 32 IPS","Аксессуары","RUB",{"$f":"IFERROR(H73*Оглавление!$E$23,\"по запросу\")","v":"по запросу"},{"$f":"IFERROR(F73*(1-Оглавление!$D$43),\"по запросу\")","v":"по запросу"},"по запросу","шт",null,"0 ₽","0 ₽"]
[null,"IPQ040*","Площадка под привод 40 IPS","Аксессуары","RUB",{"$f":"IFERROR(H74*Оглавление!$E$23,\"по запросу\")","v":"по запросу"},{"$f":"IFERROR(F74*(1-Оглавление!$D$43),\"по запросу\")","v":"по запросу"},"по запросу","шт",null,"0 ₽","0 ₽"]
[null,"IPQ050*","Площадка под привод 50 IPS","Аксессуары","RUB",{"$f":"IFERROR(H75*Оглавление!$E$23,\"по запросу\")","v":"по запросу"},{"$f":"IFERROR(F75*(1-Оглавление!$D$43),\"по запросу\")","v":"по запросу"},"по запросу","шт",null,"0 ₽","0 ₽"]
[null,"IPQ063*","Площадка под привод 63 IPS","Аксессуары","RUB",{"$f":"IFERROR(H76*Оглавление!$E$23,\"по запросу\")","v":"по запросу"},{"$f":"IFERROR(F76*(1-Оглавление!$D$43),\"по запросу\")","v":"по запросу"},"по запросу","шт",null,"0 ₽","0 ₽"]
[null,"IPQ075*","Площадка под привод 75 IPS","Аксессуары","RUB",{"$f":"IFERROR(H77*Оглавление!$E$23,\"по запросу\")","v":"по запросу"},{"$f":"IFERROR(F77*(1-Оглавление!$D$43),\"по запросу\")","v":"по запросу"},"по запросу","шт",null,"0 ₽","0 ₽"]
[null,"IPQ090*","Площадка под привод 90 IPS","Аксессуары","RUB",{"$f":"IFERROR(H78*Оглавление!$E$23,\"по запросу\")","v":"по запросу"},{"$f":"IFERROR(F78*(1-Оглавление!$D$43),\"по запросу\")","v":"по запросу"},"по запросу","шт",null,"0 ₽","0 ₽"]
[null,"IPQ110*","Площадка под привод 110 IPS","Аксессуары","RUB",{"$f":"IFERROR(H79*Оглавление!$E$23,\"по запросу\")","v":"по запросу"},{"$f":"IFERROR(F79*(1-Оглавление!$D$43),\"по запросу\")","v":"по запросу"},"по запросу","шт",null,"0 ₽","0 ₽"]
[null,"IQHVY020E","Плоское уплотнение под фланцевое соединение EPDM 20 IPS","Аксессуары","RUB",{"$f":"IFERROR(H80*Оглавление!$E$23,\"по запросу\")","v":"по запросу"},{"$f":"IFERROR(F80*(1-Оглавление!$D$43),\"по запросу\")","v":"по запросу"},"по запросу","шт",null,{"$f":"IFERROR(J80*F80,\"0 ₽\")","v":"0 ₽"},{"$f":"IFERROR(J80*G80,\"0 ₽\")","v":"0 ₽"}]
[null,"IQHVY025E","Плоское уплотнение под фланцевое соединение EPDM 25 IPS","Аксессуары","RUB",{"$f":"IFERROR(H81*Оглавление!$E$23,\"по запросу\")","v":"по запросу"},{"$f":"IFERROR(F81*(1-Оглавление!$D$43),\"по запросу\")","v":"по запросу"},"по запросу","шт",null,"0 ₽","0 ₽"]
[null,"IQHVY032E","Плоское уплотнение под фланцевое соединение EPDM 32 IPS","Аксессуары","RUB",{"$f":"IFERROR(H82*Оглавление!$E$23,\"по запросу\")","v":"по запросу"},{"$f":"IFERROR(F82*(1-Оглавление!$D$43),\"по запросу\")","v":"по запросу"},"по запросу","шт",null,"0 ₽","0 ₽"]
[null,"IQHVY040E","Плоское уплотнение под фланцевое соединение EPDM 40 IPS","Аксессуары","RUB",{"$f":"IFERROR(H83*Оглавление!$E$23,\"по запросу\")","v":"по запросу"},{"$f":"IFERROR(F83*(1-Оглавление!$D$43),\"по запросу\")","v":"по запросу"},"по запросу","шт",null,"0 ₽","0 ₽"]
[null,"IQHVY050E","Плоское уплотнение под фланцевое соединение EPDM 50 IPS","Аксессуары","RUB",{"$f":"IFERROR(H84*Оглавление!$E$23,\"по запросу\")","v":"по запросу"},{"$f":"IFERROR(F84*(1-Оглавление!$D$43),\"по запросу\")","v":"по запросу"},"по запросу","шт",null,"0 ₽","0 ₽"]
[null,"IQHVY063E","Плоское уплотнение под фланцевое соединение EPDM 63 IPS","Аксессуары","RUB",{"$f":"IFERROR(H85*Оглавление!$E$23,\"по запросу\")","v":"по запросу"},{"$f":"IFERROR(F85*(1-Оглавление!$D$43),\"по запросу\")","v":"по запросу"},"по запросу","шт",null,"0 ₽","0 ₽"]
[null,"IQHVY075E","Плоское уплотнение под фланцевое соединение EPDM 75 IPS","Аксессуары","RUB",{"$f":"IFERROR(H86*Оглавление!$E$23,\"по запросу\")","v":"по запросу"},{"$f":"IFERROR(F86*(1-Оглавление!$D$43),\"по запросу\")","v":"по запросу"},"по запросу","шт",null,"0 ₽","0 ₽"]
[null,"IQHVY090E","Плоское уплотнение под фланцевое соединение EPDM 90 IPS","Аксессуары","RUB",{"$f":"IFERROR(H87*Оглавление!$E$23,\"по запросу\")","v":"по запросу"},{"$f":"IFERROR(F87*(1-Оглавление!$D$43),\"по запросу\")","v":"по запросу"},"по запросу","шт",null,"0 ₽","0 ₽"]
[null,"IQHVY110E","Плоское уплотнение под фланцевое соединение EPDM 110 IPS","Аксессуары","RUB",{"$f":"IFERROR(H88*Оглавление!$E$23,\"по запросу\")","v":"по запросу"},{"$f":"IFERROR(F88*(1-Оглавление!$D$43),\"по запросу\")","v":"по запросу"},"по запросу","шт",null,"0 ₽","0 ₽"]
[null,"IQHVY140E","Плоское уплотнение под фланцевое соединение EPDM 140 IPS","Аксессуары","RUB",{"$f":"IFERROR(H89*Оглавление!$E$23,\"по запросу\")","v":"по запросу"},{"$f":"IFERROR(F89*(1-Оглавление!$D$43),\"по запросу\")","v":"по запросу"},"по запросу","шт",null,"0 ₽","0 ₽"]
[null,"IQHVY160E","Плоское уплотнение под фланцевое соединение EPDM 160 IPS","Аксессуары","RUB",{"$f":"IFERROR(H90*Оглавление!$E$23,\"по запросу\")","v":"по запросу"},{"$f":"IFERROR(F90*(1-Оглавление!$D$43),\"по запросу\")","v":"по запросу"},"по запросу","шт",null,"0 ₽","0 ₽"]
[null,"IQHVY225E","Плоское уплотнение под фланцевое соединение EPDM 225 IPS","Аксессуары","RUB",{"$f":"IFERROR(H91*Оглавление!$E$23,\"по запросу\")","v":"по запросу"},{"$f":"IFERROR(F91*(1-Оглавление!$D$43),\"по запросу\")","v":"по запросу"},"по запросу","шт",null,"0 ₽","0 ₽"]
[null,"IQHVY020F","Плоское уплотнение под фланцевое соединение FKM 20 IPS","Аксессуары","RUB",{"$f":"IFERROR(H92*Оглавление!$E$23,\"по запросу\")","v":"по запросу"},{"$f":"IFERROR(F92*(1-Оглавление!$D$43),\"по запросу\")","v":"по запросу"},"по запросу","шт",null,"0 ₽","0 ₽"]
[null,"IQHVY025F","Плоское уплотнение под фланцевое соединение FKM 25 IPS","Аксессуары","RUB",{"$f":"IFERROR(H93*Оглавление!$E$23,\"по запросу\")","v":"по запросу"},{"$f":"IFERROR(F93*(1-Оглавление!$D$43),\"по запросу\")","v":"по запросу"},"по запросу","шт",null,"0 ₽","0 ₽"]
[null,"IQHVY032F","Плоское уплотнение под фланцевое соединение FKM 32 IPS","Аксессуары","RUB",{"$f":"IFERROR(H94*Оглавление!$E$23,\"по запросу\")","v":"по запросу"},{"$f":"IFERROR(F94*(1-Оглавление!$D$43),\"по запросу\")","v":"по запросу"},"по запросу","шт",null,"0 ₽","0 ₽"]
[null,"IQHVY040F","Плоское уплотнение под фланцевое соединение FKM 40 IPS","Аксессуары","RUB",{"$f":"IFERROR(H95*Оглавление!$E$23,\"по запросу\")","v":"по запросу"},{"$f":"IFERROR(F95*(1-Оглавление!$D$43),\"по запросу\")","v":"по запросу"},"по запросу","шт",null,"0 ₽","0 ₽"]
[null,"IQHVY050F","Плоское уплотнение под фланцевое соединение FKM 50 IPS","Аксессуары","RUB",{"$f":"IFERROR(H96*Оглавление!$E$23,\"по запросу\")","v":"по запросу"},{"$f":"IFERROR(F96*(1-Оглавление!$D$43),\"по запросу\")","v":"по запросу"},"по запросу","шт",null,"0 ₽","0 ₽"]
[null,"IQHVY063F","Плоское уплотнение под фланцевое соединение FKM 63 IPS","Аксессуары","RUB",{"$f":"IFERROR(H97*Оглавление!$E$23,\"по запросу\")","v":"по запросу"},{"$f":"IFERROR(F97*(1-Оглавление!$D$43),\"по запросу\")","v":"по запросу"},"по запросу","шт",null,"0 ₽","0 ₽"]
[null,"IQHVY075F","Плоское уплотнение под фланцевое соединение FKM 75 IPS","Аксессуары","RUB",{"$f":"IFERROR(H98*Оглавление!$E$23,\"по запросу\")","v":"по запросу"},{"$f":"IFERROR(F98*(1-Оглавление!$D$43),\"по запросу\")","v":"по запросу"},"по запросу","шт",null,"0 ₽","0 ₽"]
[null,"IQHVY090F","Плоское уплотнение под фланцевое соединение FKM 90 IPS","Аксессуары","RUB",{"$f":"IFERROR(H99*Оглавление!$E$23,\"по запросу\")","v":"по запросу"},{"$f":"IFERROR(F99*(1-Оглавление!$D$43),\"по запросу\")","v":"по запросу"},"по запросу","шт",null,"0 ₽","0 ₽"]
[null,"IQHVY110F","Плоское уплотнение под фланцевое соединение FKM 110 IPS","Аксессуары","RUB",{"$f":"IFERROR(H100*Оглавление!$E$23,\"по запросу\")","v":"по запросу"},{"$f":"IFERROR(F100*(1-Оглавление!$D$43),\"по запросу\")","v":"по запросу"},"по запросу","шт",null,"0 ₽","0 ₽"]
[null,"IQHVY140F","Плоское уплотнение под фланцевое соединение FKM 140 IPS","Аксессуары","RUB",{"$f":"IFERROR(H101*Оглавление!$E$23,\"по запросу\")","v":"по запросу"},{"$f":"IFERROR(F101*(1-Оглавление!$D$43),\"по запросу\")","v":"по запросу"},"по запросу","шт",null,"0 ₽","0 ₽"]
[null,"IQHVY160F","Плоское уплотнение под фланцевое соединение FKM 160 IPS","Аксессуары","RUB",{"$f":"IFERROR(H102*Оглавление!$E$23,\"по запросу\")","v":"по запросу"},{"$f":"IFERROR(F102*(1-Оглавление!$D$43),\"по запросу\")","v":"по запросу"},"по запросу","шт",null,"0 ₽","0 ₽"]
[null,"IQHVY225F","Плоское уплотнение под фланцевое соединение FKM 225 IPS","Аксессуары","RUB",{"$f":"IFERROR(H103*Оглавление!$E$23,\"по запросу\")","v":"по запросу"},{"$f":"IFERROR(F103*(1-Оглавление!$D$43),\"по запросу\")","v":"по запросу"},"по запросу","шт",null,"0 ₽","0 ₽"]

{"sheet":"О нас","index":13,"n_rows":0,"n_cols":0,"rows_kept":0,"cut":false,"hidden":false,"merged":[]}